{"text_format":"1","workbook":"xlsx","n_sheets":5,"sheets":["Pesquisas","Dados","Desenvolvimento","AUX","Minimos"],"not_rendered":{"charts":1,"images":0,"macros":1,"external_links":0,"defined_names":12,"comments":0,"pivot_tables":0},"unopened":[],"bounds":{"document_bytes":16777216,"sheet_cells":100000,"rows_first":2000,"rows_last":500,"rows_between":2000,"halvings":0,"cell_chars":16384,"cell_head_chars":4096},"cells_cut":0,"cells_raw":0,"read":"whole","date_system":"1900"}

{"sheet":"Pesquisas","index":0,"n_rows":10001,"n_cols":26,"rows_kept":2250,"cut":true,"hidden":false,"merged":[],"bounds":{"rows_first":1000,"rows_last":250,"rows_between":1000,"halvings":1}}
["Prova","Setor","Competição","Data","Local","LOC","Genero","Class","Dorsal","Nome","Clube","Escalao","Marca"]
[]
[]
["Prova","Setor","Competição","Data","Local","LOC","Genero","Class","Dorsal","Nome","Clube","Escalao","Marca","Ensaio1","Ensaio2","Ensaio3","Ensaio4","Ensaio5","Ensaio6","Gen+Prova+Nome","SB","&TUDO","Minimos","<>","Nac"]
[null,null,null,null,null,null,null,null,null,null,null,null,null,null,null,null,null,null,null,{"$f":"IF(A5=\"\",\"\",G5&A5&J5)","v":""},{"$f":"IF(COUNTIF($T$5:T5,T5)=1,\"SB\",\"\")","v":"SB"},{"$f":"A5&L5&G5","v":""},{"$f":"VLOOKUP(V5,Minimos!$D$3:$E$26,2,FALSE)","v":{"$error":"#N/A"}},{"$f":"M5-W5","v":{"$error":"#N/A"}},{"$f":"IF(X5>=0,\"Apurado\",\"\")","v":{"$error":"#N/A"}}]
[null,null,null,null,null,null,null,null,null,null,null,null,null,null,null,null,null,null,null,{"$f":"IF(A6=\"\",\"\",G6&A6&J6)","v":""},{"$f":"IF(COUNTIF($T$5:T6,T6)=1,\"SB\",\"\")","v":""},{"$f":"A6&L6&G6","v":""},{"$f":"VLOOKUP(V6,Minimos!$D$3:$E$26,2,FALSE)","v":{"$error":"#N/A"}},{"$f":"M6-W6","v":{"$error":"#N/A"}},{"$f":"IF(X6>=0,\"Apurado\",\"\")","v":{"$error":"#N/A"}}]
[null,null,null,null,null,null,null,null,null,null,null,null,null,null,null,null,null,null,null,{"$f":"IF(A7=\"\",\"\",G7&A7&J7)","v":""},{"$f":"IF(COUNTIF($T$5:T7,T7)=1,\"SB\",\"\")","v":""},{"$f":"A7&L7&G7","v":""},{"$f":"VLOOKUP(V7,Minimos!$D$3:$E$26,2,FALSE)","v":{"$error":"#N/A"}},{"$f":"M7-W7","v":{"$error":"#N/A"}},{"$f":"IF(X7>=0,\"Apurado\",\"\")","v":{"$error":"#N/A"}}]
[null,null,null,null,null,null,null,null,null,null,null,null,null,null,null,null,null,null,null,{"$f":"IF(A8=\"\",\"\",G8&A8&J8)","v":""},{"$f":"IF(COUNTIF($T$5:T8,T8)=1,\"SB\",\"\")","v":""},{"$f":"A8&L8&G8","v":""},{"$f":"VLOOKUP(V8,Minimos!$D$3:$E$26,2,FALSE)","v":{"$error":"#N/A"}},{"$f":"M8-W8","v":{"$error":"#N/A"}},{"$f":"IF(X8>=0,\"Apurado\",\"\")","v":{"$error":"#N/A"}}]
[null,null,null,null,null,null,null,null,null,null,null,null,null,null,null,null,null,null,null,{"$f":"IF(A9=\"\",\"\",G9&A9&J9)","v":""},{"$f":"IF(COUNTIF($T$5:T9,T9)=1,\"SB\",\"\")","v":""},{"$f":"A9&L9&G9","v":""},{"$f":"VLOOKUP(V9,Minimos!$D$3:$E$26,2,FALSE)","v":{"$error":"#N/A"}},{"$f":"M9-W9","v":{"$error":"#N/A"}},{"$f":"IF(X9>=0,\"Apurado\",\"\")","v":{"$error":"#N/A"}}]
[null,null,null,null,null,null,null,null,null,null,null,null,null,null,null,null,null,null,null,{"$f":"IF(A10=\"\",\"\",G10&A10&J10)","v":""},{"$f":"IF(COUNTIF($T$5:T10,T10)=1,\"SB\",\"\")","v":""},{"$f":"A10&L10&G10","v":""},{"$f":"VLOOKUP(V10,Minimos!$D$3:$E$26,2,FALSE)","v":{"$error":"#N/A"}},{"$f":"M10-W10","v":{"$error":"#N/A"}},{"$f":"IF(X10>=0,\"Apurado\",\"\")","v":{"$error":"#N/A"}}]
[null,null,null,null,null,null,null,null,null,null,null,null,null,null,null,null,null,null,null,{"$f":"IF(A11=\"\",\"\",G11&A11&J11)","v":""},{"$f":"IF(COUNTIF($T$5:T11,T11)=1,\"SB\",\"\")","v":""},{"$f":"A11&L11&G11","v":""},{"$f":"VLOOKUP(V11,Minimos!$D$3:$E$26,2,FALSE)","v":{"$error":"#N/A"}},{"$f":"M11-W11","v":{"$error":"#N/A"}},{"$f":"IF(X11>=0,\"Apurado\",\"\")","v":{"$error":"#N/A"}}]
[null,null,null,null,null,null,null,null,null,null,null,null,null,null,null,null,null,null,null,{"$f":"IF(A12=\"\",\"\",G12&A12&J12)","v":""},{"$f":"IF(COUNTIF($T$5:T12,T12)=1,\"SB\",\"\")","v":""},{"$f":"A12&L12&G12","v":""},{"$f":"VLOOKUP(V12,Minimos!$D$3:$E$26,2,FALSE)","v":{"$error":"#N/A"}},{"$f":"M12-W12","v":{"$error":"#N/A"}},{"$f":"IF(X12>=0,\"Apurado\",\"\")","v":{"$error":"#N/A"}}]
[null,null,null,null,null,null,null,null,null,null,null,null,null,null,null,null,null,null,null,{"$f":"IF(A13=\"\",\"\",G13&A13&J13)","v":""},{"$f":"IF(COUNTIF($T$5:T13,T13)=1,\"SB\",\"\")","v":""},{"$f":"A13&L13&G13","v":""},{"$f":"VLOOKUP(V13,Minimos!$D$3:$E$26,2,FALSE)","v":{"$error":"#N/A"}},{"$f":"M13-W13","v":{"$error":"#N/A"}},{"$f":"IF(X13>=0,\"Apurado\",\"\")","v":{"$error":"#N/A"}}]
[null,null,null,null,null,null,null,null,null,null,null,null,null,null,null,null,null,null,null,{"$f":"IF(A14=\"\",\"\",G14&A14&J14)","v":""},{"$f":"IF(COUNTIF($T$5:T14,T14)=1,\"SB\",\"\")","v":""},{"$f":"A14&L14&G14","v":""},{"$f":"VLOOKUP(V14,Minimos!$D$3:$E$26,2,FALSE)","v":{"$error":"#N/A"}},{"$f":"M14-W14","v":{"$error":"#N/A"}},{"$f":"IF(X14>=0,\"Apurado\",\"\")","v":{"$error":"#N/A"}}]
[null,null,null,null,null,null,null,null,null,null,null,null,null,null,null,null,null,null,null,{"$f":"IF(A15=\"\",\"\",G15&A15&J15)","v":""},{"$f":"IF(COUNTIF($T$5:T15,T15)=1,\"SB\",\"\")","v":""},{"$f":"A15&L15&G15","v":""},{"$f":"VLOOKUP(V15,Minimos!$D$3:$E$26,2,FALSE)","v":{"$error":"#N/A"}},{"$f":"M15-W15","v":{"$error":"#N/A"}},{"$f":"IF(X15>=0,\"Apurado\",\"\")","v":{"$error":"#N/A"}}]
[null,null,null,null,null,null,null,null,null,null,null,null,null,null,null,null,null,null,null,{"$f":"IF(A16=\"\",\"\",G16&A16&J16)","v":""},{"$f":"IF(COUNTIF($T$5:T16,T16)=1,\"SB\",\"\")","v":""},{"$f":"A16&L16&G16","v":""},{"$f":"VLOOKUP(V16,Minimos!$D$3:$E$26,2,FALSE)","v":{"$error":"#N/A"}},{"$f":"M16-W16","v":{"$error":"#N/A"}},{"$f":"IF(X16>=0,\"Apurado\",\"\")","v":{"$error":"#N/A"}}]
[null,null,null,null,null,null,null,null,null,null,null,null,null,null,null,null,null,null,null,{"$f":"IF(A17=\"\",\"\",G17&A17&J17)","v":""},{"$f":"IF(COUNTIF($T$5:T17,T17)=1,\"SB\",\"\")","v":""},{"$f":"A17&L17&G17","v":""},{"$f":"VLOOKUP(V17,Minimos!$D$3:$E$26,2,FALSE)","v":{"$error":"#N/A"}},{"$f":"M17-W17","v":{"$error":"#N/A"}},{"$f":"IF(X17>=0,\"Apurado\",\"\")","v":{"$error":"#N/A"}}]
[null,null,null,null,null,null,null,null,null,null,null,null,null,null,null,null,null,null,null,{"$f":"IF(A18=\"\",\"\",G18&A18&J18)","v":""},{"$f":"IF(COUNTIF($T$5:T18,T18)=1,\"SB\",\"\")","v":""},{"$f":"A18&L18&G18","v":""},{"$f":"VLOOKUP(V18,Minimos!$D$3:$E$26,2,FALSE)","v":{"$error":"#N/A"}},{"$f":"M18-W18","v":{"$error":"#N/A"}},{"$f":"IF(X18>=0,\"Apurado\",\"\")","v":{"$error":"#N/A"}}]
[null,null,null,null,null,null,null,null,null,null,null,null,null,null,null,null,null,null,null,{"$f":"IF(A19=\"\",\"\",G19&A19&J19)","v":""},{"$f":"IF(COUNTIF($T$5:T19,T19)=1,\"SB\",\"\")","v":""},{"$f":"A19&L19&G19","v":""},{"$f":"VLOOKUP(V19,Minimos!$D$3:$E$26,2,FALSE)","v":{"$error":"#N/A"}},{"$f":"M19-W19","v":{"$error":"#N/A"}},{"$f":"IF(X19>=0,\"Apurado\",\"\")","v":{"$error":"#N/A"}}]
[null,null,null,null,null,null,null,null,null,null,null,null,null,null,null,null,null,null,null,{"$f":"IF(A20=\"\",\"\",G20&A20&J20)","v":""},{"$f":"IF(COUNTIF($T$5:T20,T20)=1,\"SB\",\"\")","v":""},{"$f":"A20&L20&G20","v":""},{"$f":"VLOOKUP(V20,Minimos!$D$3:$E$26,2,FALSE)","v":{"$error":"#N/A"}},{"$f":"M20-W20","v":{"$error":"#N/A"}},{"$f":"IF(X20>=0,\"Apurado\",\"\")","v":{"$error":"#N/A"}}]
[null,null,null,null,null,null,null,null,null,null,null,null,null,null,null,null,null,null,null,{"$f":"IF(A21=\"\",\"\",G21&A21&J21)","v":""},{"$f":"IF(COUNTIF($T$5:T21,T21)=1,\"SB\",\"\")","v":""},{"$f":"A21&L21&G21","v":""},{"$f":"VLOOKUP(V21,Minimos!$D$3:$E$26,2,FALSE)","v":{"$error":"#N/A"}},{"$f":"M21-W21","v":{"$error":"#N/A"}},{"$f":"IF(X21>=0,\"Apurado\",\"\")","v":{"$error":"#N/A"}}]
[null,null,null,null,null,null,null,null,null,null,null,null,null,null,null,null,null,null,null,{"$f":"IF(A22=\"\",\"\",G22&A22&J22)","v":""},{"$f":"IF(COUNTIF($T$5:T22,T22)=1,\"SB\",\"\")","v":""},{"$f":"A22&L22&G22","v":""},{"$f":"VLOOKUP(V22,Minimos!$D$3:$E$26,2,FALSE)","v":{"$error":"#N/A"}},{"$f":"M22-W22","v":{"$error":"#N/A"}},{"$f":"IF(X22>=0,\"Apurado\",\"\")","v":{"$error":"#N/A"}}]
[null,null,null,null,null,null,null,null,null,null,null,null,null,null,null,null,null,null,null,{"$f":"IF(A23=\"\",\"\",G23&A23&J23)","v":""},{"$f":"IF(COUNTIF($T$5:T23,T23)=1,\"SB\",\"\")","v":""},{"$f":"A23&L23&G23","v":""},{"$f":"VLOOKUP(V23,Minimos!$D$3:$E$26,2,FALSE)","v":{"$error":"#N/A"}},{"$f":"M23-W23","v":{"$error":"#N/A"}},{"$f":"IF(X23>=0,\"Apurado\",\"\")","v":{"$error":"#N/A"}}]
[null,null,null,null,null,null,null,null,null,null,null,null,null,null,null,null,null,null,null,{"$f":"IF(A24=\"\",\"\",G24&A24&J24)","v":""},{"$f":"IF(COUNTIF($T$5:T24,T24)=1,\"SB\",\"\")","v":""},{"$f":"A24&L24&G24","v":""},{"$f":"VLOOKUP(V24,Minimos!$D$3:$E$26,2,FALSE)","v":{"$error":"#N/A"}},{"$f":"M24-W24","v":{"$error":"#N/A"}},{"$f":"IF(X24>=0,\"Apurado\",\"\")","v":{"$error":"#N/A"}}]
[null,null,null,null,null,null,null,null,null,null,null,null,null,null,null,null,null,null,null,{"$f":"IF(A25=\"\",\"\",G25&A25&J25)","v":""},{"$f":"IF(COUNTIF($T$5:T25,T25)=1,\"SB\",\"\")","v":""},{"$f":"A25&L25&G25","v":""},{"$f":"VLOOKUP(V25,Minimos!$D$3:$E$26,2,FALSE)","v":{"$error":"#N/A"}},{"$f":"M25-W25","v":{"$error":"#N/A"}},{"$f":"IF(X25>=0,\"Apurado\",\"\")","v":{"$error":"#N/A"}}]
[null,null,null,null,null,null,null,null,null,null,null,null,null,null,null,null,null,null,null,{"$f":"IF(A26=\"\",\"\",G26&A26&J26)","v":""},{"$f":"IF(COUNTIF($T$5:T26,T26)=1,\"SB\",\"\")","v":""},{"$f":"A26&L26&G26","v":""},{"$f":"VLOOKUP(V26,Minimos!$D$3:$E$26,2,FALSE)","v":{"$error":"#N/A"}},{"$f":"M26-W26","v":{"$error":"#N/A"}},{"$f":"IF(X26>=0,\"Apurado\",\"\")","v":{"$error":"#N/A"}}]
[null,null,null,null,null,null,null,null,null,null,null,null,null,null,null,null,null,null,null,{"$f":"IF(A27=\"\",\"\",G27&A27&J27)","v":""},{"$f":"IF(COUNTIF($T$5:T27,T27)=1,\"SB\",\"\")","v":""},{"$f":"A27&L27&G27","v":""},{"$f":"VLOOKUP(V27,Minimos!$D$3:$E$26,2,FALSE)","v":{"$error":"#N/A"}},{"$f":"M27-W27","v":{"$error":"#N/A"}},{"$f":"IF(X27>=0,\"Apurado\",\"\")","v":{"$error":"#N/A"}}]
[null,null,null,null,null,null,null,null,null,null,null,null,null,null,null,null,null,null,null,{"$f":"IF(A28=\"\",\"\",G28&A28&J28)","v":""},{"$f":"IF(COUNTIF($T$5:T28,T28)=1,\"SB\",\"\")","v":""},{"$f":"A28&L28&G28","v":""},{"$f":"VLOOKUP(V28,Minimos!$D$3:$E$26,2,FALSE)","v":{"$error":"#N/A"}},{"$f":"M28-W28","v":{"$error":"#N/A"}},{"$f":"IF(X28>=0,\"Apurado\",\"\")","v":{"$error":"#N/A"}}]
[null,null,null,null,null,null,null,null,null,null,null,null,null,null,null,null,null,null,null,{"$f":"IF(A29=\"\",\"\",G29&A29&J29)","v":""},{"$f":"IF(COUNTIF($T$5:T29,T29)=1,\"SB\",\"\")","v":""},{"$f":"A29&L29&G29","v":""},{"$f":"VLOOKUP(V29,Minimos!$D$3:$E$26,2,FALSE)","v":{"$error":"#N/A"}},{"$f":"M29-W29","v":{"$error":"#N/A"}},{"$f":"IF(X29>=0,\"Apurado\",\"\")","v":{"$error":"#N/A"}}]
[null,null,null,null,null,null,null,null,null,null,null,null,null,null,null,null,null,null,null,{"$f":"IF(A30=\"\",\"\",G30&A30&J30)","v":""},{"$f":"IF(COUNTIF($T$5:T30,T30)=1,\"SB\",\"\")","v":""},{"$f":"A30&L30&G30","v":""},{"$f":"VLOOKUP(V30,Minimos!$D$3:$E$26,2,FALSE)","v":{"$error":"#N/A"}},{"$f":"M30-W30","v":{"$error":"#N/A"}},{"$f":"IF(X30>=0,\"Apurado\",\"\")","v":{"$error":"#N/A"}}]
[null,null,null,null,null,null,null,null,null,null,null,null,null,null,null,null,null,null,null,{"$f":"IF(A31=\"\",\"\",G31&A31&J31)","v":""},{"$f":"IF(COUNTIF($T$5:T31,T31)=1,\"SB\",\"\")","v":""},{"$f":"A31&L31&G31","v":""},{"$f":"VLOOKUP(V31,Minimos!$D$3:$E$26,2,FALSE)","v":{"$error":"#N/A"}},{"$f":"M31-W31","v":{"$error":"#N/A"}},{"$f":"IF(X31>=0,\"Apurado\",\"\")","v":{"$error":"#N/A"}}]
[null,null,null,null,null,null,null,null,null,null,null,null,null,null,null,null,null,null,null,{"$f":"IF(A32=\"\",\"\",G32&A32&J32)","v":""},{"$f":"IF(COUNTIF($T$5:T32,T32)=1,\"SB\",\"\")","v":""},{"$f":"A32&L32&G32","v":""},{"$f":"VLOOKUP(V32,Minimos!$D$3:$E$26,2,FALSE)","v":{"$error":"#N/A"}},{"$f":"M32-W32","v":{"$error":"#N/A"}},{"$f":"IF(X32>=0,\"Apurado\",\"\")","v":{"$error":"#N/A"}}]
[null,null,null,null,null,null,null,null,null,null,null,null,null,null,null,null,null,null,null,{"$f":"IF(A33=\"\",\"\",G33&A33&J33)","v":""},{"$f":"IF(COUNTIF($T$5:T33,T33)=1,\"SB\",\"\")","v":""},{"$f":"A33&L33&G33","v":""},{"$f":"VLOOKUP(V33,Minimos!$D$3:$E$26,2,FALSE)","v":{"$error":"#N/A"}},{"$f":"M33-W33","v":{"$error":"#N/A"}},{"$f":"IF(X33>=0,\"Apurado\",\"\")","v":{"$error":"#N/A"}}]
[null,null,null,null,null,null,null,null,null,null,null,null,null,null,null,null,null,null,null,{"$f":"IF(A34=\"\",\"\",G34&A34&J34)","v":""},{"$f":"IF(COUNTIF($T$5:T34,T34)=1,\"SB\",\"\")","v":""},{"$f":"A34&L34&G34","v":""},{"$f":"VLOOKUP(V34,Minimos!$D$3:$E$26,2,FALSE)","v":{"$error":"#N/A"}},{"$f":"M34-W34","v":{"$error":"#N/A"}},{"$f":"IF(X34>=0,\"Apurado\",\"\")","v":{"$error":"#N/A"}}]
[null,null,null,null,null,null,null,null,null,null,null,null,null,null,null,null,null,null,null,{"$f":"IF(A35=\"\",\"\",G35&A35&J35)","v":""},{"$f":"IF(COUNTIF($T$5:T35,T35)=1,\"SB\",\"\")","v":""},{"$f":"A35&L35&G35","v":""},{"$f":"VLOOKUP(V35,Minimos!$D$3:$E$26,2,FALSE)","v":{"$error":"#N/A"}},{"$f":"M35-W35","v":{"$error":"#N/A"}},{"$f":"IF(X35>=0,\"Apurado\",\"\")","v":{"$error":"#N/A"}}]
[null,null,null,null,null,null,null,null,null,null,null,null,null,null,null,null,null,null,null,{"$f":"IF(A36=\"\",\"\",G36&A36&J36)","v":""},{"$f":"IF(COUNTIF($T$5:T36,T36)=1,\"SB\",\"\")","v":""},{"$f":"A36&L36&G36","v":""},{"$f":"VLOOKUP(V36,Minimos!$D$3:$E$26,2,FALSE)","v":{"$error":"#N/A"}},{"$f":"M36-W36","v":{"$error":"#N/A"}},{"$f":"IF(X36>=0,\"Apurado\",\"\")","v":{"$error":"#N/A"}}]
[null,null,null,null,null,null,null,null,null,null,null,null,null,null,null,null,null,null,null,{"$f":"IF(A37=\"\",\"\",G37&A37&J37)","v":""},{"$f":"IF(COUNTIF($T$5:T37,T37)=1,\"SB\",\"\")","v":""},{"$f":"A37&L37&G37","v":""},{"$f":"VLOOKUP(V37,Minimos!$D$3:$E$26,2,FALSE)","v":{"$error":"#N/A"}},{"$f":"M37-W37","v":{"$error":"#N/A"}},{"$f":"IF(X37>=0,\"Apurado\",\"\")","v":{"$error":"#N/A"}}]
[null,null,null,null,null,null,null,null,null,null,null,null,null,null,null,null,null,null,null,{"$f":"IF(A38=\"\",\"\",G38&A38&J38)","v":""},{"$f":"IF(COUNTIF($T$5:T38,T38)=1,\"SB\",\"\")","v":""},{"$f":"A38&L38&G38","v":""},{"$f":"VLOOKUP(V38,Minimos!$D$3:$E$26,2,FALSE)","v":{"$error":"#N/A"}},{"$f":"M38-W38","v":{"$error":"#N/A"}},{"$f":"IF(X38>=0,\"Apurado\",\"\")","v":{"$error":"#N/A"}}]
[null,null,null,null,null,null,null,null,null,null,null,null,null,null,null,null,null,null,null,{"$f":"IF(A39=\"\",\"\",G39&A39&J39)","v":""},{"$f":"IF(COUNTIF($T$5:T39,T39)=1,\"SB\",\"\")","v":""},{"$f":"A39&L39&G39","v":""},{"$f":"VLOOKUP(V39,Minimos!$D$3:$E$26,2,FALSE)","v":{"$error":"#N/A"}},{"$f":"M39-W39","v":{"$error":"#N/A"}},{"$f":"IF(X39>=0,\"Apurado\",\"\")","v":{"$error":"#N/A"}}]
[null,null,null,null,null,null,null,null,null,null,null,null,null,null,null,null,null,null,null,{"$f":"IF(A40=\"\",\"\",G40&A40&J40)","v":""},{"$f":"IF(COUNTIF($T$5:T40,T40)=1,\"SB\",\"\")","v":""},{"$f":"A40&L40&G40","v":""},{"$f":"VLOOKUP(V40,Minimos!$D$3:$E$26,2,FALSE)","v":{"$error":"#N/A"}},{"$f":"M40-W40","v":{"$error":"#N/A"}},{"$f":"IF(X40>=0,\"Apurado\",\"\")","v":{"$error":"#N/A"}}]
[null,null,null,null,null,null,null,null,null,null,null,null,null,null,null,null,null,null,null,{"$f":"IF(A41=\"\",\"\",G41&A41&J41)","v":""},{"$f":"IF(COUNTIF($T$5:T41,T41)=1,\"SB\",\"\")","v":""},{"$f":"A41&L41&G41","v":""},{"$f":"VLOOKUP(V41,Minimos!$D$3:$E$26,2,FALSE)","v":{"$error":"#N/A"}},{"$f":"M41-W41","v":{"$error":"#N/A"}},{"$f":"IF(X41>=0,\"Apurado\",\"\")","v":{"$error":"#N/A"}}]
[null,null,null,null,null,null,null,null,null,null,null,null,null,null,null,null,null,null,null,{"$f":"IF(A42=\"\",\"\",G42&A42&J42)","v":""},{"$f":"IF(COUNTIF($T$5:T42,T42)=1,\"SB\",\"\")","v":""},{"$f":"A42&L42&G42","v":""},{"$f":"VLOOKUP(V42,Minimos!$D$3:$E$26,2,FALSE)","v":{"$error":"#N/A"}},{"$f":"M42-W42","v":{"$error":"#N/A"}},{"$f":"IF(X42>=0,\"Apurado\",\"\")","v":{"$error":"#N/A"}}]
[null,null,null,null,null,null,null,null,null,null,null,null,null,null,null,null,null,null,null,{"$f":"IF(A43=\"\",\"\",G43&A43&J43)","v":""},{"$f":"IF(COUNTIF($T$5:T43,T43)=1,\"SB\",\"\")","v":""},{"$f":"A43&L43&G43","v":""},{"$f":"VLOOKUP(V43,Minimos!$D$3:$E$26,2,FALSE)","v":{"$error":"#N/A"}},{"$f":"M43-W43","v":{"$error":"#N/A"}},{"$f":"IF(X43>=0,\"Apurado\",\"\")","v":{"$error":"#N/A"}}]
[null,null,null,null,null,null,null,null,null,null,null,null,null,null,null,null,null,null,null,{"$f":"IF(A44=\"\",\"\",G44&A44&J44)","v":""},{"$f":"IF(COUNTIF($T$5:T44,T44)=1,\"SB\",\"\")","v":""},{"$f":"A44&L44&G44","v":""},{"$f":"VLOOKUP(V44,Minimos!$D$3:$E$26,2,FALSE)","v":{"$error":"#N/A"}},{"$f":"M44-W44","v":{"$error":"#N/A"}},{"$f":"IF(X44>=0,\"Apurado\",\"\")","v":{"$error":"#N/A"}}]
[null,null,null,null,null,null,null,null,null,null,null,null,null,null,null,null,null,null,null,{"$f":"IF(A45=\"\",\"\",G45&A45&J45)","v":""},{"$f":"IF(COUNTIF($T$5:T45,T45)=1,\"SB\",\"\")","v":""},{"$f":"A45&L45&G45","v":""},{"$f":"VLOOKUP(V45,Minimos!$D$3:$E$26,2,FALSE)","v":{"$error":"#N/A"}},{"$f":"M45-W45","v":{"$error":"#N/A"}},{"$f":"IF(X45>=0,\"Apurado\",\"\")","v":{"$error":"#N/A"}}]
[null,null,null,null,null,null,null,null,null,null,null,null,null,null,null,null,null,null,null,{"$f":"IF(A46=\"\",\"\",G46&A46&J46)","v":""},{"$f":"IF(COUNTIF($T$5:T46,T46)=1,\"SB\",\"\")","v":""},{"$f":"A46&L46&G46","v":""},{"$f":"VLOOKUP(V46,Minimos!$D$3:$E$26,2,FALSE)","v":{"$error":"#N/A"}},{"$f":"M46-W46","v":{"$error":"#N/A"}},{"$f":"IF(X46>=0,\"Apurado\",\"\")","v":{"$error":"#N/A"}}]
[null,null,null,null,null,null,null,null,null,null,null,null,null,null,null,null,null,null,null,{"$f":"IF(A47=\"\",\"\",G47&A47&J47)","v":""},{"$f":"IF(COUNTIF($T$5:T47,T47)=1,\"SB\",\"\")","v":""},{"$f":"A47&L47&G47","v":""},{"$f":"VLOOKUP(V47,Minimos!$D$3:$E$26,2,FALSE)","v":{"$error":"#N/A"}},{"$f":"M47-W47","v":{"$error":"#N/A"}},{"$f":"IF(X47>=0,\"Apurado\",\"\")","v":{"$error":"#N/A"}}]
[null,null,null,null,null,null,null,null,null,null,null,null,null,null,null,null,null,null,null,{"$f":"IF(A48=\"\",\"\",G48&A48&J48)","v":""},{"$f":"IF(COUNTIF($T$5:T48,T48)=1,\"SB\",\"\")","v":""},{"$f":"A48&L48&G48","v":""},{"$f":"VLOOKUP(V48,Minimos!$D$3:$E$26,2,FALSE)","v":{"$error":"#N/A"}},{"$f":"M48-W48","v":{"$error":"#N/A"}},{"$f":"IF(X48>=0,\"Apurado\",\"\")","v":{"$error":"#N/A"}}]
[null,null,null,null,null,null,null,null,null,null,null,null,null,null,null,null,null,null,null,{"$f":"IF(A49=\"\",\"\",G49&A49&J49)","v":""},{"$f":"IF(COUNTIF($T$5:T49,T49)=1,\"SB\",\"\")","v":""},{"$f":"A49&L49&G49","v":""},{"$f":"VLOOKUP(V49,Minimos!$D$3:$E$26,2,FALSE)","v":{"$error":"#N/A"}},{"$f":"M49-W49","v":{"$error":"#N/A"}},{"$f":"IF(X49>=0,\"Apurado\",\"\")","v":{"$error":"#N/A"}}]
[null,null,null,null,null,null,null,null,null,null,null,null,null,null,null,null,null,null,null,{"$f":"IF(A50=\"\",\"\",G50&A50&J50)","v":""},{"$f":"IF(COUNTIF($T$5:T50,T50)=1,\"SB\",\"\")","v":""},{"$f":"A50&L50&G50","v":""},{"$f":"VLOOKUP(V50,Minimos!$D$3:$E$26,2,FALSE)","v":{"$error":"#N/A"}},{"$f":"M50-W50","v":{"$error":"#N/A"}},{"$f":"IF(X50>=0,\"Apurado\",\"\")","v":{"$error":"#N/A"}}]
[null,null,null,null,null,null,null,null,null,null,null,null,null,null,null,null,null,null,null,{"$f":"IF(A51=\"\",\"\",G51&A51&J51)","v":""},{"$f":"IF(COUNTIF($T$5:T51,T51)=1,\"SB\",\"\")","v":""},{"$f":"A51&L51&G51","v":""},{"$f":"VLOOKUP(V51,Minimos!$D$3:$E$26,2,FALSE)","v":{"$error":"#N/A"}},{"$f":"M51-W51","v":{"$error":"#N/A"}},{"$f":"IF(X51>=0,\"Apurado\",\"\")","v":{"$error":"#N/A"}}]
[null,null,null,null,null,null,null,null,null,null,null,null,null,null,null,null,null,null,null,{"$f":"IF(A52=\"\",\"\",G52&A52&J52)","v":""},{"$f":"IF(COUNTIF($T$5:T52,T52)=1,\"SB\",\"\")","v":""},{"$f":"A52&L52&G52","v":""},{"$f":"VLOOKUP(V52,Minimos!$D$3:$E$26,2,FALSE)","v":{"$error":"#N/A"}},{"$f":"M52-W52","v":{"$error":"#N/A"}},{"$f":"IF(X52>=0,\"Apurado\",\"\")","v":{"$error":"#N/A"}}]
[null,null,null,null,null,null,null,null,null,null,null,null,null,null,null,null,null,null,null,{"$f":"IF(A53=\"\",\"\",G53&A53&J53)","v":""},{"$f":"IF(COUNTIF($T$5:T53,T53)=1,\"SB\",\"\")","v":""},{"$f":"A53&L53&G53","v":""},{"$f":"VLOOKUP(V53,Minimos!$D$3:$E$26,2,FALSE)","v":{"$error":"#N/A"}},{"$f":"M53-W53","v":{"$error":"#N/A"}},{"$f":"IF(X53>=0,\"Apurado\",\"\")","v":{"$error":"#N/A"}}]
[null,null,null,null,null,null,null,null,null,null,null,null,null,null,null,null,null,null,null,{"$f":"IF(A54=\"\",\"\",G54&A54&J54)","v":""},{"$f":"IF(COUNTIF($T$5:T54,T54)=1,\"SB\",\"\")","v":""},{"$f":"A54&L54&G54","v":""},{"$f":"VLOOKUP(V54,Minimos!$D$3:$E$26,2,FALSE)","v":{"$error":"#N/A"}},{"$f":"M54-W54","v":{"$error":"#N/A"}},{"$f":"IF(X54>=0,\"Apurado\",\"\")","v":{"$error":"#N/A"}}]
[null,null,null,null,null,null,null,null,null,null,null,null,null,null,null,null,null,null,null,{"$f":"IF(A55=\"\",\"\",G55&A55&J55)","v":""},{"$f":"IF(COUNTIF($T$5:T55,T55)=1,\"SB\",\"\")","v":""},{"$f":"A55&L55&G55","v":""},{"$f":"VLOOKUP(V55,Minimos!$D$3:$E$26,2,FALSE)","v":{"$error":"#N/A"}},{"$f":"M55-W55","v":{"$error":"#N/A"}},{"$f":"IF(X55>=0,\"Apurado\",\"\")","v":{"$error":"#N/A"}}]
[null,null,null,null,null,null,null,null,null,null,null,null,null,null,null,null,null,null,null,{"$f":"IF(A56=\"\",\"\",G56&A56&J56)","v":""},{"$f":"IF(COUNTIF($T$5:T56,T56)=1,\"SB\",\"\")","v":""},{"$f":"A56&L56&G56","v":""},{"$f":"VLOOKUP(V56,Minimos!$D$3:$E$26,2,FALSE)","v":{"$error":"#N/A"}},{"$f":"M56-W56","v":{"$error":"#N/A"}},{"$f":"IF(X56>=0,\"Apurado\",\"\")","v":{"$error":"#N/A"}}]
[null,null,null,null,null,null,null,null,null,null,null,null,null,null,null,null,null,null,null,{"$f":"IF(A57=\"\",\"\",G57&A57&J57)","v":""},{"$f":"IF(COUNTIF($T$5:T57,T57)=1,\"SB\",\"\")","v":""},{"$f":"A57&L57&G57","v":""},{"$f":"VLOOKUP(V57,Minimos!$D$3:$E$26,2,FALSE)","v":{"$error":"#N/A"}},{"$f":"M57-W57","v":{"$error":"#N/A"}},{"$f":"IF(X57>=0,\"Apurado\",\"\")","v":{"$error":"#N/A"}}]
[null,null,null,null,null,null,null,null,null,null,null,null,null,null,null,null,null,null,null,{"$f":"IF(A58=\"\",\"\",G58&A58&J58)","v":""},{"$f":"IF(COUNTIF($T$5:T58,T58)=1,\"SB\",\"\")","v":""},{"$f":"A58&L58&G58","v":""},{"$f":"VLOOKUP(V58,Minimos!$D$3:$E$26,2,FALSE)","v":{"$error":"#N/A"}},{"$f":"M58-W58","v":{"$error":"#N/A"}},{"$f":"IF(X58>=0,\"Apurado\",\"\")","v":{"$error":"#N/A"}}]
[null,null,null,null,null,null,null,null,null,null,null,null,null,null,null,null,null,null,null,{"$f":"IF(A59=\"\",\"\",G59&A59&J59)","v":""},{"$f":"IF(COUNTIF($T$5:T59,T59)=1,\"SB\",\"\")","v":""},{"$f":"A59&L59&G59","v":""},{"$f":"VLOOKUP(V59,Minimos!$D$3:$E$26,2,FALSE)","v":{"$error":"#N/A"}},{"$f":"M59-W59","v":{"$error":"#N/A"}},{"$f":"IF(X59>=0,\"Apurado\",\"\")","v":{"$error":"#N/A"}}]
[null,null,null,null,null,null,null,null,null,null,null,null,null,null,null,null,null,null,null,{"$f":"IF(A60=\"\",\"\",G60&A60&J60)","v":""},{"$f":"IF(COUNTIF($T$5:T60,T60)=1,\"SB\",\"\")","v":""},{"$f":"A60&L60&G60","v":""},{"$f":"VLOOKUP(V60,Minimos!$D$3:$E$26,2,FALSE)","v":{"$error":"#N/A"}},{"$f":"M60-W60","v":{"$error":"#N/A"}},{"$f":"IF(X60>=0,\"Apurado\",\"\")","v":{"$error":"#N/A"}}]
[null,null,null,null,null,null,null,null,null,null,null,null,null,null,null,null,null,null,null,{"$f":"IF(A61=\"\",\"\",G61&A61&J61)","v":""},{"$f":"IF(COUNTIF($T$5:T61,T61)=1,\"SB\",\"\")","v":""},{"$f":"A61&L61&G61","v":""},{"$f":"VLOOKUP(V61,Minimos!$D$3:$E$26,2,FALSE)","v":{"$error":"#N/A"}},{"$f":"M61-W61","v":{"$error":"#N/A"}},{"$f":"IF(X61>=0,\"Apurado\",\"\")","v":{"$error":"#N/A"}}]
[null,null,null,null,null,null,null,null,null,null,null,null,null,null,null,null,null,null,null,{"$f":"IF(A62=\"\",\"\",G62&A62&J62)","v":""},{"$f":"IF(COUNTIF($T$5:T62,T62)=1,\"SB\",\"\")","v":""},{"$f":"A62&L62&G62","v":""},{"$f":"VLOOKUP(V62,Minimos!$D$3:$E$26,2,FALSE)","v":{"$error":"#N/A"}},{"$f":"M62-W62","v":{"$error":"#N/A"}},{"$f":"IF(X62>=0,\"Apurado\",\"\")","v":{"$error":"#N/A"}}]
[null,null,null,null,null,null,null,null,null,null,null,null,null,null,null,null,null,null,null,{"$f":"IF(A63=\"\",\"\",G63&A63&J63)","v":""},{"$f":"IF(COUNTIF($T$5:T63,T63)=1,\"SB\",\"\")","v":""},{"$f":"A63&L63&G63","v":""},{"$f":"VLOOKUP(V63,Minimos!$D$3:$E$26,2,FALSE)","v":{"$error":"#N/A"}},{"$f":"M63-W63","v":{"$error":"#N/A"}},{"$f":"IF(X63>=0,\"Apurado\",\"\")","v":{"$error":"#N/A"}}]
[null,null,null,null,null,null,null,null,null,null,null,null,null,null,null,null,null,null,null,{"$f":"IF(A64=\"\",\"\",G64&A64&J64)","v":""},{"$f":"IF(COUNTIF($T$5:T64,T64)=1,\"SB\",\"\")","v":""},{"$f":"A64&L64&G64","v":""},{"$f":"VLOOKUP(V64,Minimos!$D$3:$E$26,2,FALSE)","v":{"$error":"#N/A"}},{"$f":"M64-W64","v":{"$error":"#N/A"}},{"$f":"IF(X64>=0,\"Apurado\",\"\")","v":{"$error":"#N/A"}}]
[null,null,null,null,null,null,null,null,null,null,null,null,null,null,null,null,null,null,null,{"$f":"IF(A65=\"\",\"\",G65&A65&J65)","v":""},{"$f":"IF(COUNTIF($T$5:T65,T65)=1,\"SB\",\"\")","v":""},{"$f":"A65&L65&G65","v":""},{"$f":"VLOOKUP(V65,Minimos!$D$3:$E$26,2,FALSE)","v":{"$error":"#N/A"}},{"$f":"M65-W65","v":{"$error":"#N/A"}},{"$f":"IF(X65>=0,\"Apurado\",\"\")","v":{"$error":"#N/A"}}]
[null,null,null,null,null,null,null,null,null,null,null,null,null,null,null,null,null,null,null,{"$f":"IF(A66=\"\",\"\",G66&A66&J66)","v":""},{"$f":"IF(COUNTIF($T$5:T66,T66)=1,\"SB\",\"\")","v":""},{"$f":"A66&L66&G66","v":""},{"$f":"VLOOKUP(V66,Minimos!$D$3:$E$26,2,FALSE)","v":{"$error":"#N/A"}},{"$f":"M66-W66","v":{"$error":"#N/A"}},{"$f":"IF(X66>=0,\"Apurado\",\"\")","v":{"$error":"#N/A"}}]
[null,null,null,null,null,null,null,null,null,null,null,null,null,null,null,null,null,null,null,{"$f":"IF(A67=\"\",\"\",G67&A67&J67)","v":""},{"$f":"IF(COUNTIF($T$5:T67,T67)=1,\"SB\",\"\")","v":""},{"$f":"A67&L67&G67","v":""},{"$f":"VLOOKUP(V67,Minimos!$D$3:$E$26,2,FALSE)","v":{"$error":"#N/A"}},{"$f":"M67-W67","v":{"$error":"#N/A"}},{"$f":"IF(X67>=0,\"Apurado\",\"\")","v":{"$error":"#N/A"}}]
[null,null,null,null,null,null,null,null,null,null,null,null,null,null,null,null,null,null,null,{"$f":"IF(A68=\"\",\"\",G68&A68&J68)","v":""},{"$f":"IF(COUNTIF($T$5:T68,T68)=1,\"SB\",\"\")","v":""},{"$f":"A68&L68&G68","v":""},{"$f":"VLOOKUP(V68,Minimos!$D$3:$E$26,2,FALSE)","v":{"$error":"#N/A"}},{"$f":"M68-W68","v":{"$error":"#N/A"}},{"$f":"IF(X68>=0,\"Apurado\",\"\")","v":{"$error":"#N/A"}}]
[null,null,null,null,null,null,null,null,null,null,null,null,null,null,null,null,null,null,null,{"$f":"IF(A69=\"\",\"\",G69&A69&J69)","v":""},{"$f":"IF(COUNTIF($T$5:T69,T69)=1,\"SB\",\"\")","v":""},{"$f":"A69&L69&G69","v":""},{"$f":"VLOOKUP(V69,Minimos!$D$3:$E$26,2,FALSE)","v":{"$error":"#N/A"}},{"$f":"M69-W69","v":{"$error":"#N/A"}},{"$f":"IF(X69>=0,\"Apurado\",\"\")","v":{"$error":"#N/A"}}]
[null,null,null,null,null,null,null,null,null,null,null,null,null,null,null,null,null,null,null,{"$f":"IF(A70=\"\",\"\",G70&A70&J70)","v":""},{"$f":"IF(COUNTIF($T$5:T70,T70)=1,\"SB\",\"\")","v":""},{"$f":"A70&L70&G70","v":""},{"$f":"VLOOKUP(V70,Minimos!$D$3:$E$26,2,FALSE)","v":{"$error":"#N/A"}},{"$f":"M70-W70","v":{"$error":"#N/A"}},{"$f":"IF(X70>=0,\"Apurado\",\"\")","v":{"$error":"#N/A"}}]
[null,null,null,null,null,null,null,null,null,null,null,null,null,null,null,null,null,null,null,{"$f":"IF(A71=\"\",\"\",G71&A71&J71)","v":""},{"$f":"IF(COUNTIF($T$5:T71,T71)=1,\"SB\",\"\")","v":""},{"$f":"A71&L71&G71","v":""},{"$f":"VLOOKUP(V71,Minimos!$D$3:$E$26,2,FALSE)","v":{"$error":"#N/A"}},{"$f":"M71-W71","v":{"$error":"#N/A"}},{"$f":"IF(X71>=0,\"Apurado\",\"\")","v":{"$error":"#N/A"}}]
[null,null,null,null,null,null,null,null,null,null,null,null,null,null,null,null,null,null,null,{"$f":"IF(A72=\"\",\"\",G72&A72&J72)","v":""},{"$f":"IF(COUNTIF($T$5:T72,T72)=1,\"SB\",\"\")","v":""},{"$f":"A72&L72&G72","v":""},{"$f":"VLOOKUP(V72,Minimos!$D$3:$E$26,2,FALSE)","v":{"$error":"#N/A"}},{"$f":"M72-W72","v":{"$error":"#N/A"}},{"$f":"IF(X72>=0,\"Apurado\",\"\")","v":{"$error":"#N/A"}}]
[null,null,null,null,null,null,null,null,null,null,null,null,null,null,null,null,null,null,null,{"$f":"IF(A73=\"\",\"\",G73&A73&J73)","v":""},{"$f":"IF(COUNTIF($T$5:T73,T73)=1,\"SB\",\"\")","v":""},{"$f":"A73&L73&G73","v":""},{"$f":"VLOOKUP(V73,Minimos!$D$3:$E$26,2,FALSE)","v":{"$error":"#N/A"}},{"$f":"M73-W73","v":{"$error":"#N/A"}},{"$f":"IF(X73>=0,\"Apurado\",\"\")","v":{"$error":"#N/A"}}]
[null,null,null,null,null,null,null,null,null,null,null,null,null,null,null,null,null,null,null,{"$f":"IF(A74=\"\",\"\",G74&A74&J74)","v":""},{"$f":"IF(COUNTIF($T$5:T74,T74)=1,\"SB\",\"\")","v":""},{"$f":"A74&L74&G74","v":""},{"$f":"VLOOKUP(V74,Minimos!$D$3:$E$26,2,FALSE)","v":{"$error":"#N/A"}},{"$f":"M74-W74","v":{"$error":"#N/A"}},{"$f":"IF(X74>=0,\"Apurado\",\"\")","v":{"$error":"#N/A"}}]
[null,null,null,null,null,null,null,null,null,null,null,null,null,null,null,null,null,null,null,{"$f":"IF(A75=\"\",\"\",G75&A75&J75)","v":""},{"$f":"IF(COUNTIF($T$5:T75,T75)=1,\"SB\",\"\")","v":""},{"$f":"A75&L75&G75","v":""},{"$f":"VLOOKUP(V75,Minimos!$D$3:$E$26,2,FALSE)","v":{"$error":"#N/A"}},{"$f":"M75-W75","v":{"$error":"#N/A"}},{"$f":"IF(X75>=0,\"Apurado\",\"\")","v":{"$error":"#N/A"}}]
[null,null,null,null,null,null,null,null,null,null,null,null,null,null,null,null,null,null,null,{"$f":"IF(A76=\"\",\"\",G76&A76&J76)","v":""},{"$f":"IF(COUNTIF($T$5:T76,T76)=1,\"SB\",\"\")","v":""},{"$f":"A76&L76&G76","v":""},{"$f":"VLOOKUP(V76,Minimos!$D$3:$E$26,2,FALSE)","v":{"$error":"#N/A"}},{"$f":"M76-W76","v":{"$error":"#N/A"}},{"$f":"IF(X76>=0,\"Apurado\",\"\")","v":{"$error":"#N/A"}}]
[null,null,null,null,null,null,null,null,null,null,null,null,null,null,null,null,null,null,null,{"$f":"IF(A77=\"\",\"\",G77&A77&J77)","v":""},{"$f":"IF(COUNTIF($T$5:T77,T77)=1,\"SB\",\"\")","v":""},{"$f":"A77&L77&G77","v":""},{"$f":"VLOOKUP(V77,Minimos!$D$3:$E$26,2,FALSE)","v":{"$error":"#N/A"}},{"$f":"M77-W77","v":{"$error":"#N/A"}},{"$f":"IF(X77>=0,\"Apurado\",\"\")","v":{"$error":"#N/A"}}]
[null,null,null,null,null,null,null,null,null,null,null,null,null,null,null,null,null,null,null,{"$f":"IF(A78=\"\",\"\",G78&A78&J78)","v":""},{"$f":"IF(COUNTIF($T$5:T78,T78)=1,\"SB\",\"\")","v":""},{"$f":"A78&L78&G78","v":""},{"$f":"VLOOKUP(V78,Minimos!$D$3:$E$26,2,FALSE)","v":{"$error":"#N/A"}},{"$f":"M78-W78","v":{"$error":"#N/A"}},{"$f":"IF(X78>=0,\"Apurado\",\"\")","v":{"$error":"#N/A"}}]
[null,null,null,null,null,null,null,null,null,null,null,null,null,null,null,null,null,null,null,{"$f":"IF(A79=\"\",\"\",G79&A79&J79)","v":""},{"$f":"IF(COUNTIF($T$5:T79,T79)=1,\"SB\",\"\")","v":""},{"$f":"A79&L79&G79","v":""},{"$f":"VLOOKUP(V79,Minimos!$D$3:$E$26,2,FALSE)","v":{"$error":"#N/A"}},{"$f":"M79-W79","v":{"$error":"#N/A"}},{"$f":"IF(X79>=0,\"Apurado\",\"\")","v":{"$error":"#N/A"}}]
[null,null,null,null,null,null,null,null,null,null,null,null,null,null,null,null,null,null,null,{"$f":"IF(A80=\"\",\"\",G80&A80&J80)","v":""},{"$f":"IF(COUNTIF($T$5:T80,T80)=1,\"SB\",\"\")","v":""},{"$f":"A80&L80&G80","v":""},{"$f":"VLOOKUP(V80,Minimos!$D$3:$E$26,2,FALSE)","v":{"$error":"#N/A"}},{"$f":"M80-W80","v":{"$error":"#N/A"}},{"$f":"IF(X80>=0,\"Apurado\",\"\")","v":{"$error":"#N/A"}}]
[null,null,null,null,null,null,null,null,null,null,null,null,null,null,null,null,null,null,null,{"$f":"IF(A81=\"\",\"\",G81&A81&J81)","v":""},{"$f":"IF(COUNTIF($T$5:T81,T81)=1,\"SB\",\"\")","v":""},{"$f":"A81&L81&G81","v":""},{"$f":"VLOOKUP(V81,Minimos!$D$3:$E$26,2,FALSE)","v":{"$error":"#N/A"}},{"$f":"M81-W81","v":{"$error":"#N/A"}},{"$f":"IF(X81>=0,\"Apurado\",\"\")","v":{"$error":"#N/A"}}]
[null,null,null,null,null,null,null,null,null,null,null,null,null,null,null,null,null,null,null,{"$f":"IF(A82=\"\",\"\",G82&A82&J82)","v":""},{"$f":"IF(COUNTIF($T$5:T82,T82)=1,\"SB\",\"\")","v":""},{"$f":"A82&L82&G82","v":""},{"$f":"VLOOKUP(V82,Minimos!$D$3:$E$26,2,FALSE)","v":{"$error":"#N/A"}},{"$f":"M82-W82","v":{"$error":"#N/A"}},{"$f":"IF(X82>=0,\"Apurado\",\"\")","v":{"$error":"#N/A"}}]
[null,null,null,null,null,null,null,null,null,null,null,null,null,null,null,null,null,null,null,{"$f":"IF(A83=\"\",\"\",G83&A83&J83)","v":""},{"$f":"IF(COUNTIF($T$5:T83,T83)=1,\"SB\",\"\")","v":""},{"$f":"A83&L83&G83","v":""},{"$f":"VLOOKUP(V83,Minimos!$D$3:$E$26,2,FALSE)","v":{"$error":"#N/A"}},{"$f":"M83-W83","v":{"$error":"#N/A"}},{"$f":"IF(X83>=0,\"Apurado\",\"\")","v":{"$error":"#N/A"}}]
[null,null,null,null,null,null,null,null,null,null,null,null,null,null,null,null,null,null,null,{"$f":"IF(A84=\"\",\"\",G84&A84&J84)","v":""},{"$f":"IF(COUNTIF($T$5:T84,T84)=1,\"SB\",\"\")","v":""},{"$f":"A84&L84&G84","v":""},{"$f":"VLOOKUP(V84,Minimos!$D$3:$E$26,2,FALSE)","v":{"$error":"#N/A"}},{"$f":"M84-W84","v":{"$error":"#N/A"}},{"$f":"IF(X84>=0,\"Apurado\",\"\")","v":{"$error":"#N/A"}}]
[null,null,null,null,null,null,null,null,null,null,null,null,null,null,null,null,null,null,null,{"$f":"IF(A85=\"\",\"\",G85&A85&J85)","v":""},{"$f":"IF(COUNTIF($T$5:T85,T85)=1,\"SB\",\"\")","v":""},{"$f":"A85&L85&G85","v":""},{"$f":"VLOOKUP(V85,Minimos!$D$3:$E$26,2,FALSE)","v":{"$error":"#N/A"}},{"$f":"M85-W85","v":{"$error":"#N/A"}},{"$f":"IF(X85>=0,\"Apurado\",\"\")","v":{"$error":"#N/A"}}]
[null,null,null,null,null,null,null,null,null,null,null,null,null,null,null,null,null,null,null,{"$f":"IF(A86=\"\",\"\",G86&A86&J86)","v":""},{"$f":"IF(COUNTIF($T$5:T86,T86)=1,\"SB\",\"\")","v":""},{"$f":"A86&L86&G86","v":""},{"$f":"VLOOKUP(V86,Minimos!$D$3:$E$26,2,FALSE)","v":{"$error":"#N/A"}},{"$f":"M86-W86","v":{"$error":"#N/A"}},{"$f":"IF(X86>=0,\"Apurado\",\"\")","v":{"$error":"#N/A"}}]
[null,null,null,null,null,null,null,null,null,null,null,null,null,null,null,null,null,null,null,{"$f":"IF(A87=\"\",\"\",G87&A87&J87)","v":""},{"$f":"IF(COUNTIF($T$5:T87,T87)=1,\"SB\",\"\")","v":""},{"$f":"A87&L87&G87","v":""},{"$f":"VLOOKUP(V87,Minimos!$D$3:$E$26,2,FALSE)","v":{"$error":"#N/A"}},{"$f":"M87-W87","v":{"$error":"#N/A"}},{"$f":"IF(X87>=0,\"Apurado\",\"\")","v":{"$error":"#N/A"}}]
[null,null,null,null,null,null,null,null,null,null,null,null,null,null,null,null,null,null,null,{"$f":"IF(A88=\"\",\"\",G88&A88&J88)","v":""},{"$f":"IF(COUNTIF($T$5:T88,T88)=1,\"SB\",\"\")","v":""},{"$f":"A88&L88&G88","v":""},{"$f":"VLOOKUP(V88,Minimos!$D$3:$E$26,2,FALSE)","v":{"$error":"#N/A"}},{"$f":"M88-W88","v":{"$error":"#N/A"}},{"$f":"IF(X88>=0,\"Apurado\",\"\")","v":{"$error":"#N/A"}}]
[null,null,null,null,null,null,null,null,null,null,null,null,null,null,null,null,null,null,null,{"$f":"IF(A89=\"\",\"\",G89&A89&J89)","v":""},{"$f":"IF(COUNTIF($T$5:T89,T89)=1,\"SB\",\"\")","v":""},{"$f":"A89&L89&G89","v":""},{"$f":"VLOOKUP(V89,Minimos!$D$3:$E$26,2,FALSE)","v":{"$error":"#N/A"}},{"$f":"M89-W89","v":{"$error":"#N/A"}},{"$f":"IF(X89>=0,\"Apurado\",\"\")","v":{"$error":"#N/A"}}]
[null,null,null,null,null,null,null,null,null,null,null,null,null,null,null,null,null,null,null,{"$f":"IF(A90=\"\",\"\",G90&A90&J90)","v":""},{"$f":"IF(COUNTIF($T$5:T90,T90)=1,\"SB\",\"\")","v":""},{"$f":"A90&L90&G90","v":""},{"$f":"VLOOKUP(V90,Minimos!$D$3:$E$26,2,FALSE)","v":{"$error":"#N/A"}},{"$f":"M90-W90","v":{"$error":"#N/A"}},{"$f":"IF(X90>=0,\"Apurado\",\"\")","v":{"$error":"#N/A"}}]
[null,null,null,null,null,null,null,null,null,null,null,null,null,null,null,null,null,null,null,{"$f":"IF(A91=\"\",\"\",G91&A91&J91)","v":""},{"$f":"IF(COUNTIF($T$5:T91,T91)=1,\"SB\",\"\")","v":""},{"$f":"A91&L91&G91","v":""},{"$f":"VLOOKUP(V91,Minimos!$D$3:$E$26,2,FALSE)","v":{"$error":"#N/A"}},{"$f":"M91-W91","v":{"$error":"#N/A"}},{"$f":"IF(X91>=0,\"Apurado\",\"\")","v":{"$error":"#N/A"}}]
[null,null,null,null,null,null,null,null,null,null,null,null,null,null,null,null,null,null,null,{"$f":"IF(A92=\"\",\"\",G92&A92&J92)","v":""},{"$f":"IF(COUNTIF($T$5:T92,T92)=1,\"SB\",\"\")","v":""},{"$f":"A92&L92&G92","v":""},{"$f":"VLOOKUP(V92,Minimos!$D$3:$E$26,2,FALSE)","v":{"$error":"#N/A"}},{"$f":"M92-W92","v":{"$error":"#N/A"}},{"$f":"IF(X92>=0,\"Apurado\",\"\")","v":{"$error":"#N/A"}}]
[null,null,null,null,null,null,null,null,null,null,null,null,null,null,null,null,null,null,null,{"$f":"IF(A93=\"\",\"\",G93&A93&J93)","v":""},{"$f":"IF(COUNTIF($T$5:T93,T93)=1,\"SB\",\"\")","v":""},{"$f":"A93&L93&G93","v":""},{"$f":"VLOOKUP(V93,Minimos!$D$3:$E$26,2,FALSE)","v":{"$error":"#N/A"}},{"$f":"M93-W93","v":{"$error":"#N/A"}},{"$f":"IF(X93>=0,\"Apurado\",\"\")","v":{"$error":"#N/A"}}]
[null,null,null,null,null,null,null,null,null,null,null,null,null,null,null,null,null,null,null,{"$f":"IF(A94=\"\",\"\",G94&A94&J94)","v":""},{"$f":"IF(COUNTIF($T$5:T94,T94)=1,\"SB\",\"\")","v":""},{"$f":"A94&L94&G94","v":""},{"$f":"VLOOKUP(V94,Minimos!$D$3:$E$26,2,FALSE)","v":{"$error":"#N/A"}},{"$f":"M94-W94","v":{"$error":"#N/A"}},{"$f":"IF(X94>=0,\"Apurado\",\"\")","v":{"$error":"#N/A"}}]
[null,null,null,null,null,null,null,null,null,null,null,null,null,null,null,null,null,null,null,{"$f":"IF(A95=\"\",\"\",G95&A95&J95)","v":""},{"$f":"IF(COUNTIF($T$5:T95,T95)=1,\"SB\",\"\")","v":""},{"$f":"A95&L95&G95","v":""},{"$f":"VLOOKUP(V95,Minimos!$D$3:$E$26,2,FALSE)","v":{"$error":"#N/A"}},{"$f":"M95-W95","v":{"$error":"#N/A"}},{"$f":"IF(X95>=0,\"Apurado\",\"\")","v":{"$error":"#N/A"}}]
[null,null,null,null,null,null,null,null,null,null,null,null,null,null,null,null,null,null,null,{"$f":"IF(A96=\"\",\"\",G96&A96&J96)","v":""},{"$f":"IF(COUNTIF($T$5:T96,T96)=1,\"SB\",\"\")","v":""},{"$f":"A96&L96&G96","v":""},{"$f":"VLOOKUP(V96,Minimos!$D$3:$E$26,2,FALSE)","v":{"$error":"#N/A"}},{"$f":"M96-W96","v":{"$error":"#N/A"}},{"$f":"IF(X96>=0,\"Apurado\",\"\")","v":{"$error":"#N/A"}}]
[null,null,null,null,null,null,null,null,null,null,null,null,null,null,null,null,null,null,null,{"$f":"IF(A97=\"\",\"\",G97&A97&J97)","v":""},{"$f":"IF(COUNTIF($T$5:T97,T97)=1,\"SB\",\"\")","v":""},{"$f":"A97&L97&G97","v":""},{"$f":"VLOOKUP(V97,Minimos!$D$3:$E$26,2,FALSE)","v":{"$error":"#N/A"}},{"$f":"M97-W97","v":{"$error":"#N/A"}},{"$f":"IF(X97>=0,\"Apurado\",\"\")","v":{"$error":"#N/A"}}]
[null,null,null,null,null,null,null,null,null,null,null,null,null,null,null,null,null,null,null,{"$f":"IF(A98=\"\",\"\",G98&A98&J98)","v":""},{"$f":"IF(COUNTIF($T$5:T98,T98)=1,\"SB\",\"\")","v":""},{"$f":"A98&L98&G98","v":""},{"$f":"VLOOKUP(V98,Minimos!$D$3:$E$26,2,FALSE)","v":{"$error":"#N/A"}},{"$f":"M98-W98","v":{"$error":"#N/A"}},{"$f":"IF(X98>=0,\"Apurado\",\"\")","v":{"$error":"#N/A"}}]
[null,null,null,null,null,null,null,null,null,null,null,null,null,null,null,null,null,null,null,{"$f":"IF(A99=\"\",\"\",G99&A99&J99)","v":""},{"$f":"IF(COUNTIF($T$5:T99,T99)=1,\"SB\",\"\")","v":""},{"$f":"A99&L99&G99","v":""},{"$f":"VLOOKUP(V99,Minimos!$D$3:$E$26,2,FALSE)","v":{"$error":"#N/A"}},{"$f":"M99-W99","v":{"$error":"#N/A"}},{"$f":"IF(X99>=0,\"Apurado\",\"\")","v":{"$error":"#N/A"}}]
[null,null,null,null,null,null,null,null,null,null,null,null,null,null,null,null,null,null,null,{"$f":"IF(A100=\"\",\"\",G100&A100&J100)","v":""},{"$f":"IF(COUNTIF($T$5:T100,T100)=1,\"SB\",\"\")","v":""},{"$f":"A100&L100&G100","v":""},{"$f":"VLOOKUP(V100,Minimos!$D$3:$E$26,2,FALSE)","v":{"$error":"#N/A"}},{"$f":"M100-W100","v":{"$error":"#N/A"}},{"$f":"IF(X100>=0,\"Apurado\",\"\")","v":{"$error":"#N/A"}}]
[null,null,null,null,null,null,null,null,null,null,null,null,null,null,null,null,null,null,null,{"$f":"IF(A101=\"\",\"\",G101&A101&J101)","v":""},{"$f":"IF(COUNTIF($T$5:T101,T101)=1,\"SB\",\"\")","v":""},{"$f":"A101&L101&G101","v":""},{"$f":"VLOOKUP(V101,Minimos!$D$3:$E$26,2,FALSE)","v":{"$error":"#N/A"}},{"$f":"M101-W101","v":{"$error":"#N/A"}},{"$f":"IF(X101>=0,\"Apurado\",\"\")","v":{"$error":"#N/A"}}]
[null,null,null,null,null,null,null,null,null,null,null,null,null,null,null,null,null,null,null,{"$f":"IF(A102=\"\",\"\",G102&A102&J102)","v":""},{"$f":"IF(COUNTIF($T$5:T102,T102)=1,\"SB\",\"\")","v":""},{"$f":"A102&L102&G102","v":""},{"$f":"VLOOKUP(V102,Minimos!$D$3:$E$26,2,FALSE)","v":{"$error":"#N/A"}},{"$f":"M102-W102","v":{"$error":"#N/A"}},{"$f":"IF(X102>=0,\"Apurado\",\"\")","v":{"$error":"#N/A"}}]
[null,null,null,null,null,null,null,null,null,null,null,null,null,null,null,null,null,null,null,{"$f":"IF(A103=\"\",\"\",G103&A103&J103)","v":""},{"$f":"IF(COUNTIF($T$5:T103,T103)=1,\"SB\",\"\")","v":""},{"$f":"A103&L103&G103","v":""},{"$f":"VLOOKUP(V103,Minimos!$D$3:$E$26,2,FALSE)","v":{"$error":"#N/A"}},{"$f":"M103-W103","v":{"$error":"#N/A"}},{"$f":"IF(X103>=0,\"Apurado\",\"\")","v":{"$error":"#N/A"}}]
[null,null,null,null,null,null,null,null,null,null,null,null,null,null,null,null,null,null,null,{"$f":"IF(A104=\"\",\"\",G104&A104&J104)","v":""},{"$f":"IF(COUNTIF($T$5:T104,T104)=1,\"SB\",\"\")","v":""},{"$f":"A104&L104&G104","v":""},{"$f":"VLOOKUP(V104,Minimos!$D$3:$E$26,2,FALSE)","v":{"$error":"#N/A"}},{"$f":"M104-W104","v":{"$error":"#N/A"}},{"$f":"IF(X104>=0,\"Apurado\",\"\")","v":{"$error":"#N/A"}}]
[null,null,null,null,null,null,null,null,null,null,null,null,null,null,null,null,null,null,null,{"$f":"IF(A105=\"\",\"\",G105&A105&J105)","v":""},{"$f":"IF(COUNTIF($T$5:T105,T105)=1,\"SB\",\"\")","v":""},{"$f":"A105&L105&G105","v":""},{"$f":"VLOOKUP(V105,Minimos!$D$3:$E$26,2,FALSE)","v":{"$error":"#N/A"}},{"$f":"M105-W105","v":{"$error":"#N/A"}},{"$f":"IF(X105>=0,\"Apurado\",\"\")","v":{"$error":"#N/A"}}]
[null,null,null,null,null,null,null,null,null,null,null,null,null,null,null,null,null,null,null,{"$f":"IF(A106=\"\",\"\",G106&A106&J106)","v":""},{"$f":"IF(COUNTIF($T$5:T106,T106)=1,\"SB\",\"\")","v":""},{"$f":"A106&L106&G106","v":""},{"$f":"VLOOKUP(V106,Minimos!$D$3:$E$26,2,FALSE)","v":{"$error":"#N/A"}},{"$f":"M106-W106","v":{"$error":"#N/A"}},{"$f":"IF(X106>=0,\"Apurado\",\"\")","v":{"$error":"#N/A"}}]
[null,null,null,null,null,null,null,null,null,null,null,null,null,null,null,null,null,null,null,{"$f":"IF(A107=\"\",\"\",G107&A107&J107)","v":""},{"$f":"IF(COUNTIF($T$5:T107,T107)=1,\"SB\",\"\")","v":""},{"$f":"A107&L107&G107","v":""},{"$f":"VLOOKUP(V107,Minimos!$D$3:$E$26,2,FALSE)","v":{"$error":"#N/A"}},{"$f":"M107-W107","v":{"$error":"#N/A"}},{"$f":"IF(X107>=0,\"Apurado\",\"\")","v":{"$error":"#N/A"}}]
[null,null,null,null,null,null,null,null,null,null,null,null,null,null,null,null,null,null,null,{"$f":"IF(A108=\"\",\"\",G108&A108&J108)","v":""},{"$f":"IF(COUNTIF($T$5:T108,T108)=1,\"SB\",\"\")","v":""},{"$f":"A108&L108&G108","v":""},{"$f":"VLOOKUP(V108,Minimos!$D$3:$E$26,2,FALSE)","v":{"$error":"#N/A"}},{"$f":"M108-W108","v":{"$error":"#N/A"}},{"$f":"IF(X108>=0,\"Apurado\",\"\")","v":{"$error":"#N/A"}}]
[null,null,null,null,null,null,null,null,null,null,null,null,null,null,null,null,null,null,null,{"$f":"IF(A109=\"\",\"\",G109&A109&J109)","v":""},{"$f":"IF(COUNTIF($T$5:T109,T109)=1,\"SB\",\"\")","v":""},{"$f":"A109&L109&G109","v":""},{"$f":"VLOOKUP(V109,Minimos!$D$3:$E$26,2,FALSE)","v":{"$error":"#N/A"}},{"$f":"M109-W109","v":{"$error":"#N/A"}},{"$f":"IF(X109>=0,\"Apurado\",\"\")","v":{"$error":"#N/A"}}]
[null,null,null,null,null,null,null,null,null,null,null,null,null,null,null,null,null,null,null,{"$f":"IF(A110=\"\",\"\",G110&A110&J110)","v":""},{"$f":"IF(COUNTIF($T$5:T110,T110)=1,\"SB\",\"\")","v":""},{"$f":"A110&L110&G110","v":""},{"$f":"VLOOKUP(V110,Minimos!$D$3:$E$26,2,FALSE)","v":{"$error":"#N/A"}},{"$f":"M110-W110","v":{"$error":"#N/A"}},{"$f":"IF(X110>=0,\"Apurado\",\"\")","v":{"$error":"#N/A"}}]
[null,null,null,null,null,null,null,null,null,null,null,null,null,null,null,null,null,null,null,{"$f":"IF(A111=\"\",\"\",G111&A111&J111)","v":""},{"$f":"IF(COUNTIF($T$5:T111,T111)=1,\"SB\",\"\")","v":""},{"$f":"A111&L111&G111","v":""},{"$f":"VLOOKUP(V111,Minimos!$D$3:$E$26,2,FALSE)","v":{"$error":"#N/A"}},{"$f":"M111-W111","v":{"$error":"#N/A"}},{"$f":"IF(X111>=0,\"Apurado\",\"\")","v":{"$error":"#N/A"}}]
[null,null,null,null,null,null,null,null,null,null,null,null,null,null,null,null,null,null,null,{"$f":"IF(A112=\"\",\"\",G112&A112&J112)","v":""},{"$f":"IF(COUNTIF($T$5:T112,T112)=1,\"SB\",\"\")","v":""},{"$f":"A112&L112&G112","v":""},{"$f":"VLOOKUP(V112,Minimos!$D$3:$E$26,2,FALSE)","v":{"$error":"#N/A"}},{"$f":"M112-W112","v":{"$error":"#N/A"}},{"$f":"IF(X112>=0,\"Apurado\",\"\")","v":{"$error":"#N/A"}}]
[null,null,null,null,null,null,null,null,null,null,null,null,null,null,null,null,null,null,null,{"$f":"IF(A113=\"\",\"\",G113&A113&J113)","v":""},{"$f":"IF(COUNTIF($T$5:T113,T113)=1,\"SB\",\"\")","v":""},{"$f":"A113&L113&G113","v":""},{"$f":"VLOOKUP(V113,Minimos!$D$3:$E$26,2,FALSE)","v":{"$error":"#N/A"}},{"$f":"M113-W113","v":{"$error":"#N/A"}},{"$f":"IF(X113>=0,\"Apurado\",\"\")","v":{"$error":"#N/A"}}]
[null,null,null,null,null,null,null,null,null,null,null,null,null,null,null,null,null,null,null,{"$f":"IF(A114=\"\",\"\",G114&A114&J114)","v":""},{"$f":"IF(COUNTIF($T$5:T114,T114)=1,\"SB\",\"\")","v":""},{"$f":"A114&L114&G114","v":""},{"$f":"VLOOKUP(V114,Minimos!$D$3:$E$26,2,FALSE)","v":{"$error":"#N/A"}},{"$f":"M114-W114","v":{"$error":"#N/A"}},{"$f":"IF(X114>=0,\"Apurado\",\"\")","v":{"$error":"#N/A"}}]
[null,null,null,null,null,null,null,null,null,null,null,null,null,null,null,null,null,null,null,{"$f":"IF(A115=\"\",\"\",G115&A115&J115)","v":""},{"$f":"IF(COUNTIF($T$5:T115,T115)=1,\"SB\",\"\")","v":""},{"$f":"A115&L115&G115","v":""},{"$f":"VLOOKUP(V115,Minimos!$D$3:$E$26,2,FALSE)","v":{"$error":"#N/A"}},{"$f":"M115-W115","v":{"$error":"#N/A"}},{"$f":"IF(X115>=0,\"Apurado\",\"\")","v":{"$error":"#N/A"}}]
[null,null,null,null,null,null,null,null,null,null,null,null,null,null,null,null,null,null,null,{"$f":"IF(A116=\"\",\"\",G116&A116&J116)","v":""},{"$f":"IF(COUNTIF($T$5:T116,T116)=1,\"SB\",\"\")","v":""},{"$f":"A116&L116&G116","v":""},{"$f":"VLOOKUP(V116,Minimos!$D$3:$E$26,2,FALSE)","v":{"$error":"#N/A"}},{"$f":"M116-W116","v":{"$error":"#N/A"}},{"$f":"IF(X116>=0,\"Apurado\",\"\")","v":{"$error":"#N/A"}}]
[null,null,null,null,null,null,null,null,null,null,null,null,null,null,null,null,null,null,null,{"$f":"IF(A117=\"\",\"\",G117&A117&J117)","v":""},{"$f":"IF(COUNTIF($T$5:T117,T117)=1,\"SB\",\"\")","v":""},{"$f":"A117&L117&G117","v":""},{"$f":"VLOOKUP(V117,Minimos!$D$3:$E$26,2,FALSE)","v":{"$error":"#N/A"}},{"$f":"M117-W117","v":{"$error":"#N/A"}},{"$f":"IF(X117>=0,\"Apurado\",\"\")","v":{"$error":"#N/A"}}]
[null,null,null,null,null,null,null,null,null,null,null,null,null,null,null,null,null,null,null,{"$f":"IF(A118=\"\",\"\",G118&A118&J118)","v":""},{"$f":"IF(COUNTIF($T$5:T118,T118)=1,\"SB\",\"\")","v":""},{"$f":"A118&L118&G118","v":""},{"$f":"VLOOKUP(V118,Minimos!$D$3:$E$26,2,FALSE)","v":{"$error":"#N/A"}},{"$f":"M118-W118","v":{"$error":"#N/A"}},{"$f":"IF(X118>=0,\"Apurado\",\"\")","v":{"$error":"#N/A"}}]
[null,null,null,null,null,null,null,null,null,null,null,null,null,null,null,null,null,null,null,{"$f":"IF(A119=\"\",\"\",G119&A119&J119)","v":""},{"$f":"IF(COUNTIF($T$5:T119,T119)=1,\"SB\",\"\")","v":""},{"$f":"A119&L119&G119","v":""},{"$f":"VLOOKUP(V119,Minimos!$D$3:$E$26,2,FALSE)","v":{"$error":"#N/A"}},{"$f":"M119-W119","v":{"$error":"#N/A"}},{"$f":"IF(X119>=0,\"Apurado\",\"\")","v":{"$error":"#N/A"}}]
[null,null,null,null,null,null,null,null,null,null,null,null,null,null,null,null,null,null,null,{"$f":"IF(A120=\"\",\"\",G120&A120&J120)","v":""},{"$f":"IF(COUNTIF($T$5:T120,T120)=1,\"SB\",\"\")","v":""},{"$f":"A120&L120&G120","v":""},{"$f":"VLOOKUP(V120,Minimos!$D$3:$E$26,2,FALSE)","v":{"$error":"#N/A"}},{"$f":"M120-W120","v":{"$error":"#N/A"}},{"$f":"IF(X120>=0,\"Apurado\",\"\")","v":{"$error":"#N/A"}}]
[null,null,null,null,null,null,null,null,null,null,null,null,null,null,null,null,null,null,null,{"$f":"IF(A121=\"\",\"\",G121&A121&J121)","v":""},{"$f":"IF(COUNTIF($T$5:T121,T121)=1,\"SB\",\"\")","v":""},{"$f":"A121&L121&G121","v":""},{"$f":"VLOOKUP(V121,Minimos!$D$3:$E$26,2,FALSE)","v":{"$error":"#N/A"}},{"$f":"M121-W121","v":{"$error":"#N/A"}},{"$f":"IF(X121>=0,\"Apurado\",\"\")","v":{"$error":"#N/A"}}]
[null,null,null,null,null,null,null,null,null,null,null,null,null,null,null,null,null,null,null,{"$f":"IF(A122=\"\",\"\",G122&A122&J122)","v":""},{"$f":"IF(COUNTIF($T$5:T122,T122)=1,\"SB\",\"\")","v":""},{"$f":"A122&L122&G122","v":""},{"$f":"VLOOKUP(V122,Minimos!$D$3:$E$26,2,FALSE)","v":{"$error":"#N/A"}},{"$f":"M122-W122","v":{"$error":"#N/A"}},{"$f":"IF(X122>=0,\"Apurado\",\"\")","v":{"$error":"#N/A"}}]
[null,null,null,null,null,null,null,null,null,null,null,null,null,null,null,null,null,null,null,{"$f":"IF(A123=\"\",\"\",G123&A123&J123)","v":""},{"$f":"IF(COUNTIF($T$5:T123,T123)=1,\"SB\",\"\")","v":""},{"$f":"A123&L123&G123","v":""},{"$f":"VLOOKUP(V123,Minimos!$D$3:$E$26,2,FALSE)","v":{"$error":"#N/A"}},{"$f":"M123-W123","v":{"$error":"#N/A"}},{"$f":"IF(X123>=0,\"Apurado\",\"\")","v":{"$error":"#N/A"}}]
[null,null,null,null,null,null,null,null,null,null,null,null,null,null,null,null,null,null,null,{"$f":"IF(A124=\"\",\"\",G124&A124&J124)","v":""},{"$f":"IF(COUNTIF($T$5:T124,T124)=1,\"SB\",\"\")","v":""},{"$f":"A124&L124&G124","v":""},{"$f":"VLOOKUP(V124,Minimos!$D$3:$E$26,2,FALSE)","v":{"$error":"#N/A"}},{"$f":"M124-W124","v":{"$error":"#N/A"}},{"$f":"IF(X124>=0,\"Apurado\",\"\")","v":{"$error":"#N/A"}}]
[null,null,null,null,null,null,null,null,null,null,null,null,null,null,null,null,null,null,null,{"$f":"IF(A125=\"\",\"\",G125&A125&J125)","v":""},{"$f":"IF(COUNTIF($T$5:T125,T125)=1,\"SB\",\"\")","v":""},{"$f":"A125&L125&G125","v":""},{"$f":"VLOOKUP(V125,Minimos!$D$3:$E$26,2,FALSE)","v":{"$error":"#N/A"}},{"$f":"M125-W125","v":{"$error":"#N/A"}},{"$f":"IF(X125>=0,\"Apurado\",\"\")","v":{"$error":"#N/A"}}]
[null,null,null,null,null,null,null,null,null,null,null,null,null,null,null,null,null,null,null,{"$f":"IF(A126=\"\",\"\",G126&A126&J126)","v":""},{"$f":"IF(COUNTIF($T$5:T126,T126)=1,\"SB\",\"\")","v":""},{"$f":"A126&L126&G126","v":""},{"$f":"VLOOKUP(V126,Minimos!$D$3:$E$26,2,FALSE)","v":{"$error":"#N/A"}},{"$f":"M126-W126","v":{"$error":"#N/A"}},{"$f":"IF(X126>=0,\"Apurado\",\"\")","v":{"$error":"#N/A"}}]
[null,null,null,null,null,null,null,null,null,null,null,null,null,null,null,null,null,null,null,{"$f":"IF(A127=\"\",\"\",G127&A127&J127)","v":""},{"$f":"IF(COUNTIF($T$5:T127,T127)=1,\"SB\",\"\")","v":""},{"$f":"A127&L127&G127","v":""},{"$f":"VLOOKUP(V127,Minimos!$D$3:$E$26,2,FALSE)","v":{"$error":"#N/A"}},{"$f":"M127-W127","v":{"$error":"#N/A"}},{"$f":"IF(X127>=0,\"Apurado\",\"\")","v":{"$error":"#N/A"}}]
[null,null,null,null,null,null,null,null,null,null,null,null,null,null,null,null,null,null,null,{"$f":"IF(A128=\"\",\"\",G128&A128&J128)","v":""},{"$f":"IF(COUNTIF($T$5:T128,T128)=1,\"SB\",\"\")","v":""},{"$f":"A128&L128&G128","v":""},{"$f":"VLOOKUP(V128,Minimos!$D$3:$E$26,2,FALSE)","v":{"$error":"#N/A"}},{"$f":"M128-W128","v":{"$error":"#N/A"}},{"$f":"IF(X128>=0,\"Apurado\",\"\")","v":{"$error":"#N/A"}}]
[null,null,null,null,null,null,null,null,null,null,null,null,null,null,null,null,null,null,null,{"$f":"IF(A129=\"\",\"\",G129&A129&J129)","v":""},{"$f":"IF(COUNTIF($T$5:T129,T129)=1,\"SB\",\"\")","v":""},{"$f":"A129&L129&G129","v":""},{"$f":"VLOOKUP(V129,Minimos!$D$3:$E$26,2,FALSE)","v":{"$error":"#N/A"}},{"$f":"M129-W129","v":{"$error":"#N/A"}},{"$f":"IF(X129>=0,\"Apurado\",\"\")","v":{"$error":"#N/A"}}]
[null,null,null,null,null,null,null,null,null,null,null,null,null,null,null,null,null,null,null,{"$f":"IF(A130=\"\",\"\",G130&A130&J130)","v":""},{"$f":"IF(COUNTIF($T$5:T130,T130)=1,\"SB\",\"\")","v":""},{"$f":"A130&L130&G130","v":""},{"$f":"VLOOKUP(V130,Minimos!$D$3:$E$26,2,FALSE)","v":{"$error":"#N/A"}},{"$f":"M130-W130","v":{"$error":"#N/A"}},{"$f":"IF(X130>=0,\"Apurado\",\"\")","v":{"$error":"#N/A"}}]
[null,null,null,null,null,null,null,null,null,null,null,null,null,null,null,null,null,null,null,{"$f":"IF(A131=\"\",\"\",G131&A131&J131)","v":""},{"$f":"IF(COUNTIF($T$5:T131,T131)=1,\"SB\",\"\")","v":""},{"$f":"A131&L131&G131","v":""},{"$f":"VLOOKUP(V131,Minimos!$D$3:$E$26,2,FALSE)","v":{"$error":"#N/A"}},{"$f":"M131-W131","v":{"$error":"#N/A"}},{"$f":"IF(X131>=0,\"Apurado\",\"\")","v":{"$error":"#N/A"}}]
[null,null,null,null,null,null,null,null,null,null,null,null,null,null,null,null,null,null,null,{"$f":"IF(A132=\"\",\"\",G132&A132&J132)","v":""},{"$f":"IF(COUNTIF($T$5:T132,T132)=1,\"SB\",\"\")","v":""},{"$f":"A132&L132&G132","v":""},{"$f":"VLOOKUP(V132,Minimos!$D$3:$E$26,2,FALSE)","v":{"$error":"#N/A"}},{"$f":"M132-W132","v":{"$error":"#N/A"}},{"$f":"IF(X132>=0,\"Apurado\",\"\")","v":{"$error":"#N/A"}}]
[null,null,null,null,null,null,null,null,null,null,null,null,null,null,null,null,null,null,null,{"$f":"IF(A133=\"\",\"\",G133&A133&J133)","v":""},{"$f":"IF(COUNTIF($T$5:T133,T133)=1,\"SB\",\"\")","v":""},{"$f":"A133&L133&G133","v":""},{"$f":"VLOOKUP(V133,Minimos!$D$3:$E$26,2,FALSE)","v":{"$error":"#N/A"}},{"$f":"M133-W133","v":{"$error":"#N/A"}},{"$f":"IF(X133>=0,\"Apurado\",\"\")","v":{"$error":"#N/A"}}]
[null,null,null,null,null,null,null,null,null,null,null,null,null,null,null,null,null,null,null,{"$f":"IF(A134=\"\",\"\",G134&A134&J134)","v":""},{"$f":"IF(COUNTIF($T$5:T134,T134)=1,\"SB\",\"\")","v":""},{"$f":"A134&L134&G134","v":""},{"$f":"VLOOKUP(V134,Minimos!$D$3:$E$26,2,FALSE)","v":{"$error":"#N/A"}},{"$f":"M134-W134","v":{"$error":"#N/A"}},{"$f":"IF(X134>=0,\"Apurado\",\"\")","v":{"$error":"#N/A"}}]
[null,null,null,null,null,null,null,null,null,null,null,null,null,null,null,null,null,null,null,{"$f":"IF(A135=\"\",\"\",G135&A135&J135)","v":""},{"$f":"IF(COUNTIF($T$5:T135,T135)=1,\"SB\",\"\")","v":""},{"$f":"A135&L135&G135","v":""},{"$f":"VLOOKUP(V135,Minimos!$D$3:$E$26,2,FALSE)","v":{"$error":"#N/A"}},{"$f":"M135-W135","v":{"$error":"#N/A"}},{"$f":"IF(X135>=0,\"Apurado\",\"\")","v":{"$error":"#N/A"}}]
[null,null,null,null,null,null,null,null,null,null,null,null,null,null,null,null,null,null,null,{"$f":"IF(A136=\"\",\"\",G136&A136&J136)","v":""},{"$f":"IF(COUNTIF($T$5:T136,T136)=1,\"SB\",\"\")","v":""},{"$f":"A136&L136&G136","v":""},{"$f":"VLOOKUP(V136,Minimos!$D$3:$E$26,2,FALSE)","v":{"$error":"#N/A"}},{"$f":"M136-W136","v":{"$error":"#N/A"}},{"$f":"IF(X136>=0,\"Apurado\",\"\")","v":{"$error":"#N/A"}}]
[null,null,null,null,null,null,null,null,null,null,null,null,null,null,null,null,null,null,null,{"$f":"IF(A137=\"\",\"\",G137&A137&J137)","v":""},{"$f":"IF(COUNTIF($T$5:T137,T137)=1,\"SB\",\"\")","v":""},{"$f":"A137&L137&G137","v":""},{"$f":"VLOOKUP(V137,Minimos!$D$3:$E$26,2,FALSE)","v":{"$error":"#N/A"}},{"$f":"M137-W137","v":{"$error":"#N/A"}},{"$f":"IF(X137>=0,\"Apurado\",\"\")","v":{"$error":"#N/A"}}]
[null,null,null,null,null,null,null,null,null,null,null,null,null,null,null,null,null,null,null,{"$f":"IF(A138=\"\",\"\",G138&A138&J138)","v":""},{"$f":"IF(COUNTIF($T$5:T138,T138)=1,\"SB\",\"\")","v":""},{"$f":"A138&L138&G138","v":""},{"$f":"VLOOKUP(V138,Minimos!$D$3:$E$26,2,FALSE)","v":{"$error":"#N/A"}},{"$f":"M138-W138","v":{"$error":"#N/A"}},{"$f":"IF(X138>=0,\"Apurado\",\"\")","v":{"$error":"#N/A"}}]
[null,null,null,null,null,null,null,null,null,null,null,null,null,null,null,null,null,null,null,{"$f":"IF(A139=\"\",\"\",G139&A139&J139)","v":""},{"$f":"IF(COUNTIF($T$5:T139,T139)=1,\"SB\",\"\")","v":""},{"$f":"A139&L139&G139","v":""},{"$f":"VLOOKUP(V139,Minimos!$D$3:$E$26,2,FALSE)","v":{"$error":"#N/A"}},{"$f":"M139-W139","v":{"$error":"#N/A"}},{"$f":"IF(X139>=0,\"Apurado\",\"\")","v":{"$error":"#N/A"}}]
[null,null,null,null,null,null,null,null,null,null,null,null,null,null,null,null,null,null,null,{"$f":"IF(A140=\"\",\"\",G140&A140&J140)","v":""},{"$f":"IF(COUNTIF($T$5:T140,T140)=1,\"SB\",\"\")","v":""},{"$f":"A140&L140&G140","v":""},{"$f":"VLOOKUP(V140,Minimos!$D$3:$E$26,2,FALSE)","v":{"$error":"#N/A"}},{"$f":"M140-W140","v":{"$error":"#N/A"}},{"$f":"IF(X140>=0,\"Apurado\",\"\")","v":{"$error":"#N/A"}}]
[null,null,null,null,null,null,null,null,null,null,null,null,null,null,null,null,null,null,null,{"$f":"IF(A141=\"\",\"\",G141&A141&J141)","v":""},{"$f":"IF(COUNTIF($T$5:T141,T141)=1,\"SB\",\"\")","v":""},{"$f":"A141&L141&G141","v":""},{"$f":"VLOOKUP(V141,Minimos!$D$3:$E$26,2,FALSE)","v":{"$error":"#N/A"}},{"$f":"M141-W141","v":{"$error":"#N/A"}},{"$f":"IF(X141>=0,\"Apurado\",\"\")","v":{"$error":"#N/A"}}]
[null,null,null,null,null,null,null,null,null,null,null,null,null,null,null,null,null,null,null,{"$f":"IF(A142=\"\",\"\",G142&A142&J142)","v":""},{"$f":"IF(COUNTIF($T$5:T142,T142)=1,\"SB\",\"\")","v":""},{"$f":"A142&L142&G142","v":""},{"$f":"VLOOKUP(V142,Minimos!$D$3:$E$26,2,FALSE)","v":{"$error":"#N/A"}},{"$f":"M142-W142","v":{"$error":"#N/A"}},{"$f":"IF(X142>=0,\"Apurado\",\"\")","v":{"$error":"#N/A"}}]
[null,null,null,null,null,null,null,null,null,null,null,null,null,null,null,null,null,null,null,{"$f":"IF(A143=\"\",\"\",G143&A143&J143)","v":""},{"$f":"IF(COUNTIF($T$5:T143,T143)=1,\"SB\",\"\")","v":""},{"$f":"A143&L143&G143","v":""},{"$f":"VLOOKUP(V143,Minimos!$D$3:$E$26,2,FALSE)","v":{"$error":"#N/A"}},{"$f":"M143-W143","v":{"$error":"#N/A"}},{"$f":"IF(X143>=0,\"Apurado\",\"\")","v":{"$error":"#N/A"}}]
[null,null,null,null,null,null,null,null,null,null,null,null,null,null,null,null,null,null,null,{"$f":"IF(A144=\"\",\"\",G144&A144&J144)","v":""},{"$f":"IF(COUNTIF($T$5:T144,T144)=1,\"SB\",\"\")","v":""},{"$f":"A144&L144&G144","v":""},{"$f":"VLOOKUP(V144,Minimos!$D$3:$E$26,2,FALSE)","v":{"$error":"#N/A"}},{"$f":"M144-W144","v":{"$error":"#N/A"}},{"$f":"IF(X144>=0,\"Apurado\",\"\")","v":{"$error":"#N/A"}}]
[null,null,null,null,null,null,null,null,null,null,null,null,null,null,null,null,null,null,null,{"$f":"IF(A145=\"\",\"\",G145&A145&J145)","v":""},{"$f":"IF(COUNTIF($T$5:T145,T145)=1,\"SB\",\"\")","v":""},{"$f":"A145&L145&G145","v":""},{"$f":"VLOOKUP(V145,Minimos!$D$3:$E$26,2,FALSE)","v":{"$error":"#N/A"}},{"$f":"M145-W145","v":{"$error":"#N/A"}},{"$f":"IF(X145>=0,\"Apurado\",\"\")","v":{"$error":"#N/A"}}]
[null,null,null,null,null,null,null,null,null,null,null,null,null,null,null,null,null,null,null,{"$f":"IF(A146=\"\",\"\",G146&A146&J146)","v":""},{"$f":"IF(COUNTIF($T$5:T146,T146)=1,\"SB\",\"\")","v":""},{"$f":"A146&L146&G146","v":""},{"$f":"VLOOKUP(V146,Minimos!$D$3:$E$26,2,FALSE)","v":{"$error":"#N/A"}},{"$f":"M146-W146","v":{"$error":"#N/A"}},{"$f":"IF(X146>=0,\"Apurado\",\"\")","v":{"$error":"#N/A"}}]
[null,null,null,null,null,null,null,null,null,null,null,null,null,null,null,null,null,null,null,{"$f":"IF(A147=\"\",\"\",G147&A147&J147)","v":""},{"$f":"IF(COUNTIF($T$5:T147,T147)=1,\"SB\",\"\")","v":""},{"$f":"A147&L147&G147","v":""},{"$f":"VLOOKUP(V147,Minimos!$D$3:$E$26,2,FALSE)","v":{"$error":"#N/A"}},{"$f":"M147-W147","v":{"$error":"#N/A"}},{"$f":"IF(X147>=0,\"Apurado\",\"\")","v":{"$error":"#N/A"}}]
[null,null,null,null,null,null,null,null,null,null,null,null,null,null,null,null,null,null,null,{"$f":"IF(A148=\"\",\"\",G148&A148&J148)","v":""},{"$f":"IF(COUNTIF($T$5:T148,T148)=1,\"SB\",\"\")","v":""},{"$f":"A148&L148&G148","v":""},{"$f":"VLOOKUP(V148,Minimos!$D$3:$E$26,2,FALSE)","v":{"$error":"#N/A"}},{"$f":"M148-W148","v":{"$error":"#N/A"}},{"$f":"IF(X148>=0,\"Apurado\",\"\")","v":{"$error":"#N/A"}}]
[null,null,null,null,null,null,null,null,null,null,null,null,null,null,null,null,null,null,null,{"$f":"IF(A149=\"\",\"\",G149&A149&J149)","v":""},{"$f":"IF(COUNTIF($T$5:T149,T149)=1,\"SB\",\"\")","v":""},{"$f":"A149&L149&G149","v":""},{"$f":"VLOOKUP(V149,Minimos!$D$3:$E$26,2,FALSE)","v":{"$error":"#N/A"}},{"$f":"M149-W149","v":{"$error":"#N/A"}},{"$f":"IF(X149>=0,\"Apurado\",\"\")","v":{"$error":"#N/A"}}]
[null,null,null,null,null,null,null,null,null,null,null,null,null,null,null,null,null,null,null,{"$f":"IF(A150=\"\",\"\",G150&A150&J150)","v":""},{"$f":"IF(COUNTIF($T$5:T150,T150)=1,\"SB\",\"\")","v":""},{"$f":"A150&L150&G150","v":""},{"$f":"VLOOKUP(V150,Minimos!$D$3:$E$26,2,FALSE)","v":{"$error":"#N/A"}},{"$f":"M150-W150","v":{"$error":"#N/A"}},{"$f":"IF(X150>=0,\"Apurado\",\"\")","v":{"$error":"#N/A"}}]
[null,null,null,null,null,null,null,null,null,null,null,null,null,null,null,null,null,null,null,{"$f":"IF(A151=\"\",\"\",G151&A151&J151)","v":""},{"$f":"IF(COUNTIF($T$5:T151,T151)=1,\"SB\",\"\")","v":""},{"$f":"A151&L151&G151","v":""},{"$f":"VLOOKUP(V151,Minimos!$D$3:$E$26,2,FALSE)","v":{"$error":"#N/A"}},{"$f":"M151-W151","v":{"$error":"#N/A"}},{"$f":"IF(X151>=0,\"Apurado\",\"\")","v":{"$error":"#N/A"}}]
[null,null,null,null,null,null,null,null,null,null,null,null,null,null,null,null,null,null,null,{"$f":"IF(A152=\"\",\"\",G152&A152&J152)","v":""},{"$f":"IF(COUNTIF($T$5:T152,T152)=1,\"SB\",\"\")","v":""},{"$f":"A152&L152&G152","v":""},{"$f":"VLOOKUP(V152,Minimos!$D$3:$E$26,2,FALSE)","v":{"$error":"#N/A"}},{"$f":"M152-W152","v":{"$error":"#N/A"}},{"$f":"IF(X152>=0,\"Apurado\",\"\")","v":{"$error":"#N/A"}}]
[null,null,null,null,null,null,null,null,null,null,null,null,null,null,null,null,null,null,null,{"$f":"IF(A153=\"\",\"\",G153&A153&J153)","v":""},{"$f":"IF(COUNTIF($T$5:T153,T153)=1,\"SB\",\"\")","v":""},{"$f":"A153&L153&G153","v":""},{"$f":"VLOOKUP(V153,Minimos!$D$3:$E$26,2,FALSE)","v":{"$error":"#N/A"}},{"$f":"M153-W153","v":{"$error":"#N/A"}},{"$f":"IF(X153>=0,\"Apurado\",\"\")","v":{"$error":"#N/A"}}]
[null,null,null,null,null,null,null,null,null,null,null,null,null,null,null,null,null,null,null,{"$f":"IF(A154=\"\",\"\",G154&A154&J154)","v":""},{"$f":"IF(COUNTIF($T$5:T154,T154)=1,\"SB\",\"\")","v":""},{"$f":"A154&L154&G154","v":""},{"$f":"VLOOKUP(V154,Minimos!$D$3:$E$26,2,FALSE)","v":{"$error":"#N/A"}},{"$f":"M154-W154","v":{"$error":"#N/A"}},{"$f":"IF(X154>=0,\"Apurado\",\"\")","v":{"$error":"#N/A"}}]
[null,null,null,null,null,null,null,null,null,null,null,null,null,null,null,null,null,null,null,{"$f":"IF(A155=\"\",\"\",G155&A155&J155)","v":""},{"$f":"IF(COUNTIF($T$5:T155,T155)=1,\"SB\",\"\")","v":""},{"$f":"A155&L155&G155","v":""},{"$f":"VLOOKUP(V155,Minimos!$D$3:$E$26,2,FALSE)","v":{"$error":"#N/A"}},{"$f":"M155-W155","v":{"$error":"#N/A"}},{"$f":"IF(X155>=0,\"Apurado\",\"\")","v":{"$error":"#N/A"}}]
[null,null,null,null,null,null,null,null,null,null,null,null,null,null,null,null,null,null,null,{"$f":"IF(A156=\"\",\"\",G156&A156&J156)","v":""},{"$f":"IF(COUNTIF($T$5:T156,T156)=1,\"SB\",\"\")","v":""},{"$f":"A156&L156&G156","v":""},{"$f":"VLOOKUP(V156,Minimos!$D$3:$E$26,2,FALSE)","v":{"$error":"#N/A"}},{"$f":"M156-W156","v":{"$error":"#N/A"}},{"$f":"IF(X156>=0,\"Apurado\",\"\")","v":{"$error":"#N/A"}}]
[null,null,null,null,null,null,null,null,null,null,null,null,null,null,null,null,null,null,null,{"$f":"IF(A157=\"\",\"\",G157&A157&J157)","v":""},{"$f":"IF(COUNTIF($T$5:T157,T157)=1,\"SB\",\"\")","v":""},{"$f":"A157&L157&G157","v":""},{"$f":"VLOOKUP(V157,Minimos!$D$3:$E$26,2,FALSE)","v":{"$error":"#N/A"}},{"$f":"M157-W157","v":{"$error":"#N/A"}},{"$f":"IF(X157>=0,\"Apurado\",\"\")","v":{"$error":"#N/A"}}]
[null,null,null,null,null,null,null,null,null,null,null,null,null,null,null,null,null,null,null,{"$f":"IF(A158=\"\",\"\",G158&A158&J158)","v":""},{"$f":"IF(COUNTIF($T$5:T158,T158)=1,\"SB\",\"\")","v":""},{"$f":"A158&L158&G158","v":""},{"$f":"VLOOKUP(V158,Minimos!$D$3:$E$26,2,FALSE)","v":{"$error":"#N/A"}},{"$f":"M158-W158","v":{"$error":"#N/A"}},{"$f":"IF(X158>=0,\"Apurado\",\"\")","v":{"$error":"#N/A"}}]
[null,null,null,null,null,null,null,null,null,null,null,null,null,null,null,null,null,null,null,{"$f":"IF(A159=\"\",\"\",G159&A159&J159)","v":""},{"$f":"IF(COUNTIF($T$5:T159,T159)=1,\"SB\",\"\")","v":""},{"$f":"A159&L159&G159","v":""},{"$f":"VLOOKUP(V159,Minimos!$D$3:$E$26,2,FALSE)","v":{"$error":"#N/A"}},{"$f":"M159-W159","v":{"$error":"#N/A"}},{"$f":"IF(X159>=0,\"Apurado\",\"\")","v":{"$error":"#N/A"}}]
[null,null,null,null,null,null,null,null,null,null,null,null,null,null,null,null,null,null,null,{"$f":"IF(A160=\"\",\"\",G160&A160&J160)","v":""},{"$f":"IF(COUNTIF($T$5:T160,T160)=1,\"SB\",\"\")","v":""},{"$f":"A160&L160&G160","v":""},{"$f":"VLOOKUP(V160,Minimos!$D$3:$E$26,2,FALSE)","v":{"$error":"#N/A"}},{"$f":"M160-W160","v":{"$error":"#N/A"}},{"$f":"IF(X160>=0,\"Apurado\",\"\")","v":{"$error":"#N/A"}}]
[null,null,null,null,null,null,null,null,null,null,null,null,null,null,null,null,null,null,null,{"$f":"IF(A161=\"\",\"\",G161&A161&J161)","v":""},{"$f":"IF(COUNTIF($T$5:T161,T161)=1,\"SB\",\"\")","v":""},{"$f":"A161&L161&G161","v":""},{"$f":"VLOOKUP(V161,Minimos!$D$3:$E$26,2,FALSE)","v":{"$error":"#N/A"}},{"$f":"M161-W161","v":{"$error":"#N/A"}},{"$f":"IF(X161>=0,\"Apurado\",\"\")","v":{"$error":"#N/A"}}]
[null,null,null,null,null,null,null,null,null,null,null,null,null,null,null,null,null,null,null,{"$f":"IF(A162=\"\",\"\",G162&A162&J162)","v":""},{"$f":"IF(COUNTIF($T$5:T162,T162)=1,\"SB\",\"\")","v":""},{"$f":"A162&L162&G162","v":""},{"$f":"VLOOKUP(V162,Minimos!$D$3:$E$26,2,FALSE)","v":{"$error":"#N/A"}},{"$f":"M162-W162","v":{"$error":"#N/A"}},{"$f":"IF(X162>=0,\"Apurado\",\"\")","v":{"$error":"#N/A"}}]
[null,null,null,null,null,null,null,null,null,null,null,null,null,null,null,null,null,null,null,{"$f":"IF(A163=\"\",\"\",G163&A163&J163)","v":""},{"$f":"IF(COUNTIF($T$5:T163,T163)=1,\"SB\",\"\")","v":""},{"$f":"A163&L163&G163","v":""},{"$f":"VLOOKUP(V163,Minimos!$D$3:$E$26,2,FALSE)","v":{"$error":"#N/A"}},{"$f":"M163-W163","v":{"$error":"#N/A"}},{"$f":"IF(X163>=0,\"Apurado\",\"\")","v":{"$error":"#N/A"}}]
[null,null,null,null,null,null,null,null,null,null,null,null,null,null,null,null,null,null,null,{"$f":"IF(A164=\"\",\"\",G164&A164&J164)","v":""},{"$f":"IF(COUNTIF($T$5:T164,T164)=1,\"SB\",\"\")","v":""},{"$f":"A164&L164&G164","v":""},{"$f":"VLOOKUP(V164,Minimos!$D$3:$E$26,2,FALSE)","v":{"$error":"#N/A"}},{"$f":"M164-W164","v":{"$error":"#N/A"}},{"$f":"IF(X164>=0,\"Apurado\",\"\")","v":{"$error":"#N/A"}}]
[null,null,null,null,null,null,null,null,null,null,null,null,null,null,null,null,null,null,null,{"$f":"IF(A165=\"\",\"\",G165&A165&J165)","v":""},{"$f":"IF(COUNTIF($T$5:T165,T165)=1,\"SB\",\"\")","v":""},{"$f":"A165&L165&G165","v":""},{"$f":"VLOOKUP(V165,Minimos!$D$3:$E$26,2,FALSE)","v":{"$error":"#N/A"}},{"$f":"M165-W165","v":{"$error":"#N/A"}},{"$f":"IF(X165>=0,\"Apurado\",\"\")","v":{"$error":"#N/A"}}]
[null,null,null,null,null,null,null,null,null,null,null,null,null,null,null,null,null,null,null,{"$f":"IF(A166=\"\",\"\",G166&A166&J166)","v":""},{"$f":"IF(COUNTIF($T$5:T166,T166)=1,\"SB\",\"\")","v":""},{"$f":"A166&L166&G166","v":""},{"$f":"VLOOKUP(V166,Minimos!$D$3:$E$26,2,FALSE)","v":{"$error":"#N/A"}},{"$f":"M166-W166","v":{"$error":"#N/A"}},{"$f":"IF(X166>=0,\"Apurado\",\"\")","v":{"$error":"#N/A"}}]
[null,null,null,null,null,null,null,null,null,null,null,null,null,null,null,null,null,null,null,{"$f":"IF(A167=\"\",\"\",G167&A167&J167)","v":""},{"$f":"IF(COUNTIF($T$5:T167,T167)=1,\"SB\",\"\")","v":""},{"$f":"A167&L167&G167","v":""},{"$f":"VLOOKUP(V167,Minimos!$D$3:$E$26,2,FALSE)","v":{"$error":"#N/A"}},{"$f":"M167-W167","v":{"$error":"#N/A"}},{"$f":"IF(X167>=0,\"Apurado\",\"\")","v":{"$error":"#N/A"}}]
[null,null,null,null,null,null,null,null,null,null,null,null,null,null,null,null,null,null,null,{"$f":"IF(A168=\"\",\"\",G168&A168&J168)","v":""},{"$f":"IF(COUNTIF($T$5:T168,T168)=1,\"SB\",\"\")","v":""},{"$f":"A168&L168&G168","v":""},{"$f":"VLOOKUP(V168,Minimos!$D$3:$E$26,2,FALSE)","v":{"$error":"#N/A"}},{"$f":"M168-W168","v":{"$error":"#N/A"}},{"$f":"IF(X168>=0,\"Apurado\",\"\")","v":{"$error":"#N/A"}}]
[null,null,null,null,null,null,null,null,null,null,null,null,null,null,null,null,null,null,null,{"$f":"IF(A169=\"\",\"\",G169&A169&J169)","v":""},{"$f":"IF(COUNTIF($T$5:T169,T169)=1,\"SB\",\"\")","v":""},{"$f":"A169&L169&G169","v":""},{"$f":"VLOOKUP(V169,Minimos!$D$3:$E$26,2,FALSE)","v":{"$error":"#N/A"}},{"$f":"M169-W169","v":{"$error":"#N/A"}},{"$f":"IF(X169>=0,\"Apurado\",\"\")","v":{"$error":"#N/A"}}]
[null,null,null,null,null,null,null,null,null,null,null,null,null,null,null,null,null,null,null,{"$f":"IF(A170=\"\",\"\",G170&A170&J170)","v":""},{"$f":"IF(COUNTIF($T$5:T170,T170)=1,\"SB\",\"\")","v":""},{"$f":"A170&L170&G170","v":""},{"$f":"VLOOKUP(V170,Minimos!$D$3:$E$26,2,FALSE)","v":{"$error":"#N/A"}},{"$f":"M170-W170","v":{"$error":"#N/A"}},{"$f":"IF(X170>=0,\"Apurado\",\"\")","v":{"$error":"#N/A"}}]
[null,null,null,null,null,null,null,null,null,null,null,null,null,null,null,null,null,null,null,{"$f":"IF(A171=\"\",\"\",G171&A171&J171)","v":""},{"$f":"IF(COUNTIF($T$5:T171,T171)=1,\"SB\",\"\")","v":""},{"$f":"A171&L171&G171","v":""},{"$f":"VLOOKUP(V171,Minimos!$D$3:$E$26,2,FALSE)","v":{"$error":"#N/A"}},{"$f":"M171-W171","v":{"$error":"#N/A"}},{"$f":"IF(X171>=0,\"Apurado\",\"\")","v":{"$error":"#N/A"}}]
[null,null,null,null,null,null,null,null,null,null,null,null,null,null,null,null,null,null,null,{"$f":"IF(A172=\"\",\"\",G172&A172&J172)","v":""},{"$f":"IF(COUNTIF($T$5:T172,T172)=1,\"SB\",\"\")","v":""},{"$f":"A172&L172&G172","v":""},{"$f":"VLOOKUP(V172,Minimos!$D$3:$E$26,2,FALSE)","v":{"$error":"#N/A"}},{"$f":"M172-W172","v":{"$error":"#N/A"}},{"$f":"IF(X172>=0,\"Apurado\",\"\")","v":{"$error":"#N/A"}}]
[null,null,null,null,null,null,null,null,null,null,null,null,null,null,null,null,null,null,null,{"$f":"IF(A173=\"\",\"\",G173&A173&J173)","v":""},{"$f":"IF(COUNTIF($T$5:T173,T173)=1,\"SB\",\"\")","v":""},{"$f":"A173&L173&G173","v":""},{"$f":"VLOOKUP(V173,Minimos!$D$3:$E$26,2,FALSE)","v":{"$error":"#N/A"}},{"$f":"M173-W173","v":{"$error":"#N/A"}},{"$f":"IF(X173>=0,\"Apurado\",\"\")","v":{"$error":"#N/A"}}]
[null,null,null,null,null,null,null,null,null,null,null,null,null,null,null,null,null,null,null,{"$f":"IF(A174=\"\",\"\",G174&A174&J174)","v":""},{"$f":"IF(COUNTIF($T$5:T174,T174)=1,\"SB\",\"\")","v":""},{"$f":"A174&L174&G174","v":""},{"$f":"VLOOKUP(V174,Minimos!$D$3:$E$26,2,FALSE)","v":{"$error":"#N/A"}},{"$f":"M174-W174","v":{"$error":"#N/A"}},{"$f":"IF(X174>=0,\"Apurado\",\"\")","v":{"$error":"#N/A"}}]
[null,null,null,null,null,null,null,null,null,null,null,null,null,null,null,null,null,null,null,{"$f":"IF(A175=\"\",\"\",G175&A175&J175)","v":""},{"$f":"IF(COUNTIF($T$5:T175,T175)=1,\"SB\",\"\")","v":""},{"$f":"A175&L175&G175","v":""},{"$f":"VLOOKUP(V175,Minimos!$D$3:$E$26,2,FALSE)","v":{"$error":"#N/A"}},{"$f":"M175-W175","v":{"$error":"#N/A"}},{"$f":"IF(X175>=0,\"Apurado\",\"\")","v":{"$error":"#N/A"}}]
[null,null,null,null,null,null,null,null,null,null,null,null,null,null,null,null,null,null,null,{"$f":"IF(A176=\"\",\"\",G176&A176&J176)","v":""},{"$f":"IF(COUNTIF($T$5:T176,T176)=1,\"SB\",\"\")","v":""},{"$f":"A176&L176&G176","v":""},{"$f":"VLOOKUP(V176,Minimos!$D$3:$E$26,2,FALSE)","v":{"$error":"#N/A"}},{"$f":"M176-W176","v":{"$error":"#N/A"}},{"$f":"IF(X176>=0,\"Apurado\",\"\")","v":{"$error":"#N/A"}}]
[null,null,null,null,null,null,null,null,null,null,null,null,null,null,null,null,null,null,null,{"$f":"IF(A177=\"\",\"\",G177&A177&J177)","v":""},{"$f":"IF(COUNTIF($T$5:T177,T177)=1,\"SB\",\"\")","v":""},{"$f":"A177&L177&G177","v":""},{"$f":"VLOOKUP(V177,Minimos!$D$3:$E$26,2,FALSE)","v":{"$error":"#N/A"}},{"$f":"M177-W177","v":{"$error":"#N/A"}},{"$f":"IF(X177>=0,\"Apurado\",\"\")","v":{"$error":"#N/A"}}]
[null,null,null,null,null,null,null,null,null,null,null,null,null,null,null,null,null,null,null,{"$f":"IF(A178=\"\",\"\",G178&A178&J178)","v":""},{"$f":"IF(COUNTIF($T$5:T178,T178)=1,\"SB\",\"\")","v":""},{"$f":"A178&L178&G178","v":""},{"$f":"VLOOKUP(V178,Minimos!$D$3:$E$26,2,FALSE)","v":{"$error":"#N/A"}},{"$f":"M178-W178","v":{"$error":"#N/A"}},{"$f":"IF(X178>=0,\"Apurado\",\"\")","v":{"$error":"#N/A"}}]
[null,null,null,null,null,null,null,null,null,null,null,null,null,null,null,null,null,null,null,{"$f":"IF(A179=\"\",\"\",G179&A179&J179)","v":""},{"$f":"IF(COUNTIF($T$5:T179,T179)=1,\"SB\",\"\")","v":""},{"$f":"A179&L179&G179","v":""},{"$f":"VLOOKUP(V179,Minimos!$D$3:$E$26,2,FALSE)","v":{"$error":"#N/A"}},{"$f":"M179-W179","v":{"$error":"#N/A"}},{"$f":"IF(X179>=0,\"Apurado\",\"\")","v":{"$error":"#N/A"}}]
[null,null,null,null,null,null,null,null,null,null,null,null,null,null,null,null,null,null,null,{"$f":"IF(A180=\"\",\"\",G180&A180&J180)","v":""},{"$f":"IF(COUNTIF($T$5:T180,T180)=1,\"SB\",\"\")","v":""},{"$f":"A180&L180&G180","v":""},{"$f":"VLOOKUP(V180,Minimos!$D$3:$E$26,2,FALSE)","v":{"$error":"#N/A"}},{"$f":"M180-W180","v":{"$error":"#N/A"}},{"$f":"IF(X180>=0,\"Apurado\",\"\")","v":{"$error":"#N/A"}}]
[null,null,null,null,null,null,null,null,null,null,null,null,null,null,null,null,null,null,null,{"$f":"IF(A181=\"\",\"\",G181&A181&J181)","v":""},{"$f":"IF(COUNTIF($T$5:T181,T181)=1,\"SB\",\"\")","v":""},{"$f":"A181&L181&G181","v":""},{"$f":"VLOOKUP(V181,Minimos!$D$3:$E$26,2,FALSE)","v":{"$error":"#N/A"}},{"$f":"M181-W181","v":{"$error":"#N/A"}},{"$f":"IF(X181>=0,\"Apurado\",\"\")","v":{"$error":"#N/A"}}]
[null,null,null,null,null,null,null,null,null,null,null,null,null,null,null,null,null,null,null,{"$f":"IF(A182=\"\",\"\",G182&A182&J182)","v":""},{"$f":"IF(COUNTIF($T$5:T182,T182)=1,\"SB\",\"\")","v":""},{"$f":"A182&L182&G182","v":""},{"$f":"VLOOKUP(V182,Minimos!$D$3:$E$26,2,FALSE)","v":{"$error":"#N/A"}},{"$f":"M182-W182","v":{"$error":"#N/A"}},{"$f":"IF(X182>=0,\"Apurado\",\"\")","v":{"$error":"#N/A"}}]
[null,null,null,null,null,null,null,null,null,null,null,null,null,null,null,null,null,null,null,{"$f":"IF(A183=\"\",\"\",G183&A183&J183)","v":""},{"$f":"IF(COUNTIF($T$5:T183,T183)=1,\"SB\",\"\")","v":""},{"$f":"A183&L183&G183","v":""},{"$f":"VLOOKUP(V183,Minimos!$D$3:$E$26,2,FALSE)","v":{"$error":"#N/A"}},{"$f":"M183-W183","v":{"$error":"#N/A"}},{"$f":"IF(X183>=0,\"Apurado\",\"\")","v":{"$error":"#N/A"}}]
[null,null,null,null,null,null,null,null,null,null,null,null,null,null,null,null,null,null,null,{"$f":"IF(A184=\"\",\"\",G184&A184&J184)","v":""},{"$f":"IF(COUNTIF($T$5:T184,T184)=1,\"SB\",\"\")","v":""},{"$f":"A184&L184&G184","v":""},{"$f":"VLOOKUP(V184,Minimos!$D$3:$E$26,2,FALSE)","v":{"$error":"#N/A"}},{"$f":"M184-W184","v":{"$error":"#N/A"}},{"$f":"IF(X184>=0,\"Apurado\",\"\")","v":{"$error":"#N/A"}}]
[null,null,null,null,null,null,null,null,null,null,null,null,null,null,null,null,null,null,null,{"$f":"IF(A185=\"\",\"\",G185&A185&J185)","v":""},{"$f":"IF(COUNTIF($T$5:T185,T185)=1,\"SB\",\"\")","v":""},{"$f":"A185&L185&G185","v":""},{"$f":"VLOOKUP(V185,Minimos!$D$3:$E$26,2,FALSE)","v":{"$error":"#N/A"}},{"$f":"M185-W185","v":{"$error":"#N/A"}},{"$f":"IF(X185>=0,\"Apurado\",\"\")","v":{"$error":"#N/A"}}]
[null,null,null,null,null,null,null,null,null,null,null,null,null,null,null,null,null,null,null,{"$f":"IF(A186=\"\",\"\",G186&A186&J186)","v":""},{"$f":"IF(COUNTIF($T$5:T186,T186)=1,\"SB\",\"\")","v":""},{"$f":"A186&L186&G186","v":""},{"$f":"VLOOKUP(V186,Minimos!$D$3:$E$26,2,FALSE)","v":{"$error":"#N/A"}},{"$f":"M186-W186","v":{"$error":"#N/A"}},{"$f":"IF(X186>=0,\"Apurado\",\"\")","v":{"$error":"#N/A"}}]
[null,null,null,null,null,null,null,null,null,null,null,null,null,null,null,null,null,null,null,{"$f":"IF(A187=\"\",\"\",G187&A187&J187)","v":""},{"$f":"IF(COUNTIF($T$5:T187,T187)=1,\"SB\",\"\")","v":""},{"$f":"A187&L187&G187","v":""},{"$f":"VLOOKUP(V187,Minimos!$D$3:$E$26,2,FALSE)","v":{"$error":"#N/A"}},{"$f":"M187-W187","v":{"$error":"#N/A"}},{"$f":"IF(X187>=0,\"Apurado\",\"\")","v":{"$error":"#N/A"}}]
[null,null,null,null,null,null,null,null,null,null,null,null,null,null,null,null,null,null,null,{"$f":"IF(A188=\"\",\"\",G188&A188&J188)","v":""},{"$f":"IF(COUNTIF($T$5:T188,T188)=1,\"SB\",\"\")","v":""},{"$f":"A188&L188&G188","v":""},{"$f":"VLOOKUP(V188,Minimos!$D$3:$E$26,2,FALSE)","v":{"$error":"#N/A"}},{"$f":"M188-W188","v":{"$error":"#N/A"}},{"$f":"IF(X188>=0,\"Apurado\",\"\")","v":{"$error":"#N/A"}}]
[null,null,null,null,null,null,null,null,null,null,null,null,null,null,null,null,null,null,null,{"$f":"IF(A189=\"\",\"\",G189&A189&J189)","v":""},{"$f":"IF(COUNTIF($T$5:T189,T189)=1,\"SB\",\"\")","v":""},{"$f":"A189&L189&G189","v":""},{"$f":"VLOOKUP(V189,Minimos!$D$3:$E$26,2,FALSE)","v":{"$error":"#N/A"}},{"$f":"M189-W189","v":{"$error":"#N/A"}},{"$f":"IF(X189>=0,\"Apurado\",\"\")","v":{"$error":"#N/A"}}]
[null,null,null,null,null,null,null,null,null,null,null,null,null,null,null,null,null,null,null,{"$f":"IF(A190=\"\",\"\",G190&A190&J190)","v":""},{"$f":"IF(COUNTIF($T$5:T190,T190)=1,\"SB\",\"\")","v":""},{"$f":"A190&L190&G190","v":""},{"$f":"VLOOKUP(V190,Minimos!$D$3:$E$26,2,FALSE)","v":{"$error":"#N/A"}},{"$f":"M190-W190","v":{"$error":"#N/A"}},{"$f":"IF(X190>=0,\"Apurado\",\"\")","v":{"$error":"#N/A"}}]
[null,null,null,null,null,null,null,null,null,null,null,null,null,null,null,null,null,null,null,{"$f":"IF(A191=\"\",\"\",G191&A191&J191)","v":""},{"$f":"IF(COUNTIF($T$5:T191,T191)=1,\"SB\",\"\")","v":""},{"$f":"A191&L191&G191","v":""},{"$f":"VLOOKUP(V191,Minimos!$D$3:$E$26,2,FALSE)","v":{"$error":"#N/A"}},{"$f":"M191-W191","v":{"$error":"#N/A"}},{"$f":"IF(X191>=0,\"Apurado\",\"\")","v":{"$error":"#N/A"}}]
[null,null,null,null,null,null,null,null,null,null,null,null,null,null,null,null,null,null,null,{"$f":"IF(A192=\"\",\"\",G192&A192&J192)","v":""},{"$f":"IF(COUNTIF($T$5:T192,T192)=1,\"SB\",\"\")","v":""},{"$f":"A192&L192&G192","v":""},{"$f":"VLOOKUP(V192,Minimos!$D$3:$E$26,2,FALSE)","v":{"$error":"#N/A"}},{"$f":"M192-W192","v":{"$error":"#N/A"}},{"$f":"IF(X192>=0,\"Apurado\",\"\")","v":{"$error":"#N/A"}}]
[null,null,null,null,null,null,null,null,null,null,null,null,null,null,null,null,null,null,null,{"$f":"IF(A193=\"\",\"\",G193&A193&J193)","v":""},{"$f":"IF(COUNTIF($T$5:T193,T193)=1,\"SB\",\"\")","v":""},{"$f":"A193&L193&G193","v":""},{"$f":"VLOOKUP(V193,Minimos!$D$3:$E$26,2,FALSE)","v":{"$error":"#N/A"}},{"$f":"M193-W193","v":{"$error":"#N/A"}},{"$f":"IF(X193>=0,\"Apurado\",\"\")","v":{"$error":"#N/A"}}]
[null,null,null,null,null,null,null,null,null,null,null,null,null,null,null,null,null,null,null,{"$f":"IF(A194=\"\",\"\",G194&A194&J194)","v":""},{"$f":"IF(COUNTIF($T$5:T194,T194)=1,\"SB\",\"\")","v":""},{"$f":"A194&L194&G194","v":""},{"$f":"VLOOKUP(V194,Minimos!$D$3:$E$26,2,FALSE)","v":{"$error":"#N/A"}},{"$f":"M194-W194","v":{"$error":"#N/A"}},{"$f":"IF(X194>=0,\"Apurado\",\"\")","v":{"$error":"#N/A"}}]
[null,null,null,null,null,null,null,null,null,null,null,null,null,null,null,null,null,null,null,{"$f":"IF(A195=\"\",\"\",G195&A195&J195)","v":""},{"$f":"IF(COUNTIF($T$5:T195,T195)=1,\"SB\",\"\")","v":""},{"$f":"A195&L195&G195","v":""},{"$f":"VLOOKUP(V195,Minimos!$D$3:$E$26,2,FALSE)","v":{"$error":"#N/A"}},{"$f":"M195-W195","v":{"$error":"#N/A"}},{"$f":"IF(X195>=0,\"Apurado\",\"\")","v":{"$error":"#N/A"}}]
[null,null,null,null,null,null,null,null,null,null,null,null,null,null,null,null,null,null,null,{"$f":"IF(A196=\"\",\"\",G196&A196&J196)","v":""},{"$f":"IF(COUNTIF($T$5:T196,T196)=1,\"SB\",\"\")","v":""},{"$f":"A196&L196&G196","v":""},{"$f":"VLOOKUP(V196,Minimos!$D$3:$E$26,2,FALSE)","v":{"$error":"#N/A"}},{"$f":"M196-W196","v":{"$error":"#N/A"}},{"$f":"IF(X196>=0,\"Apurado\",\"\")","v":{"$error":"#N/A"}}]
[null,null,null,null,null,null,null,null,null,null,null,null,null,null,null,null,null,null,null,{"$f":"IF(A197=\"\",\"\",G197&A197&J197)","v":""},{"$f":"IF(COUNTIF($T$5:T197,T197)=1,\"SB\",\"\")","v":""},{"$f":"A197&L197&G197","v":""},{"$f":"VLOOKUP(V197,Minimos!$D$3:$E$26,2,FALSE)","v":{"$error":"#N/A"}},{"$f":"M197-W197","v":{"$error":"#N/A"}},{"$f":"IF(X197>=0,\"Apurado\",\"\")","v":{"$error":"#N/A"}}]
[null,null,null,null,null,null,null,null,null,null,null,null,null,null,null,null,null,null,null,{"$f":"IF(A198=\"\",\"\",G198&A198&J198)","v":""},{"$f":"IF(COUNTIF($T$5:T198,T198)=1,\"SB\",\"\")","v":""},{"$f":"A198&L198&G198","v":""},{"$f":"VLOOKUP(V198,Minimos!$D$3:$E$26,2,FALSE)","v":{"$error":"#N/A"}},{"$f":"M198-W198","v":{"$error":"#N/A"}},{"$f":"IF(X198>=0,\"Apurado\",\"\")","v":{"$error":"#N/A"}}]
[null,null,null,null,null,null,null,null,null,null,null,null,null,null,null,null,null,null,null,{"$f":"IF(A199=\"\",\"\",G199&A199&J199)","v":""},{"$f":"IF(COUNTIF($T$5:T199,T199)=1,\"SB\",\"\")","v":""},{"$f":"A199&L199&G199","v":""},{"$f":"VLOOKUP(V199,Minimos!$D$3:$E$26,2,FALSE)","v":{"$error":"#N/A"}},{"$f":"M199-W199","v":{"$error":"#N/A"}},{"$f":"IF(X199>=0,\"Apurado\",\"\")","v":{"$error":"#N/A"}}]
[null,null,null,null,null,null,null,null,null,null,null,null,null,null,null,null,null,null,null,{"$f":"IF(A200=\"\",\"\",G200&A200&J200)","v":""},{"$f":"IF(COUNTIF($T$5:T200,T200)=1,\"SB\",\"\")","v":""},{"$f":"A200&L200&G200","v":""},{"$f":"VLOOKUP(V200,Minimos!$D$3:$E$26,2,FALSE)","v":{"$error":"#N/A"}},{"$f":"M200-W200","v":{"$error":"#N/A"}},{"$f":"IF(X200>=0,\"Apurado\",\"\")","v":{"$error":"#N/A"}}]
[null,null,null,null,null,null,null,null,null,null,null,null,null,null,null,null,null,null,null,{"$f":"IF(A201=\"\",\"\",G201&A201&J201)","v":""},{"$f":"IF(COUNTIF($T$5:T201,T201)=1,\"SB\",\"\")","v":""},{"$f":"A201&L201&G201","v":""},{"$f":"VLOOKUP(V201,Minimos!$D$3:$E$26,2,FALSE)","v":{"$error":"#N/A"}},{"$f":"M201-W201","v":{"$error":"#N/A"}},{"$f":"IF(X201>=0,\"Apurado\",\"\")","v":{"$error":"#N/A"}}]
[null,null,null,null,null,null,null,null,null,null,null,null,null,null,null,null,null,null,null,{"$f":"IF(A202=\"\",\"\",G202&A202&J202)","v":""},{"$f":"IF(COUNTIF($T$5:T202,T202)=1,\"SB\",\"\")","v":""},{"$f":"A202&L202&G202","v":""},{"$f":"VLOOKUP(V202,Minimos!$D$3:$E$26,2,FALSE)","v":{"$error":"#N/A"}},{"$f":"M202-W202","v":{"$error":"#N/A"}},{"$f":"IF(X202>=0,\"Apurado\",\"\")","v":{"$error":"#N/A"}}]
[null,null,null,null,null,null,null,null,null,null,null,null,null,null,null,null,null,null,null,{"$f":"IF(A203=\"\",\"\",G203&A203&J203)","v":""},{"$f":"IF(COUNTIF($T$5:T203,T203)=1,\"SB\",\"\")","v":""},{"$f":"A203&L203&G203","v":""},{"$f":"VLOOKUP(V203,Minimos!$D$3:$E$26,2,FALSE)","v":{"$error":"#N/A"}},{"$f":"M203-W203","v":{"$error":"#N/A"}},{"$f":"IF(X203>=0,\"Apurado\",\"\")","v":{"$error":"#N/A"}}]
[null,null,null,null,null,null,null,null,null,null,null,null,null,null,null,null,null,null,null,{"$f":"IF(A204=\"\",\"\",G204&A204&J204)","v":""},{"$f":"IF(COUNTIF($T$5:T204,T204)=1,\"SB\",\"\")","v":""},{"$f":"A204&L204&G204","v":""},{"$f":"VLOOKUP(V204,Minimos!$D$3:$E$26,2,FALSE)","v":{"$error":"#N/A"}},{"$f":"M204-W204","v":{"$error":"#N/A"}},{"$f":"IF(X204>=0,\"Apurado\",\"\")","v":{"$error":"#N/A"}}]
[null,null,null,null,null,null,null,null,null,null,null,null,null,null,null,null,null,null,null,{"$f":"IF(A205=\"\",\"\",G205&A205&J205)","v":""},{"$f":"IF(COUNTIF($T$5:T205,T205)=1,\"SB\",\"\")","v":""},{"$f":"A205&L205&G205","v":""},{"$f":"VLOOKUP(V205,Minimos!$D$3:$E$26,2,FALSE)","v":{"$error":"#N/A"}},{"$f":"M205-W205","v":{"$error":"#N/A"}},{"$f":"IF(X205>=0,\"Apurado\",\"\")","v":{"$error":"#N/A"}}]
[null,null,null,null,null,null,null,null,null,null,null,null,null,null,null,null,null,null,null,{"$f":"IF(A206=\"\",\"\",G206&A206&J206)","v":""},{"$f":"IF(COUNTIF($T$5:T206,T206)=1,\"SB\",\"\")","v":""},{"$f":"A206&L206&G206","v":""},{"$f":"VLOOKUP(V206,Minimos!$D$3:$E$26,2,FALSE)","v":{"$error":"#N/A"}},{"$f":"M206-W206","v":{"$error":"#N/A"}},{"$f":"IF(X206>=0,\"Apurado\",\"\")","v":{"$error":"#N/A"}}]
[null,null,null,null,null,null,null,null,null,null,null,null,null,null,null,null,null,null,null,{"$f":"IF(A207=\"\",\"\",G207&A207&J207)","v":""},{"$f":"IF(COUNTIF($T$5:T207,T207)=1,\"SB\",\"\")","v":""},{"$f":"A207&L207&G207","v":""},{"$f":"VLOOKUP(V207,Minimos!$D$3:$E$26,2,FALSE)","v":{"$error":"#N/A"}},{"$f":"M207-W207","v":{"$error":"#N/A"}},{"$f":"IF(X207>=0,\"Apurado\",\"\")","v":{"$error":"#N/A"}}]
[null,null,null,null,null,null,null,null,null,null,null,null,null,null,null,null,null,null,null,{"$f":"IF(A208=\"\",\"\",G208&A208&J208)","v":""},{"$f":"IF(COUNTIF($T$5:T208,T208)=1,\"SB\",\"\")","v":""},{"$f":"A208&L208&G208","v":""},{"$f":"VLOOKUP(V208,Minimos!$D$3:$E$26,2,FALSE)","v":{"$error":"#N/A"}},{"$f":"M208-W208","v":{"$error":"#N/A"}},{"$f":"IF(X208>=0,\"Apurado\",\"\")","v":{"$error":"#N/A"}}]
[null,null,null,null,null,null,null,null,null,null,null,null,null,null,null,null,null,null,null,{"$f":"IF(A209=\"\",\"\",G209&A209&J209)","v":""},{"$f":"IF(COUNTIF($T$5:T209,T209)=1,\"SB\",\"\")","v":""},{"$f":"A209&L209&G209","v":""},{"$f":"VLOOKUP(V209,Minimos!$D$3:$E$26,2,FALSE)","v":{"$error":"#N/A"}},{"$f":"M209-W209","v":{"$error":"#N/A"}},{"$f":"IF(X209>=0,\"Apurado\",\"\")","v":{"$error":"#N/A"}}]
[null,null,null,null,null,null,null,null,null,null,null,null,null,null,null,null,null,null,null,{"$f":"IF(A210=\"\",\"\",G210&A210&J210)","v":""},{"$f":"IF(COUNTIF($T$5:T210,T210)=1,\"SB\",\"\")","v":""},{"$f":"A210&L210&G210","v":""},{"$f":"VLOOKUP(V210,Minimos!$D$3:$E$26,2,FALSE)","v":{"$error":"#N/A"}},{"$f":"M210-W210","v":{"$error":"#N/A"}},{"$f":"IF(X210>=0,\"Apurado\",\"\")","v":{"$error":"#N/A"}}]
[null,null,null,null,null,null,null,null,null,null,null,null,null,null,null,null,null,null,null,{"$f":"IF(A211=\"\",\"\",G211&A211&J211)","v":""},{"$f":"IF(COUNTIF($T$5:T211,T211)=1,\"SB\",\"\")","v":""},{"$f":"A211&L211&G211","v":""},{"$f":"VLOOKUP(V211,Minimos!$D$3:$E$26,2,FALSE)","v":{"$error":"#N/A"}},{"$f":"M211-W211","v":{"$error":"#N/A"}},{"$f":"IF(X211>=0,\"Apurado\",\"\")","v":{"$error":"#N/A"}}]
[null,null,null,null,null,null,null,null,null,null,null,null,null,null,null,null,null,null,null,{"$f":"IF(A212=\"\",\"\",G212&A212&J212)","v":""},{"$f":"IF(COUNTIF($T$5:T212,T212)=1,\"SB\",\"\")","v":""},{"$f":"A212&L212&G212","v":""},{"$f":"VLOOKUP(V212,Minimos!$D$3:$E$26,2,FALSE)","v":{"$error":"#N/A"}},{"$f":"M212-W212","v":{"$error":"#N/A"}},{"$f":"IF(X212>=0,\"Apurado\",\"\")","v":{"$error":"#N/A"}}]
[null,null,null,null,null,null,null,null,null,null,null,null,null,null,null,null,null,null,null,{"$f":"IF(A213=\"\",\"\",G213&A213&J213)","v":""},{"$f":"IF(COUNTIF($T$5:T213,T213)=1,\"SB\",\"\")","v":""},{"$f":"A213&L213&G213","v":""},{"$f":"VLOOKUP(V213,Minimos!$D$3:$E$26,2,FALSE)","v":{"$error":"#N/A"}},{"$f":"M213-W213","v":{"$error":"#N/A"}},{"$f":"IF(X213>=0,\"Apurado\",\"\")","v":{"$error":"#N/A"}}]
[null,null,null,null,null,null,null,null,null,null,null,null,null,null,null,null,null,null,null,{"$f":"IF(A214=\"\",\"\",G214&A214&J214)","v":""},{"$f":"IF(COUNTIF($T$5:T214,T214)=1,\"SB\",\"\")","v":""},{"$f":"A214&L214&G214","v":""},{"$f":"VLOOKUP(V214,Minimos!$D$3:$E$26,2,FALSE)","v":{"$error":"#N/A"}},{"$f":"M214-W214","v":{"$error":"#N/A"}},{"$f":"IF(X214>=0,\"Apurado\",\"\")","v":{"$error":"#N/A"}}]
[null,null,null,null,null,null,null,null,null,null,null,null,null,null,null,null,null,null,null,{"$f":"IF(A215=\"\",\"\",G215&A215&J215)","v":""},{"$f":"IF(COUNTIF($T$5:T215,T215)=1,\"SB\",\"\")","v":""},{"$f":"A215&L215&G215","v":""},{"$f":"VLOOKUP(V215,Minimos!$D$3:$E$26,2,FALSE)","v":{"$error":"#N/A"}},{"$f":"M215-W215","v":{"$error":"#N/A"}},{"$f":"IF(X215>=0,\"Apurado\",\"\")","v":{"$error":"#N/A"}}]
[null,null,null,null,null,null,null,null,null,null,null,null,null,null,null,null,null,null,null,{"$f":"IF(A216=\"\",\"\",G216&A216&J216)","v":""},{"$f":"IF(COUNTIF($T$5:T216,T216)=1,\"SB\",\"\")","v":""},{"$f":"A216&L216&G216","v":""},{"$f":"VLOOKUP(V216,Minimos!$D$3:$E$26,2,FALSE)","v":{"$error":"#N/A"}},{"$f":"M216-W216","v":{"$error":"#N/A"}},{"$f":"IF(X216>=0,\"Apurado\",\"\")","v":{"$error":"#N/A"}}]
[null,null,null,null,null,null,null,null,null,null,null,null,null,null,null,null,null,null,null,{"$f":"IF(A217=\"\",\"\",G217&A217&J217)","v":""},{"$f":"IF(COUNTIF($T$5:T217,T217)=1,\"SB\",\"\")","v":""},{"$f":"A217&L217&G217","v":""},{"$f":"VLOOKUP(V217,Minimos!$D$3:$E$26,2,FALSE)","v":{"$error":"#N/A"}},{"$f":"M217-W217","v":{"$error":"#N/A"}},{"$f":"IF(X217>=0,\"Apurado\",\"\")","v":{"$error":"#N/A"}}]
[null,null,null,null,null,null,null,null,null,null,null,null,null,null,null,null,null,null,null,{"$f":"IF(A218=\"\",\"\",G218&A218&J218)","v":""},{"$f":"IF(COUNTIF($T$5:T218,T218)=1,\"SB\",\"\")","v":""},{"$f":"A218&L218&G218","v":""},{"$f":"VLOOKUP(V218,Minimos!$D$3:$E$26,2,FALSE)","v":{"$error":"#N/A"}},{"$f":"M218-W218","v":{"$error":"#N/A"}},{"$f":"IF(X218>=0,\"Apurado\",\"\")","v":{"$error":"#N/A"}}]
[null,null,null,null,null,null,null,null,null,null,null,null,null,null,null,null,null,null,null,{"$f":"IF(A219=\"\",\"\",G219&A219&J219)","v":""},{"$f":"IF(COUNTIF($T$5:T219,T219)=1,\"SB\",\"\")","v":""},{"$f":"A219&L219&G219","v":""},{"$f":"VLOOKUP(V219,Minimos!$D$3:$E$26,2,FALSE)","v":{"$error":"#N/A"}},{"$f":"M219-W219","v":{"$error":"#N/A"}},{"$f":"IF(X219>=0,\"Apurado\",\"\")","v":{"$error":"#N/A"}}]
[null,null,null,null,null,null,null,null,null,null,null,null,null,null,null,null,null,null,null,{"$f":"IF(A220=\"\",\"\",G220&A220&J220)","v":""},{"$f":"IF(COUNTIF($T$5:T220,T220)=1,\"SB\",\"\")","v":""},{"$f":"A220&L220&G220","v":""},{"$f":"VLOOKUP(V220,Minimos!$D$3:$E$26,2,FALSE)","v":{"$error":"#N/A"}},{"$f":"M220-W220","v":{"$error":"#N/A"}},{"$f":"IF(X220>=0,\"Apurado\",\"\")","v":{"$error":"#N/A"}}]
[null,null,null,null,null,null,null,null,null,null,null,null,null,null,null,null,null,null,null,{"$f":"IF(A221=\"\",\"\",G221&A221&J221)","v":""},{"$f":"IF(COUNTIF($T$5:T221,T221)=1,\"SB\",\"\")","v":""},{"$f":"A221&L221&G221","v":""},{"$f":"VLOOKUP(V221,Minimos!$D$3:$E$26,2,FALSE)","v":{"$error":"#N/A"}},{"$f":"M221-W221","v":{"$error":"#N/A"}},{"$f":"IF(X221>=0,\"Apurado\",\"\")","v":{"$error":"#N/A"}}]
[null,null,null,null,null,null,null,null,null,null,null,null,null,null,null,null,null,null,null,{"$f":"IF(A222=\"\",\"\",G222&A222&J222)","v":""},{"$f":"IF(COUNTIF($T$5:T222,T222)=1,\"SB\",\"\")","v":""},{"$f":"A222&L222&G222","v":""},{"$f":"VLOOKUP(V222,Minimos!$D$3:$E$26,2,FALSE)","v":{"$error":"#N/A"}},{"$f":"M222-W222","v":{"$error":"#N/A"}},{"$f":"IF(X222>=0,\"Apurado\",\"\")","v":{"$error":"#N/A"}}]
[null,null,null,null,null,null,null,null,null,null,null,null,null,null,null,null,null,null,null,{"$f":"IF(A223=\"\",\"\",G223&A223&J223)","v":""},{"$f":"IF(COUNTIF($T$5:T223,T223)=1,\"SB\",\"\")","v":""},{"$f":"A223&L223&G223","v":""},{"$f":"VLOOKUP(V223,Minimos!$D$3:$E$26,2,FALSE)","v":{"$error":"#N/A"}},{"$f":"M223-W223","v":{"$error":"#N/A"}},{"$f":"IF(X223>=0,\"Apurado\",\"\")","v":{"$error":"#N/A"}}]
[null,null,null,null,null,null,null,null,null,null,null,null,null,null,null,null,null,null,null,{"$f":"IF(A224=\"\",\"\",G224&A224&J224)","v":""},{"$f":"IF(COUNTIF($T$5:T224,T224)=1,\"SB\",\"\")","v":""},{"$f":"A224&L224&G224","v":""},{"$f":"VLOOKUP(V224,Minimos!$D$3:$E$26,2,FALSE)","v":{"$error":"#N/A"}},{"$f":"M224-W224","v":{"$error":"#N/A"}},{"$f":"IF(X224>=0,\"Apurado\",\"\")","v":{"$error":"#N/A"}}]
[null,null,null,null,null,null,null,null,null,null,null,null,null,null,null,null,null,null,null,{"$f":"IF(A225=\"\",\"\",G225&A225&J225)","v":""},{"$f":"IF(COUNTIF($T$5:T225,T225)=1,\"SB\",\"\")","v":""},{"$f":"A225&L225&G225","v":""},{"$f":"VLOOKUP(V225,Minimos!$D$3:$E$26,2,FALSE)","v":{"$error":"#N/A"}},{"$f":"M225-W225","v":{"$error":"#N/A"}},{"$f":"IF(X225>=0,\"Apurado\",\"\")","v":{"$error":"#N/A"}}]
[null,null,null,null,null,null,null,null,null,null,null,null,null,null,null,null,null,null,null,{"$f":"IF(A226=\"\",\"\",G226&A226&J226)","v":""},{"$f":"IF(COUNTIF($T$5:T226,T226)=1,\"SB\",\"\")","v":""},{"$f":"A226&L226&G226","v":""},{"$f":"VLOOKUP(V226,Minimos!$D$3:$E$26,2,FALSE)","v":{"$error":"#N/A"}},{"$f":"M226-W226","v":{"$error":"#N/A"}},{"$f":"IF(X226>=0,\"Apurado\",\"\")","v":{"$error":"#N/A"}}]
[null,null,null,null,null,null,null,null,null,null,null,null,null,null,null,null,null,null,null,{"$f":"IF(A227=\"\",\"\",G227&A227&J227)","v":""},{"$f":"IF(COUNTIF($T$5:T227,T227)=1,\"SB\",\"\")","v":""},{"$f":"A227&L227&G227","v":""},{"$f":"VLOOKUP(V227,Minimos!$D$3:$E$26,2,FALSE)","v":{"$error":"#N/A"}},{"$f":"M227-W227","v":{"$error":"#N/A"}},{"$f":"IF(X227>=0,\"Apurado\",\"\")","v":{"$error":"#N/A"}}]
[null,null,null,null,null,null,null,null,null,null,null,null,null,null,null,null,null,null,null,{"$f":"IF(A228=\"\",\"\",G228&A228&J228)","v":""},{"$f":"IF(COUNTIF($T$5:T228,T228)=1,\"SB\",\"\")","v":""},{"$f":"A228&L228&G228","v":""},{"$f":"VLOOKUP(V228,Minimos!$D$3:$E$26,2,FALSE)","v":{"$error":"#N/A"}},{"$f":"M228-W228","v":{"$error":"#N/A"}},{"$f":"IF(X228>=0,\"Apurado\",\"\")","v":{"$error":"#N/A"}}]
[null,null,null,null,null,null,null,null,null,null,null,null,null,null,null,null,null,null,null,{"$f":"IF(A229=\"\",\"\",G229&A229&J229)","v":""},{"$f":"IF(COUNTIF($T$5:T229,T229)=1,\"SB\",\"\")","v":""},{"$f":"A229&L229&G229","v":""},{"$f":"VLOOKUP(V229,Minimos!$D$3:$E$26,2,FALSE)","v":{"$error":"#N/A"}},{"$f":"M229-W229","v":{"$error":"#N/A"}},{"$f":"IF(X229>=0,\"Apurado\",\"\")","v":{"$error":"#N/A"}}]
[null,null,null,null,null,null,null,null,null,null,null,null,null,null,null,null,null,null,null,{"$f":"IF(A230=\"\",\"\",G230&A230&J230)","v":""},{"$f":"IF(COUNTIF($T$5:T230,T230)=1,\"SB\",\"\")","v":""},{"$f":"A230&L230&G230","v":""},{"$f":"VLOOKUP(V230,Minimos!$D$3:$E$26,2,FALSE)","v":{"$error":"#N/A"}},{"$f":"M230-W230","v":{"$error":"#N/A"}},{"$f":"IF(X230>=0,\"Apurado\",\"\")","v":{"$error":"#N/A"}}]
[null,null,null,null,null,null,null,null,null,null,null,null,null,null,null,null,null,null,null,{"$f":"IF(A231=\"\",\"\",G231&A231&J231)","v":""},{"$f":"IF(COUNTIF($T$5:T231,T231)=1,\"SB\",\"\")","v":""},{"$f":"A231&L231&G231","v":""},{"$f":"VLOOKUP(V231,Minimos!$D$3:$E$26,2,FALSE)","v":{"$error":"#N/A"}},{"$f":"M231-W231","v":{"$error":"#N/A"}},{"$f":"IF(X231>=0,\"Apurado\",\"\")","v":{"$error":"#N/A"}}]
[null,null,null,null,null,null,null,null,null,null,null,null,null,null,null,null,null,null,null,{"$f":"IF(A232=\"\",\"\",G232&A232&J232)","v":""},{"$f":"IF(COUNTIF($T$5:T232,T232)=1,\"SB\",\"\")","v":""},{"$f":"A232&L232&G232","v":""},{"$f":"VLOOKUP(V232,Minimos!$D$3:$E$26,2,FALSE)","v":{"$error":"#N/A"}},{"$f":"M232-W232","v":{"$error":"#N/A"}},{"$f":"IF(X232>=0,\"Apurado\",\"\")","v":{"$error":"#N/A"}}]
[null,null,null,null,null,null,null,null,null,null,null,null,null,null,null,null,null,null,null,{"$f":"IF(A233=\"\",\"\",G233&A233&J233)","v":""},{"$f":"IF(COUNTIF($T$5:T233,T233)=1,\"SB\",\"\")","v":""},{"$f":"A233&L233&G233","v":""},{"$f":"VLOOKUP(V233,Minimos!$D$3:$E$26,2,FALSE)","v":{"$error":"#N/A"}},{"$f":"M233-W233","v":{"$error":"#N/A"}},{"$f":"IF(X233>=0,\"Apurado\",\"\")","v":{"$error":"#N/A"}}]
[null,null,null,null,null,null,null,null,null,null,null,null,null,null,null,null,null,null,null,{"$f":"IF(A234=\"\",\"\",G234&A234&J234)","v":""},{"$f":"IF(COUNTIF($T$5:T234,T234)=1,\"SB\",\"\")","v":""},{"$f":"A234&L234&G234","v":""},{"$f":"VLOOKUP(V234,Minimos!$D$3:$E$26,2,FALSE)","v":{"$error":"#N/A"}},{"$f":"M234-W234","v":{"$error":"#N/A"}},{"$f":"IF(X234>=0,\"Apurado\",\"\")","v":{"$error":"#N/A"}}]
[null,null,null,null,null,null,null,null,null,null,null,null,null,null,null,null,null,null,null,{"$f":"IF(A235=\"\",\"\",G235&A235&J235)","v":""},{"$f":"IF(COUNTIF($T$5:T235,T235)=1,\"SB\",\"\")","v":""},{"$f":"A235&L235&G235","v":""},{"$f":"VLOOKUP(V235,Minimos!$D$3:$E$26,2,FALSE)","v":{"$error":"#N/A"}},{"$f":"M235-W235","v":{"$error":"#N/A"}},{"$f":"IF(X235>=0,\"Apurado\",\"\")","v":{"$error":"#N/A"}}]
[null,null,null,null,null,null,null,null,null,null,null,null,null,null,null,null,null,null,null,{"$f":"IF(A236=\"\",\"\",G236&A236&J236)","v":""},{"$f":"IF(COUNTIF($T$5:T236,T236)=1,\"SB\",\"\")","v":""},{"$f":"A236&L236&G236","v":""},{"$f":"VLOOKUP(V236,Minimos!$D$3:$E$26,2,FALSE)","v":{"$error":"#N/A"}},{"$f":"M236-W236","v":{"$error":"#N/A"}},{"$f":"IF(X236>=0,\"Apurado\",\"\")","v":{"$error":"#N/A"}}]
[null,null,null,null,null,null,null,null,null,null,null,null,null,null,null,null,null,null,null,{"$f":"IF(A237=\"\",\"\",G237&A237&J237)","v":""},{"$f":"IF(COUNTIF($T$5:T237,T237)=1,\"SB\",\"\")","v":""},{"$f":"A237&L237&G237","v":""},{"$f":"VLOOKUP(V237,Minimos!$D$3:$E$26,2,FALSE)","v":{"$error":"#N/A"}},{"$f":"M237-W237","v":{"$error":"#N/A"}},{"$f":"IF(X237>=0,\"Apurado\",\"\")","v":{"$error":"#N/A"}}]
[null,null,null,null,null,null,null,null,null,null,null,null,null,null,null,null,null,null,null,{"$f":"IF(A238=\"\",\"\",G238&A238&J238)","v":""},{"$f":"IF(COUNTIF($T$5:T238,T238)=1,\"SB\",\"\")","v":""},{"$f":"A238&L238&G238","v":""},{"$f":"VLOOKUP(V238,Minimos!$D$3:$E$26,2,FALSE)","v":{"$error":"#N/A"}},{"$f":"M238-W238","v":{"$error":"#N/A"}},{"$f":"IF(X238>=0,\"Apurado\",\"\")","v":{"$error":"#N/A"}}]
[null,null,null,null,null,null,null,null,null,null,null,null,null,null,null,null,null,null,null,{"$f":"IF(A239=\"\",\"\",G239&A239&J239)","v":""},{"$f":"IF(COUNTIF($T$5:T239,T239)=1,\"SB\",\"\")","v":""},{"$f":"A239&L239&G239","v":""},{"$f":"VLOOKUP(V239,Minimos!$D$3:$E$26,2,FALSE)","v":{"$error":"#N/A"}},{"$f":"M239-W239","v":{"$error":"#N/A"}},{"$f":"IF(X239>=0,\"Apurado\",\"\")","v":{"$error":"#N/A"}}]
[null,null,null,null,null,null,null,null,null,null,null,null,null,null,null,null,null,null,null,{"$f":"IF(A240=\"\",\"\",G240&A240&J240)","v":""},{"$f":"IF(COUNTIF($T$5:T240,T240)=1,\"SB\",\"\")","v":""},{"$f":"A240&L240&G240","v":""},{"$f":"VLOOKUP(V240,Minimos!$D$3:$E$26,2,FALSE)","v":{"$error":"#N/A"}},{"$f":"M240-W240","v":{"$error":"#N/A"}},{"$f":"IF(X240>=0,\"Apurado\",\"\")","v":{"$error":"#N/A"}}]
[null,null,null,null,null,null,null,null,null,null,null,null,null,null,null,null,null,null,null,{"$f":"IF(A241=\"\",\"\",G241&A241&J241)","v":""},{"$f":"IF(COUNTIF($T$5:T241,T241)=1,\"SB\",\"\")","v":""},{"$f":"A241&L241&G241","v":""},{"$f":"VLOOKUP(V241,Minimos!$D$3:$E$26,2,FALSE)","v":{"$error":"#N/A"}},{"$f":"M241-W241","v":{"$error":"#N/A"}},{"$f":"IF(X241>=0,\"Apurado\",\"\")","v":{"$error":"#N/A"}}]
[null,null,null,null,null,null,null,null,null,null,null,null,null,null,null,null,null,null,null,{"$f":"IF(A242=\"\",\"\",G242&A242&J242)","v":""},{"$f":"IF(COUNTIF($T$5:T242,T242)=1,\"SB\",\"\")","v":""},{"$f":"A242&L242&G242","v":""},{"$f":"VLOOKUP(V242,Minimos!$D$3:$E$26,2,FALSE)","v":{"$error":"#N/A"}},{"$f":"M242-W242","v":{"$error":"#N/A"}},{"$f":"IF(X242>=0,\"Apurado\",\"\")","v":{"$error":"#N/A"}}]
[null,null,null,null,null,null,null,null,null,null,null,null,null,null,null,null,null,null,null,{"$f":"IF(A243=\"\",\"\",G243&A243&J243)","v":""},{"$f":"IF(COUNTIF($T$5:T243,T243)=1,\"SB\",\"\")","v":""},{"$f":"A243&L243&G243","v":""},{"$f":"VLOOKUP(V243,Minimos!$D$3:$E$26,2,FALSE)","v":{"$error":"#N/A"}},{"$f":"M243-W243","v":{"$error":"#N/A"}},{"$f":"IF(X243>=0,\"Apurado\",\"\")","v":{"$error":"#N/A"}}]
[null,null,null,null,null,null,null,null,null,null,null,null,null,null,null,null,null,null,null,{"$f":"IF(A244=\"\",\"\",G244&A244&J244)","v":""},{"$f":"IF(COUNTIF($T$5:T244,T244)=1,\"SB\",\"\")","v":""},{"$f":"A244&L244&G244","v":""},{"$f":"VLOOKUP(V244,Minimos!$D$3:$E$26,2,FALSE)","v":{"$error":"#N/A"}},{"$f":"M244-W244","v":{"$error":"#N/A"}},{"$f":"IF(X244>=0,\"Apurado\",\"\")","v":{"$error":"#N/A"}}]
[null,null,null,null,null,null,null,null,null,null,null,null,null,null,null,null,null,null,null,{"$f":"IF(A245=\"\",\"\",G245&A245&J245)","v":""},{"$f":"IF(COUNTIF($T$5:T245,T245)=1,\"SB\",\"\")","v":""},{"$f":"A245&L245&G245","v":""},{"$f":"VLOOKUP(V245,Minimos!$D$3:$E$26,2,FALSE)","v":{"$error":"#N/A"}},{"$f":"M245-W245","v":{"$error":"#N/A"}},{"$f":"IF(X245>=0,\"Apurado\",\"\")","v":{"$error":"#N/A"}}]
[null,null,null,null,null,null,null,null,null,null,null,null,null,null,null,null,null,null,null,{"$f":"IF(A246=\"\",\"\",G246&A246&J246)","v":""},{"$f":"IF(COUNTIF($T$5:T246,T246)=1,\"SB\",\"\")","v":""},{"$f":"A246&L246&G246","v":""},{"$f":"VLOOKUP(V246,Minimos!$D$3:$E$26,2,FALSE)","v":{"$error":"#N/A"}},{"$f":"M246-W246","v":{"$error":"#N/A"}},{"$f":"IF(X246>=0,\"Apurado\",\"\")","v":{"$error":"#N/A"}}]
[null,null,null,null,null,null,null,null,null,null,null,null,null,null,null,null,null,null,null,{"$f":"IF(A247=\"\",\"\",G247&A247&J247)","v":""},{"$f":"IF(COUNTIF($T$5:T247,T247)=1,\"SB\",\"\")","v":""},{"$f":"A247&L247&G247","v":""},{"$f":"VLOOKUP(V247,Minimos!$D$3:$E$26,2,FALSE)","v":{"$error":"#N/A"}},{"$f":"M247-W247","v":{"$error":"#N/A"}},{"$f":"IF(X247>=0,\"Apurado\",\"\")","v":{"$error":"#N/A"}}]
[null,null,null,null,null,null,null,null,null,null,null,null,null,null,null,null,null,null,null,{"$f":"IF(A248=\"\",\"\",G248&A248&J248)","v":""},{"$f":"IF(COUNTIF($T$5:T248,T248)=1,\"SB\",\"\")","v":""},{"$f":"A248&L248&G248","v":""},{"$f":"VLOOKUP(V248,Minimos!$D$3:$E$26,2,FALSE)","v":{"$error":"#N/A"}},{"$f":"M248-W248","v":{"$error":"#N/A"}},{"$f":"IF(X248>=0,\"Apurado\",\"\")","v":{"$error":"#N/A"}}]
[null,null,null,null,null,null,null,null,null,null,null,null,null,null,null,null,null,null,null,{"$f":"IF(A249=\"\",\"\",G249&A249&J249)","v":""},{"$f":"IF(COUNTIF($T$5:T249,T249)=1,\"SB\",\"\")","v":""},{"$f":"A249&L249&G249","v":""},{"$f":"VLOOKUP(V249,Minimos!$D$3:$E$26,2,FALSE)","v":{"$error":"#N/A"}},{"$f":"M249-W249","v":{"$error":"#N/A"}},{"$f":"IF(X249>=0,\"Apurado\",\"\")","v":{"$error":"#N/A"}}]
[null,null,null,null,null,null,null,null,null,null,null,null,null,null,null,null,null,null,null,{"$f":"IF(A250=\"\",\"\",G250&A250&J250)","v":""},{"$f":"IF(COUNTIF($T$5:T250,T250)=1,\"SB\",\"\")","v":""},{"$f":"A250&L250&G250","v":""},{"$f":"VLOOKUP(V250,Minimos!$D$3:$E$26,2,FALSE)","v":{"$error":"#N/A"}},{"$f":"M250-W250","v":{"$error":"#N/A"}},{"$f":"IF(X250>=0,\"Apurado\",\"\")","v":{"$error":"#N/A"}}]
[null,null,null,null,null,null,null,null,null,null,null,null,null,null,null,null,null,null,null,{"$f":"IF(A251=\"\",\"\",G251&A251&J251)","v":""},{"$f":"IF(COUNTIF($T$5:T251,T251)=1,\"SB\",\"\")","v":""},{"$f":"A251&L251&G251","v":""},{"$f":"VLOOKUP(V251,Minimos!$D$3:$E$26,2,FALSE)","v":{"$error":"#N/A"}},{"$f":"M251-W251","v":{"$error":"#N/A"}},{"$f":"IF(X251>=0,\"Apurado\",\"\")","v":{"$error":"#N/A"}}]
[null,null,null,null,null,null,null,null,null,null,null,null,null,null,null,null,null,null,null,{"$f":"IF(A252=\"\",\"\",G252&A252&J252)","v":""},{"$f":"IF(COUNTIF($T$5:T252,T252)=1,\"SB\",\"\")","v":""},{"$f":"A252&L252&G252","v":""},{"$f":"VLOOKUP(V252,Minimos!$D$3:$E$26,2,FALSE)","v":{"$error":"#N/A"}},{"$f":"M252-W252","v":{"$error":"#N/A"}},{"$f":"IF(X252>=0,\"Apurado\",\"\")","v":{"$error":"#N/A"}}]
[null,null,null,null,null,null,null,null,null,null,null,null,null,null,null,null,null,null,null,{"$f":"IF(A253=\"\",\"\",G253&A253&J253)","v":""},{"$f":"IF(COUNTIF($T$5:T253,T253)=1,\"SB\",\"\")","v":""},{"$f":"A253&L253&G253","v":""},{"$f":"VLOOKUP(V253,Minimos!$D$3:$E$26,2,FALSE)","v":{"$error":"#N/A"}},{"$f":"M253-W253","v":{"$error":"#N/A"}},{"$f":"IF(X253>=0,\"Apurado\",\"\")","v":{"$error":"#N/A"}}]
[null,null,null,null,null,null,null,null,null,null,null,null,null,null,null,null,null,null,null,{"$f":"IF(A254=\"\",\"\",G254&A254&J254)","v":""},{"$f":"IF(COUNTIF($T$5:T254,T254)=1,\"SB\",\"\")","v":""},{"$f":"A254&L254&G254","v":""},{"$f":"VLOOKUP(V254,Minimos!$D$3:$E$26,2,FALSE)","v":{"$error":"#N/A"}},{"$f":"M254-W254","v":{"$error":"#N/A"}},{"$f":"IF(X254>=0,\"Apurado\",\"\")","v":{"$error":"#N/A"}}]
[null,null,null,null,null,null,null,null,null,null,null,null,null,null,null,null,null,null,null,{"$f":"IF(A255=\"\",\"\",G255&A255&J255)","v":""},{"$f":"IF(COUNTIF($T$5:T255,T255)=1,\"SB\",\"\")","v":""},{"$f":"A255&L255&G255","v":""},{"$f":"VLOOKUP(V255,Minimos!$D$3:$E$26,2,FALSE)","v":{"$error":"#N/A"}},{"$f":"M255-W255","v":{"$error":"#N/A"}},{"$f":"IF(X255>=0,\"Apurado\",\"\")","v":{"$error":"#N/A"}}]
[null,null,null,null,null,null,null,null,null,null,null,null,null,null,null,null,null,null,null,{"$f":"IF(A256=\"\",\"\",G256&A256&J256)","v":""},{"$f":"IF(COUNTIF($T$5:T256,T256)=1,\"SB\",\"\")","v":""},{"$f":"A256&L256&G256","v":""},{"$f":"VLOOKUP(V256,Minimos!$D$3:$E$26,2,FALSE)","v":{"$error":"#N/A"}},{"$f":"M256-W256","v":{"$error":"#N/A"}},{"$f":"IF(X256>=0,\"Apurado\",\"\")","v":{"$error":"#N/A"}}]
[null,null,null,null,null,null,null,null,null,null,null,null,null,null,null,null,null,null,null,{"$f":"IF(A257=\"\",\"\",G257&A257&J257)","v":""},{"$f":"IF(COUNTIF($T$5:T257,T257)=1,\"SB\",\"\")","v":""},{"$f":"A257&L257&G257","v":""},{"$f":"VLOOKUP(V257,Minimos!$D$3:$E$26,2,FALSE)","v":{"$error":"#N/A"}},{"$f":"M257-W257","v":{"$error":"#N/A"}},{"$f":"IF(X257>=0,\"Apurado\",\"\")","v":{"$error":"#N/A"}}]
[null,null,null,null,null,null,null,null,null,null,null,null,null,null,null,null,null,null,null,{"$f":"IF(A258=\"\",\"\",G258&A258&J258)","v":""},{"$f":"IF(COUNTIF($T$5:T258,T258)=1,\"SB\",\"\")","v":""},{"$f":"A258&L258&G258","v":""},{"$f":"VLOOKUP(V258,Minimos!$D$3:$E$26,2,FALSE)","v":{"$error":"#N/A"}},{"$f":"M258-W258","v":{"$error":"#N/A"}},{"$f":"IF(X258>=0,\"Apurado\",\"\")","v":{"$error":"#N/A"}}]
[null,null,null,null,null,null,null,null,null,null,null,null,null,null,null,null,null,null,null,{"$f":"IF(A259=\"\",\"\",G259&A259&J259)","v":""},{"$f":"IF(COUNTIF($T$5:T259,T259)=1,\"SB\",\"\")","v":""},{"$f":"A259&L259&G259","v":""},{"$f":"VLOOKUP(V259,Minimos!$D$3:$E$26,2,FALSE)","v":{"$error":"#N/A"}},{"$f":"M259-W259","v":{"$error":"#N/A"}},{"$f":"IF(X259>=0,\"Apurado\",\"\")","v":{"$error":"#N/A"}}]
[null,null,null,null,null,null,null,null,null,null,null,null,null,null,null,null,null,null,null,{"$f":"IF(A260=\"\",\"\",G260&A260&J260)","v":""},{"$f":"IF(COUNTIF($T$5:T260,T260)=1,\"SB\",\"\")","v":""},{"$f":"A260&L260&G260","v":""},{"$f":"VLOOKUP(V260,Minimos!$D$3:$E$26,2,FALSE)","v":{"$error":"#N/A"}},{"$f":"M260-W260","v":{"$error":"#N/A"}},{"$f":"IF(X260>=0,\"Apurado\",\"\")","v":{"$error":"#N/A"}}]
[null,null,null,null,null,null,null,null,null,null,null,null,null,null,null,null,null,null,null,{"$f":"IF(A261=\"\",\"\",G261&A261&J261)","v":""},{"$f":"IF(COUNTIF($T$5:T261,T261)=1,\"SB\",\"\")","v":""},{"$f":"A261&L261&G261","v":""},{"$f":"VLOOKUP(V261,Minimos!$D$3:$E$26,2,FALSE)","v":{"$error":"#N/A"}},{"$f":"M261-W261","v":{"$error":"#N/A"}},{"$f":"IF(X261>=0,\"Apurado\",\"\")","v":{"$error":"#N/A"}}]
[null,null,null,null,null,null,null,null,null,null,null,null,null,null,null,null,null,null,null,{"$f":"IF(A262=\"\",\"\",G262&A262&J262)","v":""},{"$f":"IF(COUNTIF($T$5:T262,T262)=1,\"SB\",\"\")","v":""},{"$f":"A262&L262&G262","v":""},{"$f":"VLOOKUP(V262,Minimos!$D$3:$E$26,2,FALSE)","v":{"$error":"#N/A"}},{"$f":"M262-W262","v":{"$error":"#N/A"}},{"$f":"IF(X262>=0,\"Apurado\",\"\")","v":{"$error":"#N/A"}}]
[null,null,null,null,null,null,null,null,null,null,null,null,null,null,null,null,null,null,null,{"$f":"IF(A263=\"\",\"\",G263&A263&J263)","v":""},{"$f":"IF(COUNTIF($T$5:T263,T263)=1,\"SB\",\"\")","v":""},{"$f":"A263&L263&G263","v":""},{"$f":"VLOOKUP(V263,Minimos!$D$3:$E$26,2,FALSE)","v":{"$error":"#N/A"}},{"$f":"M263-W263","v":{"$error":"#N/A"}},{"$f":"IF(X263>=0,\"Apurado\",\"\")","v":{"$error":"#N/A"}}]
[null,null,null,null,null,null,null,null,null,null,null,null,null,null,null,null,null,null,null,{"$f":"IF(A264=\"\",\"\",G264&A264&J264)","v":""},{"$f":"IF(COUNTIF($T$5:T264,T264)=1,\"SB\",\"\")","v":""},{"$f":"A264&L264&G264","v":""},{"$f":"VLOOKUP(V264,Minimos!$D$3:$E$26,2,FALSE)","v":{"$error":"#N/A"}},{"$f":"M264-W264","v":{"$error":"#N/A"}},{"$f":"IF(X264>=0,\"Apurado\",\"\")","v":{"$error":"#N/A"}}]
[null,null,null,null,null,null,null,null,null,null,null,null,null,null,null,null,null,null,null,{"$f":"IF(A265=\"\",\"\",G265&A265&J265)","v":""},{"$f":"IF(COUNTIF($T$5:T265,T265)=1,\"SB\",\"\")","v":""},{"$f":"A265&L265&G265","v":""},{"$f":"VLOOKUP(V265,Minimos!$D$3:$E$26,2,FALSE)","v":{"$error":"#N/A"}},{"$f":"M265-W265","v":{"$error":"#N/A"}},{"$f":"IF(X265>=0,\"Apurado\",\"\")","v":{"$error":"#N/A"}}]
[null,null,null,null,null,null,null,null,null,null,null,null,null,null,null,null,null,null,null,{"$f":"IF(A266=\"\",\"\",G266&A266&J266)","v":""},{"$f":"IF(COUNTIF($T$5:T266,T266)=1,\"SB\",\"\")","v":""},{"$f":"A266&L266&G266","v":""},{"$f":"VLOOKUP(V266,Minimos!$D$3:$E$26,2,FALSE)","v":{"$error":"#N/A"}},{"$f":"M266-W266","v":{"$error":"#N/A"}},{"$f":"IF(X266>=0,\"Apurado\",\"\")","v":{"$error":"#N/A"}}]
[null,null,null,null,null,null,null,null,null,null,null,null,null,null,null,null,null,null,null,{"$f":"IF(A267=\"\",\"\",G267&A267&J267)","v":""},{"$f":"IF(COUNTIF($T$5:T267,T267)=1,\"SB\",\"\")","v":""},{"$f":"A267&L267&G267","v":""},{"$f":"VLOOKUP(V267,Minimos!$D$3:$E$26,2,FALSE)","v":{"$error":"#N/A"}},{"$f":"M267-W267","v":{"$error":"#N/A"}},{"$f":"IF(X267>=0,\"Apurado\",\"\")","v":{"$error":"#N/A"}}]
[null,null,null,null,null,null,null,null,null,null,null,null,null,null,null,null,null,null,null,{"$f":"IF(A268=\"\",\"\",G268&A268&J268)","v":""},{"$f":"IF(COUNTIF($T$5:T268,T268)=1,\"SB\",\"\")","v":""},{"$f":"A268&L268&G268","v":""},{"$f":"VLOOKUP(V268,Minimos!$D$3:$E$26,2,FALSE)","v":{"$error":"#N/A"}},{"$f":"M268-W268","v":{"$error":"#N/A"}},{"$f":"IF(X268>=0,\"Apurado\",\"\")","v":{"$error":"#N/A"}}]
[null,null,null,null,null,null,null,null,null,null,null,null,null,null,null,null,null,null,null,{"$f":"IF(A269=\"\",\"\",G269&A269&J269)","v":""},{"$f":"IF(COUNTIF($T$5:T269,T269)=1,\"SB\",\"\")","v":""},{"$f":"A269&L269&G269","v":""},{"$f":"VLOOKUP(V269,Minimos!$D$3:$E$26,2,FALSE)","v":{"$error":"#N/A"}},{"$f":"M269-W269","v":{"$error":"#N/A"}},{"$f":"IF(X269>=0,\"Apurado\",\"\")","v":{"$error":"#N/A"}}]
[null,null,null,null,null,null,null,null,null,null,null,null,null,null,null,null,null,null,null,{"$f":"IF(A270=\"\",\"\",G270&A270&J270)","v":""},{"$f":"IF(COUNTIF($T$5:T270,T270)=1,\"SB\",\"\")","v":""},{"$f":"A270&L270&G270","v":""},{"$f":"VLOOKUP(V270,Minimos!$D$3:$E$26,2,FALSE)","v":{"$error":"#N/A"}},{"$f":"M270-W270","v":{"$error":"#N/A"}},{"$f":"IF(X270>=0,\"Apurado\",\"\")","v":{"$error":"#N/A"}}]
[null,null,null,null,null,null,null,null,null,null,null,null,null,null,null,null,null,null,null,{"$f":"IF(A271=\"\",\"\",G271&A271&J271)","v":""},{"$f":"IF(COUNTIF($T$5:T271,T271)=1,\"SB\",\"\")","v":""},{"$f":"A271&L271&G271","v":""},{"$f":"VLOOKUP(V271,Minimos!$D$3:$E$26,2,FALSE)","v":{"$error":"#N/A"}},{"$f":"M271-W271","v":{"$error":"#N/A"}},{"$f":"IF(X271>=0,\"Apurado\",\"\")","v":{"$error":"#N/A"}}]
[null,null,null,null,null,null,null,null,null,null,null,null,null,null,null,null,null,null,null,{"$f":"IF(A272=\"\",\"\",G272&A272&J272)","v":""},{"$f":"IF(COUNTIF($T$5:T272,T272)=1,\"SB\",\"\")","v":""},{"$f":"A272&L272&G272","v":""},{"$f":"VLOOKUP(V272,Minimos!$D$3:$E$26,2,FALSE)","v":{"$error":"#N/A"}},{"$f":"M272-W272","v":{"$error":"#N/A"}},{"$f":"IF(X272>=0,\"Apurado\",\"\")","v":{"$error":"#N/A"}}]
[null,null,null,null,null,null,null,null,null,null,null,null,null,null,null,null,null,null,null,{"$f":"IF(A273=\"\",\"\",G273&A273&J273)","v":""},{"$f":"IF(COUNTIF($T$5:T273,T273)=1,\"SB\",\"\")","v":""},{"$f":"A273&L273&G273","v":""},{"$f":"VLOOKUP(V273,Minimos!$D$3:$E$26,2,FALSE)","v":{"$error":"#N/A"}},{"$f":"M273-W273","v":{"$error":"#N/A"}},{"$f":"IF(X273>=0,\"Apurado\",\"\")","v":{"$error":"#N/A"}}]
[null,null,null,null,null,null,null,null,null,null,null,null,null,null,null,null,null,null,null,{"$f":"IF(A274=\"\",\"\",G274&A274&J274)","v":""},{"$f":"IF(COUNTIF($T$5:T274,T274)=1,\"SB\",\"\")","v":""},{"$f":"A274&L274&G274","v":""},{"$f":"VLOOKUP(V274,Minimos!$D$3:$E$26,2,FALSE)","v":{"$error":"#N/A"}},{"$f":"M274-W274","v":{"$error":"#N/A"}},{"$f":"IF(X274>=0,\"Apurado\",\"\")","v":{"$error":"#N/A"}}]
[null,null,null,null,null,null,null,null,null,null,null,null,null,null,null,null,null,null,null,{"$f":"IF(A275=\"\",\"\",G275&A275&J275)","v":""},{"$f":"IF(COUNTIF($T$5:T275,T275)=1,\"SB\",\"\")","v":""},{"$f":"A275&L275&G275","v":""},{"$f":"VLOOKUP(V275,Minimos!$D$3:$E$26,2,FALSE)","v":{"$error":"#N/A"}},{"$f":"M275-W275","v":{"$error":"#N/A"}},{"$f":"IF(X275>=0,\"Apurado\",\"\")","v":{"$error":"#N/A"}}]
[null,null,null,null,null,null,null,null,null,null,null,null,null,null,null,null,null,null,null,{"$f":"IF(A276=\"\",\"\",G276&A276&J276)","v":""},{"$f":"IF(COUNTIF($T$5:T276,T276)=1,\"SB\",\"\")","v":""},{"$f":"A276&L276&G276","v":""},{"$f":"VLOOKUP(V276,Minimos!$D$3:$E$26,2,FALSE)","v":{"$error":"#N/A"}},{"$f":"M276-W276","v":{"$error":"#N/A"}},{"$f":"IF(X276>=0,\"Apurado\",\"\")","v":{"$error":"#N/A"}}]
[null,null,null,null,null,null,null,null,null,null,null,null,null,null,null,null,null,null,null,{"$f":"IF(A277=\"\",\"\",G277&A277&J277)","v":""},{"$f":"IF(COUNTIF($T$5:T277,T277)=1,\"SB\",\"\")","v":""},{"$f":"A277&L277&G277","v":""},{"$f":"VLOOKUP(V277,Minimos!$D$3:$E$26,2,FALSE)","v":{"$error":"#N/A"}},{"$f":"M277-W277","v":{"$error":"#N/A"}},{"$f":"IF(X277>=0,\"Apurado\",\"\")","v":{"$error":"#N/A"}}]
[null,null,null,null,null,null,null,null,null,null,null,null,null,null,null,null,null,null,null,{"$f":"IF(A278=\"\",\"\",G278&A278&J278)","v":""},{"$f":"IF(COUNTIF($T$5:T278,T278)=1,\"SB\",\"\")","v":""},{"$f":"A278&L278&G278","v":""},{"$f":"VLOOKUP(V278,Minimos!$D$3:$E$26,2,FALSE)","v":{"$error":"#N/A"}},{"$f":"M278-W278","v":{"$error":"#N/A"}},{"$f":"IF(X278>=0,\"Apurado\",\"\")","v":{"$error":"#N/A"}}]
[null,null,null,null,null,null,null,null,null,null,null,null,null,null,null,null,null,null,null,{"$f":"IF(A279=\"\",\"\",G279&A279&J279)","v":""},{"$f":"IF(COUNTIF($T$5:T279,T279)=1,\"SB\",\"\")","v":""},{"$f":"A279&L279&G279","v":""},{"$f":"VLOOKUP(V279,Minimos!$D$3:$E$26,2,FALSE)","v":{"$error":"#N/A"}},{"$f":"M279-W279","v":{"$error":"#N/A"}},{"$f":"IF(X279>=0,\"Apurado\",\"\")","v":{"$error":"#N/A"}}]
[null,null,null,null,null,null,null,null,null,null,null,null,null,null,null,null,null,null,null,{"$f":"IF(A280=\"\",\"\",G280&A280&J280)","v":""},{"$f":"IF(COUNTIF($T$5:T280,T280)=1,\"SB\",\"\")","v":""},{"$f":"A280&L280&G280","v":""},{"$f":"VLOOKUP(V280,Minimos!$D$3:$E$26,2,FALSE)","v":{"$error":"#N/A"}},{"$f":"M280-W280","v":{"$error":"#N/A"}},{"$f":"IF(X280>=0,\"Apurado\",\"\")","v":{"$error":"#N/A"}}]
[null,null,null,null,null,null,null,null,null,null,null,null,null,null,null,null,null,null,null,{"$f":"IF(A281=\"\",\"\",G281&A281&J281)","v":""},{"$f":"IF(COUNTIF($T$5:T281,T281)=1,\"SB\",\"\")","v":""},{"$f":"A281&L281&G281","v":""},{"$f":"VLOOKUP(V281,Minimos!$D$3:$E$26,2,FALSE)","v":{"$error":"#N/A"}},{"$f":"M281-W281","v":{"$error":"#N/A"}},{"$f":"IF(X281>=0,\"Apurado\",\"\")","v":{"$error":"#N/A"}}]
[null,null,null,null,null,null,null,null,null,null,null,null,null,null,null,null,null,null,null,{"$f":"IF(A282=\"\",\"\",G282&A282&J282)","v":""},{"$f":"IF(COUNTIF($T$5:T282,T282)=1,\"SB\",\"\")","v":""},{"$f":"A282&L282&G282","v":""},{"$f":"VLOOKUP(V282,Minimos!$D$3:$E$26,2,FALSE)","v":{"$error":"#N/A"}},{"$f":"M282-W282","v":{"$error":"#N/A"}},{"$f":"IF(X282>=0,\"Apurado\",\"\")","v":{"$error":"#N/A"}}]
[null,null,null,null,null,null,null,null,null,null,null,null,null,null,null,null,null,null,null,{"$f":"IF(A283=\"\",\"\",G283&A283&J283)","v":""},{"$f":"IF(COUNTIF($T$5:T283,T283)=1,\"SB\",\"\")","v":""},{"$f":"A283&L283&G283","v":""},{"$f":"VLOOKUP(V283,Minimos!$D$3:$E$26,2,FALSE)","v":{"$error":"#N/A"}},{"$f":"M283-W283","v":{"$error":"#N/A"}},{"$f":"IF(X283>=0,\"Apurado\",\"\")","v":{"$error":"#N/A"}}]
[null,null,null,null,null,null,null,null,null,null,null,null,null,null,null,null,null,null,null,{"$f":"IF(A284=\"\",\"\",G284&A284&J284)","v":""},{"$f":"IF(COUNTIF($T$5:T284,T284)=1,\"SB\",\"\")","v":""},{"$f":"A284&L284&G284","v":""},{"$f":"VLOOKUP(V284,Minimos!$D$3:$E$26,2,FALSE)","v":{"$error":"#N/A"}},{"$f":"M284-W284","v":{"$error":"#N/A"}},{"$f":"IF(X284>=0,\"Apurado\",\"\")","v":{"$error":"#N/A"}}]
[null,null,null,null,null,null,null,null,null,null,null,null,null,null,null,null,null,null,null,{"$f":"IF(A285=\"\",\"\",G285&A285&J285)","v":""},{"$f":"IF(COUNTIF($T$5:T285,T285)=1,\"SB\",\"\")","v":""},{"$f":"A285&L285&G285","v":""},{"$f":"VLOOKUP(V285,Minimos!$D$3:$E$26,2,FALSE)","v":{"$error":"#N/A"}},{"$f":"M285-W285","v":{"$error":"#N/A"}},{"$f":"IF(X285>=0,\"Apurado\",\"\")","v":{"$error":"#N/A"}}]
[null,null,null,null,null,null,null,null,null,null,null,null,null,null,null,null,null,null,null,{"$f":"IF(A286=\"\",\"\",G286&A286&J286)","v":""},{"$f":"IF(COUNTIF($T$5:T286,T286)=1,\"SB\",\"\")","v":""},{"$f":"A286&L286&G286","v":""},{"$f":"VLOOKUP(V286,Minimos!$D$3:$E$26,2,FALSE)","v":{"$error":"#N/A"}},{"$f":"M286-W286","v":{"$error":"#N/A"}},{"$f":"IF(X286>=0,\"Apurado\",\"\")","v":{"$error":"#N/A"}}]
[null,null,null,null,null,null,null,null,null,null,null,null,null,null,null,null,null,null,null,{"$f":"IF(A287=\"\",\"\",G287&A287&J287)","v":""},{"$f":"IF(COUNTIF($T$5:T287,T287)=1,\"SB\",\"\")","v":""},{"$f":"A287&L287&G287","v":""},{"$f":"VLOOKUP(V287,Minimos!$D$3:$E$26,2,FALSE)","v":{"$error":"#N/A"}},{"$f":"M287-W287","v":{"$error":"#N/A"}},{"$f":"IF(X287>=0,\"Apurado\",\"\")","v":{"$error":"#N/A"}}]
[null,null,null,null,null,null,null,null,null,null,null,null,null,null,null,null,null,null,null,{"$f":"IF(A288=\"\",\"\",G288&A288&J288)","v":""},{"$f":"IF(COUNTIF($T$5:T288,T288)=1,\"SB\",\"\")","v":""},{"$f":"A288&L288&G288","v":""},{"$f":"VLOOKUP(V288,Minimos!$D$3:$E$26,2,FALSE)","v":{"$error":"#N/A"}},{"$f":"M288-W288","v":{"$error":"#N/A"}},{"$f":"IF(X288>=0,\"Apurado\",\"\")","v":{"$error":"#N/A"}}]
[null,null,null,null,null,null,null,null,null,null,null,null,null,null,null,null,null,null,null,{"$f":"IF(A289=\"\",\"\",G289&A289&J289)","v":""},{"$f":"IF(COUNTIF($T$5:T289,T289)=1,\"SB\",\"\")","v":""},{"$f":"A289&L289&G289","v":""},{"$f":"VLOOKUP(V289,Minimos!$D$3:$E$26,2,FALSE)","v":{"$error":"#N/A"}},{"$f":"M289-W289","v":{"$error":"#N/A"}},{"$f":"IF(X289>=0,\"Apurado\",\"\")","v":{"$error":"#N/A"}}]
[null,null,null,null,null,null,null,null,null,null,null,null,null,null,null,null,null,null,null,{"$f":"IF(A290=\"\",\"\",G290&A290&J290)","v":""},{"$f":"IF(COUNTIF($T$5:T290,T290)=1,\"SB\",\"\")","v":""},{"$f":"A290&L290&G290","v":""},{"$f":"VLOOKUP(V290,Minimos!$D$3:$E$26,2,FALSE)","v":{"$error":"#N/A"}},{"$f":"M290-W290","v":{"$error":"#N/A"}},{"$f":"IF(X290>=0,\"Apurado\",\"\")","v":{"$error":"#N/A"}}]
[null,null,null,null,null,null,null,null,null,null,null,null,null,null,null,null,null,null,null,{"$f":"IF(A291=\"\",\"\",G291&A291&J291)","v":""},{"$f":"IF(COUNTIF($T$5:T291,T291)=1,\"SB\",\"\")","v":""},{"$f":"A291&L291&G291","v":""},{"$f":"VLOOKUP(V291,Minimos!$D$3:$E$26,2,FALSE)","v":{"$error":"#N/A"}},{"$f":"M291-W291","v":{"$error":"#N/A"}},{"$f":"IF(X291>=0,\"Apurado\",\"\")","v":{"$error":"#N/A"}}]
[null,null,null,null,null,null,null,null,null,null,null,null,null,null,null,null,null,null,null,{"$f":"IF(A292=\"\",\"\",G292&A292&J292)","v":""},{"$f":"IF(COUNTIF($T$5:T292,T292)=1,\"SB\",\"\")","v":""},{"$f":"A292&L292&G292","v":""},{"$f":"VLOOKUP(V292,Minimos!$D$3:$E$26,2,FALSE)","v":{"$error":"#N/A"}},{"$f":"M292-W292","v":{"$error":"#N/A"}},{"$f":"IF(X292>=0,\"Apurado\",\"\")","v":{"$error":"#N/A"}}]
[null,null,null,null,null,null,null,null,null,null,null,null,null,null,null,null,null,null,null,{"$f":"IF(A293=\"\",\"\",G293&A293&J293)","v":""},{"$f":"IF(COUNTIF($T$5:T293,T293)=1,\"SB\",\"\")","v":""},{"$f":"A293&L293&G293","v":""},{"$f":"VLOOKUP(V293,Minimos!$D$3:$E$26,2,FALSE)","v":{"$error":"#N/A"}},{"$f":"M293-W293","v":{"$error":"#N/A"}},{"$f":"IF(X293>=0,\"Apurado\",\"\")","v":{"$error":"#N/A"}}]
[null,null,null,null,null,null,null,null,null,null,null,null,null,null,null,null,null,null,null,{"$f":"IF(A294=\"\",\"\",G294&A294&J294)","v":""},{"$f":"IF(COUNTIF($T$5:T294,T294)=1,\"SB\",\"\")","v":""},{"$f":"A294&L294&G294","v":""},{"$f":"VLOOKUP(V294,Minimos!$D$3:$E$26,2,FALSE)","v":{"$error":"#N/A"}},{"$f":"M294-W294","v":{"$error":"#N/A"}},{"$f":"IF(X294>=0,\"Apurado\",\"\")","v":{"$error":"#N/A"}}]
[null,null,null,null,null,null,null,null,null,null,null,null,null,null,null,null,null,null,null,{"$f":"IF(A295=\"\",\"\",G295&A295&J295)","v":""},{"$f":"IF(COUNTIF($T$5:T295,T295)=1,\"SB\",\"\")","v":""},{"$f":"A295&L295&G295","v":""},{"$f":"VLOOKUP(V295,Minimos!$D$3:$E$26,2,FALSE)","v":{"$error":"#N/A"}},{"$f":"M295-W295","v":{"$error":"#N/A"}},{"$f":"IF(X295>=0,\"Apurado\",\"\")","v":{"$error":"#N/A"}}]
[null,null,null,null,null,null,null,null,null,null,null,null,null,null,null,null,null,null,null,{"$f":"IF(A296=\"\",\"\",G296&A296&J296)","v":""},{"$f":"IF(COUNTIF($T$5:T296,T296)=1,\"SB\",\"\")","v":""},{"$f":"A296&L296&G296","v":""},{"$f":"VLOOKUP(V296,Minimos!$D$3:$E$26,2,FALSE)","v":{"$error":"#N/A"}},{"$f":"M296-W296","v":{"$error":"#N/A"}},{"$f":"IF(X296>=0,\"Apurado\",\"\")","v":{"$error":"#N/A"}}]
[null,null,null,null,null,null,null,null,null,null,null,null,null,null,null,null,null,null,null,{"$f":"IF(A297=\"\",\"\",G297&A297&J297)","v":""},{"$f":"IF(COUNTIF($T$5:T297,T297)=1,\"SB\",\"\")","v":""},{"$f":"A297&L297&G297","v":""},{"$f":"VLOOKUP(V297,Minimos!$D$3:$E$26,2,FALSE)","v":{"$error":"#N/A"}},{"$f":"M297-W297","v":{"$error":"#N/A"}},{"$f":"IF(X297>=0,\"Apurado\",\"\")","v":{"$error":"#N/A"}}]
[null,null,null,null,null,null,null,null,null,null,null,null,null,null,null,null,null,null,null,{"$f":"IF(A298=\"\",\"\",G298&A298&J298)","v":""},{"$f":"IF(COUNTIF($T$5:T298,T298)=1,\"SB\",\"\")","v":""},{"$f":"A298&L298&G298","v":""},{"$f":"VLOOKUP(V298,Minimos!$D$3:$E$26,2,FALSE)","v":{"$error":"#N/A"}},{"$f":"M298-W298","v":{"$error":"#N/A"}},{"$f":"IF(X298>=0,\"Apurado\",\"\")","v":{"$error":"#N/A"}}]
[null,null,null,null,null,null,null,null,null,null,null,null,null,null,null,null,null,null,null,{"$f":"IF(A299=\"\",\"\",G299&A299&J299)","v":""},{"$f":"IF(COUNTIF($T$5:T299,T299)=1,\"SB\",\"\")","v":""},{"$f":"A299&L299&G299","v":""},{"$f":"VLOOKUP(V299,Minimos!$D$3:$E$26,2,FALSE)","v":{"$error":"#N/A"}},{"$f":"M299-W299","v":{"$error":"#N/A"}},{"$f":"IF(X299>=0,\"Apurado\",\"\")","v":{"$error":"#N/A"}}]
[null,null,null,null,null,null,null,null,null,null,null,null,null,null,null,null,null,null,null,{"$f":"IF(A300=\"\",\"\",G300&A300&J300)","v":""},{"$f":"IF(COUNTIF($T$5:T300,T300)=1,\"SB\",\"\")","v":""},{"$f":"A300&L300&G300","v":""},{"$f":"VLOOKUP(V300,Minimos!$D$3:$E$26,2,FALSE)","v":{"$error":"#N/A"}},{"$f":"M300-W300","v":{"$error":"#N/A"}},{"$f":"IF(X300>=0,\"Apurado\",\"\")","v":{"$error":"#N/A"}}]
[null,null,null,null,null,null,null,null,null,null,null,null,null,null,null,null,null,null,null,{"$f":"IF(A301=\"\",\"\",G301&A301&J301)","v":""},{"$f":"IF(COUNTIF($T$5:T301,T301)=1,\"SB\",\"\")","v":""},{"$f":"A301&L301&G301","v":""},{"$f":"VLOOKUP(V301,Minimos!$D$3:$E$26,2,FALSE)","v":{"$error":"#N/A"}},{"$f":"M301-W301","v":{"$error":"#N/A"}},{"$f":"IF(X301>=0,\"Apurado\",\"\")","v":{"$error":"#N/A"}}]
[null,null,null,null,null,null,null,null,null,null,null,null,null,null,null,null,null,null,null,{"$f":"IF(A302=\"\",\"\",G302&A302&J302)","v":""},{"$f":"IF(COUNTIF($T$5:T302,T302)=1,\"SB\",\"\")","v":""},{"$f":"A302&L302&G302","v":""},{"$f":"VLOOKUP(V302,Minimos!$D$3:$E$26,2,FALSE)","v":{"$error":"#N/A"}},{"$f":"M302-W302","v":{"$error":"#N/A"}},{"$f":"IF(X302>=0,\"Apurado\",\"\")","v":{"$error":"#N/A"}}]
[null,null,null,null,null,null,null,null,null,null,null,null,null,null,null,null,null,null,null,{"$f":"IF(A303=\"\",\"\",G303&A303&J303)","v":""},{"$f":"IF(COUNTIF($T$5:T303,T303)=1,\"SB\",\"\")","v":""},{"$f":"A303&L303&G303","v":""},{"$f":"VLOOKUP(V303,Minimos!$D$3:$E$26,2,FALSE)","v":{"$error":"#N/A"}},{"$f":"M303-W303","v":{"$error":"#N/A"}},{"$f":"IF(X303>=0,\"Apurado\",\"\")","v":{"$error":"#N/A"}}]
[null,null,null,null,null,null,null,null,null,null,null,null,null,null,null,null,null,null,null,{"$f":"IF(A304=\"\",\"\",G304&A304&J304)","v":""},{"$f":"IF(COUNTIF($T$5:T304,T304)=1,\"SB\",\"\")","v":""},{"$f":"A304&L304&G304","v":""},{"$f":"VLOOKUP(V304,Minimos!$D$3:$E$26,2,FALSE)","v":{"$error":"#N/A"}},{"$f":"M304-W304","v":{"$error":"#N/A"}},{"$f":"IF(X304>=0,\"Apurado\",\"\")","v":{"$error":"#N/A"}}]
[null,null,null,null,null,null,null,null,null,null,null,null,null,null,null,null,null,null,null,{"$f":"IF(A305=\"\",\"\",G305&A305&J305)","v":""},{"$f":"IF(COUNTIF($T$5:T305,T305)=1,\"SB\",\"\")","v":""},{"$f":"A305&L305&G305","v":""},{"$f":"VLOOKUP(V305,Minimos!$D$3:$E$26,2,FALSE)","v":{"$error":"#N/A"}},{"$f":"M305-W305","v":{"$error":"#N/A"}},{"$f":"IF(X305>=0,\"Apurado\",\"\")","v":{"$error":"#N/A"}}]
[null,null,null,null,null,null,null,null,null,null,null,null,null,null,null,null,null,null,null,{"$f":"IF(A306=\"\",\"\",G306&A306&J306)","v":""},{"$f":"IF(COUNTIF($T$5:T306,T306)=1,\"SB\",\"\")","v":""},{"$f":"A306&L306&G306","v":""},{"$f":"VLOOKUP(V306,Minimos!$D$3:$E$26,2,FALSE)","v":{"$error":"#N/A"}},{"$f":"M306-W306","v":{"$error":"#N/A"}},{"$f":"IF(X306>=0,\"Apurado\",\"\")","v":{"$error":"#N/A"}}]
[null,null,null,null,null,null,null,null,null,null,null,null,null,null,null,null,null,null,null,{"$f":"IF(A307=\"\",\"\",G307&A307&J307)","v":""},{"$f":"IF(COUNTIF($T$5:T307,T307)=1,\"SB\",\"\")","v":""},{"$f":"A307&L307&G307","v":""},{"$f":"VLOOKUP(V307,Minimos!$D$3:$E$26,2,FALSE)","v":{"$error":"#N/A"}},{"$f":"M307-W307","v":{"$error":"#N/A"}},{"$f":"IF(X307>=0,\"Apurado\",\"\")","v":{"$error":"#N/A"}}]
[null,null,null,null,null,null,null,null,null,null,null,null,null,null,null,null,null,null,null,{"$f":"IF(A308=\"\",\"\",G308&A308&J308)","v":""},{"$f":"IF(COUNTIF($T$5:T308,T308)=1,\"SB\",\"\")","v":""},{"$f":"A308&L308&G308","v":""},{"$f":"VLOOKUP(V308,Minimos!$D$3:$E$26,2,FALSE)","v":{"$error":"#N/A"}},{"$f":"M308-W308","v":{"$error":"#N/A"}},{"$f":"IF(X308>=0,\"Apurado\",\"\")","v":{"$error":"#N/A"}}]
[null,null,null,null,null,null,null,null,null,null,null,null,null,null,null,null,null,null,null,{"$f":"IF(A309=\"\",\"\",G309&A309&J309)","v":""},{"$f":"IF(COUNTIF($T$5:T309,T309)=1,\"SB\",\"\")","v":""},{"$f":"A309&L309&G309","v":""},{"$f":"VLOOKUP(V309,Minimos!$D$3:$E$26,2,FALSE)","v":{"$error":"#N/A"}},{"$f":"M309-W309","v":{"$error":"#N/A"}},{"$f":"IF(X309>=0,\"Apurado\",\"\")","v":{"$error":"#N/A"}}]
[null,null,null,null,null,null,null,null,null,null,null,null,null,null,null,null,null,null,null,{"$f":"IF(A310=\"\",\"\",G310&A310&J310)","v":""},{"$f":"IF(COUNTIF($T$5:T310,T310)=1,\"SB\",\"\")","v":""},{"$f":"A310&L310&G310","v":""},{"$f":"VLOOKUP(V310,Minimos!$D$3:$E$26,2,FALSE)","v":{"$error":"#N/A"}},{"$f":"M310-W310","v":{"$error":"#N/A"}},{"$f":"IF(X310>=0,\"Apurado\",\"\")","v":{"$error":"#N/A"}}]
[null,null,null,null,null,null,null,null,null,null,null,null,null,null,null,null,null,null,null,{"$f":"IF(A311=\"\",\"\",G311&A311&J311)","v":""},{"$f":"IF(COUNTIF($T$5:T311,T311)=1,\"SB\",\"\")","v":""},{"$f":"A311&L311&G311","v":""},{"$f":"VLOOKUP(V311,Minimos!$D$3:$E$26,2,FALSE)","v":{"$error":"#N/A"}},{"$f":"M311-W311","v":{"$error":"#N/A"}},{"$f":"IF(X311>=0,\"Apurado\",\"\")","v":{"$error":"#N/A"}}]
[null,null,null,null,null,null,null,null,null,null,null,null,null,null,null,null,null,null,null,{"$f":"IF(A312=\"\",\"\",G312&A312&J312)","v":""},{"$f":"IF(COUNTIF($T$5:T312,T312)=1,\"SB\",\"\")","v":""},{"$f":"A312&L312&G312","v":""},{"$f":"VLOOKUP(V312,Minimos!$D$3:$E$26,2,FALSE)","v":{"$error":"#N/A"}},{"$f":"M312-W312","v":{"$error":"#N/A"}},{"$f":"IF(X312>=0,\"Apurado\",\"\")","v":{"$error":"#N/A"}}]
[null,null,null,null,null,null,null,null,null,null,null,null,null,null,null,null,null,null,null,{"$f":"IF(A313=\"\",\"\",G313&A313&J313)","v":""},{"$f":"IF(COUNTIF($T$5:T313,T313)=1,\"SB\",\"\")","v":""},{"$f":"A313&L313&G313","v":""},{"$f":"VLOOKUP(V313,Minimos!$D$3:$E$26,2,FALSE)","v":{"$error":"#N/A"}},{"$f":"M313-W313","v":{"$error":"#N/A"}},{"$f":"IF(X313>=0,\"Apurado\",\"\")","v":{"$error":"#N/A"}}]
[null,null,null,null,null,null,null,null,null,null,null,null,null,null,null,null,null,null,null,{"$f":"IF(A314=\"\",\"\",G314&A314&J314)","v":""},{"$f":"IF(COUNTIF($T$5:T314,T314)=1,\"SB\",\"\")","v":""},{"$f":"A314&L314&G314","v":""},{"$f":"VLOOKUP(V314,Minimos!$D$3:$E$26,2,FALSE)","v":{"$error":"#N/A"}},{"$f":"M314-W314","v":{"$error":"#N/A"}},{"$f":"IF(X314>=0,\"Apurado\",\"\")","v":{"$error":"#N/A"}}]
[null,null,null,null,null,null,null,null,null,null,null,null,null,null,null,null,null,null,null,{"$f":"IF(A315=\"\",\"\",G315&A315&J315)","v":""},{"$f":"IF(COUNTIF($T$5:T315,T315)=1,\"SB\",\"\")","v":""},{"$f":"A315&L315&G315","v":""},{"$f":"VLOOKUP(V315,Minimos!$D$3:$E$26,2,FALSE)","v":{"$error":"#N/A"}},{"$f":"M315-W315","v":{"$error":"#N/A"}},{"$f":"IF(X315>=0,\"Apurado\",\"\")","v":{"$error":"#N/A"}}]
[null,null,null,null,null,null,null,null,null,null,null,null,null,null,null,null,null,null,null,{"$f":"IF(A316=\"\",\"\",G316&A316&J316)","v":""},{"$f":"IF(COUNTIF($T$5:T316,T316)=1,\"SB\",\"\")","v":""},{"$f":"A316&L316&G316","v":""},{"$f":"VLOOKUP(V316,Minimos!$D$3:$E$26,2,FALSE)","v":{"$error":"#N/A"}},{"$f":"M316-W316","v":{"$error":"#N/A"}},{"$f":"IF(X316>=0,\"Apurado\",\"\")","v":{"$error":"#N/A"}}]
[null,null,null,null,null,null,null,null,null,null,null,null,null,null,null,null,null,null,null,{"$f":"IF(A317=\"\",\"\",G317&A317&J317)","v":""},{"$f":"IF(COUNTIF($T$5:T317,T317)=1,\"SB\",\"\")","v":""},{"$f":"A317&L317&G317","v":""},{"$f":"VLOOKUP(V317,Minimos!$D$3:$E$26,2,FALSE)","v":{"$error":"#N/A"}},{"$f":"M317-W317","v":{"$error":"#N/A"}},{"$f":"IF(X317>=0,\"Apurado\",\"\")","v":{"$error":"#N/A"}}]
[null,null,null,null,null,null,null,null,null,null,null,null,null,null,null,null,null,null,null,{"$f":"IF(A318=\"\",\"\",G318&A318&J318)","v":""},{"$f":"IF(COUNTIF($T$5:T318,T318)=1,\"SB\",\"\")","v":""},{"$f":"A318&L318&G318","v":""},{"$f":"VLOOKUP(V318,Minimos!$D$3:$E$26,2,FALSE)","v":{"$error":"#N/A"}},{"$f":"M318-W318","v":{"$error":"#N/A"}},{"$f":"IF(X318>=0,\"Apurado\",\"\")","v":{"$error":"#N/A"}}]
[null,null,null,null,null,null,null,null,null,null,null,null,null,null,null,null,null,null,null,{"$f":"IF(A319=\"\",\"\",G319&A319&J319)","v":""},{"$f":"IF(COUNTIF($T$5:T319,T319)=1,\"SB\",\"\")","v":""},{"$f":"A319&L319&G319","v":""},{"$f":"VLOOKUP(V319,Minimos!$D$3:$E$26,2,FALSE)","v":{"$error":"#N/A"}},{"$f":"M319-W319","v":{"$error":"#N/A"}},{"$f":"IF(X319>=0,\"Apurado\",\"\")","v":{"$error":"#N/A"}}]
[null,null,null,null,null,null,null,null,null,null,null,null,null,null,null,null,null,null,null,{"$f":"IF(A320=\"\",\"\",G320&A320&J320)","v":""},{"$f":"IF(COUNTIF($T$5:T320,T320)=1,\"SB\",\"\")","v":""},{"$f":"A320&L320&G320","v":""},{"$f":"VLOOKUP(V320,Minimos!$D$3:$E$26,2,FALSE)","v":{"$error":"#N/A"}},{"$f":"M320-W320","v":{"$error":"#N/A"}},{"$f":"IF(X320>=0,\"Apurado\",\"\")","v":{"$error":"#N/A"}}]
[null,null,null,null,null,null,null,null,null,null,null,null,null,null,null,null,null,null,null,{"$f":"IF(A321=\"\",\"\",G321&A321&J321)","v":""},{"$f":"IF(COUNTIF($T$5:T321,T321)=1,\"SB\",\"\")","v":""},{"$f":"A321&L321&G321","v":""},{"$f":"VLOOKUP(V321,Minimos!$D$3:$E$26,2,FALSE)","v":{"$error":"#N/A"}},{"$f":"M321-W321","v":{"$error":"#N/A"}},{"$f":"IF(X321>=0,\"Apurado\",\"\")","v":{"$error":"#N/A"}}]
[null,null,null,null,null,null,null,null,null,null,null,null,null,null,null,null,null,null,null,{"$f":"IF(A322=\"\",\"\",G322&A322&J322)","v":""},{"$f":"IF(COUNTIF($T$5:T322,T322)=1,\"SB\",\"\")","v":""},{"$f":"A322&L322&G322","v":""},{"$f":"VLOOKUP(V322,Minimos!$D$3:$E$26,2,FALSE)","v":{"$error":"#N/A"}},{"$f":"M322-W322","v":{"$error":"#N/A"}},{"$f":"IF(X322>=0,\"Apurado\",\"\")","v":{"$error":"#N/A"}}]
[null,null,null,null,null,null,null,null,null,null,null,null,null,null,null,null,null,null,null,{"$f":"IF(A323=\"\",\"\",G323&A323&J323)","v":""},{"$f":"IF(COUNTIF($T$5:T323,T323)=1,\"SB\",\"\")","v":""},{"$f":"A323&L323&G323","v":""},{"$f":"VLOOKUP(V323,Minimos!$D$3:$E$26,2,FALSE)","v":{"$error":"#N/A"}},{"$f":"M323-W323","v":{"$error":"#N/A"}},{"$f":"IF(X323>=0,\"Apurado\",\"\")","v":{"$error":"#N/A"}}]
[null,null,null,null,null,null,null,null,null,null,null,null,null,null,null,null,null,null,null,{"$f":"IF(A324=\"\",\"\",G324&A324&J324)","v":""},{"$f":"IF(COUNTIF($T$5:T324,T324)=1,\"SB\",\"\")","v":""},{"$f":"A324&L324&G324","v":""},{"$f":"VLOOKUP(V324,Minimos!$D$3:$E$26,2,FALSE)","v":{"$error":"#N/A"}},{"$f":"M324-W324","v":{"$error":"#N/A"}},{"$f":"IF(X324>=0,\"Apurado\",\"\")","v":{"$error":"#N/A"}}]
[null,null,null,null,null,null,null,null,null,null,null,null,null,null,null,null,null,null,null,{"$f":"IF(A325=\"\",\"\",G325&A325&J325)","v":""},{"$f":"IF(COUNTIF($T$5:T325,T325)=1,\"SB\",\"\")","v":""},{"$f":"A325&L325&G325","v":""},{"$f":"VLOOKUP(V325,Minimos!$D$3:$E$26,2,FALSE)","v":{"$error":"#N/A"}},{"$f":"M325-W325","v":{"$error":"#N/A"}},{"$f":"IF(X325>=0,\"Apurado\",\"\")","v":{"$error":"#N/A"}}]
[null,null,null,null,null,null,null,null,null,null,null,null,null,null,null,null,null,null,null,{"$f":"IF(A326=\"\",\"\",G326&A326&J326)","v":""},{"$f":"IF(COUNTIF($T$5:T326,T326)=1,\"SB\",\"\")","v":""},{"$f":"A326&L326&G326","v":""},{"$f":"VLOOKUP(V326,Minimos!$D$3:$E$26,2,FALSE)","v":{"$error":"#N/A"}},{"$f":"M326-W326","v":{"$error":"#N/A"}},{"$f":"IF(X326>=0,\"Apurado\",\"\")","v":{"$error":"#N/A"}}]
[null,null,null,null,null,null,null,null,null,null,null,null,null,null,null,null,null,null,null,{"$f":"IF(A327=\"\",\"\",G327&A327&J327)","v":""},{"$f":"IF(COUNTIF($T$5:T327,T327)=1,\"SB\",\"\")","v":""},{"$f":"A327&L327&G327","v":""},{"$f":"VLOOKUP(V327,Minimos!$D$3:$E$26,2,FALSE)","v":{"$error":"#N/A"}},{"$f":"M327-W327","v":{"$error":"#N/A"}},{"$f":"IF(X327>=0,\"Apurado\",\"\")","v":{"$error":"#N/A"}}]
[null,null,null,null,null,null,null,null,null,null,null,null,null,null,null,null,null,null,null,{"$f":"IF(A328=\"\",\"\",G328&A328&J328)","v":""},{"$f":"IF(COUNTIF($T$5:T328,T328)=1,\"SB\",\"\")","v":""},{"$f":"A328&L328&G328","v":""},{"$f":"VLOOKUP(V328,Minimos!$D$3:$E$26,2,FALSE)","v":{"$error":"#N/A"}},{"$f":"M328-W328","v":{"$error":"#N/A"}},{"$f":"IF(X328>=0,\"Apurado\",\"\")","v":{"$error":"#N/A"}}]
[null,null,null,null,null,null,null,null,null,null,null,null,null,null,null,null,null,null,null,{"$f":"IF(A329=\"\",\"\",G329&A329&J329)","v":""},{"$f":"IF(COUNTIF($T$5:T329,T329)=1,\"SB\",\"\")","v":""},{"$f":"A329&L329&G329","v":""},{"$f":"VLOOKUP(V329,Minimos!$D$3:$E$26,2,FALSE)","v":{"$error":"#N/A"}},{"$f":"M329-W329","v":{"$error":"#N/A"}},{"$f":"IF(X329>=0,\"Apurado\",\"\")","v":{"$error":"#N/A"}}]
[null,null,null,null,null,null,null,null,null,null,null,null,null,null,null,null,null,null,null,{"$f":"IF(A330=\"\",\"\",G330&A330&J330)","v":""},{"$f":"IF(COUNTIF($T$5:T330,T330)=1,\"SB\",\"\")","v":""},{"$f":"A330&L330&G330","v":""},{"$f":"VLOOKUP(V330,Minimos!$D$3:$E$26,2,FALSE)","v":{"$error":"#N/A"}},{"$f":"M330-W330","v":{"$error":"#N/A"}},{"$f":"IF(X330>=0,\"Apurado\",\"\")","v":{"$error":"#N/A"}}]
[null,null,null,null,null,null,null,null,null,null,null,null,null,null,null,null,null,null,null,{"$f":"IF(A331=\"\",\"\",G331&A331&J331)","v":""},{"$f":"IF(COUNTIF($T$5:T331,T331)=1,\"SB\",\"\")","v":""},{"$f":"A331&L331&G331","v":""},{"$f":"VLOOKUP(V331,Minimos!$D$3:$E$26,2,FALSE)","v":{"$error":"#N/A"}},{"$f":"M331-W331","v":{"$error":"#N/A"}},{"$f":"IF(X331>=0,\"Apurado\",\"\")","v":{"$error":"#N/A"}}]
[null,null,null,null,null,null,null,null,null,null,null,null,null,null,null,null,null,null,null,{"$f":"IF(A332=\"\",\"\",G332&A332&J332)","v":""},{"$f":"IF(COUNTIF($T$5:T332,T332)=1,\"SB\",\"\")","v":""},{"$f":"A332&L332&G332","v":""},{"$f":"VLOOKUP(V332,Minimos!$D$3:$E$26,2,FALSE)","v":{"$error":"#N/A"}},{"$f":"M332-W332","v":{"$error":"#N/A"}},{"$f":"IF(X332>=0,\"Apurado\",\"\")","v":{"$error":"#N/A"}}]
[null,null,null,null,null,null,null,null,null,null,null,null,null,null,null,null,null,null,null,{"$f":"IF(A333=\"\",\"\",G333&A333&J333)","v":""},{"$f":"IF(COUNTIF($T$5:T333,T333)=1,\"SB\",\"\")","v":""},{"$f":"A333&L333&G333","v":""},{"$f":"VLOOKUP(V333,Minimos!$D$3:$E$26,2,FALSE)","v":{"$error":"#N/A"}},{"$f":"M333-W333","v":{"$error":"#N/A"}},{"$f":"IF(X333>=0,\"Apurado\",\"\")","v":{"$error":"#N/A"}}]
[null,null,null,null,null,null,null,null,null,null,null,null,null,null,null,null,null,null,null,{"$f":"IF(A334=\"\",\"\",G334&A334&J334)","v":""},{"$f":"IF(COUNTIF($T$5:T334,T334)=1,\"SB\",\"\")","v":""},{"$f":"A334&L334&G334","v":""},{"$f":"VLOOKUP(V334,Minimos!$D$3:$E$26,2,FALSE)","v":{"$error":"#N/A"}},{"$f":"M334-W334","v":{"$error":"#N/A"}},{"$f":"IF(X334>=0,\"Apurado\",\"\")","v":{"$error":"#N/A"}}]
[null,null,null,null,null,null,null,null,null,null,null,null,null,null,null,null,null,null,null,{"$f":"IF(A335=\"\",\"\",G335&A335&J335)","v":""},{"$f":"IF(COUNTIF($T$5:T335,T335)=1,\"SB\",\"\")","v":""},{"$f":"A335&L335&G335","v":""},{"$f":"VLOOKUP(V335,Minimos!$D$3:$E$26,2,FALSE)","v":{"$error":"#N/A"}},{"$f":"M335-W335","v":{"$error":"#N/A"}},{"$f":"IF(X335>=0,\"Apurado\",\"\")","v":{"$error":"#N/A"}}]
[null,null,null,null,null,null,null,null,null,null,null,null,null,null,null,null,null,null,null,{"$f":"IF(A336=\"\",\"\",G336&A336&J336)","v":""},{"$f":"IF(COUNTIF($T$5:T336,T336)=1,\"SB\",\"\")","v":""},{"$f":"A336&L336&G336","v":""},{"$f":"VLOOKUP(V336,Minimos!$D$3:$E$26,2,FALSE)","v":{"$error":"#N/A"}},{"$f":"M336-W336","v":{"$error":"#N/A"}},{"$f":"IF(X336>=0,\"Apurado\",\"\")","v":{"$error":"#N/A"}}]
[null,null,null,null,null,null,null,null,null,null,null,null,null,null,null,null,null,null,null,{"$f":"IF(A337=\"\",\"\",G337&A337&J337)","v":""},{"$f":"IF(COUNTIF($T$5:T337,T337)=1,\"SB\",\"\")","v":""},{"$f":"A337&L337&G337","v":""},{"$f":"VLOOKUP(V337,Minimos!$D$3:$E$26,2,FALSE)","v":{"$error":"#N/A"}},{"$f":"M337-W337","v":{"$error":"#N/A"}},{"$f":"IF(X337>=0,\"Apurado\",\"\")","v":{"$error":"#N/A"}}]
[null,null,null,null,null,null,null,null,null,null,null,null,null,null,null,null,null,null,null,{"$f":"IF(A338=\"\",\"\",G338&A338&J338)","v":""},{"$f":"IF(COUNTIF($T$5:T338,T338)=1,\"SB\",\"\")","v":""},{"$f":"A338&L338&G338","v":""},{"$f":"VLOOKUP(V338,Minimos!$D$3:$E$26,2,FALSE)","v":{"$error":"#N/A"}},{"$f":"M338-W338","v":{"$error":"#N/A"}},{"$f":"IF(X338>=0,\"Apurado\",\"\")","v":{"$error":"#N/A"}}]
[null,null,null,null,null,null,null,null,null,null,null,null,null,null,null,null,null,null,null,{"$f":"IF(A339=\"\",\"\",G339&A339&J339)","v":""},{"$f":"IF(COUNTIF($T$5:T339,T339)=1,\"SB\",\"\")","v":""},{"$f":"A339&L339&G339","v":""},{"$f":"VLOOKUP(V339,Minimos!$D$3:$E$26,2,FALSE)","v":{"$error":"#N/A"}},{"$f":"M339-W339","v":{"$error":"#N/A"}},{"$f":"IF(X339>=0,\"Apurado\",\"\")","v":{"$error":"#N/A"}}]
[null,null,null,null,null,null,null,null,null,null,null,null,null,null,null,null,null,null,null,{"$f":"IF(A340=\"\",\"\",G340&A340&J340)","v":""},{"$f":"IF(COUNTIF($T$5:T340,T340)=1,\"SB\",\"\")","v":""},{"$f":"A340&L340&G340","v":""},{"$f":"VLOOKUP(V340,Minimos!$D$3:$E$26,2,FALSE)","v":{"$error":"#N/A"}},{"$f":"M340-W340","v":{"$error":"#N/A"}},{"$f":"IF(X340>=0,\"Apurado\",\"\")","v":{"$error":"#N/A"}}]
[null,null,null,null,null,null,null,null,null,null,null,null,null,null,null,null,null,null,null,{"$f":"IF(A341=\"\",\"\",G341&A341&J341)","v":""},{"$f":"IF(COUNTIF($T$5:T341,T341)=1,\"SB\",\"\")","v":""},{"$f":"A341&L341&G341","v":""},{"$f":"VLOOKUP(V341,Minimos!$D$3:$E$26,2,FALSE)","v":{"$error":"#N/A"}},{"$f":"M341-W341","v":{"$error":"#N/A"}},{"$f":"IF(X341>=0,\"Apurado\",\"\")","v":{"$error":"#N/A"}}]
[null,null,null,null,null,null,null,null,null,null,null,null,null,null,null,null,null,null,null,{"$f":"IF(A342=\"\",\"\",G342&A342&J342)","v":""},{"$f":"IF(COUNTIF($T$5:T342,T342)=1,\"SB\",\"\")","v":""},{"$f":"A342&L342&G342","v":""},{"$f":"VLOOKUP(V342,Minimos!$D$3:$E$26,2,FALSE)","v":{"$error":"#N/A"}},{"$f":"M342-W342","v":{"$error":"#N/A"}},{"$f":"IF(X342>=0,\"Apurado\",\"\")","v":{"$error":"#N/A"}}]
[null,null,null,null,null,null,null,null,null,null,null,null,null,null,null,null,null,null,null,{"$f":"IF(A343=\"\",\"\",G343&A343&J343)","v":""},{"$f":"IF(COUNTIF($T$5:T343,T343)=1,\"SB\",\"\")","v":""},{"$f":"A343&L343&G343","v":""},{"$f":"VLOOKUP(V343,Minimos!$D$3:$E$26,2,FALSE)","v":{"$error":"#N/A"}},{"$f":"M343-W343","v":{"$error":"#N/A"}},{"$f":"IF(X343>=0,\"Apurado\",\"\")","v":{"$error":"#N/A"}}]
[null,null,null,null,null,null,null,null,null,null,null,null,null,null,null,null,null,null,null,{"$f":"IF(A344=\"\",\"\",G344&A344&J344)","v":""},{"$f":"IF(COUNTIF($T$5:T344,T344)=1,\"SB\",\"\")","v":""},{"$f":"A344&L344&G344","v":""},{"$f":"VLOOKUP(V344,Minimos!$D$3:$E$26,2,FALSE)","v":{"$error":"#N/A"}},{"$f":"M344-W344","v":{"$error":"#N/A"}},{"$f":"IF(X344>=0,\"Apurado\",\"\")","v":{"$error":"#N/A"}}]
[null,null,null,null,null,null,null,null,null,null,null,null,null,null,null,null,null,null,null,{"$f":"IF(A345=\"\",\"\",G345&A345&J345)","v":""},{"$f":"IF(COUNTIF($T$5:T345,T345)=1,\"SB\",\"\")","v":""},{"$f":"A345&L345&G345","v":""},{"$f":"VLOOKUP(V345,Minimos!$D$3:$E$26,2,FALSE)","v":{"$error":"#N/A"}},{"$f":"M345-W345","v":{"$error":"#N/A"}},{"$f":"IF(X345>=0,\"Apurado\",\"\")","v":{"$error":"#N/A"}}]
[null,null,null,null,null,null,null,null,null,null,null,null,null,null,null,null,null,null,null,{"$f":"IF(A346=\"\",\"\",G346&A346&J346)","v":""},{"$f":"IF(COUNTIF($T$5:T346,T346)=1,\"SB\",\"\")","v":""},{"$f":"A346&L346&G346","v":""},{"$f":"VLOOKUP(V346,Minimos!$D$3:$E$26,2,FALSE)","v":{"$error":"#N/A"}},{"$f":"M346-W346","v":{"$error":"#N/A"}},{"$f":"IF(X346>=0,\"Apurado\",\"\")","v":{"$error":"#N/A"}}]
[null,null,null,null,null,null,null,null,null,null,null,null,null,null,null,null,null,null,null,{"$f":"IF(A347=\"\",\"\",G347&A347&J347)","v":""},{"$f":"IF(COUNTIF($T$5:T347,T347)=1,\"SB\",\"\")","v":""},{"$f":"A347&L347&G347","v":""},{"$f":"VLOOKUP(V347,Minimos!$D$3:$E$26,2,FALSE)","v":{"$error":"#N/A"}},{"$f":"M347-W347","v":{"$error":"#N/A"}},{"$f":"IF(X347>=0,\"Apurado\",\"\")","v":{"$error":"#N/A"}}]
[null,null,null,null,null,null,null,null,null,null,null,null,null,null,null,null,null,null,null,{"$f":"IF(A348=\"\",\"\",G348&A348&J348)","v":""},{"$f":"IF(COUNTIF($T$5:T348,T348)=1,\"SB\",\"\")","v":""},{"$f":"A348&L348&G348","v":""},{"$f":"VLOOKUP(V348,Minimos!$D$3:$E$26,2,FALSE)","v":{"$error":"#N/A"}},{"$f":"M348-W348","v":{"$error":"#N/A"}},{"$f":"IF(X348>=0,\"Apurado\",\"\")","v":{"$error":"#N/A"}}]
[null,null,null,null,null,null,null,null,null,null,null,null,null,null,null,null,null,null,null,{"$f":"IF(A349=\"\",\"\",G349&A349&J349)","v":""},{"$f":"IF(COUNTIF($T$5:T349,T349)=1,\"SB\",\"\")","v":""},{"$f":"A349&L349&G349","v":""},{"$f":"VLOOKUP(V349,Minimos!$D$3:$E$26,2,FALSE)","v":{"$error":"#N/A"}},{"$f":"M349-W349","v":{"$error":"#N/A"}},{"$f":"IF(X349>=0,\"Apurado\",\"\")","v":{"$error":"#N/A"}}]
[null,null,null,null,null,null,null,null,null,null,null,null,null,null,null,null,null,null,null,{"$f":"IF(A350=\"\",\"\",G350&A350&J350)","v":""},{"$f":"IF(COUNTIF($T$5:T350,T350)=1,\"SB\",\"\")","v":""},{"$f":"A350&L350&G350","v":""},{"$f":"VLOOKUP(V350,Minimos!$D$3:$E$26,2,FALSE)","v":{"$error":"#N/A"}},{"$f":"M350-W350","v":{"$error":"#N/A"}},{"$f":"IF(X350>=0,\"Apurado\",\"\")","v":{"$error":"#N/A"}}]
[null,null,null,null,null,null,null,null,null,null,null,null,null,null,null,null,null,null,null,{"$f":"IF(A351=\"\",\"\",G351&A351&J351)","v":""},{"$f":"IF(COUNTIF($T$5:T351,T351)=1,\"SB\",\"\")","v":""},{"$f":"A351&L351&G351","v":""},{"$f":"VLOOKUP(V351,Minimos!$D$3:$E$26,2,FALSE)","v":{"$error":"#N/A"}},{"$f":"M351-W351","v":{"$error":"#N/A"}},{"$f":"IF(X351>=0,\"Apurado\",\"\")","v":{"$error":"#N/A"}}]
[null,null,null,null,null,null,null,null,null,null,null,null,null,null,null,null,null,null,null,{"$f":"IF(A352=\"\",\"\",G352&A352&J352)","v":""},{"$f":"IF(COUNTIF($T$5:T352,T352)=1,\"SB\",\"\")","v":""},{"$f":"A352&L352&G352","v":""},{"$f":"VLOOKUP(V352,Minimos!$D$3:$E$26,2,FALSE)","v":{"$error":"#N/A"}},{"$f":"M352-W352","v":{"$error":"#N/A"}},{"$f":"IF(X352>=0,\"Apurado\",\"\")","v":{"$error":"#N/A"}}]
[null,null,null,null,null,null,null,null,null,null,null,null,null,null,null,null,null,null,null,{"$f":"IF(A353=\"\",\"\",G353&A353&J353)","v":""},{"$f":"IF(COUNTIF($T$5:T353,T353)=1,\"SB\",\"\")","v":""},{"$f":"A353&L353&G353","v":""},{"$f":"VLOOKUP(V353,Minimos!$D$3:$E$26,2,FALSE)","v":{"$error":"#N/A"}},{"$f":"M353-W353","v":{"$error":"#N/A"}},{"$f":"IF(X353>=0,\"Apurado\",\"\")","v":{"$error":"#N/A"}}]
[null,null,null,null,null,null,null,null,null,null,null,null,null,null,null,null,null,null,null,{"$f":"IF(A354=\"\",\"\",G354&A354&J354)","v":""},{"$f":"IF(COUNTIF($T$5:T354,T354)=1,\"SB\",\"\")","v":""},{"$f":"A354&L354&G354","v":""},{"$f":"VLOOKUP(V354,Minimos!$D$3:$E$26,2,FALSE)","v":{"$error":"#N/A"}},{"$f":"M354-W354","v":{"$error":"#N/A"}},{"$f":"IF(X354>=0,\"Apurado\",\"\")","v":{"$error":"#N/A"}}]
[null,null,null,null,null,null,null,null,null,null,null,null,null,null,null,null,null,null,null,{"$f":"IF(A355=\"\",\"\",G355&A355&J355)","v":""},{"$f":"IF(COUNTIF($T$5:T355,T355)=1,\"SB\",\"\")","v":""},{"$f":"A355&L355&G355","v":""},{"$f":"VLOOKUP(V355,Minimos!$D$3:$E$26,2,FALSE)","v":{"$error":"#N/A"}},{"$f":"M355-W355","v":{"$error":"#N/A"}},{"$f":"IF(X355>=0,\"Apurado\",\"\")","v":{"$error":"#N/A"}}]
[null,null,null,null,null,null,null,null,null,null,null,null,null,null,null,null,null,null,null,{"$f":"IF(A356=\"\",\"\",G356&A356&J356)","v":""},{"$f":"IF(COUNTIF($T$5:T356,T356)=1,\"SB\",\"\")","v":""},{"$f":"A356&L356&G356","v":""},{"$f":"VLOOKUP(V356,Minimos!$D$3:$E$26,2,FALSE)","v":{"$error":"#N/A"}},{"$f":"M356-W356","v":{"$error":"#N/A"}},{"$f":"IF(X356>=0,\"Apurado\",\"\")","v":{"$error":"#N/A"}}]
[null,null,null,null,null,null,null,null,null,null,null,null,null,null,null,null,null,null,null,{"$f":"IF(A357=\"\",\"\",G357&A357&J357)","v":""},{"$f":"IF(COUNTIF($T$5:T357,T357)=1,\"SB\",\"\")","v":""},{"$f":"A357&L357&G357","v":""},{"$f":"VLOOKUP(V357,Minimos!$D$3:$E$26,2,FALSE)","v":{"$error":"#N/A"}},{"$f":"M357-W357","v":{"$error":"#N/A"}},{"$f":"IF(X357>=0,\"Apurado\",\"\")","v":{"$error":"#N/A"}}]
[null,null,null,null,null,null,null,null,null,null,null,null,null,null,null,null,null,null,null,{"$f":"IF(A358=\"\",\"\",G358&A358&J358)","v":""},{"$f":"IF(COUNTIF($T$5:T358,T358)=1,\"SB\",\"\")","v":""},{"$f":"A358&L358&G358","v":""},{"$f":"VLOOKUP(V358,Minimos!$D$3:$E$26,2,FALSE)","v":{"$error":"#N/A"}},{"$f":"M358-W358","v":{"$error":"#N/A"}},{"$f":"IF(X358>=0,\"Apurado\",\"\")","v":{"$error":"#N/A"}}]
[null,null,null,null,null,null,null,null,null,null,null,null,null,null,null,null,null,null,null,{"$f":"IF(A359=\"\",\"\",G359&A359&J359)","v":""},{"$f":"IF(COUNTIF($T$5:T359,T359)=1,\"SB\",\"\")","v":""},{"$f":"A359&L359&G359","v":""},{"$f":"VLOOKUP(V359,Minimos!$D$3:$E$26,2,FALSE)","v":{"$error":"#N/A"}},{"$f":"M359-W359","v":{"$error":"#N/A"}},{"$f":"IF(X359>=0,\"Apurado\",\"\")","v":{"$error":"#N/A"}}]
[null,null,null,null,null,null,null,null,null,null,null,null,null,null,null,null,null,null,null,{"$f":"IF(A360=\"\",\"\",G360&A360&J360)","v":""},{"$f":"IF(COUNTIF($T$5:T360,T360)=1,\"SB\",\"\")","v":""},{"$f":"A360&L360&G360","v":""},{"$f":"VLOOKUP(V360,Minimos!$D$3:$E$26,2,FALSE)","v":{"$error":"#N/A"}},{"$f":"M360-W360","v":{"$error":"#N/A"}},{"$f":"IF(X360>=0,\"Apurado\",\"\")","v":{"$error":"#N/A"}}]
[null,null,null,null,null,null,null,null,null,null,null,null,null,null,null,null,null,null,null,{"$f":"IF(A361=\"\",\"\",G361&A361&J361)","v":""},{"$f":"IF(COUNTIF($T$5:T361,T361)=1,\"SB\",\"\")","v":""},{"$f":"A361&L361&G361","v":""},{"$f":"VLOOKUP(V361,Minimos!$D$3:$E$26,2,FALSE)","v":{"$error":"#N/A"}},{"$f":"M361-W361","v":{"$error":"#N/A"}},{"$f":"IF(X361>=0,\"Apurado\",\"\")","v":{"$error":"#N/A"}}]
[null,null,null,null,null,null,null,null,null,null,null,null,null,null,null,null,null,null,null,{"$f":"IF(A362=\"\",\"\",G362&A362&J362)","v":""},{"$f":"IF(COUNTIF($T$5:T362,T362)=1,\"SB\",\"\")","v":""},{"$f":"A362&L362&G362","v":""},{"$f":"VLOOKUP(V362,Minimos!$D$3:$E$26,2,FALSE)","v":{"$error":"#N/A"}},{"$f":"M362-W362","v":{"$error":"#N/A"}},{"$f":"IF(X362>=0,\"Apurado\",\"\")","v":{"$error":"#N/A"}}]
[null,null,null,null,null,null,null,null,null,null,null,null,null,null,null,null,null,null,null,{"$f":"IF(A363=\"\",\"\",G363&A363&J363)","v":""},{"$f":"IF(COUNTIF($T$5:T363,T363)=1,\"SB\",\"\")","v":""},{"$f":"A363&L363&G363","v":""},{"$f":"VLOOKUP(V363,Minimos!$D$3:$E$26,2,FALSE)","v":{"$error":"#N/A"}},{"$f":"M363-W363","v":{"$error":"#N/A"}},{"$f":"IF(X363>=0,\"Apurado\",\"\")","v":{"$error":"#N/A"}}]
[null,null,null,null,null,null,null,null,null,null,null,null,null,null,null,null,null,null,null,{"$f":"IF(A364=\"\",\"\",G364&A364&J364)","v":""},{"$f":"IF(COUNTIF($T$5:T364,T364)=1,\"SB\",\"\")","v":""},{"$f":"A364&L364&G364","v":""},{"$f":"VLOOKUP(V364,Minimos!$D$3:$E$26,2,FALSE)","v":{"$error":"#N/A"}},{"$f":"M364-W364","v":{"$error":"#N/A"}},{"$f":"IF(X364>=0,\"Apurado\",\"\")","v":{"$error":"#N/A"}}]
[null,null,null,null,null,null,null,null,null,null,null,null,null,null,null,null,null,null,null,{"$f":"IF(A365=\"\",\"\",G365&A365&J365)","v":""},{"$f":"IF(COUNTIF($T$5:T365,T365)=1,\"SB\",\"\")","v":""},{"$f":"A365&L365&G365","v":""},{"$f":"VLOOKUP(V365,Minimos!$D$3:$E$26,2,FALSE)","v":{"$error":"#N/A"}},{"$f":"M365-W365","v":{"$error":"#N/A"}},{"$f":"IF(X365>=0,\"Apurado\",\"\")","v":{"$error":"#N/A"}}]
[null,null,null,null,null,null,null,null,null,null,null,null,null,null,null,null,null,null,null,{"$f":"IF(A366=\"\",\"\",G366&A366&J366)","v":""},{"$f":"IF(COUNTIF($T$5:T366,T366)=1,\"SB\",\"\")","v":""},{"$f":"A366&L366&G366","v":""},{"$f":"VLOOKUP(V366,Minimos!$D$3:$E$26,2,FALSE)","v":{"$error":"#N/A"}},{"$f":"M366-W366","v":{"$error":"#N/A"}},{"$f":"IF(X366>=0,\"Apurado\",\"\")","v":{"$error":"#N/A"}}]
[null,null,null,null,null,null,null,null,null,null,null,null,null,null,null,null,null,null,null,{"$f":"IF(A367=\"\",\"\",G367&A367&J367)","v":""},{"$f":"IF(COUNTIF($T$5:T367,T367)=1,\"SB\",\"\")","v":""},{"$f":"A367&L367&G367","v":""},{"$f":"VLOOKUP(V367,Minimos!$D$3:$E$26,2,FALSE)","v":{"$error":"#N/A"}},{"$f":"M367-W367","v":{"$error":"#N/A"}},{"$f":"IF(X367>=0,\"Apurado\",\"\")","v":{"$error":"#N/A"}}]
[null,null,null,null,null,null,null,null,null,null,null,null,null,null,null,null,null,null,null,{"$f":"IF(A368=\"\",\"\",G368&A368&J368)","v":""},{"$f":"IF(COUNTIF($T$5:T368,T368)=1,\"SB\",\"\")","v":""},{"$f":"A368&L368&G368","v":""},{"$f":"VLOOKUP(V368,Minimos!$D$3:$E$26,2,FALSE)","v":{"$error":"#N/A"}},{"$f":"M368-W368","v":{"$error":"#N/A"}},{"$f":"IF(X368>=0,\"Apurado\",\"\")","v":{"$error":"#N/A"}}]
[null,null,null,null,null,null,null,null,null,null,null,null,null,null,null,null,null,null,null,{"$f":"IF(A369=\"\",\"\",G369&A369&J369)","v":""},{"$f":"IF(COUNTIF($T$5:T369,T369)=1,\"SB\",\"\")","v":""},{"$f":"A369&L369&G369","v":""},{"$f":"VLOOKUP(V369,Minimos!$D$3:$E$26,2,FALSE)","v":{"$error":"#N/A"}},{"$f":"M369-W369","v":{"$error":"#N/A"}},{"$f":"IF(X369>=0,\"Apurado\",\"\")","v":{"$error":"#N/A"}}]
[null,null,null,null,null,null,null,null,null,null,null,null,null,null,null,null,null,null,null,{"$f":"IF(A370=\"\",\"\",G370&A370&J370)","v":""},{"$f":"IF(COUNTIF($T$5:T370,T370)=1,\"SB\",\"\")","v":""},{"$f":"A370&L370&G370","v":""},{"$f":"VLOOKUP(V370,Minimos!$D$3:$E$26,2,FALSE)","v":{"$error":"#N/A"}},{"$f":"M370-W370","v":{"$error":"#N/A"}},{"$f":"IF(X370>=0,\"Apurado\",\"\")","v":{"$error":"#N/A"}}]
[null,null,null,null,null,null,null,null,null,null,null,null,null,null,null,null,null,null,null,{"$f":"IF(A371=\"\",\"\",G371&A371&J371)","v":""},{"$f":"IF(COUNTIF($T$5:T371,T371)=1,\"SB\",\"\")","v":""},{"$f":"A371&L371&G371","v":""},{"$f":"VLOOKUP(V371,Minimos!$D$3:$E$26,2,FALSE)","v":{"$error":"#N/A"}},{"$f":"M371-W371","v":{"$error":"#N/A"}},{"$f":"IF(X371>=0,\"Apurado\",\"\")","v":{"$error":"#N/A"}}]
[null,null,null,null,null,null,null,null,null,null,null,null,null,null,null,null,null,null,null,{"$f":"IF(A372=\"\",\"\",G372&A372&J372)","v":""},{"$f":"IF(COUNTIF($T$5:T372,T372)=1,\"SB\",\"\")","v":""},{"$f":"A372&L372&G372","v":""},{"$f":"VLOOKUP(V372,Minimos!$D$3:$E$26,2,FALSE)","v":{"$error":"#N/A"}},{"$f":"M372-W372","v":{"$error":"#N/A"}},{"$f":"IF(X372>=0,\"Apurado\",\"\")","v":{"$error":"#N/A"}}]
[null,null,null,null,null,null,null,null,null,null,null,null,null,null,null,null,null,null,null,{"$f":"IF(A373=\"\",\"\",G373&A373&J373)","v":""},{"$f":"IF(COUNTIF($T$5:T373,T373)=1,\"SB\",\"\")","v":""},{"$f":"A373&L373&G373","v":""},{"$f":"VLOOKUP(V373,Minimos!$D$3:$E$26,2,FALSE)","v":{"$error":"#N/A"}},{"$f":"M373-W373","v":{"$error":"#N/A"}},{"$f":"IF(X373>=0,\"Apurado\",\"\")","v":{"$error":"#N/A"}}]
[null,null,null,null,null,null,null,null,null,null,null,null,null,null,null,null,null,null,null,{"$f":"IF(A374=\"\",\"\",G374&A374&J374)","v":""},{"$f":"IF(COUNTIF($T$5:T374,T374)=1,\"SB\",\"\")","v":""},{"$f":"A374&L374&G374","v":""},{"$f":"VLOOKUP(V374,Minimos!$D$3:$E$26,2,FALSE)","v":{"$error":"#N/A"}},{"$f":"M374-W374","v":{"$error":"#N/A"}},{"$f":"IF(X374>=0,\"Apurado\",\"\")","v":{"$error":"#N/A"}}]
[null,null,null,null,null,null,null,null,null,null,null,null,null,null,null,null,null,null,null,{"$f":"IF(A375=\"\",\"\",G375&A375&J375)","v":""},{"$f":"IF(COUNTIF($T$5:T375,T375)=1,\"SB\",\"\")","v":""},{"$f":"A375&L375&G375","v":""},{"$f":"VLOOKUP(V375,Minimos!$D$3:$E$26,2,FALSE)","v":{"$error":"#N/A"}},{"$f":"M375-W375","v":{"$error":"#N/A"}},{"$f":"IF(X375>=0,\"Apurado\",\"\")","v":{"$error":"#N/A"}}]
[null,null,null,null,null,null,null,null,null,null,null,null,null,null,null,null,null,null,null,{"$f":"IF(A376=\"\",\"\",G376&A376&J376)","v":""},{"$f":"IF(COUNTIF($T$5:T376,T376)=1,\"SB\",\"\")","v":""},{"$f":"A376&L376&G376","v":""},{"$f":"VLOOKUP(V376,Minimos!$D$3:$E$26,2,FALSE)","v":{"$error":"#N/A"}},{"$f":"M376-W376","v":{"$error":"#N/A"}},{"$f":"IF(X376>=0,\"Apurado\",\"\")","v":{"$error":"#N/A"}}]
[null,null,null,null,null,null,null,null,null,null,null,null,null,null,null,null,null,null,null,{"$f":"IF(A377=\"\",\"\",G377&A377&J377)","v":""},{"$f":"IF(COUNTIF($T$5:T377,T377)=1,\"SB\",\"\")","v":""},{"$f":"A377&L377&G377","v":""},{"$f":"VLOOKUP(V377,Minimos!$D$3:$E$26,2,FALSE)","v":{"$error":"#N/A"}},{"$f":"M377-W377","v":{"$error":"#N/A"}},{"$f":"IF(X377>=0,\"Apurado\",\"\")","v":{"$error":"#N/A"}}]
[null,null,null,null,null,null,null,null,null,null,null,null,null,null,null,null,null,null,null,{"$f":"IF(A378=\"\",\"\",G378&A378&J378)","v":""},{"$f":"IF(COUNTIF($T$5:T378,T378)=1,\"SB\",\"\")","v":""},{"$f":"A378&L378&G378","v":""},{"$f":"VLOOKUP(V378,Minimos!$D$3:$E$26,2,FALSE)","v":{"$error":"#N/A"}},{"$f":"M378-W378","v":{"$error":"#N/A"}},{"$f":"IF(X378>=0,\"Apurado\",\"\")","v":{"$error":"#N/A"}}]
[null,null,null,null,null,null,null,null,null,null,null,null,null,null,null,null,null,null,null,{"$f":"IF(A379=\"\",\"\",G379&A379&J379)","v":""},{"$f":"IF(COUNTIF($T$5:T379,T379)=1,\"SB\",\"\")","v":""},{"$f":"A379&L379&G379","v":""},{"$f":"VLOOKUP(V379,Minimos!$D$3:$E$26,2,FALSE)","v":{"$error":"#N/A"}},{"$f":"M379-W379","v":{"$error":"#N/A"}},{"$f":"IF(X379>=0,\"Apurado\",\"\")","v":{"$error":"#N/A"}}]
[null,null,null,null,null,null,null,null,null,null,null,null,null,null,null,null,null,null,null,{"$f":"IF(A380=\"\",\"\",G380&A380&J380)","v":""},{"$f":"IF(COUNTIF($T$5:T380,T380)=1,\"SB\",\"\")","v":""},{"$f":"A380&L380&G380","v":""},{"$f":"VLOOKUP(V380,Minimos!$D$3:$E$26,2,FALSE)","v":{"$error":"#N/A"}},{"$f":"M380-W380","v":{"$error":"#N/A"}},{"$f":"IF(X380>=0,\"Apurado\",\"\")","v":{"$error":"#N/A"}}]
[null,null,null,null,null,null,null,null,null,null,null,null,null,null,null,null,null,null,null,{"$f":"IF(A381=\"\",\"\",G381&A381&J381)","v":""},{"$f":"IF(COUNTIF($T$5:T381,T381)=1,\"SB\",\"\")","v":""},{"$f":"A381&L381&G381","v":""},{"$f":"VLOOKUP(V381,Minimos!$D$3:$E$26,2,FALSE)","v":{"$error":"#N/A"}},{"$f":"M381-W381","v":{"$error":"#N/A"}},{"$f":"IF(X381>=0,\"Apurado\",\"\")","v":{"$error":"#N/A"}}]
[null,null,null,null,null,null,null,null,null,null,null,null,null,null,null,null,null,null,null,{"$f":"IF(A382=\"\",\"\",G382&A382&J382)","v":""},{"$f":"IF(COUNTIF($T$5:T382,T382)=1,\"SB\",\"\")","v":""},{"$f":"A382&L382&G382","v":""},{"$f":"VLOOKUP(V382,Minimos!$D$3:$E$26,2,FALSE)","v":{"$error":"#N/A"}},{"$f":"M382-W382","v":{"$error":"#N/A"}},{"$f":"IF(X382>=0,\"Apurado\",\"\")","v":{"$error":"#N/A"}}]
[null,null,null,null,null,null,null,null,null,null,null,null,null,null,null,null,null,null,null,{"$f":"IF(A383=\"\",\"\",G383&A383&J383)","v":""},{"$f":"IF(COUNTIF($T$5:T383,T383)=1,\"SB\",\"\")","v":""},{"$f":"A383&L383&G383","v":""},{"$f":"VLOOKUP(V383,Minimos!$D$3:$E$26,2,FALSE)","v":{"$error":"#N/A"}},{"$f":"M383-W383","v":{"$error":"#N/A"}},{"$f":"IF(X383>=0,\"Apurado\",\"\")","v":{"$error":"#N/A"}}]
[null,null,null,null,null,null,null,null,null,null,null,null,null,null,null,null,null,null,null,{"$f":"IF(A384=\"\",\"\",G384&A384&J384)","v":""},{"$f":"IF(COUNTIF($T$5:T384,T384)=1,\"SB\",\"\")","v":""},{"$f":"A384&L384&G384","v":""},{"$f":"VLOOKUP(V384,Minimos!$D$3:$E$26,2,FALSE)","v":{"$error":"#N/A"}},{"$f":"M384-W384","v":{"$error":"#N/A"}},{"$f":"IF(X384>=0,\"Apurado\",\"\")","v":{"$error":"#N/A"}}]
[null,null,null,null,null,null,null,null,null,null,null,null,null,null,null,null,null,null,null,{"$f":"IF(A385=\"\",\"\",G385&A385&J385)","v":""},{"$f":"IF(COUNTIF($T$5:T385,T385)=1,\"SB\",\"\")","v":""},{"$f":"A385&L385&G385","v":""},{"$f":"VLOOKUP(V385,Minimos!$D$3:$E$26,2,FALSE)","v":{"$error":"#N/A"}},{"$f":"M385-W385","v":{"$error":"#N/A"}},{"$f":"IF(X385>=0,\"Apurado\",\"\")","v":{"$error":"#N/A"}}]
[null,null,null,null,null,null,null,null,null,null,null,null,null,null,null,null,null,null,null,{"$f":"IF(A386=\"\",\"\",G386&A386&J386)","v":""},{"$f":"IF(COUNTIF($T$5:T386,T386)=1,\"SB\",\"\")","v":""},{"$f":"A386&L386&G386","v":""},{"$f":"VLOOKUP(V386,Minimos!$D$3:$E$26,2,FALSE)","v":{"$error":"#N/A"}},{"$f":"M386-W386","v":{"$error":"#N/A"}},{"$f":"IF(X386>=0,\"Apurado\",\"\")","v":{"$error":"#N/A"}}]
[null,null,null,null,null,null,null,null,null,null,null,null,null,null,null,null,null,null,null,{"$f":"IF(A387=\"\",\"\",G387&A387&J387)","v":""},{"$f":"IF(COUNTIF($T$5:T387,T387)=1,\"SB\",\"\")","v":""},{"$f":"A387&L387&G387","v":""},{"$f":"VLOOKUP(V387,Minimos!$D$3:$E$26,2,FALSE)","v":{"$error":"#N/A"}},{"$f":"M387-W387","v":{"$error":"#N/A"}},{"$f":"IF(X387>=0,\"Apurado\",\"\")","v":{"$error":"#N/A"}}]
[null,null,null,null,null,null,null,null,null,null,null,null,null,null,null,null,null,null,null,{"$f":"IF(A388=\"\",\"\",G388&A388&J388)","v":""},{"$f":"IF(COUNTIF($T$5:T388,T388)=1,\"SB\",\"\")","v":""},{"$f":"A388&L388&G388","v":""},{"$f":"VLOOKUP(V388,Minimos!$D$3:$E$26,2,FALSE)","v":{"$error":"#N/A"}},{"$f":"M388-W388","v":{"$error":"#N/A"}},{"$f":"IF(X388>=0,\"Apurado\",\"\")","v":{"$error":"#N/A"}}]
[null,null,null,null,null,null,null,null,null,null,null,null,null,null,null,null,null,null,null,{"$f":"IF(A389=\"\",\"\",G389&A389&J389)","v":""},{"$f":"IF(COUNTIF($T$5:T389,T389)=1,\"SB\",\"\")","v":""},{"$f":"A389&L389&G389","v":""},{"$f":"VLOOKUP(V389,Minimos!$D$3:$E$26,2,FALSE)","v":{"$error":"#N/A"}},{"$f":"M389-W389","v":{"$error":"#N/A"}},{"$f":"IF(X389>=0,\"Apurado\",\"\")","v":{"$error":"#N/A"}}]
[null,null,null,null,null,null,null,null,null,null,null,null,null,null,null,null,null,null,null,{"$f":"IF(A390=\"\",\"\",G390&A390&J390)","v":""},{"$f":"IF(COUNTIF($T$5:T390,T390)=1,\"SB\",\"\")","v":""},{"$f":"A390&L390&G390","v":""},{"$f":"VLOOKUP(V390,Minimos!$D$3:$E$26,2,FALSE)","v":{"$error":"#N/A"}},{"$f":"M390-W390","v":{"$error":"#N/A"}},{"$f":"IF(X390>=0,\"Apurado\",\"\")","v":{"$error":"#N/A"}}]
[null,null,null,null,null,null,null,null,null,null,null,null,null,null,null,null,null,null,null,{"$f":"IF(A391=\"\",\"\",G391&A391&J391)","v":""},{"$f":"IF(COUNTIF($T$5:T391,T391)=1,\"SB\",\"\")","v":""},{"$f":"A391&L391&G391","v":""},{"$f":"VLOOKUP(V391,Minimos!$D$3:$E$26,2,FALSE)","v":{"$error":"#N/A"}},{"$f":"M391-W391","v":{"$error":"#N/A"}},{"$f":"IF(X391>=0,\"Apurado\",\"\")","v":{"$error":"#N/A"}}]
[null,null,null,null,null,null,null,null,null,null,null,null,null,null,null,null,null,null,null,{"$f":"IF(A392=\"\",\"\",G392&A392&J392)","v":""},{"$f":"IF(COUNTIF($T$5:T392,T392)=1,\"SB\",\"\")","v":""},{"$f":"A392&L392&G392","v":""},{"$f":"VLOOKUP(V392,Minimos!$D$3:$E$26,2,FALSE)","v":{"$error":"#N/A"}},{"$f":"M392-W392","v":{"$error":"#N/A"}},{"$f":"IF(X392>=0,\"Apurado\",\"\")","v":{"$error":"#N/A"}}]
[null,null,null,null,null,null,null,null,null,null,null,null,null,null,null,null,null,null,null,{"$f":"IF(A393=\"\",\"\",G393&A393&J393)","v":""},{"$f":"IF(COUNTIF($T$5:T393,T393)=1,\"SB\",\"\")","v":""},{"$f":"A393&L393&G393","v":""},{"$f":"VLOOKUP(V393,Minimos!$D$3:$E$26,2,FALSE)","v":{"$error":"#N/A"}},{"$f":"M393-W393","v":{"$error":"#N/A"}},{"$f":"IF(X393>=0,\"Apurado\",\"\")","v":{"$error":"#N/A"}}]
[null,null,null,null,null,null,null,null,null,null,null,null,null,null,null,null,null,null,null,{"$f":"IF(A394=\"\",\"\",G394&A394&J394)","v":""},{"$f":"IF(COUNTIF($T$5:T394,T394)=1,\"SB\",\"\")","v":""},{"$f":"A394&L394&G394","v":""},{"$f":"VLOOKUP(V394,Minimos!$D$3:$E$26,2,FALSE)","v":{"$error":"#N/A"}},{"$f":"M394-W394","v":{"$error":"#N/A"}},{"$f":"IF(X394>=0,\"Apurado\",\"\")","v":{"$error":"#N/A"}}]
[null,null,null,null,null,null,null,null,null,null,null,null,null,null,null,null,null,null,null,{"$f":"IF(A395=\"\",\"\",G395&A395&J395)","v":""},{"$f":"IF(COUNTIF($T$5:T395,T395)=1,\"SB\",\"\")","v":""},{"$f":"A395&L395&G395","v":""},{"$f":"VLOOKUP(V395,Minimos!$D$3:$E$26,2,FALSE)","v":{"$error":"#N/A"}},{"$f":"M395-W395","v":{"$error":"#N/A"}},{"$f":"IF(X395>=0,\"Apurado\",\"\")","v":{"$error":"#N/A"}}]
[null,null,null,null,null,null,null,null,null,null,null,null,null,null,null,null,null,null,null,{"$f":"IF(A396=\"\",\"\",G396&A396&J396)","v":""},{"$f":"IF(COUNTIF($T$5:T396,T396)=1,\"SB\",\"\")","v":""},{"$f":"A396&L396&G396","v":""},{"$f":"VLOOKUP(V396,Minimos!$D$3:$E$26,2,FALSE)","v":{"$error":"#N/A"}},{"$f":"M396-W396","v":{"$error":"#N/A"}},{"$f":"IF(X396>=0,\"Apurado\",\"\")","v":{"$error":"#N/A"}}]
[null,null,null,null,null,null,null,null,null,null,null,null,null,null,null,null,null,null,null,{"$f":"IF(A397=\"\",\"\",G397&A397&J397)","v":""},{"$f":"IF(COUNTIF($T$5:T397,T397)=1,\"SB\",\"\")","v":""},{"$f":"A397&L397&G397","v":""},{"$f":"VLOOKUP(V397,Minimos!$D$3:$E$26,2,FALSE)","v":{"$error":"#N/A"}},{"$f":"M397-W397","v":{"$error":"#N/A"}},{"$f":"IF(X397>=0,\"Apurado\",\"\")","v":{"$error":"#N/A"}}]
[null,null,null,null,null,null,null,null,null,null,null,null,null,null,null,null,null,null,null,{"$f":"IF(A398=\"\",\"\",G398&A398&J398)","v":""},{"$f":"IF(COUNTIF($T$5:T398,T398)=1,\"SB\",\"\")","v":""},{"$f":"A398&L398&G398","v":""},{"$f":"VLOOKUP(V398,Minimos!$D$3:$E$26,2,FALSE)","v":{"$error":"#N/A"}},{"$f":"M398-W398","v":{"$error":"#N/A"}},{"$f":"IF(X398>=0,\"Apurado\",\"\")","v":{"$error":"#N/A"}}]
[null,null,null,null,null,null,null,null,null,null,null,null,null,null,null,null,null,null,null,{"$f":"IF(A399=\"\",\"\",G399&A399&J399)","v":""},{"$f":"IF(COUNTIF($T$5:T399,T399)=1,\"SB\",\"\")","v":""},{"$f":"A399&L399&G399","v":""},{"$f":"VLOOKUP(V399,Minimos!$D$3:$E$26,2,FALSE)","v":{"$error":"#N/A"}},{"$f":"M399-W399","v":{"$error":"#N/A"}},{"$f":"IF(X399>=0,\"Apurado\",\"\")","v":{"$error":"#N/A"}}]
[null,null,null,null,null,null,null,null,null,null,null,null,null,null,null,null,null,null,null,{"$f":"IF(A400=\"\",\"\",G400&A400&J400)","v":""},{"$f":"IF(COUNTIF($T$5:T400,T400)=1,\"SB\",\"\")","v":""},{"$f":"A400&L400&G400","v":""},{"$f":"VLOOKUP(V400,Minimos!$D$3:$E$26,2,FALSE)","v":{"$error":"#N/A"}},{"$f":"M400-W400","v":{"$error":"#N/A"}},{"$f":"IF(X400>=0,\"Apurado\",\"\")","v":{"$error":"#N/A"}}]
[null,null,null,null,null,null,null,null,null,null,null,null,null,null,null,null,null,null,null,{"$f":"IF(A401=\"\",\"\",G401&A401&J401)","v":""},{"$f":"IF(COUNTIF($T$5:T401,T401)=1,\"SB\",\"\")","v":""},{"$f":"A401&L401&G401","v":""},{"$f":"VLOOKUP(V401,Minimos!$D$3:$E$26,2,FALSE)","v":{"$error":"#N/A"}},{"$f":"M401-W401","v":{"$error":"#N/A"}},{"$f":"IF(X401>=0,\"Apurado\",\"\")","v":{"$error":"#N/A"}}]
[null,null,null,null,null,null,null,null,null,null,null,null,null,null,null,null,null,null,null,{"$f":"IF(A402=\"\",\"\",G402&A402&J402)","v":""},{"$f":"IF(COUNTIF($T$5:T402,T402)=1,\"SB\",\"\")","v":""},{"$f":"A402&L402&G402","v":""},{"$f":"VLOOKUP(V402,Minimos!$D$3:$E$26,2,FALSE)","v":{"$error":"#N/A"}},{"$f":"M402-W402","v":{"$error":"#N/A"}},{"$f":"IF(X402>=0,\"Apurado\",\"\")","v":{"$error":"#N/A"}}]
[null,null,null,null,null,null,null,null,null,null,null,null,null,null,null,null,null,null,null,{"$f":"IF(A403=\"\",\"\",G403&A403&J403)","v":""},{"$f":"IF(COUNTIF($T$5:T403,T403)=1,\"SB\",\"\")","v":""},{"$f":"A403&L403&G403","v":""},{"$f":"VLOOKUP(V403,Minimos!$D$3:$E$26,2,FALSE)","v":{"$error":"#N/A"}},{"$f":"M403-W403","v":{"$error":"#N/A"}},{"$f":"IF(X403>=0,\"Apurado\",\"\")","v":{"$error":"#N/A"}}]
[null,null,null,null,null,null,null,null,null,null,null,null,null,null,null,null,null,null,null,{"$f":"IF(A404=\"\",\"\",G404&A404&J404)","v":""},{"$f":"IF(COUNTIF($T$5:T404,T404)=1,\"SB\",\"\")","v":""},{"$f":"A404&L404&G404","v":""},{"$f":"VLOOKUP(V404,Minimos!$D$3:$E$26,2,FALSE)","v":{"$error":"#N/A"}},{"$f":"M404-W404","v":{"$error":"#N/A"}},{"$f":"IF(X404>=0,\"Apurado\",\"\")","v":{"$error":"#N/A"}}]
[null,null,null,null,null,null,null,null,null,null,null,null,null,null,null,null,null,null,null,{"$f":"IF(A405=\"\",\"\",G405&A405&J405)","v":""},{"$f":"IF(COUNTIF($T$5:T405,T405)=1,\"SB\",\"\")","v":""},{"$f":"A405&L405&G405","v":""},{"$f":"VLOOKUP(V405,Minimos!$D$3:$E$26,2,FALSE)","v":{"$error":"#N/A"}},{"$f":"M405-W405","v":{"$error":"#N/A"}},{"$f":"IF(X405>=0,\"Apurado\",\"\")","v":{"$error":"#N/A"}}]
[null,null,null,null,null,null,null,null,null,null,null,null,null,null,null,null,null,null,null,{"$f":"IF(A406=\"\",\"\",G406&A406&J406)","v":""},{"$f":"IF(COUNTIF($T$5:T406,T406)=1,\"SB\",\"\")","v":""},{"$f":"A406&L406&G406","v":""},{"$f":"VLOOKUP(V406,Minimos!$D$3:$E$26,2,FALSE)","v":{"$error":"#N/A"}},{"$f":"M406-W406","v":{"$error":"#N/A"}},{"$f":"IF(X406>=0,\"Apurado\",\"\")","v":{"$error":"#N/A"}}]
[null,null,null,null,null,null,null,null,null,null,null,null,null,null,null,null,null,null,null,{"$f":"IF(A407=\"\",\"\",G407&A407&J407)","v":""},{"$f":"IF(COUNTIF($T$5:T407,T407)=1,\"SB\",\"\")","v":""},{"$f":"A407&L407&G407","v":""},{"$f":"VLOOKUP(V407,Minimos!$D$3:$E$26,2,FALSE)","v":{"$error":"#N/A"}},{"$f":"M407-W407","v":{"$error":"#N/A"}},{"$f":"IF(X407>=0,\"Apurado\",\"\")","v":{"$error":"#N/A"}}]
[null,null,null,null,null,null,null,null,null,null,null,null,null,null,null,null,null,null,null,{"$f":"IF(A408=\"\",\"\",G408&A408&J408)","v":""},{"$f":"IF(COUNTIF($T$5:T408,T408)=1,\"SB\",\"\")","v":""},{"$f":"A408&L408&G408","v":""},{"$f":"VLOOKUP(V408,Minimos!$D$3:$E$26,2,FALSE)","v":{"$error":"#N/A"}},{"$f":"M408-W408","v":{"$error":"#N/A"}},{"$f":"IF(X408>=0,\"Apurado\",\"\")","v":{"$error":"#N/A"}}]
[null,null,null,null,null,null,null,null,null,null,null,null,null,null,null,null,null,null,null,{"$f":"IF(A409=\"\",\"\",G409&A409&J409)","v":""},{"$f":"IF(COUNTIF($T$5:T409,T409)=1,\"SB\",\"\")","v":""},{"$f":"A409&L409&G409","v":""},{"$f":"VLOOKUP(V409,Minimos!$D$3:$E$26,2,FALSE)","v":{"$error":"#N/A"}},{"$f":"M409-W409","v":{"$error":"#N/A"}},{"$f":"IF(X409>=0,\"Apurado\",\"\")","v":{"$error":"#N/A"}}]
[null,null,null,null,null,null,null,null,null,null,null,null,null,null,null,null,null,null,null,{"$f":"IF(A410=\"\",\"\",G410&A410&J410)","v":""},{"$f":"IF(COUNTIF($T$5:T410,T410)=1,\"SB\",\"\")","v":""},{"$f":"A410&L410&G410","v":""},{"$f":"VLOOKUP(V410,Minimos!$D$3:$E$26,2,FALSE)","v":{"$error":"#N/A"}},{"$f":"M410-W410","v":{"$error":"#N/A"}},{"$f":"IF(X410>=0,\"Apurado\",\"\")","v":{"$error":"#N/A"}}]
[null,null,null,null,null,null,null,null,null,null,null,null,null,null,null,null,null,null,null,{"$f":"IF(A411=\"\",\"\",G411&A411&J411)","v":""},{"$f":"IF(COUNTIF($T$5:T411,T411)=1,\"SB\",\"\")","v":""},{"$f":"A411&L411&G411","v":""},{"$f":"VLOOKUP(V411,Minimos!$D$3:$E$26,2,FALSE)","v":{"$error":"#N/A"}},{"$f":"M411-W411","v":{"$error":"#N/A"}},{"$f":"IF(X411>=0,\"Apurado\",\"\")","v":{"$error":"#N/A"}}]
[null,null,null,null,null,null,null,null,null,null,null,null,null,null,null,null,null,null,null,{"$f":"IF(A412=\"\",\"\",G412&A412&J412)","v":""},{"$f":"IF(COUNTIF($T$5:T412,T412)=1,\"SB\",\"\")","v":""},{"$f":"A412&L412&G412","v":""},{"$f":"VLOOKUP(V412,Minimos!$D$3:$E$26,2,FALSE)","v":{"$error":"#N/A"}},{"$f":"M412-W412","v":{"$error":"#N/A"}},{"$f":"IF(X412>=0,\"Apurado\",\"\")","v":{"$error":"#N/A"}}]
[null,null,null,null,null,null,null,null,null,null,null,null,null,null,null,null,null,null,null,{"$f":"IF(A413=\"\",\"\",G413&A413&J413)","v":""},{"$f":"IF(COUNTIF($T$5:T413,T413)=1,\"SB\",\"\")","v":""},{"$f":"A413&L413&G413","v":""},{"$f":"VLOOKUP(V413,Minimos!$D$3:$E$26,2,FALSE)","v":{"$error":"#N/A"}},{"$f":"M413-W413","v":{"$error":"#N/A"}},{"$f":"IF(X413>=0,\"Apurado\",\"\")","v":{"$error":"#N/A"}}]
[null,null,null,null,null,null,null,null,null,null,null,null,null,null,null,null,null,null,null,{"$f":"IF(A414=\"\",\"\",G414&A414&J414)","v":""},{"$f":"IF(COUNTIF($T$5:T414,T414)=1,\"SB\",\"\")","v":""},{"$f":"A414&L414&G414","v":""},{"$f":"VLOOKUP(V414,Minimos!$D$3:$E$26,2,FALSE)","v":{"$error":"#N/A"}},{"$f":"M414-W414","v":{"$error":"#N/A"}},{"$f":"IF(X414>=0,\"Apurado\",\"\")","v":{"$error":"#N/A"}}]
[null,null,null,null,null,null,null,null,null,null,null,null,null,null,null,null,null,null,null,{"$f":"IF(A415=\"\",\"\",G415&A415&J415)","v":""},{"$f":"IF(COUNTIF($T$5:T415,T415)=1,\"SB\",\"\")","v":""},{"$f":"A415&L415&G415","v":""},{"$f":"VLOOKUP(V415,Minimos!$D$3:$E$26,2,FALSE)","v":{"$error":"#N/A"}},{"$f":"M415-W415","v":{"$error":"#N/A"}},{"$f":"IF(X415>=0,\"Apurado\",\"\")","v":{"$error":"#N/A"}}]
[null,null,null,null,null,null,null,null,null,null,null,null,null,null,null,null,null,null,null,{"$f":"IF(A416=\"\",\"\",G416&A416&J416)","v":""},{"$f":"IF(COUNTIF($T$5:T416,T416)=1,\"SB\",\"\")","v":""},{"$f":"A416&L416&G416","v":""},{"$f":"VLOOKUP(V416,Minimos!$D$3:$E$26,2,FALSE)","v":{"$error":"#N/A"}},{"$f":"M416-W416","v":{"$error":"#N/A"}},{"$f":"IF(X416>=0,\"Apurado\",\"\")","v":{"$error":"#N/A"}}]
[null,null,null,null,null,null,null,null,null,null,null,null,null,null,null,null,null,null,null,{"$f":"IF(A417=\"\",\"\",G417&A417&J417)","v":""},{"$f":"IF(COUNTIF($T$5:T417,T417)=1,\"SB\",\"\")","v":""},{"$f":"A417&L417&G417","v":""},{"$f":"VLOOKUP(V417,Minimos!$D$3:$E$26,2,FALSE)","v":{"$error":"#N/A"}},{"$f":"M417-W417","v":{"$error":"#N/A"}},{"$f":"IF(X417>=0,\"Apurado\",\"\")","v":{"$error":"#N/A"}}]
[null,null,null,null,null,null,null,null,null,null,null,null,null,null,null,null,null,null,null,{"$f":"IF(A418=\"\",\"\",G418&A418&J418)","v":""},{"$f":"IF(COUNTIF($T$5:T418,T418)=1,\"SB\",\"\")","v":""},{"$f":"A418&L418&G418","v":""},{"$f":"VLOOKUP(V418,Minimos!$D$3:$E$26,2,FALSE)","v":{"$error":"#N/A"}},{"$f":"M418-W418","v":{"$error":"#N/A"}},{"$f":"IF(X418>=0,\"Apurado\",\"\")","v":{"$error":"#N/A"}}]
[null,null,null,null,null,null,null,null,null,null,null,null,null,null,null,null,null,null,null,{"$f":"IF(A419=\"\",\"\",G419&A419&J419)","v":""},{"$f":"IF(COUNTIF($T$5:T419,T419)=1,\"SB\",\"\")","v":""},{"$f":"A419&L419&G419","v":""},{"$f":"VLOOKUP(V419,Minimos!$D$3:$E$26,2,FALSE)","v":{"$error":"#N/A"}},{"$f":"M419-W419","v":{"$error":"#N/A"}},{"$f":"IF(X419>=0,\"Apurado\",\"\")","v":{"$error":"#N/A"}}]
[null,null,null,null,null,null,null,null,null,null,null,null,null,null,null,null,null,null,null,{"$f":"IF(A420=\"\",\"\",G420&A420&J420)","v":""},{"$f":"IF(COUNTIF($T$5:T420,T420)=1,\"SB\",\"\")","v":""},{"$f":"A420&L420&G420","v":""},{"$f":"VLOOKUP(V420,Minimos!$D$3:$E$26,2,FALSE)","v":{"$error":"#N/A"}},{"$f":"M420-W420","v":{"$error":"#N/A"}},{"$f":"IF(X420>=0,\"Apurado\",\"\")","v":{"$error":"#N/A"}}]
[null,null,null,null,null,null,null,null,null,null,null,null,null,null,null,null,null,null,null,{"$f":"IF(A421=\"\",\"\",G421&A421&J421)","v":""},{"$f":"IF(COUNTIF($T$5:T421,T421)=1,\"SB\",\"\")","v":""},{"$f":"A421&L421&G421","v":""},{"$f":"VLOOKUP(V421,Minimos!$D$3:$E$26,2,FALSE)","v":{"$error":"#N/A"}},{"$f":"M421-W421","v":{"$error":"#N/A"}},{"$f":"IF(X421>=0,\"Apurado\",\"\")","v":{"$error":"#N/A"}}]
[null,null,null,null,null,null,null,null,null,null,null,null,null,null,null,null,null,null,null,{"$f":"IF(A422=\"\",\"\",G422&A422&J422)","v":""},{"$f":"IF(COUNTIF($T$5:T422,T422)=1,\"SB\",\"\")","v":""},{"$f":"A422&L422&G422","v":""},{"$f":"VLOOKUP(V422,Minimos!$D$3:$E$26,2,FALSE)","v":{"$error":"#N/A"}},{"$f":"M422-W422","v":{"$error":"#N/A"}},{"$f":"IF(X422>=0,\"Apurado\",\"\")","v":{"$error":"#N/A"}}]
[null,null,null,null,null,null,null,null,null,null,null,null,null,null,null,null,null,null,null,{"$f":"IF(A423=\"\",\"\",G423&A423&J423)","v":""},{"$f":"IF(COUNTIF($T$5:T423,T423)=1,\"SB\",\"\")","v":""},{"$f":"A423&L423&G423","v":""},{"$f":"VLOOKUP(V423,Minimos!$D$3:$E$26,2,FALSE)","v":{"$error":"#N/A"}},{"$f":"M423-W423","v":{"$error":"#N/A"}},{"$f":"IF(X423>=0,\"Apurado\",\"\")","v":{"$error":"#N/A"}}]
[null,null,null,null,null,null,null,null,null,null,null,null,null,null,null,null,null,null,null,{"$f":"IF(A424=\"\",\"\",G424&A424&J424)","v":""},{"$f":"IF(COUNTIF($T$5:T424,T424)=1,\"SB\",\"\")","v":""},{"$f":"A424&L424&G424","v":""},{"$f":"VLOOKUP(V424,Minimos!$D$3:$E$26,2,FALSE)","v":{"$error":"#N/A"}},{"$f":"M424-W424","v":{"$error":"#N/A"}},{"$f":"IF(X424>=0,\"Apurado\",\"\")","v":{"$error":"#N/A"}}]
[null,null,null,null,null,null,null,null,null,null,null,null,null,null,null,null,null,null,null,{"$f":"IF(A425=\"\",\"\",G425&A425&J425)","v":""},{"$f":"IF(COUNTIF($T$5:T425,T425)=1,\"SB\",\"\")","v":""},{"$f":"A425&L425&G425","v":""},{"$f":"VLOOKUP(V425,Minimos!$D$3:$E$26,2,FALSE)","v":{"$error":"#N/A"}},{"$f":"M425-W425","v":{"$error":"#N/A"}},{"$f":"IF(X425>=0,\"Apurado\",\"\")","v":{"$error":"#N/A"}}]
[null,null,null,null,null,null,null,null,null,null,null,null,null,null,null,null,null,null,null,{"$f":"IF(A426=\"\",\"\",G426&A426&J426)","v":""},{"$f":"IF(COUNTIF($T$5:T426,T426)=1,\"SB\",\"\")","v":""},{"$f":"A426&L426&G426","v":""},{"$f":"VLOOKUP(V426,Minimos!$D$3:$E$26,2,FALSE)","v":{"$error":"#N/A"}},{"$f":"M426-W426","v":{"$error":"#N/A"}},{"$f":"IF(X426>=0,\"Apurado\",\"\")","v":{"$error":"#N/A"}}]
[null,null,null,null,null,null,null,null,null,null,null,null,null,null,null,null,null,null,null,{"$f":"IF(A427=\"\",\"\",G427&A427&J427)","v":""},{"$f":"IF(COUNTIF($T$5:T427,T427)=1,\"SB\",\"\")","v":""},{"$f":"A427&L427&G427","v":""},{"$f":"VLOOKUP(V427,Minimos!$D$3:$E$26,2,FALSE)","v":{"$error":"#N/A"}},{"$f":"M427-W427","v":{"$error":"#N/A"}},{"$f":"IF(X427>=0,\"Apurado\",\"\")","v":{"$error":"#N/A"}}]
[null,null,null,null,null,null,null,null,null,null,null,null,null,null,null,null,null,null,null,{"$f":"IF(A428=\"\",\"\",G428&A428&J428)","v":""},{"$f":"IF(COUNTIF($T$5:T428,T428)=1,\"SB\",\"\")","v":""},{"$f":"A428&L428&G428","v":""},{"$f":"VLOOKUP(V428,Minimos!$D$3:$E$26,2,FALSE)","v":{"$error":"#N/A"}},{"$f":"M428-W428","v":{"$error":"#N/A"}},{"$f":"IF(X428>=0,\"Apurado\",\"\")","v":{"$error":"#N/A"}}]
[null,null,null,null,null,null,null,null,null,null,null,null,null,null,null,null,null,null,null,{"$f":"IF(A429=\"\",\"\",G429&A429&J429)","v":""},{"$f":"IF(COUNTIF($T$5:T429,T429)=1,\"SB\",\"\")","v":""},{"$f":"A429&L429&G429","v":""},{"$f":"VLOOKUP(V429,Minimos!$D$3:$E$26,2,FALSE)","v":{"$error":"#N/A"}},{"$f":"M429-W429","v":{"$error":"#N/A"}},{"$f":"IF(X429>=0,\"Apurado\",\"\")","v":{"$error":"#N/A"}}]
[null,null,null,null,null,null,null,null,null,null,null,null,null,null,null,null,null,null,null,{"$f":"IF(A430=\"\",\"\",G430&A430&J430)","v":""},{"$f":"IF(COUNTIF($T$5:T430,T430)=1,\"SB\",\"\")","v":""},{"$f":"A430&L430&G430","v":""},{"$f":"VLOOKUP(V430,Minimos!$D$3:$E$26,2,FALSE)","v":{"$error":"#N/A"}},{"$f":"M430-W430","v":{"$error":"#N/A"}},{"$f":"IF(X430>=0,\"Apurado\",\"\")","v":{"$error":"#N/A"}}]
[null,null,null,null,null,null,null,null,null,null,null,null,null,null,null,null,null,null,null,{"$f":"IF(A431=\"\",\"\",G431&A431&J431)","v":""},{"$f":"IF(COUNTIF($T$5:T431,T431)=1,\"SB\",\"\")","v":""},{"$f":"A431&L431&G431","v":""},{"$f":"VLOOKUP(V431,Minimos!$D$3:$E$26,2,FALSE)","v":{"$error":"#N/A"}},{"$f":"M431-W431","v":{"$error":"#N/A"}},{"$f":"IF(X431>=0,\"Apurado\",\"\")","v":{"$error":"#N/A"}}]
[null,null,null,null,null,null,null,null,null,null,null,null,null,null,null,null,null,null,null,{"$f":"IF(A432=\"\",\"\",G432&A432&J432)","v":""},{"$f":"IF(COUNTIF($T$5:T432,T432)=1,\"SB\",\"\")","v":""},{"$f":"A432&L432&G432","v":""},{"$f":"VLOOKUP(V432,Minimos!$D$3:$E$26,2,FALSE)","v":{"$error":"#N/A"}},{"$f":"M432-W432","v":{"$error":"#N/A"}},{"$f":"IF(X432>=0,\"Apurado\",\"\")","v":{"$error":"#N/A"}}]
[null,null,null,null,null,null,null,null,null,null,null,null,null,null,null,null,null,null,null,{"$f":"IF(A433=\"\",\"\",G433&A433&J433)","v":""},{"$f":"IF(COUNTIF($T$5:T433,T433)=1,\"SB\",\"\")","v":""},{"$f":"A433&L433&G433","v":""},{"$f":"VLOOKUP(V433,Minimos!$D$3:$E$26,2,FALSE)","v":{"$error":"#N/A"}},{"$f":"M433-W433","v":{"$error":"#N/A"}},{"$f":"IF(X433>=0,\"Apurado\",\"\")","v":{"$error":"#N/A"}}]
[null,null,null,null,null,null,null,null,null,null,null,null,null,null,null,null,null,null,null,{"$f":"IF(A434=\"\",\"\",G434&A434&J434)","v":""},{"$f":"IF(COUNTIF($T$5:T434,T434)=1,\"SB\",\"\")","v":""},{"$f":"A434&L434&G434","v":""},{"$f":"VLOOKUP(V434,Minimos!$D$3:$E$26,2,FALSE)","v":{"$error":"#N/A"}},{"$f":"M434-W434","v":{"$error":"#N/A"}},{"$f":"IF(X434>=0,\"Apurado\",\"\")","v":{"$error":"#N/A"}}]
[null,null,null,null,null,null,null,null,null,null,null,null,null,null,null,null,null,null,null,{"$f":"IF(A435=\"\",\"\",G435&A435&J435)","v":""},{"$f":"IF(COUNTIF($T$5:T435,T435)=1,\"SB\",\"\")","v":""},{"$f":"A435&L435&G435","v":""},{"$f":"VLOOKUP(V435,Minimos!$D$3:$E$26,2,FALSE)","v":{"$error":"#N/A"}},{"$f":"M435-W435","v":{"$error":"#N/A"}},{"$f":"IF(X435>=0,\"Apurado\",\"\")","v":{"$error":"#N/A"}}]
[null,null,null,null,null,null,null,null,null,null,null,null,null,null,null,null,null,null,null,{"$f":"IF(A436=\"\",\"\",G436&A436&J436)","v":""},{"$f":"IF(COUNTIF($T$5:T436,T436)=1,\"SB\",\"\")","v":""},{"$f":"A436&L436&G436","v":""},{"$f":"VLOOKUP(V436,Minimos!$D$3:$E$26,2,FALSE)","v":{"$error":"#N/A"}},{"$f":"M436-W436","v":{"$error":"#N/A"}},{"$f":"IF(X436>=0,\"Apurado\",\"\")","v":{"$error":"#N/A"}}]
[null,null,null,null,null,null,null,null,null,null,null,null,null,null,null,null,null,null,null,{"$f":"IF(A437=\"\",\"\",G437&A437&J437)","v":""},{"$f":"IF(COUNTIF($T$5:T437,T437)=1,\"SB\",\"\")","v":""},{"$f":"A437&L437&G437","v":""},{"$f":"VLOOKUP(V437,Minimos!$D$3:$E$26,2,FALSE)","v":{"$error":"#N/A"}},{"$f":"M437-W437","v":{"$error":"#N/A"}},{"$f":"IF(X437>=0,\"Apurado\",\"\")","v":{"$error":"#N/A"}}]
[null,null,null,null,null,null,null,null,null,null,null,null,null,null,null,null,null,null,null,{"$f":"IF(A438=\"\",\"\",G438&A438&J438)","v":""},{"$f":"IF(COUNTIF($T$5:T438,T438)=1,\"SB\",\"\")","v":""},{"$f":"A438&L438&G438","v":""},{"$f":"VLOOKUP(V438,Minimos!$D$3:$E$26,2,FALSE)","v":{"$error":"#N/A"}},{"$f":"M438-W438","v":{"$error":"#N/A"}},{"$f":"IF(X438>=0,\"Apurado\",\"\")","v":{"$error":"#N/A"}}]
[null,null,null,null,null,null,null,null,null,null,null,null,null,null,null,null,null,null,null,{"$f":"IF(A439=\"\",\"\",G439&A439&J439)","v":""},{"$f":"IF(COUNTIF($T$5:T439,T439)=1,\"SB\",\"\")","v":""},{"$f":"A439&L439&G439","v":""},{"$f":"VLOOKUP(V439,Minimos!$D$3:$E$26,2,FALSE)","v":{"$error":"#N/A"}},{"$f":"M439-W439","v":{"$error":"#N/A"}},{"$f":"IF(X439>=0,\"Apurado\",\"\")","v":{"$error":"#N/A"}}]
[null,null,null,null,null,null,null,null,null,null,null,null,null,null,null,null,null,null,null,{"$f":"IF(A440=\"\",\"\",G440&A440&J440)","v":""},{"$f":"IF(COUNTIF($T$5:T440,T440)=1,\"SB\",\"\")","v":""},{"$f":"A440&L440&G440","v":""},{"$f":"VLOOKUP(V440,Minimos!$D$3:$E$26,2,FALSE)","v":{"$error":"#N/A"}},{"$f":"M440-W440","v":{"$error":"#N/A"}},{"$f":"IF(X440>=0,\"Apurado\",\"\")","v":{"$error":"#N/A"}}]
[null,null,null,null,null,null,null,null,null,null,null,null,null,null,null,null,null,null,null,{"$f":"IF(A441=\"\",\"\",G441&A441&J441)","v":""},{"$f":"IF(COUNTIF($T$5:T441,T441)=1,\"SB\",\"\")","v":""},{"$f":"A441&L441&G441","v":""},{"$f":"VLOOKUP(V441,Minimos!$D$3:$E$26,2,FALSE)","v":{"$error":"#N/A"}},{"$f":"M441-W441","v":{"$error":"#N/A"}},{"$f":"IF(X441>=0,\"Apurado\",\"\")","v":{"$error":"#N/A"}}]
[null,null,null,null,null,null,null,null,null,null,null,null,null,null,null,null,null,null,null,{"$f":"IF(A442=\"\",\"\",G442&A442&J442)","v":""},{"$f":"IF(COUNTIF($T$5:T442,T442)=1,\"SB\",\"\")","v":""},{"$f":"A442&L442&G442","v":""},{"$f":"VLOOKUP(V442,Minimos!$D$3:$E$26,2,FALSE)","v":{"$error":"#N/A"}},{"$f":"M442-W442","v":{"$error":"#N/A"}},{"$f":"IF(X442>=0,\"Apurado\",\"\")","v":{"$error":"#N/A"}}]
[null,null,null,null,null,null,null,null,null,null,null,null,null,null,null,null,null,null,null,{"$f":"IF(A443=\"\",\"\",G443&A443&J443)","v":""},{"$f":"IF(COUNTIF($T$5:T443,T443)=1,\"SB\",\"\")","v":""},{"$f":"A443&L443&G443","v":""},{"$f":"VLOOKUP(V443,Minimos!$D$3:$E$26,2,FALSE)","v":{"$error":"#N/A"}},{"$f":"M443-W443","v":{"$error":"#N/A"}},{"$f":"IF(X443>=0,\"Apurado\",\"\")","v":{"$error":"#N/A"}}]
[null,null,null,null,null,null,null,null,null,null,null,null,null,null,null,null,null,null,null,{"$f":"IF(A444=\"\",\"\",G444&A444&J444)","v":""},{"$f":"IF(COUNTIF($T$5:T444,T444)=1,\"SB\",\"\")","v":""},{"$f":"A444&L444&G444","v":""},{"$f":"VLOOKUP(V444,Minimos!$D$3:$E$26,2,FALSE)","v":{"$error":"#N/A"}},{"$f":"M444-W444","v":{"$error":"#N/A"}},{"$f":"IF(X444>=0,\"Apurado\",\"\")","v":{"$error":"#N/A"}}]
[null,null,null,null,null,null,null,null,null,null,null,null,null,null,null,null,null,null,null,{"$f":"IF(A445=\"\",\"\",G445&A445&J445)","v":""},{"$f":"IF(COUNTIF($T$5:T445,T445)=1,\"SB\",\"\")","v":""},{"$f":"A445&L445&G445","v":""},{"$f":"VLOOKUP(V445,Minimos!$D$3:$E$26,2,FALSE)","v":{"$error":"#N/A"}},{"$f":"M445-W445","v":{"$error":"#N/A"}},{"$f":"IF(X445>=0,\"Apurado\",\"\")","v":{"$error":"#N/A"}}]
[null,null,null,null,null,null,null,null,null,null,null,null,null,null,null,null,null,null,null,{"$f":"IF(A446=\"\",\"\",G446&A446&J446)","v":""},{"$f":"IF(COUNTIF($T$5:T446,T446)=1,\"SB\",\"\")","v":""},{"$f":"A446&L446&G446","v":""},{"$f":"VLOOKUP(V446,Minimos!$D$3:$E$26,2,FALSE)","v":{"$error":"#N/A"}},{"$f":"M446-W446","v":{"$error":"#N/A"}},{"$f":"IF(X446>=0,\"Apurado\",\"\")","v":{"$error":"#N/A"}}]
[null,null,null,null,null,null,null,null,null,null,null,null,null,null,null,null,null,null,null,{"$f":"IF(A447=\"\",\"\",G447&A447&J447)","v":""},{"$f":"IF(COUNTIF($T$5:T447,T447)=1,\"SB\",\"\")","v":""},{"$f":"A447&L447&G447","v":""},{"$f":"VLOOKUP(V447,Minimos!$D$3:$E$26,2,FALSE)","v":{"$error":"#N/A"}},{"$f":"M447-W447","v":{"$error":"#N/A"}},{"$f":"IF(X447>=0,\"Apurado\",\"\")","v":{"$error":"#N/A"}}]
[null,null,null,null,null,null,null,null,null,null,null,null,null,null,null,null,null,null,null,{"$f":"IF(A448=\"\",\"\",G448&A448&J448)","v":""},{"$f":"IF(COUNTIF($T$5:T448,T448)=1,\"SB\",\"\")","v":""},{"$f":"A448&L448&G448","v":""},{"$f":"VLOOKUP(V448,Minimos!$D$3:$E$26,2,FALSE)","v":{"$error":"#N/A"}},{"$f":"M448-W448","v":{"$error":"#N/A"}},{"$f":"IF(X448>=0,\"Apurado\",\"\")","v":{"$error":"#N/A"}}]
[null,null,null,null,null,null,null,null,null,null,null,null,null,null,null,null,null,null,null,{"$f":"IF(A449=\"\",\"\",G449&A449&J449)","v":""},{"$f":"IF(COUNTIF($T$5:T449,T449)=1,\"SB\",\"\")","v":""},{"$f":"A449&L449&G449","v":""},{"$f":"VLOOKUP(V449,Minimos!$D$3:$E$26,2,FALSE)","v":{"$error":"#N/A"}},{"$f":"M449-W449","v":{"$error":"#N/A"}},{"$f":"IF(X449>=0,\"Apurado\",\"\")","v":{"$error":"#N/A"}}]
[null,null,null,null,null,null,null,null,null,null,null,null,null,null,null,null,null,null,null,{"$f":"IF(A450=\"\",\"\",G450&A450&J450)","v":""},{"$f":"IF(COUNTIF($T$5:T450,T450)=1,\"SB\",\"\")","v":""},{"$f":"A450&L450&G450","v":""},{"$f":"VLOOKUP(V450,Minimos!$D$3:$E$26,2,FALSE)","v":{"$error":"#N/A"}},{"$f":"M450-W450","v":{"$error":"#N/A"}},{"$f":"IF(X450>=0,\"Apurado\",\"\")","v":{"$error":"#N/A"}}]
[null,null,null,null,null,null,null,null,null,null,null,null,null,null,null,null,null,null,null,{"$f":"IF(A451=\"\",\"\",G451&A451&J451)","v":""},{"$f":"IF(COUNTIF($T$5:T451,T451)=1,\"SB\",\"\")","v":""},{"$f":"A451&L451&G451","v":""},{"$f":"VLOOKUP(V451,Minimos!$D$3:$E$26,2,FALSE)","v":{"$error":"#N/A"}},{"$f":"M451-W451","v":{"$error":"#N/A"}},{"$f":"IF(X451>=0,\"Apurado\",\"\")","v":{"$error":"#N/A"}}]
[null,null,null,null,null,null,null,null,null,null,null,null,null,null,null,null,null,null,null,{"$f":"IF(A452=\"\",\"\",G452&A452&J452)","v":""},{"$f":"IF(COUNTIF($T$5:T452,T452)=1,\"SB\",\"\")","v":""},{"$f":"A452&L452&G452","v":""},{"$f":"VLOOKUP(V452,Minimos!$D$3:$E$26,2,FALSE)","v":{"$error":"#N/A"}},{"$f":"M452-W452","v":{"$error":"#N/A"}},{"$f":"IF(X452>=0,\"Apurado\",\"\")","v":{"$error":"#N/A"}}]
[null,null,null,null,null,null,null,null,null,null,null,null,null,null,null,null,null,null,null,{"$f":"IF(A453=\"\",\"\",G453&A453&J453)","v":""},{"$f":"IF(COUNTIF($T$5:T453,T453)=1,\"SB\",\"\")","v":""},{"$f":"A453&L453&G453","v":""},{"$f":"VLOOKUP(V453,Minimos!$D$3:$E$26,2,FALSE)","v":{"$error":"#N/A"}},{"$f":"M453-W453","v":{"$error":"#N/A"}},{"$f":"IF(X453>=0,\"Apurado\",\"\")","v":{"$error":"#N/A"}}]
[null,null,null,null,null,null,null,null,null,null,null,null,null,null,null,null,null,null,null,{"$f":"IF(A454=\"\",\"\",G454&A454&J454)","v":""},{"$f":"IF(COUNTIF($T$5:T454,T454)=1,\"SB\",\"\")","v":""},{"$f":"A454&L454&G454","v":""},{"$f":"VLOOKUP(V454,Minimos!$D$3:$E$26,2,FALSE)","v":{"$error":"#N/A"}},{"$f":"M454-W454","v":{"$error":"#N/A"}},{"$f":"IF(X454>=0,\"Apurado\",\"\")","v":{"$error":"#N/A"}}]
[null,null,null,null,null,null,null,null,null,null,null,null,null,null,null,null,null,null,null,{"$f":"IF(A455=\"\",\"\",G455&A455&J455)","v":""},{"$f":"IF(COUNTIF($T$5:T455,T455)=1,\"SB\",\"\")","v":""},{"$f":"A455&L455&G455","v":""},{"$f":"VLOOKUP(V455,Minimos!$D$3:$E$26,2,FALSE)","v":{"$error":"#N/A"}},{"$f":"M455-W455","v":{"$error":"#N/A"}},{"$f":"IF(X455>=0,\"Apurado\",\"\")","v":{"$error":"#N/A"}}]
[null,null,null,null,null,null,null,null,null,null,null,null,null,null,null,null,null,null,null,{"$f":"IF(A456=\"\",\"\",G456&A456&J456)","v":""},{"$f":"IF(COUNTIF($T$5:T456,T456)=1,\"SB\",\"\")","v":""},{"$f":"A456&L456&G456","v":""},{"$f":"VLOOKUP(V456,Minimos!$D$3:$E$26,2,FALSE)","v":{"$error":"#N/A"}},{"$f":"M456-W456","v":{"$error":"#N/A"}},{"$f":"IF(X456>=0,\"Apurado\",\"\")","v":{"$error":"#N/A"}}]
[null,null,null,null,null,null,null,null,null,null,null,null,null,null,null,null,null,null,null,{"$f":"IF(A457=\"\",\"\",G457&A457&J457)","v":""},{"$f":"IF(COUNTIF($T$5:T457,T457)=1,\"SB\",\"\")","v":""},{"$f":"A457&L457&G457","v":""},{"$f":"VLOOKUP(V457,Minimos!$D$3:$E$26,2,FALSE)","v":{"$error":"#N/A"}},{"$f":"M457-W457","v":{"$error":"#N/A"}},{"$f":"IF(X457>=0,\"Apurado\",\"\")","v":{"$error":"#N/A"}}]
[null,null,null,null,null,null,null,null,null,null,null,null,null,null,null,null,null,null,null,{"$f":"IF(A458=\"\",\"\",G458&A458&J458)","v":""},{"$f":"IF(COUNTIF($T$5:T458,T458)=1,\"SB\",\"\")","v":""},{"$f":"A458&L458&G458","v":""},{"$f":"VLOOKUP(V458,Minimos!$D$3:$E$26,2,FALSE)","v":{"$error":"#N/A"}},{"$f":"M458-W458","v":{"$error":"#N/A"}},{"$f":"IF(X458>=0,\"Apurado\",\"\")","v":{"$error":"#N/A"}}]
[null,null,null,null,null,null,null,null,null,null,null,null,null,null,null,null,null,null,null,{"$f":"IF(A459=\"\",\"\",G459&A459&J459)","v":""},{"$f":"IF(COUNTIF($T$5:T459,T459)=1,\"SB\",\"\")","v":""},{"$f":"A459&L459&G459","v":""},{"$f":"VLOOKUP(V459,Minimos!$D$3:$E$26,2,FALSE)","v":{"$error":"#N/A"}},{"$f":"M459-W459","v":{"$error":"#N/A"}},{"$f":"IF(X459>=0,\"Apurado\",\"\")","v":{"$error":"#N/A"}}]
[null,null,null,null,null,null,null,null,null,null,null,null,null,null,null,null,null,null,null,{"$f":"IF(A460=\"\",\"\",G460&A460&J460)","v":""},{"$f":"IF(COUNTIF($T$5:T460,T460)=1,\"SB\",\"\")","v":""},{"$f":"A460&L460&G460","v":""},{"$f":"VLOOKUP(V460,Minimos!$D$3:$E$26,2,FALSE)","v":{"$error":"#N/A"}},{"$f":"M460-W460","v":{"$error":"#N/A"}},{"$f":"IF(X460>=0,\"Apurado\",\"\")","v":{"$error":"#N/A"}}]
[null,null,null,null,null,null,null,null,null,null,null,null,null,null,null,null,null,null,null,{"$f":"IF(A461=\"\",\"\",G461&A461&J461)","v":""},{"$f":"IF(COUNTIF($T$5:T461,T461)=1,\"SB\",\"\")","v":""},{"$f":"A461&L461&G461","v":""},{"$f":"VLOOKUP(V461,Minimos!$D$3:$E$26,2,FALSE)","v":{"$error":"#N/A"}},{"$f":"M461-W461","v":{"$error":"#N/A"}},{"$f":"IF(X461>=0,\"Apurado\",\"\")","v":{"$error":"#N/A"}}]
[null,null,null,null,null,null,null,null,null,null,null,null,null,null,null,null,null,null,null,{"$f":"IF(A462=\"\",\"\",G462&A462&J462)","v":""},{"$f":"IF(COUNTIF($T$5:T462,T462)=1,\"SB\",\"\")","v":""},{"$f":"A462&L462&G462","v":""},{"$f":"VLOOKUP(V462,Minimos!$D$3:$E$26,2,FALSE)","v":{"$error":"#N/A"}},{"$f":"M462-W462","v":{"$error":"#N/A"}},{"$f":"IF(X462>=0,\"Apurado\",\"\")","v":{"$error":"#N/A"}}]
[null,null,null,null,null,null,null,null,null,null,null,null,null,null,null,null,null,null,null,{"$f":"IF(A463=\"\",\"\",G463&A463&J463)","v":""},{"$f":"IF(COUNTIF($T$5:T463,T463)=1,\"SB\",\"\")","v":""},{"$f":"A463&L463&G463","v":""},{"$f":"VLOOKUP(V463,Minimos!$D$3:$E$26,2,FALSE)","v":{"$error":"#N/A"}},{"$f":"M463-W463","v":{"$error":"#N/A"}},{"$f":"IF(X463>=0,\"Apurado\",\"\")","v":{"$error":"#N/A"}}]
[null,null,null,null,null,null,null,null,null,null,null,null,null,null,null,null,null,null,null,{"$f":"IF(A464=\"\",\"\",G464&A464&J464)","v":""},{"$f":"IF(COUNTIF($T$5:T464,T464)=1,\"SB\",\"\")","v":""},{"$f":"A464&L464&G464","v":""},{"$f":"VLOOKUP(V464,Minimos!$D$3:$E$26,2,FALSE)","v":{"$error":"#N/A"}},{"$f":"M464-W464","v":{"$error":"#N/A"}},{"$f":"IF(X464>=0,\"Apurado\",\"\")","v":{"$error":"#N/A"}}]
[null,null,null,null,null,null,null,null,null,null,null,null,null,null,null,null,null,null,null,{"$f":"IF(A465=\"\",\"\",G465&A465&J465)","v":""},{"$f":"IF(COUNTIF($T$5:T465,T465)=1,\"SB\",\"\")","v":""},{"$f":"A465&L465&G465","v":""},{"$f":"VLOOKUP(V465,Minimos!$D$3:$E$26,2,FALSE)","v":{"$error":"#N/A"}},{"$f":"M465-W465","v":{"$error":"#N/A"}},{"$f":"IF(X465>=0,\"Apurado\",\"\")","v":{"$error":"#N/A"}}]
[null,null,null,null,null,null,null,null,null,null,null,null,null,null,null,null,null,null,null,{"$f":"IF(A466=\"\",\"\",G466&A466&J466)","v":""},{"$f":"IF(COUNTIF($T$5:T466,T466)=1,\"SB\",\"\")","v":""},{"$f":"A466&L466&G466","v":""},{"$f":"VLOOKUP(V466,Minimos!$D$3:$E$26,2,FALSE)","v":{"$error":"#N/A"}},{"$f":"M466-W466","v":{"$error":"#N/A"}},{"$f":"IF(X466>=0,\"Apurado\",\"\")","v":{"$error":"#N/A"}}]
[null,null,null,null,null,null,null,null,null,null,null,null,null,null,null,null,null,null,null,{"$f":"IF(A467=\"\",\"\",G467&A467&J467)","v":""},{"$f":"IF(COUNTIF($T$5:T467,T467)=1,\"SB\",\"\")","v":""},{"$f":"A467&L467&G467","v":""},{"$f":"VLOOKUP(V467,Minimos!$D$3:$E$26,2,FALSE)","v":{"$error":"#N/A"}},{"$f":"M467-W467","v":{"$error":"#N/A"}},{"$f":"IF(X467>=0,\"Apurado\",\"\")","v":{"$error":"#N/A"}}]
[null,null,null,null,null,null,null,null,null,null,null,null,null,null,null,null,null,null,null,{"$f":"IF(A468=\"\",\"\",G468&A468&J468)","v":""},{"$f":"IF(COUNTIF($T$5:T468,T468)=1,\"SB\",\"\")","v":""},{"$f":"A468&L468&G468","v":""},{"$f":"VLOOKUP(V468,Minimos!$D$3:$E$26,2,FALSE)","v":{"$error":"#N/A"}},{"$f":"M468-W468","v":{"$error":"#N/A"}},{"$f":"IF(X468>=0,\"Apurado\",\"\")","v":{"$error":"#N/A"}}]
[null,null,null,null,null,null,null,null,null,null,null,null,null,null,null,null,null,null,null,{"$f":"IF(A469=\"\",\"\",G469&A469&J469)","v":""},{"$f":"IF(COUNTIF($T$5:T469,T469)=1,\"SB\",\"\")","v":""},{"$f":"A469&L469&G469","v":""},{"$f":"VLOOKUP(V469,Minimos!$D$3:$E$26,2,FALSE)","v":{"$error":"#N/A"}},{"$f":"M469-W469","v":{"$error":"#N/A"}},{"$f":"IF(X469>=0,\"Apurado\",\"\")","v":{"$error":"#N/A"}}]
[null,null,null,null,null,null,null,null,null,null,null,null,null,null,null,null,null,null,null,{"$f":"IF(A470=\"\",\"\",G470&A470&J470)","v":""},{"$f":"IF(COUNTIF($T$5:T470,T470)=1,\"SB\",\"\")","v":""},{"$f":"A470&L470&G470","v":""},{"$f":"VLOOKUP(V470,Minimos!$D$3:$E$26,2,FALSE)","v":{"$error":"#N/A"}},{"$f":"M470-W470","v":{"$error":"#N/A"}},{"$f":"IF(X470>=0,\"Apurado\",\"\")","v":{"$error":"#N/A"}}]
[null,null,null,null,null,null,null,null,null,null,null,null,null,null,null,null,null,null,null,{"$f":"IF(A471=\"\",\"\",G471&A471&J471)","v":""},{"$f":"IF(COUNTIF($T$5:T471,T471)=1,\"SB\",\"\")","v":""},{"$f":"A471&L471&G471","v":""},{"$f":"VLOOKUP(V471,Minimos!$D$3:$E$26,2,FALSE)","v":{"$error":"#N/A"}},{"$f":"M471-W471","v":{"$error":"#N/A"}},{"$f":"IF(X471>=0,\"Apurado\",\"\")","v":{"$error":"#N/A"}}]
[null,null,null,null,null,null,null,null,null,null,null,null,null,null,null,null,null,null,null,{"$f":"IF(A472=\"\",\"\",G472&A472&J472)","v":""},{"$f":"IF(COUNTIF($T$5:T472,T472)=1,\"SB\",\"\")","v":""},{"$f":"A472&L472&G472","v":""},{"$f":"VLOOKUP(V472,Minimos!$D$3:$E$26,2,FALSE)","v":{"$error":"#N/A"}},{"$f":"M472-W472","v":{"$error":"#N/A"}},{"$f":"IF(X472>=0,\"Apurado\",\"\")","v":{"$error":"#N/A"}}]
[null,null,null,null,null,null,null,null,null,null,null,null,null,null,null,null,null,null,null,{"$f":"IF(A473=\"\",\"\",G473&A473&J473)","v":""},{"$f":"IF(COUNTIF($T$5:T473,T473)=1,\"SB\",\"\")","v":""},{"$f":"A473&L473&G473","v":""},{"$f":"VLOOKUP(V473,Minimos!$D$3:$E$26,2,FALSE)","v":{"$error":"#N/A"}},{"$f":"M473-W473","v":{"$error":"#N/A"}},{"$f":"IF(X473>=0,\"Apurado\",\"\")","v":{"$error":"#N/A"}}]
[null,null,null,null,null,null,null,null,null,null,null,null,null,null,null,null,null,null,null,{"$f":"IF(A474=\"\",\"\",G474&A474&J474)","v":""},{"$f":"IF(COUNTIF($T$5:T474,T474)=1,\"SB\",\"\")","v":""},{"$f":"A474&L474&G474","v":""},{"$f":"VLOOKUP(V474,Minimos!$D$3:$E$26,2,FALSE)","v":{"$error":"#N/A"}},{"$f":"M474-W474","v":{"$error":"#N/A"}},{"$f":"IF(X474>=0,\"Apurado\",\"\")","v":{"$error":"#N/A"}}]
[null,null,null,null,null,null,null,null,null,null,null,null,null,null,null,null,null,null,null,{"$f":"IF(A475=\"\",\"\",G475&A475&J475)","v":""},{"$f":"IF(COUNTIF($T$5:T475,T475)=1,\"SB\",\"\")","v":""},{"$f":"A475&L475&G475","v":""},{"$f":"VLOOKUP(V475,Minimos!$D$3:$E$26,2,FALSE)","v":{"$error":"#N/A"}},{"$f":"M475-W475","v":{"$error":"#N/A"}},{"$f":"IF(X475>=0,\"Apurado\",\"\")","v":{"$error":"#N/A"}}]
[null,null,null,null,null,null,null,null,null,null,null,null,null,null,null,null,null,null,null,{"$f":"IF(A476=\"\",\"\",G476&A476&J476)","v":""},{"$f":"IF(COUNTIF($T$5:T476,T476)=1,\"SB\",\"\")","v":""},{"$f":"A476&L476&G476","v":""},{"$f":"VLOOKUP(V476,Minimos!$D$3:$E$26,2,FALSE)","v":{"$error":"#N/A"}},{"$f":"M476-W476","v":{"$error":"#N/A"}},{"$f":"IF(X476>=0,\"Apurado\",\"\")","v":{"$error":"#N/A"}}]
[null,null,null,null,null,null,null,null,null,null,null,null,null,null,null,null,null,null,null,{"$f":"IF(A477=\"\",\"\",G477&A477&J477)","v":""},{"$f":"IF(COUNTIF($T$5:T477,T477)=1,\"SB\",\"\")","v":""},{"$f":"A477&L477&G477","v":""},{"$f":"VLOOKUP(V477,Minimos!$D$3:$E$26,2,FALSE)","v":{"$error":"#N/A"}},{"$f":"M477-W477","v":{"$error":"#N/A"}},{"$f":"IF(X477>=0,\"Apurado\",\"\")","v":{"$error":"#N/A"}}]
[null,null,null,null,null,null,null,null,null,null,null,null,null,null,null,null,null,null,null,{"$f":"IF(A478=\"\",\"\",G478&A478&J478)","v":""},{"$f":"IF(COUNTIF($T$5:T478,T478)=1,\"SB\",\"\")","v":""},{"$f":"A478&L478&G478","v":""},{"$f":"VLOOKUP(V478,Minimos!$D$3:$E$26,2,FALSE)","v":{"$error":"#N/A"}},{"$f":"M478-W478","v":{"$error":"#N/A"}},{"$f":"IF(X478>=0,\"Apurado\",\"\")","v":{"$error":"#N/A"}}]
[null,null,null,null,null,null,null,null,null,null,null,null,null,null,null,null,null,null,null,{"$f":"IF(A479=\"\",\"\",G479&A479&J479)","v":""},{"$f":"IF(COUNTIF($T$5:T479,T479)=1,\"SB\",\"\")","v":""},{"$f":"A479&L479&G479","v":""},{"$f":"VLOOKUP(V479,Minimos!$D$3:$E$26,2,FALSE)","v":{"$error":"#N/A"}},{"$f":"M479-W479","v":{"$error":"#N/A"}},{"$f":"IF(X479>=0,\"Apurado\",\"\")","v":{"$error":"#N/A"}}]
[null,null,null,null,null,null,null,null,null,null,null,null,null,null,null,null,null,null,null,{"$f":"IF(A480=\"\",\"\",G480&A480&J480)","v":""},{"$f":"IF(COUNTIF($T$5:T480,T480)=1,\"SB\",\"\")","v":""},{"$f":"A480&L480&G480","v":""},{"$f":"VLOOKUP(V480,Minimos!$D$3:$E$26,2,FALSE)","v":{"$error":"#N/A"}},{"$f":"M480-W480","v":{"$error":"#N/A"}},{"$f":"IF(X480>=0,\"Apurado\",\"\")","v":{"$error":"#N/A"}}]
[null,null,null,null,null,null,null,null,null,null,null,null,null,null,null,null,null,null,null,{"$f":"IF(A481=\"\",\"\",G481&A481&J481)","v":""},{"$f":"IF(COUNTIF($T$5:T481,T481)=1,\"SB\",\"\")","v":""},{"$f":"A481&L481&G481","v":""},{"$f":"VLOOKUP(V481,Minimos!$D$3:$E$26,2,FALSE)","v":{"$error":"#N/A"}},{"$f":"M481-W481","v":{"$error":"#N/A"}},{"$f":"IF(X481>=0,\"Apurado\",\"\")","v":{"$error":"#N/A"}}]
[null,null,null,null,null,null,null,null,null,null,null,null,null,null,null,null,null,null,null,{"$f":"IF(A482=\"\",\"\",G482&A482&J482)","v":""},{"$f":"IF(COUNTIF($T$5:T482,T482)=1,\"SB\",\"\")","v":""},{"$f":"A482&L482&G482","v":""},{"$f":"VLOOKUP(V482,Minimos!$D$3:$E$26,2,FALSE)","v":{"$error":"#N/A"}},{"$f":"M482-W482","v":{"$error":"#N/A"}},{"$f":"IF(X482>=0,\"Apurado\",\"\")","v":{"$error":"#N/A"}}]
[null,null,null,null,null,null,null,null,null,null,null,null,null,null,null,null,null,null,null,{"$f":"IF(A483=\"\",\"\",G483&A483&J483)","v":""},{"$f":"IF(COUNTIF($T$5:T483,T483)=1,\"SB\",\"\")","v":""},{"$f":"A483&L483&G483","v":""},{"$f":"VLOOKUP(V483,Minimos!$D$3:$E$26,2,FALSE)","v":{"$error":"#N/A"}},{"$f":"M483-W483","v":{"$error":"#N/A"}},{"$f":"IF(X483>=0,\"Apurado\",\"\")","v":{"$error":"#N/A"}}]
[null,null,null,null,null,null,null,null,null,null,null,null,null,null,null,null,null,null,null,{"$f":"IF(A484=\"\",\"\",G484&A484&J484)","v":""},{"$f":"IF(COUNTIF($T$5:T484,T484)=1,\"SB\",\"\")","v":""},{"$f":"A484&L484&G484","v":""},{"$f":"VLOOKUP(V484,Minimos!$D$3:$E$26,2,FALSE)","v":{"$error":"#N/A"}},{"$f":"M484-W484","v":{"$error":"#N/A"}},{"$f":"IF(X484>=0,\"Apurado\",\"\")","v":{"$error":"#N/A"}}]
[null,null,null,null,null,null,null,null,null,null,null,null,null,null,null,null,null,null,null,{"$f":"IF(A485=\"\",\"\",G485&A485&J485)","v":""},{"$f":"IF(COUNTIF($T$5:T485,T485)=1,\"SB\",\"\")","v":""},{"$f":"A485&L485&G485","v":""},{"$f":"VLOOKUP(V485,Minimos!$D$3:$E$26,2,FALSE)","v":{"$error":"#N/A"}},{"$f":"M485-W485","v":{"$error":"#N/A"}},{"$f":"IF(X485>=0,\"Apurado\",\"\")","v":{"$error":"#N/A"}}]
[null,null,null,null,null,null,null,null,null,null,null,null,null,null,null,null,null,null,null,{"$f":"IF(A486=\"\",\"\",G486&A486&J486)","v":""},{"$f":"IF(COUNTIF($T$5:T486,T486)=1,\"SB\",\"\")","v":""},{"$f":"A486&L486&G486","v":""},{"$f":"VLOOKUP(V486,Minimos!$D$3:$E$26,2,FALSE)","v":{"$error":"#N/A"}},{"$f":"M486-W486","v":{"$error":"#N/A"}},{"$f":"IF(X486>=0,\"Apurado\",\"\")","v":{"$error":"#N/A"}}]
[null,null,null,null,null,null,null,null,null,null,null,null,null,null,null,null,null,null,null,{"$f":"IF(A487=\"\",\"\",G487&A487&J487)","v":""},{"$f":"IF(COUNTIF($T$5:T487,T487)=1,\"SB\",\"\")","v":""},{"$f":"A487&L487&G487","v":""},{"$f":"VLOOKUP(V487,Minimos!$D$3:$E$26,2,FALSE)","v":{"$error":"#N/A"}},{"$f":"M487-W487","v":{"$error":"#N/A"}},{"$f":"IF(X487>=0,\"Apurado\",\"\")","v":{"$error":"#N/A"}}]
[null,null,null,null,null,null,null,null,null,null,null,null,null,null,null,null,null,null,null,{"$f":"IF(A488=\"\",\"\",G488&A488&J488)","v":""},{"$f":"IF(COUNTIF($T$5:T488,T488)=1,\"SB\",\"\")","v":""},{"$f":"A488&L488&G488","v":""},{"$f":"VLOOKUP(V488,Minimos!$D$3:$E$26,2,FALSE)","v":{"$error":"#N/A"}},{"$f":"M488-W488","v":{"$error":"#N/A"}},{"$f":"IF(X488>=0,\"Apurado\",\"\")","v":{"$error":"#N/A"}}]
[null,null,null,null,null,null,null,null,null,null,null,null,null,null,null,null,null,null,null,{"$f":"IF(A489=\"\",\"\",G489&A489&J489)","v":""},{"$f":"IF(COUNTIF($T$5:T489,T489)=1,\"SB\",\"\")","v":""},{"$f":"A489&L489&G489","v":""},{"$f":"VLOOKUP(V489,Minimos!$D$3:$E$26,2,FALSE)","v":{"$error":"#N/A"}},{"$f":"M489-W489","v":{"$error":"#N/A"}},{"$f":"IF(X489>=0,\"Apurado\",\"\")","v":{"$error":"#N/A"}}]
[null,null,null,null,null,null,null,null,null,null,null,null,null,null,null,null,null,null,null,{"$f":"IF(A490=\"\",\"\",G490&A490&J490)","v":""},{"$f":"IF(COUNTIF($T$5:T490,T490)=1,\"SB\",\"\")","v":""},{"$f":"A490&L490&G490","v":""},{"$f":"VLOOKUP(V490,Minimos!$D$3:$E$26,2,FALSE)","v":{"$error":"#N/A"}},{"$f":"M490-W490","v":{"$error":"#N/A"}},{"$f":"IF(X490>=0,\"Apurado\",\"\")","v":{"$error":"#N/A"}}]
[null,null,null,null,null,null,null,null,null,null,null,null,null,null,null,null,null,null,null,{"$f":"IF(A491=\"\",\"\",G491&A491&J491)","v":""},{"$f":"IF(COUNTIF($T$5:T491,T491)=1,\"SB\",\"\")","v":""},{"$f":"A491&L491&G491","v":""},{"$f":"VLOOKUP(V491,Minimos!$D$3:$E$26,2,FALSE)","v":{"$error":"#N/A"}},{"$f":"M491-W491","v":{"$error":"#N/A"}},{"$f":"IF(X491>=0,\"Apurado\",\"\")","v":{"$error":"#N/A"}}]
[null,null,null,null,null,null,null,null,null,null,null,null,null,null,null,null,null,null,null,{"$f":"IF(A492=\"\",\"\",G492&A492&J492)","v":""},{"$f":"IF(COUNTIF($T$5:T492,T492)=1,\"SB\",\"\")","v":""},{"$f":"A492&L492&G492","v":""},{"$f":"VLOOKUP(V492,Minimos!$D$3:$E$26,2,FALSE)","v":{"$error":"#N/A"}},{"$f":"M492-W492","v":{"$error":"#N/A"}},{"$f":"IF(X492>=0,\"Apurado\",\"\")","v":{"$error":"#N/A"}}]
[null,null,null,null,null,null,null,null,null,null,null,null,null,null,null,null,null,null,null,{"$f":"IF(A493=\"\",\"\",G493&A493&J493)","v":""},{"$f":"IF(COUNTIF($T$5:T493,T493)=1,\"SB\",\"\")","v":""},{"$f":"A493&L493&G493","v":""},{"$f":"VLOOKUP(V493,Minimos!$D$3:$E$26,2,FALSE)","v":{"$error":"#N/A"}},{"$f":"M493-W493","v":{"$error":"#N/A"}},{"$f":"IF(X493>=0,\"Apurado\",\"\")","v":{"$error":"#N/A"}}]
[null,null,null,null,null,null,null,null,null,null,null,null,null,null,null,null,null,null,null,{"$f":"IF(A494=\"\",\"\",G494&A494&J494)","v":""},{"$f":"IF(COUNTIF($T$5:T494,T494)=1,\"SB\",\"\")","v":""},{"$f":"A494&L494&G494","v":""},{"$f":"VLOOKUP(V494,Minimos!$D$3:$E$26,2,FALSE)","v":{"$error":"#N/A"}},{"$f":"M494-W494","v":{"$error":"#N/A"}},{"$f":"IF(X494>=0,\"Apurado\",\"\")","v":{"$error":"#N/A"}}]
[null,null,null,null,null,null,null,null,null,null,null,null,null,null,null,null,null,null,null,{"$f":"IF(A495=\"\",\"\",G495&A495&J495)","v":""},{"$f":"IF(COUNTIF($T$5:T495,T495)=1,\"SB\",\"\")","v":""},{"$f":"A495&L495&G495","v":""},{"$f":"VLOOKUP(V495,Minimos!$D$3:$E$26,2,FALSE)","v":{"$error":"#N/A"}},{"$f":"M495-W495","v":{"$error":"#N/A"}},{"$f":"IF(X495>=0,\"Apurado\",\"\")","v":{"$error":"#N/A"}}]
[null,null,null,null,null,null,null,null,null,null,null,null,null,null,null,null,null,null,null,{"$f":"IF(A496=\"\",\"\",G496&A496&J496)","v":""},{"$f":"IF(COUNTIF($T$5:T496,T496)=1,\"SB\",\"\")","v":""},{"$f":"A496&L496&G496","v":""},{"$f":"VLOOKUP(V496,Minimos!$D$3:$E$26,2,FALSE)","v":{"$error":"#N/A"}},{"$f":"M496-W496","v":{"$error":"#N/A"}},{"$f":"IF(X496>=0,\"Apurado\",\"\")","v":{"$error":"#N/A"}}]
[null,null,null,null,null,null,null,null,null,null,null,null,null,null,null,null,null,null,null,{"$f":"IF(A497=\"\",\"\",G497&A497&J497)","v":""},{"$f":"IF(COUNTIF($T$5:T497,T497)=1,\"SB\",\"\")","v":""},{"$f":"A497&L497&G497","v":""},{"$f":"VLOOKUP(V497,Minimos!$D$3:$E$26,2,FALSE)","v":{"$error":"#N/A"}},{"$f":"M497-W497","v":{"$error":"#N/A"}},{"$f":"IF(X497>=0,\"Apurado\",\"\")","v":{"$error":"#N/A"}}]
[null,null,null,null,null,null,null,null,null,null,null,null,null,null,null,null,null,null,null,{"$f":"IF(A498=\"\",\"\",G498&A498&J498)","v":""},{"$f":"IF(COUNTIF($T$5:T498,T498)=1,\"SB\",\"\")","v":""},{"$f":"A498&L498&G498","v":""},{"$f":"VLOOKUP(V498,Minimos!$D$3:$E$26,2,FALSE)","v":{"$error":"#N/A"}},{"$f":"M498-W498","v":{"$error":"#N/A"}},{"$f":"IF(X498>=0,\"Apurado\",\"\")","v":{"$error":"#N/A"}}]
[null,null,null,null,null,null,null,null,null,null,null,null,null,null,null,null,null,null,null,{"$f":"IF(A499=\"\",\"\",G499&A499&J499)","v":""},{"$f":"IF(COUNTIF($T$5:T499,T499)=1,\"SB\",\"\")","v":""},{"$f":"A499&L499&G499","v":""},{"$f":"VLOOKUP(V499,Minimos!$D$3:$E$26,2,FALSE)","v":{"$error":"#N/A"}},{"$f":"M499-W499","v":{"$error":"#N/A"}},{"$f":"IF(X499>=0,\"Apurado\",\"\")","v":{"$error":"#N/A"}}]
[null,null,null,null,null,null,null,null,null,null,null,null,null,null,null,null,null,null,null,{"$f":"IF(A500=\"\",\"\",G500&A500&J500)","v":""},{"$f":"IF(COUNTIF($T$5:T500,T500)=1,\"SB\",\"\")","v":""},{"$f":"A500&L500&G500","v":""},{"$f":"VLOOKUP(V500,Minimos!$D$3:$E$26,2,FALSE)","v":{"$error":"#N/A"}},{"$f":"M500-W500","v":{"$error":"#N/A"}},{"$f":"IF(X500>=0,\"Apurado\",\"\")","v":{"$error":"#N/A"}}]
[null,null,null,null,null,null,null,null,null,null,null,null,null,null,null,null,null,null,null,{"$f":"IF(A501=\"\",\"\",G501&A501&J501)","v":""},{"$f":"IF(COUNTIF($T$5:T501,T501)=1,\"SB\",\"\")","v":""},{"$f":"A501&L501&G501","v":""},{"$f":"VLOOKUP(V501,Minimos!$D$3:$E$26,2,FALSE)","v":{"$error":"#N/A"}},{"$f":"M501-W501","v":{"$error":"#N/A"}},{"$f":"IF(X501>=0,\"Apurado\",\"\")","v":{"$error":"#N/A"}}]
[null,null,null,null,null,null,null,null,null,null,null,null,null,null,null,null,null,null,null,{"$f":"IF(A502=\"\",\"\",G502&A502&J502)","v":""},{"$f":"IF(COUNTIF($T$5:T502,T502)=1,\"SB\",\"\")","v":""},{"$f":"A502&L502&G502","v":""},{"$f":"VLOOKUP(V502,Minimos!$D$3:$E$26,2,FALSE)","v":{"$error":"#N/A"}},{"$f":"M502-W502","v":{"$error":"#N/A"}},{"$f":"IF(X502>=0,\"Apurado\",\"\")","v":{"$error":"#N/A"}}]
[null,null,null,null,null,null,null,null,null,null,null,null,null,null,null,null,null,null,null,{"$f":"IF(A503=\"\",\"\",G503&A503&J503)","v":""},{"$f":"IF(COUNTIF($T$5:T503,T503)=1,\"SB\",\"\")","v":""},{"$f":"A503&L503&G503","v":""},{"$f":"VLOOKUP(V503,Minimos!$D$3:$E$26,2,FALSE)","v":{"$error":"#N/A"}},{"$f":"M503-W503","v":{"$error":"#N/A"}},{"$f":"IF(X503>=0,\"Apurado\",\"\")","v":{"$error":"#N/A"}}]
[null,null,null,null,null,null,null,null,null,null,null,null,null,null,null,null,null,null,null,{"$f":"IF(A504=\"\",\"\",G504&A504&J504)","v":""},{"$f":"IF(COUNTIF($T$5:T504,T504)=1,\"SB\",\"\")","v":""},{"$f":"A504&L504&G504","v":""},{"$f":"VLOOKUP(V504,Minimos!$D$3:$E$26,2,FALSE)","v":{"$error":"#N/A"}},{"$f":"M504-W504","v":{"$error":"#N/A"}},{"$f":"IF(X504>=0,\"Apurado\",\"\")","v":{"$error":"#N/A"}}]
[null,null,null,null,null,null,null,null,null,null,null,null,null,null,null,null,null,null,null,{"$f":"IF(A505=\"\",\"\",G505&A505&J505)","v":""},{"$f":"IF(COUNTIF($T$5:T505,T505)=1,\"SB\",\"\")","v":""},{"$f":"A505&L505&G505","v":""},{"$f":"VLOOKUP(V505,Minimos!$D$3:$E$26,2,FALSE)","v":{"$error":"#N/A"}},{"$f":"M505-W505","v":{"$error":"#N/A"}},{"$f":"IF(X505>=0,\"Apurado\",\"\")","v":{"$error":"#N/A"}}]
[null,null,null,null,null,null,null,null,null,null,null,null,null,null,null,null,null,null,null,{"$f":"IF(A506=\"\",\"\",G506&A506&J506)","v":""},{"$f":"IF(COUNTIF($T$5:T506,T506)=1,\"SB\",\"\")","v":""},{"$f":"A506&L506&G506","v":""},{"$f":"VLOOKUP(V506,Minimos!$D$3:$E$26,2,FALSE)","v":{"$error":"#N/A"}},{"$f":"M506-W506","v":{"$error":"#N/A"}},{"$f":"IF(X506>=0,\"Apurado\",\"\")","v":{"$error":"#N/A"}}]
[null,null,null,null,null,null,null,null,null,null,null,null,null,null,null,null,null,null,null,{"$f":"IF(A507=\"\",\"\",G507&A507&J507)","v":""},{"$f":"IF(COUNTIF($T$5:T507,T507)=1,\"SB\",\"\")","v":""},{"$f":"A507&L507&G507","v":""},{"$f":"VLOOKUP(V507,Minimos!$D$3:$E$26,2,FALSE)","v":{"$error":"#N/A"}},{"$f":"M507-W507","v":{"$error":"#N/A"}},{"$f":"IF(X507>=0,\"Apurado\",\"\")","v":{"$error":"#N/A"}}]
[null,null,null,null,null,null,null,null,null,null,null,null,null,null,null,null,null,null,null,{"$f":"IF(A508=\"\",\"\",G508&A508&J508)","v":""},{"$f":"IF(COUNTIF($T$5:T508,T508)=1,\"SB\",\"\")","v":""},{"$f":"A508&L508&G508","v":""},{"$f":"VLOOKUP(V508,Minimos!$D$3:$E$26,2,FALSE)","v":{"$error":"#N/A"}},{"$f":"M508-W508","v":{"$error":"#N/A"}},{"$f":"IF(X508>=0,\"Apurado\",\"\")","v":{"$error":"#N/A"}}]
[null,null,null,null,null,null,null,null,null,null,null,null,null,null,null,null,null,null,null,{"$f":"IF(A509=\"\",\"\",G509&A509&J509)","v":""},{"$f":"IF(COUNTIF($T$5:T509,T509)=1,\"SB\",\"\")","v":""},{"$f":"A509&L509&G509","v":""},{"$f":"VLOOKUP(V509,Minimos!$D$3:$E$26,2,FALSE)","v":{"$error":"#N/A"}},{"$f":"M509-W509","v":{"$error":"#N/A"}},{"$f":"IF(X509>=0,\"Apurado\",\"\")","v":{"$error":"#N/A"}}]
[null,null,null,null,null,null,null,null,null,null,null,null,null,null,null,null,null,null,null,{"$f":"IF(A510=\"\",\"\",G510&A510&J510)","v":""},{"$f":"IF(COUNTIF($T$5:T510,T510)=1,\"SB\",\"\")","v":""},{"$f":"A510&L510&G510","v":""},{"$f":"VLOOKUP(V510,Minimos!$D$3:$E$26,2,FALSE)","v":{"$error":"#N/A"}},{"$f":"M510-W510","v":{"$error":"#N/A"}},{"$f":"IF(X510>=0,\"Apurado\",\"\")","v":{"$error":"#N/A"}}]
[null,null,null,null,null,null,null,null,null,null,null,null,null,null,null,null,null,null,null,{"$f":"IF(A511=\"\",\"\",G511&A511&J511)","v":""},{"$f":"IF(COUNTIF($T$5:T511,T511)=1,\"SB\",\"\")","v":""},{"$f":"A511&L511&G511","v":""},{"$f":"VLOOKUP(V511,Minimos!$D$3:$E$26,2,FALSE)","v":{"$error":"#N/A"}},{"$f":"M511-W511","v":{"$error":"#N/A"}},{"$f":"IF(X511>=0,\"Apurado\",\"\")","v":{"$error":"#N/A"}}]
[null,null,null,null,null,null,null,null,null,null,null,null,null,null,null,null,null,null,null,{"$f":"IF(A512=\"\",\"\",G512&A512&J512)","v":""},{"$f":"IF(COUNTIF($T$5:T512,T512)=1,\"SB\",\"\")","v":""},{"$f":"A512&L512&G512","v":""},{"$f":"VLOOKUP(V512,Minimos!$D$3:$E$26,2,FALSE)","v":{"$error":"#N/A"}},{"$f":"M512-W512","v":{"$error":"#N/A"}},{"$f":"IF(X512>=0,\"Apurado\",\"\")","v":{"$error":"#N/A"}}]
[null,null,null,null,null,null,null,null,null,null,null,null,null,null,null,null,null,null,null,{"$f":"IF(A513=\"\",\"\",G513&A513&J513)","v":""},{"$f":"IF(COUNTIF($T$5:T513,T513)=1,\"SB\",\"\")","v":""},{"$f":"A513&L513&G513","v":""},{"$f":"VLOOKUP(V513,Minimos!$D$3:$E$26,2,FALSE)","v":{"$error":"#N/A"}},{"$f":"M513-W513","v":{"$error":"#N/A"}},{"$f":"IF(X513>=0,\"Apurado\",\"\")","v":{"$error":"#N/A"}}]
[null,null,null,null,null,null,null,null,null,null,null,null,null,null,null,null,null,null,null,{"$f":"IF(A514=\"\",\"\",G514&A514&J514)","v":""},{"$f":"IF(COUNTIF($T$5:T514,T514)=1,\"SB\",\"\")","v":""},{"$f":"A514&L514&G514","v":""},{"$f":"VLOOKUP(V514,Minimos!$D$3:$E$26,2,FALSE)","v":{"$error":"#N/A"}},{"$f":"M514-W514","v":{"$error":"#N/A"}},{"$f":"IF(X514>=0,\"Apurado\",\"\")","v":{"$error":"#N/A"}}]
[null,null,null,null,null,null,null,null,null,null,null,null,null,null,null,null,null,null,null,{"$f":"IF(A515=\"\",\"\",G515&A515&J515)","v":""},{"$f":"IF(COUNTIF($T$5:T515,T515)=1,\"SB\",\"\")","v":""},{"$f":"A515&L515&G515","v":""},{"$f":"VLOOKUP(V515,Minimos!$D$3:$E$26,2,FALSE)","v":{"$error":"#N/A"}},{"$f":"M515-W515","v":{"$error":"#N/A"}},{"$f":"IF(X515>=0,\"Apurado\",\"\")","v":{"$error":"#N/A"}}]
[null,null,null,null,null,null,null,null,null,null,null,null,null,null,null,null,null,null,null,{"$f":"IF(A516=\"\",\"\",G516&A516&J516)","v":""},{"$f":"IF(COUNTIF($T$5:T516,T516)=1,\"SB\",\"\")","v":""},{"$f":"A516&L516&G516","v":""},{"$f":"VLOOKUP(V516,Minimos!$D$3:$E$26,2,FALSE)","v":{"$error":"#N/A"}},{"$f":"M516-W516","v":{"$error":"#N/A"}},{"$f":"IF(X516>=0,\"Apurado\",\"\")","v":{"$error":"#N/A"}}]
[null,null,null,null,null,null,null,null,null,null,null,null,null,null,null,null,null,null,null,{"$f":"IF(A517=\"\",\"\",G517&A517&J517)","v":""},{"$f":"IF(COUNTIF($T$5:T517,T517)=1,\"SB\",\"\")","v":""},{"$f":"A517&L517&G517","v":""},{"$f":"VLOOKUP(V517,Minimos!$D$3:$E$26,2,FALSE)","v":{"$error":"#N/A"}},{"$f":"M517-W517","v":{"$error":"#N/A"}},{"$f":"IF(X517>=0,\"Apurado\",\"\")","v":{"$error":"#N/A"}}]
[null,null,null,null,null,null,null,null,null,null,null,null,null,null,null,null,null,null,null,{"$f":"IF(A518=\"\",\"\",G518&A518&J518)","v":""},{"$f":"IF(COUNTIF($T$5:T518,T518)=1,\"SB\",\"\")","v":""},{"$f":"A518&L518&G518","v":""},{"$f":"VLOOKUP(V518,Minimos!$D$3:$E$26,2,FALSE)","v":{"$error":"#N/A"}},{"$f":"M518-W518","v":{"$error":"#N/A"}},{"$f":"IF(X518>=0,\"Apurado\",\"\")","v":{"$error":"#N/A"}}]
[null,null,null,null,null,null,null,null,null,null,null,null,null,null,null,null,null,null,null,{"$f":"IF(A519=\"\",\"\",G519&A519&J519)","v":""},{"$f":"IF(COUNTIF($T$5:T519,T519)=1,\"SB\",\"\")","v":""},{"$f":"A519&L519&G519","v":""},{"$f":"VLOOKUP(V519,Minimos!$D$3:$E$26,2,FALSE)","v":{"$error":"#N/A"}},{"$f":"M519-W519","v":{"$error":"#N/A"}},{"$f":"IF(X519>=0,\"Apurado\",\"\")","v":{"$error":"#N/A"}}]
[null,null,null,null,null,null,null,null,null,null,null,null,null,null,null,null,null,null,null,{"$f":"IF(A520=\"\",\"\",G520&A520&J520)","v":""},{"$f":"IF(COUNTIF($T$5:T520,T520)=1,\"SB\",\"\")","v":""},{"$f":"A520&L520&G520","v":""},{"$f":"VLOOKUP(V520,Minimos!$D$3:$E$26,2,FALSE)","v":{"$error":"#N/A"}},{"$f":"M520-W520","v":{"$error":"#N/A"}},{"$f":"IF(X520>=0,\"Apurado\",\"\")","v":{"$error":"#N/A"}}]
[null,null,null,null,null,null,null,null,null,null,null,null,null,null,null,null,null,null,null,{"$f":"IF(A521=\"\",\"\",G521&A521&J521)","v":""},{"$f":"IF(COUNTIF($T$5:T521,T521)=1,\"SB\",\"\")","v":""},{"$f":"A521&L521&G521","v":""},{"$f":"VLOOKUP(V521,Minimos!$D$3:$E$26,2,FALSE)","v":{"$error":"#N/A"}},{"$f":"M521-W521","v":{"$error":"#N/A"}},{"$f":"IF(X521>=0,\"Apurado\",\"\")","v":{"$error":"#N/A"}}]
[null,null,null,null,null,null,null,null,null,null,null,null,null,null,null,null,null,null,null,{"$f":"IF(A522=\"\",\"\",G522&A522&J522)","v":""},{"$f":"IF(COUNTIF($T$5:T522,T522)=1,\"SB\",\"\")","v":""},{"$f":"A522&L522&G522","v":""},{"$f":"VLOOKUP(V522,Minimos!$D$3:$E$26,2,FALSE)","v":{"$error":"#N/A"}},{"$f":"M522-W522","v":{"$error":"#N/A"}},{"$f":"IF(X522>=0,\"Apurado\",\"\")","v":{"$error":"#N/A"}}]
[null,null,null,null,null,null,null,null,null,null,null,null,null,null,null,null,null,null,null,{"$f":"IF(A523=\"\",\"\",G523&A523&J523)","v":""},{"$f":"IF(COUNTIF($T$5:T523,T523)=1,\"SB\",\"\")","v":""},{"$f":"A523&L523&G523","v":""},{"$f":"VLOOKUP(V523,Minimos!$D$3:$E$26,2,FALSE)","v":{"$error":"#N/A"}},{"$f":"M523-W523","v":{"$error":"#N/A"}},{"$f":"IF(X523>=0,\"Apurado\",\"\")","v":{"$error":"#N/A"}}]
[null,null,null,null,null,null,null,null,null,null,null,null,null,null,null,null,null,null,null,{"$f":"IF(A524=\"\",\"\",G524&A524&J524)","v":""},{"$f":"IF(COUNTIF($T$5:T524,T524)=1,\"SB\",\"\")","v":""},{"$f":"A524&L524&G524","v":""},{"$f":"VLOOKUP(V524,Minimos!$D$3:$E$26,2,FALSE)","v":{"$error":"#N/A"}},{"$f":"M524-W524","v":{"$error":"#N/A"}},{"$f":"IF(X524>=0,\"Apurado\",\"\")","v":{"$error":"#N/A"}}]
[null,null,null,null,null,null,null,null,null,null,null,null,null,null,null,null,null,null,null,{"$f":"IF(A525=\"\",\"\",G525&A525&J525)","v":""},{"$f":"IF(COUNTIF($T$5:T525,T525)=1,\"SB\",\"\")","v":""},{"$f":"A525&L525&G525","v":""},{"$f":"VLOOKUP(V525,Minimos!$D$3:$E$26,2,FALSE)","v":{"$error":"#N/A"}},{"$f":"M525-W525","v":{"$error":"#N/A"}},{"$f":"IF(X525>=0,\"Apurado\",\"\")","v":{"$error":"#N/A"}}]
[null,null,null,null,null,null,null,null,null,null,null,null,null,null,null,null,null,null,null,{"$f":"IF(A526=\"\",\"\",G526&A526&J526)","v":""},{"$f":"IF(COUNTIF($T$5:T526,T526)=1,\"SB\",\"\")","v":""},{"$f":"A526&L526&G526","v":""},{"$f":"VLOOKUP(V526,Minimos!$D$3:$E$26,2,FALSE)","v":{"$error":"#N/A"}},{"$f":"M526-W526","v":{"$error":"#N/A"}},{"$f":"IF(X526>=0,\"Apurado\",\"\")","v":{"$error":"#N/A"}}]
[null,null,null,null,null,null,null,null,null,null,null,null,null,null,null,null,null,null,null,{"$f":"IF(A527=\"\",\"\",G527&A527&J527)","v":""},{"$f":"IF(COUNTIF($T$5:T527,T527)=1,\"SB\",\"\")","v":""},{"$f":"A527&L527&G527","v":""},{"$f":"VLOOKUP(V527,Minimos!$D$3:$E$26,2,FALSE)","v":{"$error":"#N/A"}},{"$f":"M527-W527","v":{"$error":"#N/A"}},{"$f":"IF(X527>=0,\"Apurado\",\"\")","v":{"$error":"#N/A"}}]
[null,null,null,null,null,null,null,null,null,null,null,null,null,null,null,null,null,null,null,{"$f":"IF(A528=\"\",\"\",G528&A528&J528)","v":""},{"$f":"IF(COUNTIF($T$5:T528,T528)=1,\"SB\",\"\")","v":""},{"$f":"A528&L528&G528","v":""},{"$f":"VLOOKUP(V528,Minimos!$D$3:$E$26,2,FALSE)","v":{"$error":"#N/A"}},{"$f":"M528-W528","v":{"$error":"#N/A"}},{"$f":"IF(X528>=0,\"Apurado\",\"\")","v":{"$error":"#N/A"}}]
[null,null,null,null,null,null,null,null,null,null,null,null,null,null,null,null,null,null,null,{"$f":"IF(A529=\"\",\"\",G529&A529&J529)","v":""},{"$f":"IF(COUNTIF($T$5:T529,T529)=1,\"SB\",\"\")","v":""},{"$f":"A529&L529&G529","v":""},{"$f":"VLOOKUP(V529,Minimos!$D$3:$E$26,2,FALSE)","v":{"$error":"#N/A"}},{"$f":"M529-W529","v":{"$error":"#N/A"}},{"$f":"IF(X529>=0,\"Apurado\",\"\")","v":{"$error":"#N/A"}}]
[null,null,null,null,null,null,null,null,null,null,null,null,null,null,null,null,null,null,null,{"$f":"IF(A530=\"\",\"\",G530&A530&J530)","v":""},{"$f":"IF(COUNTIF($T$5:T530,T530)=1,\"SB\",\"\")","v":""},{"$f":"A530&L530&G530","v":""},{"$f":"VLOOKUP(V530,Minimos!$D$3:$E$26,2,FALSE)","v":{"$error":"#N/A"}},{"$f":"M530-W530","v":{"$error":"#N/A"}},{"$f":"IF(X530>=0,\"Apurado\",\"\")","v":{"$error":"#N/A"}}]
[null,null,null,null,null,null,null,null,null,null,null,null,null,null,null,null,null,null,null,{"$f":"IF(A531=\"\",\"\",G531&A531&J531)","v":""},{"$f":"IF(COUNTIF($T$5:T531,T531)=1,\"SB\",\"\")","v":""},{"$f":"A531&L531&G531","v":""},{"$f":"VLOOKUP(V531,Minimos!$D$3:$E$26,2,FALSE)","v":{"$error":"#N/A"}},{"$f":"M531-W531","v":{"$error":"#N/A"}},{"$f":"IF(X531>=0,\"Apurado\",\"\")","v":{"$error":"#N/A"}}]
[null,null,null,null,null,null,null,null,null,null,null,null,null,null,null,null,null,null,null,{"$f":"IF(A532=\"\",\"\",G532&A532&J532)","v":""},{"$f":"IF(COUNTIF($T$5:T532,T532)=1,\"SB\",\"\")","v":""},{"$f":"A532&L532&G532","v":""},{"$f":"VLOOKUP(V532,Minimos!$D$3:$E$26,2,FALSE)","v":{"$error":"#N/A"}},{"$f":"M532-W532","v":{"$error":"#N/A"}},{"$f":"IF(X532>=0,\"Apurado\",\"\")","v":{"$error":"#N/A"}}]
[null,null,null,null,null,null,null,null,null,null,null,null,null,null,null,null,null,null,null,{"$f":"IF(A533=\"\",\"\",G533&A533&J533)","v":""},{"$f":"IF(COUNTIF($T$5:T533,T533)=1,\"SB\",\"\")","v":""},{"$f":"A533&L533&G533","v":""},{"$f":"VLOOKUP(V533,Minimos!$D$3:$E$26,2,FALSE)","v":{"$error":"#N/A"}},{"$f":"M533-W533","v":{"$error":"#N/A"}},{"$f":"IF(X533>=0,\"Apurado\",\"\")","v":{"$error":"#N/A"}}]
[null,null,null,null,null,null,null,null,null,null,null,null,null,null,null,null,null,null,null,{"$f":"IF(A534=\"\",\"\",G534&A534&J534)","v":""},{"$f":"IF(COUNTIF($T$5:T534,T534)=1,\"SB\",\"\")","v":""},{"$f":"A534&L534&G534","v":""},{"$f":"VLOOKUP(V534,Minimos!$D$3:$E$26,2,FALSE)","v":{"$error":"#N/A"}},{"$f":"M534-W534","v":{"$error":"#N/A"}},{"$f":"IF(X534>=0,\"Apurado\",\"\")","v":{"$error":"#N/A"}}]
[null,null,null,null,null,null,null,null,null,null,null,null,null,null,null,null,null,null,null,{"$f":"IF(A535=\"\",\"\",G535&A535&J535)","v":""},{"$f":"IF(COUNTIF($T$5:T535,T535)=1,\"SB\",\"\")","v":""},{"$f":"A535&L535&G535","v":""},{"$f":"VLOOKUP(V535,Minimos!$D$3:$E$26,2,FALSE)","v":{"$error":"#N/A"}},{"$f":"M535-W535","v":{"$error":"#N/A"}},{"$f":"IF(X535>=0,\"Apurado\",\"\")","v":{"$error":"#N/A"}}]
[null,null,null,null,null,null,null,null,null,null,null,null,null,null,null,null,null,null,null,{"$f":"IF(A536=\"\",\"\",G536&A536&J536)","v":""},{"$f":"IF(COUNTIF($T$5:T536,T536)=1,\"SB\",\"\")","v":""},{"$f":"A536&L536&G536","v":""},{"$f":"VLOOKUP(V536,Minimos!$D$3:$E$26,2,FALSE)","v":{"$error":"#N/A"}},{"$f":"M536-W536","v":{"$error":"#N/A"}},{"$f":"IF(X536>=0,\"Apurado\",\"\")","v":{"$error":"#N/A"}}]
[null,null,null,null,null,null,null,null,null,null,null,null,null,null,null,null,null,null,null,{"$f":"IF(A537=\"\",\"\",G537&A537&J537)","v":""},{"$f":"IF(COUNTIF($T$5:T537,T537)=1,\"SB\",\"\")","v":""},{"$f":"A537&L537&G537","v":""},{"$f":"VLOOKUP(V537,Minimos!$D$3:$E$26,2,FALSE)","v":{"$error":"#N/A"}},{"$f":"M537-W537","v":{"$error":"#N/A"}},{"$f":"IF(X537>=0,\"Apurado\",\"\")","v":{"$error":"#N/A"}}]
[null,null,null,null,null,null,null,null,null,null,null,null,null,null,null,null,null,null,null,{"$f":"IF(A538=\"\",\"\",G538&A538&J538)","v":""},{"$f":"IF(COUNTIF($T$5:T538,T538)=1,\"SB\",\"\")","v":""},{"$f":"A538&L538&G538","v":""},{"$f":"VLOOKUP(V538,Minimos!$D$3:$E$26,2,FALSE)","v":{"$error":"#N/A"}},{"$f":"M538-W538","v":{"$error":"#N/A"}},{"$f":"IF(X538>=0,\"Apurado\",\"\")","v":{"$error":"#N/A"}}]
[null,null,null,null,null,null,null,null,null,null,null,null,null,null,null,null,null,null,null,{"$f":"IF(A539=\"\",\"\",G539&A539&J539)","v":""},{"$f":"IF(COUNTIF($T$5:T539,T539)=1,\"SB\",\"\")","v":""},{"$f":"A539&L539&G539","v":""},{"$f":"VLOOKUP(V539,Minimos!$D$3:$E$26,2,FALSE)","v":{"$error":"#N/A"}},{"$f":"M539-W539","v":{"$error":"#N/A"}},{"$f":"IF(X539>=0,\"Apurado\",\"\")","v":{"$error":"#N/A"}}]
[null,null,null,null,null,null,null,null,null,null,null,null,null,null,null,null,null,null,null,{"$f":"IF(A540=\"\",\"\",G540&A540&J540)","v":""},{"$f":"IF(COUNTIF($T$5:T540,T540)=1,\"SB\",\"\")","v":""},{"$f":"A540&L540&G540","v":""},{"$f":"VLOOKUP(V540,Minimos!$D$3:$E$26,2,FALSE)","v":{"$error":"#N/A"}},{"$f":"M540-W540","v":{"$error":"#N/A"}},{"$f":"IF(X540>=0,\"Apurado\",\"\")","v":{"$error":"#N/A"}}]
[null,null,null,null,null,null,null,null,null,null,null,null,null,null,null,null,null,null,null,{"$f":"IF(A541=\"\",\"\",G541&A541&J541)","v":""},{"$f":"IF(COUNTIF($T$5:T541,T541)=1,\"SB\",\"\")","v":""},{"$f":"A541&L541&G541","v":""},{"$f":"VLOOKUP(V541,Minimos!$D$3:$E$26,2,FALSE)","v":{"$error":"#N/A"}},{"$f":"M541-W541","v":{"$error":"#N/A"}},{"$f":"IF(X541>=0,\"Apurado\",\"\")","v":{"$error":"#N/A"}}]
[null,null,null,null,null,null,null,null,null,null,null,null,null,null,null,null,null,null,null,{"$f":"IF(A542=\"\",\"\",G542&A542&J542)","v":""},{"$f":"IF(COUNTIF($T$5:T542,T542)=1,\"SB\",\"\")","v":""},{"$f":"A542&L542&G542","v":""},{"$f":"VLOOKUP(V542,Minimos!$D$3:$E$26,2,FALSE)","v":{"$error":"#N/A"}},{"$f":"M542-W542","v":{"$error":"#N/A"}},{"$f":"IF(X542>=0,\"Apurado\",\"\")","v":{"$error":"#N/A"}}]
[null,null,null,null,null,null,null,null,null,null,null,null,null,null,null,null,null,null,null,{"$f":"IF(A543=\"\",\"\",G543&A543&J543)","v":""},{"$f":"IF(COUNTIF($T$5:T543,T543)=1,\"SB\",\"\")","v":""},{"$f":"A543&L543&G543","v":""},{"$f":"VLOOKUP(V543,Minimos!$D$3:$E$26,2,FALSE)","v":{"$error":"#N/A"}},{"$f":"M543-W543","v":{"$error":"#N/A"}},{"$f":"IF(X543>=0,\"Apurado\",\"\")","v":{"$error":"#N/A"}}]
[null,null,null,null,null,null,null,null,null,null,null,null,null,null,null,null,null,null,null,{"$f":"IF(A544=\"\",\"\",G544&A544&J544)","v":""},{"$f":"IF(COUNTIF($T$5:T544,T544)=1,\"SB\",\"\")","v":""},{"$f":"A544&L544&G544","v":""},{"$f":"VLOOKUP(V544,Minimos!$D$3:$E$26,2,FALSE)","v":{"$error":"#N/A"}},{"$f":"M544-W544","v":{"$error":"#N/A"}},{"$f":"IF(X544>=0,\"Apurado\",\"\")","v":{"$error":"#N/A"}}]
[null,null,null,null,null,null,null,null,null,null,null,null,null,null,null,null,null,null,null,{"$f":"IF(A545=\"\",\"\",G545&A545&J545)","v":""},{"$f":"IF(COUNTIF($T$5:T545,T545)=1,\"SB\",\"\")","v":""},{"$f":"A545&L545&G545","v":""},{"$f":"VLOOKUP(V545,Minimos!$D$3:$E$26,2,FALSE)","v":{"$error":"#N/A"}},{"$f":"M545-W545","v":{"$error":"#N/A"}},{"$f":"IF(X545>=0,\"Apurado\",\"\")","v":{"$error":"#N/A"}}]
[null,null,null,null,null,null,null,null,null,null,null,null,null,null,null,null,null,null,null,{"$f":"IF(A546=\"\",\"\",G546&A546&J546)","v":""},{"$f":"IF(COUNTIF($T$5:T546,T546)=1,\"SB\",\"\")","v":""},{"$f":"A546&L546&G546","v":""},{"$f":"VLOOKUP(V546,Minimos!$D$3:$E$26,2,FALSE)","v":{"$error":"#N/A"}},{"$f":"M546-W546","v":{"$error":"#N/A"}},{"$f":"IF(X546>=0,\"Apurado\",\"\")","v":{"$error":"#N/A"}}]
[null,null,null,null,null,null,null,null,null,null,null,null,null,null,null,null,null,null,null,{"$f":"IF(A547=\"\",\"\",G547&A547&J547)","v":""},{"$f":"IF(COUNTIF($T$5:T547,T547)=1,\"SB\",\"\")","v":""},{"$f":"A547&L547&G547","v":""},{"$f":"VLOOKUP(V547,Minimos!$D$3:$E$26,2,FALSE)","v":{"$error":"#N/A"}},{"$f":"M547-W547","v":{"$error":"#N/A"}},{"$f":"IF(X547>=0,\"Apurado\",\"\")","v":{"$error":"#N/A"}}]
[null,null,null,null,null,null,null,null,null,null,null,null,null,null,null,null,null,null,null,{"$f":"IF(A548=\"\",\"\",G548&A548&J548)","v":""},{"$f":"IF(COUNTIF($T$5:T548,T548)=1,\"SB\",\"\")","v":""},{"$f":"A548&L548&G548","v":""},{"$f":"VLOOKUP(V548,Minimos!$D$3:$E$26,2,FALSE)","v":{"$error":"#N/A"}},{"$f":"M548-W548","v":{"$error":"#N/A"}},{"$f":"IF(X548>=0,\"Apurado\",\"\")","v":{"$error":"#N/A"}}]
[null,null,null,null,null,null,null,null,null,null,null,null,null,null,null,null,null,null,null,{"$f":"IF(A549=\"\",\"\",G549&A549&J549)","v":""},{"$f":"IF(COUNTIF($T$5:T549,T549)=1,\"SB\",\"\")","v":""},{"$f":"A549&L549&G549","v":""},{"$f":"VLOOKUP(V549,Minimos!$D$3:$E$26,2,FALSE)","v":{"$error":"#N/A"}},{"$f":"M549-W549","v":{"$error":"#N/A"}},{"$f":"IF(X549>=0,\"Apurado\",\"\")","v":{"$error":"#N/A"}}]
[null,null,null,null,null,null,null,null,null,null,null,null,null,null,null,null,null,null,null,{"$f":"IF(A550=\"\",\"\",G550&A550&J550)","v":""},{"$f":"IF(COUNTIF($T$5:T550,T550)=1,\"SB\",\"\")","v":""},{"$f":"A550&L550&G550","v":""},{"$f":"VLOOKUP(V550,Minimos!$D$3:$E$26,2,FALSE)","v":{"$error":"#N/A"}},{"$f":"M550-W550","v":{"$error":"#N/A"}},{"$f":"IF(X550>=0,\"Apurado\",\"\")","v":{"$error":"#N/A"}}]
[null,null,null,null,null,null,null,null,null,null,null,null,null,null,null,null,null,null,null,{"$f":"IF(A551=\"\",\"\",G551&A551&J551)","v":""},{"$f":"IF(COUNTIF($T$5:T551,T551)=1,\"SB\",\"\")","v":""},{"$f":"A551&L551&G551","v":""},{"$f":"VLOOKUP(V551,Minimos!$D$3:$E$26,2,FALSE)","v":{"$error":"#N/A"}},{"$f":"M551-W551","v":{"$error":"#N/A"}},{"$f":"IF(X551>=0,\"Apurado\",\"\")","v":{"$error":"#N/A"}}]
[null,null,null,null,null,null,null,null,null,null,null,null,null,null,null,null,null,null,null,{"$f":"IF(A552=\"\",\"\",G552&A552&J552)","v":""},{"$f":"IF(COUNTIF($T$5:T552,T552)=1,\"SB\",\"\")","v":""},{"$f":"A552&L552&G552","v":""},{"$f":"VLOOKUP(V552,Minimos!$D$3:$E$26,2,FALSE)","v":{"$error":"#N/A"}},{"$f":"M552-W552","v":{"$error":"#N/A"}},{"$f":"IF(X552>=0,\"Apurado\",\"\")","v":{"$error":"#N/A"}}]
[null,null,null,null,null,null,null,null,null,null,null,null,null,null,null,null,null,null,null,{"$f":"IF(A553=\"\",\"\",G553&A553&J553)","v":""},{"$f":"IF(COUNTIF($T$5:T553,T553)=1,\"SB\",\"\")","v":""},{"$f":"A553&L553&G553","v":""},{"$f":"VLOOKUP(V553,Minimos!$D$3:$E$26,2,FALSE)","v":{"$error":"#N/A"}},{"$f":"M553-W553","v":{"$error":"#N/A"}},{"$f":"IF(X553>=0,\"Apurado\",\"\")","v":{"$error":"#N/A"}}]
[null,null,null,null,null,null,null,null,null,null,null,null,null,null,null,null,null,null,null,{"$f":"IF(A554=\"\",\"\",G554&A554&J554)","v":""},{"$f":"IF(COUNTIF($T$5:T554,T554)=1,\"SB\",\"\")","v":""},{"$f":"A554&L554&G554","v":""},{"$f":"VLOOKUP(V554,Minimos!$D$3:$E$26,2,FALSE)","v":{"$error":"#N/A"}},{"$f":"M554-W554","v":{"$error":"#N/A"}},{"$f":"IF(X554>=0,\"Apurado\",\"\")","v":{"$error":"#N/A"}}]
[null,null,null,null,null,null,null,null,null,null,null,null,null,null,null,null,null,null,null,{"$f":"IF(A555=\"\",\"\",G555&A555&J555)","v":""},{"$f":"IF(COUNTIF($T$5:T555,T555)=1,\"SB\",\"\")","v":""},{"$f":"A555&L555&G555","v":""},{"$f":"VLOOKUP(V555,Minimos!$D$3:$E$26,2,FALSE)","v":{"$error":"#N/A"}},{"$f":"M555-W555","v":{"$error":"#N/A"}},{"$f":"IF(X555>=0,\"Apurado\",\"\")","v":{"$error":"#N/A"}}]
[null,null,null,null,null,null,null,null,null,null,null,null,null,null,null,null,null,null,null,{"$f":"IF(A556=\"\",\"\",G556&A556&J556)","v":""},{"$f":"IF(COUNTIF($T$5:T556,T556)=1,\"SB\",\"\")","v":""},{"$f":"A556&L556&G556","v":""},{"$f":"VLOOKUP(V556,Minimos!$D$3:$E$26,2,FALSE)","v":{"$error":"#N/A"}},{"$f":"M556-W556","v":{"$error":"#N/A"}},{"$f":"IF(X556>=0,\"Apurado\",\"\")","v":{"$error":"#N/A"}}]
[null,null,null,null,null,null,null,null,null,null,null,null,null,null,null,null,null,null,null,{"$f":"IF(A557=\"\",\"\",G557&A557&J557)","v":""},{"$f":"IF(COUNTIF($T$5:T557,T557)=1,\"SB\",\"\")","v":""},{"$f":"A557&L557&G557","v":""},{"$f":"VLOOKUP(V557,Minimos!$D$3:$E$26,2,FALSE)","v":{"$error":"#N/A"}},{"$f":"M557-W557","v":{"$error":"#N/A"}},{"$f":"IF(X557>=0,\"Apurado\",\"\")","v":{"$error":"#N/A"}}]
[null,null,null,null,null,null,null,null,null,null,null,null,null,null,null,null,null,null,null,{"$f":"IF(A558=\"\",\"\",G558&A558&J558)","v":""},{"$f":"IF(COUNTIF($T$5:T558,T558)=1,\"SB\",\"\")","v":""},{"$f":"A558&L558&G558","v":""},{"$f":"VLOOKUP(V558,Minimos!$D$3:$E$26,2,FALSE)","v":{"$error":"#N/A"}},{"$f":"M558-W558","v":{"$error":"#N/A"}},{"$f":"IF(X558>=0,\"Apurado\",\"\")","v":{"$error":"#N/A"}}]
[null,null,null,null,null,null,null,null,null,null,null,null,null,null,null,null,null,null,null,{"$f":"IF(A559=\"\",\"\",G559&A559&J559)","v":""},{"$f":"IF(COUNTIF($T$5:T559,T559)=1,\"SB\",\"\")","v":""},{"$f":"A559&L559&G559","v":""},{"$f":"VLOOKUP(V559,Minimos!$D$3:$E$26,2,FALSE)","v":{"$error":"#N/A"}},{"$f":"M559-W559","v":{"$error":"#N/A"}},{"$f":"IF(X559>=0,\"Apurado\",\"\")","v":{"$error":"#N/A"}}]
[null,null,null,null,null,null,null,null,null,null,null,null,null,null,null,null,null,null,null,{"$f":"IF(A560=\"\",\"\",G560&A560&J560)","v":""},{"$f":"IF(COUNTIF($T$5:T560,T560)=1,\"SB\",\"\")","v":""},{"$f":"A560&L560&G560","v":""},{"$f":"VLOOKUP(V560,Minimos!$D$3:$E$26,2,FALSE)","v":{"$error":"#N/A"}},{"$f":"M560-W560","v":{"$error":"#N/A"}},{"$f":"IF(X560>=0,\"Apurado\",\"\")","v":{"$error":"#N/A"}}]
[null,null,null,null,null,null,null,null,null,null,null,null,null,null,null,null,null,null,null,{"$f":"IF(A561=\"\",\"\",G561&A561&J561)","v":""},{"$f":"IF(COUNTIF($T$5:T561,T561)=1,\"SB\",\"\")","v":""},{"$f":"A561&L561&G561","v":""},{"$f":"VLOOKUP(V561,Minimos!$D$3:$E$26,2,FALSE)","v":{"$error":"#N/A"}},{"$f":"M561-W561","v":{"$error":"#N/A"}},{"$f":"IF(X561>=0,\"Apurado\",\"\")","v":{"$error":"#N/A"}}]
[null,null,null,null,null,null,null,null,null,null,null,null,null,null,null,null,null,null,null,{"$f":"IF(A562=\"\",\"\",G562&A562&J562)","v":""},{"$f":"IF(COUNTIF($T$5:T562,T562)=1,\"SB\",\"\")","v":""},{"$f":"A562&L562&G562","v":""},{"$f":"VLOOKUP(V562,Minimos!$D$3:$E$26,2,FALSE)","v":{"$error":"#N/A"}},{"$f":"M562-W562","v":{"$error":"#N/A"}},{"$f":"IF(X562>=0,\"Apurado\",\"\")","v":{"$error":"#N/A"}}]
[null,null,null,null,null,null,null,null,null,null,null,null,null,null,null,null,null,null,null,{"$f":"IF(A563=\"\",\"\",G563&A563&J563)","v":""},{"$f":"IF(COUNTIF($T$5:T563,T563)=1,\"SB\",\"\")","v":""},{"$f":"A563&L563&G563","v":""},{"$f":"VLOOKUP(V563,Minimos!$D$3:$E$26,2,FALSE)","v":{"$error":"#N/A"}},{"$f":"M563-W563","v":{"$error":"#N/A"}},{"$f":"IF(X563>=0,\"Apurado\",\"\")","v":{"$error":"#N/A"}}]
[null,null,null,null,null,null,null,null,null,null,null,null,null,null,null,null,null,null,null,{"$f":"IF(A564=\"\",\"\",G564&A564&J564)","v":""},{"$f":"IF(COUNTIF($T$5:T564,T564)=1,\"SB\",\"\")","v":""},{"$f":"A564&L564&G564","v":""},{"$f":"VLOOKUP(V564,Minimos!$D$3:$E$26,2,FALSE)","v":{"$error":"#N/A"}},{"$f":"M564-W564","v":{"$error":"#N/A"}},{"$f":"IF(X564>=0,\"Apurado\",\"\")","v":{"$error":"#N/A"}}]
[null,null,null,null,null,null,null,null,null,null,null,null,null,null,null,null,null,null,null,{"$f":"IF(A565=\"\",\"\",G565&A565&J565)","v":""},{"$f":"IF(COUNTIF($T$5:T565,T565)=1,\"SB\",\"\")","v":""},{"$f":"A565&L565&G565","v":""},{"$f":"VLOOKUP(V565,Minimos!$D$3:$E$26,2,FALSE)","v":{"$error":"#N/A"}},{"$f":"M565-W565","v":{"$error":"#N/A"}},{"$f":"IF(X565>=0,\"Apurado\",\"\")","v":{"$error":"#N/A"}}]
[null,null,null,null,null,null,null,null,null,null,null,null,null,null,null,null,null,null,null,{"$f":"IF(A566=\"\",\"\",G566&A566&J566)","v":""},{"$f":"IF(COUNTIF($T$5:T566,T566)=1,\"SB\",\"\")","v":""},{"$f":"A566&L566&G566","v":""},{"$f":"VLOOKUP(V566,Minimos!$D$3:$E$26,2,FALSE)","v":{"$error":"#N/A"}},{"$f":"M566-W566","v":{"$error":"#N/A"}},{"$f":"IF(X566>=0,\"Apurado\",\"\")","v":{"$error":"#N/A"}}]
[null,null,null,null,null,null,null,null,null,null,null,null,null,null,null,null,null,null,null,{"$f":"IF(A567=\"\",\"\",G567&A567&J567)","v":""},{"$f":"IF(COUNTIF($T$5:T567,T567)=1,\"SB\",\"\")","v":""},{"$f":"A567&L567&G567","v":""},{"$f":"VLOOKUP(V567,Minimos!$D$3:$E$26,2,FALSE)","v":{"$error":"#N/A"}},{"$f":"M567-W567","v":{"$error":"#N/A"}},{"$f":"IF(X567>=0,\"Apurado\",\"\")","v":{"$error":"#N/A"}}]
[null,null,null,null,null,null,null,null,null,null,null,null,null,null,null,null,null,null,null,{"$f":"IF(A568=\"\",\"\",G568&A568&J568)","v":""},{"$f":"IF(COUNTIF($T$5:T568,T568)=1,\"SB\",\"\")","v":""},{"$f":"A568&L568&G568","v":""},{"$f":"VLOOKUP(V568,Minimos!$D$3:$E$26,2,FALSE)","v":{"$error":"#N/A"}},{"$f":"M568-W568","v":{"$error":"#N/A"}},{"$f":"IF(X568>=0,\"Apurado\",\"\")","v":{"$error":"#N/A"}}]
[null,null,null,null,null,null,null,null,null,null,null,null,null,null,null,null,null,null,null,{"$f":"IF(A569=\"\",\"\",G569&A569&J569)","v":""},{"$f":"IF(COUNTIF($T$5:T569,T569)=1,\"SB\",\"\")","v":""},{"$f":"A569&L569&G569","v":""},{"$f":"VLOOKUP(V569,Minimos!$D$3:$E$26,2,FALSE)","v":{"$error":"#N/A"}},{"$f":"M569-W569","v":{"$error":"#N/A"}},{"$f":"IF(X569>=0,\"Apurado\",\"\")","v":{"$error":"#N/A"}}]
[null,null,null,null,null,null,null,null,null,null,null,null,null,null,null,null,null,null,null,{"$f":"IF(A570=\"\",\"\",G570&A570&J570)","v":""},{"$f":"IF(COUNTIF($T$5:T570,T570)=1,\"SB\",\"\")","v":""},{"$f":"A570&L570&G570","v":""},{"$f":"VLOOKUP(V570,Minimos!$D$3:$E$26,2,FALSE)","v":{"$error":"#N/A"}},{"$f":"M570-W570","v":{"$error":"#N/A"}},{"$f":"IF(X570>=0,\"Apurado\",\"\")","v":{"$error":"#N/A"}}]
[null,null,null,null,null,null,null,null,null,null,null,null,null,null,null,null,null,null,null,{"$f":"IF(A571=\"\",\"\",G571&A571&J571)","v":""},{"$f":"IF(COUNTIF($T$5:T571,T571)=1,\"SB\",\"\")","v":""},{"$f":"A571&L571&G571","v":""},{"$f":"VLOOKUP(V571,Minimos!$D$3:$E$26,2,FALSE)","v":{"$error":"#N/A"}},{"$f":"M571-W571","v":{"$error":"#N/A"}},{"$f":"IF(X571>=0,\"Apurado\",\"\")","v":{"$error":"#N/A"}}]
[null,null,null,null,null,null,null,null,null,null,null,null,null,null,null,null,null,null,null,{"$f":"IF(A572=\"\",\"\",G572&A572&J572)","v":""},{"$f":"IF(COUNTIF($T$5:T572,T572)=1,\"SB\",\"\")","v":""},{"$f":"A572&L572&G572","v":""},{"$f":"VLOOKUP(V572,Minimos!$D$3:$E$26,2,FALSE)","v":{"$error":"#N/A"}},{"$f":"M572-W572","v":{"$error":"#N/A"}},{"$f":"IF(X572>=0,\"Apurado\",\"\")","v":{"$error":"#N/A"}}]
[null,null,null,null,null,null,null,null,null,null,null,null,null,null,null,null,null,null,null,{"$f":"IF(A573=\"\",\"\",G573&A573&J573)","v":""},{"$f":"IF(COUNTIF($T$5:T573,T573)=1,\"SB\",\"\")","v":""},{"$f":"A573&L573&G573","v":""},{"$f":"VLOOKUP(V573,Minimos!$D$3:$E$26,2,FALSE)","v":{"$error":"#N/A"}},{"$f":"M573-W573","v":{"$error":"#N/A"}},{"$f":"IF(X573>=0,\"Apurado\",\"\")","v":{"$error":"#N/A"}}]
[null,null,null,null,null,null,null,null,null,null,null,null,null,null,null,null,null,null,null,{"$f":"IF(A574=\"\",\"\",G574&A574&J574)","v":""},{"$f":"IF(COUNTIF($T$5:T574,T574)=1,\"SB\",\"\")","v":""},{"$f":"A574&L574&G574","v":""},{"$f":"VLOOKUP(V574,Minimos!$D$3:$E$26,2,FALSE)","v":{"$error":"#N/A"}},{"$f":"M574-W574","v":{"$error":"#N/A"}},{"$f":"IF(X574>=0,\"Apurado\",\"\")","v":{"$error":"#N/A"}}]
[null,null,null,null,null,null,null,null,null,null,null,null,null,null,null,null,null,null,null,{"$f":"IF(A575=\"\",\"\",G575&A575&J575)","v":""},{"$f":"IF(COUNTIF($T$5:T575,T575)=1,\"SB\",\"\")","v":""},{"$f":"A575&L575&G575","v":""},{"$f":"VLOOKUP(V575,Minimos!$D$3:$E$26,2,FALSE)","v":{"$error":"#N/A"}},{"$f":"M575-W575","v":{"$error":"#N/A"}},{"$f":"IF(X575>=0,\"Apurado\",\"\")","v":{"$error":"#N/A"}}]
[null,null,null,null,null,null,null,null,null,null,null,null,null,null,null,null,null,null,null,{"$f":"IF(A576=\"\",\"\",G576&A576&J576)","v":""},{"$f":"IF(COUNTIF($T$5:T576,T576)=1,\"SB\",\"\")","v":""},{"$f":"A576&L576&G576","v":""},{"$f":"VLOOKUP(V576,Minimos!$D$3:$E$26,2,FALSE)","v":{"$error":"#N/A"}},{"$f":"M576-W576","v":{"$error":"#N/A"}},{"$f":"IF(X576>=0,\"Apurado\",\"\")","v":{"$error":"#N/A"}}]
[null,null,null,null,null,null,null,null,null,null,null,null,null,null,null,null,null,null,null,{"$f":"IF(A577=\"\",\"\",G577&A577&J577)","v":""},{"$f":"IF(COUNTIF($T$5:T577,T577)=1,\"SB\",\"\")","v":""},{"$f":"A577&L577&G577","v":""},{"$f":"VLOOKUP(V577,Minimos!$D$3:$E$26,2,FALSE)","v":{"$error":"#N/A"}},{"$f":"M577-W577","v":{"$error":"#N/A"}},{"$f":"IF(X577>=0,\"Apurado\",\"\")","v":{"$error":"#N/A"}}]
[null,null,null,null,null,null,null,null,null,null,null,null,null,null,null,null,null,null,null,{"$f":"IF(A578=\"\",\"\",G578&A578&J578)","v":""},{"$f":"IF(COUNTIF($T$5:T578,T578)=1,\"SB\",\"\")","v":""},{"$f":"A578&L578&G578","v":""},{"$f":"VLOOKUP(V578,Minimos!$D$3:$E$26,2,FALSE)","v":{"$error":"#N/A"}},{"$f":"M578-W578","v":{"$error":"#N/A"}},{"$f":"IF(X578>=0,\"Apurado\",\"\")","v":{"$error":"#N/A"}}]
[null,null,null,null,null,null,null,null,null,null,null,null,null,null,null,null,null,null,null,{"$f":"IF(A579=\"\",\"\",G579&A579&J579)","v":""},{"$f":"IF(COUNTIF($T$5:T579,T579)=1,\"SB\",\"\")","v":""},{"$f":"A579&L579&G579","v":""},{"$f":"VLOOKUP(V579,Minimos!$D$3:$E$26,2,FALSE)","v":{"$error":"#N/A"}},{"$f":"M579-W579","v":{"$error":"#N/A"}},{"$f":"IF(X579>=0,\"Apurado\",\"\")","v":{"$error":"#N/A"}}]
[null,null,null,null,null,null,null,null,null,null,null,null,null,null,null,null,null,null,null,{"$f":"IF(A580=\"\",\"\",G580&A580&J580)","v":""},{"$f":"IF(COUNTIF($T$5:T580,T580)=1,\"SB\",\"\")","v":""},{"$f":"A580&L580&G580","v":""},{"$f":"VLOOKUP(V580,Minimos!$D$3:$E$26,2,FALSE)","v":{"$error":"#N/A"}},{"$f":"M580-W580","v":{"$error":"#N/A"}},{"$f":"IF(X580>=0,\"Apurado\",\"\")","v":{"$error":"#N/A"}}]
[null,null,null,null,null,null,null,null,null,null,null,null,null,null,null,null,null,null,null,{"$f":"IF(A581=\"\",\"\",G581&A581&J581)","v":""},{"$f":"IF(COUNTIF($T$5:T581,T581)=1,\"SB\",\"\")","v":""},{"$f":"A581&L581&G581","v":""},{"$f":"VLOOKUP(V581,Minimos!$D$3:$E$26,2,FALSE)","v":{"$error":"#N/A"}},{"$f":"M581-W581","v":{"$error":"#N/A"}},{"$f":"IF(X581>=0,\"Apurado\",\"\")","v":{"$error":"#N/A"}}]
[null,null,null,null,null,null,null,null,null,null,null,null,null,null,null,null,null,null,null,{"$f":"IF(A582=\"\",\"\",G582&A582&J582)","v":""},{"$f":"IF(COUNTIF($T$5:T582,T582)=1,\"SB\",\"\")","v":""},{"$f":"A582&L582&G582","v":""},{"$f":"VLOOKUP(V582,Minimos!$D$3:$E$26,2,FALSE)","v":{"$error":"#N/A"}},{"$f":"M582-W582","v":{"$error":"#N/A"}},{"$f":"IF(X582>=0,\"Apurado\",\"\")","v":{"$error":"#N/A"}}]
[null,null,null,null,null,null,null,null,null,null,null,null,null,null,null,null,null,null,null,{"$f":"IF(A583=\"\",\"\",G583&A583&J583)","v":""},{"$f":"IF(COUNTIF($T$5:T583,T583)=1,\"SB\",\"\")","v":""},{"$f":"A583&L583&G583","v":""},{"$f":"VLOOKUP(V583,Minimos!$D$3:$E$26,2,FALSE)","v":{"$error":"#N/A"}},{"$f":"M583-W583","v":{"$error":"#N/A"}},{"$f":"IF(X583>=0,\"Apurado\",\"\")","v":{"$error":"#N/A"}}]
[null,null,null,null,null,null,null,null,null,null,null,null,null,null,null,null,null,null,null,{"$f":"IF(A584=\"\",\"\",G584&A584&J584)","v":""},{"$f":"IF(COUNTIF($T$5:T584,T584)=1,\"SB\",\"\")","v":""},{"$f":"A584&L584&G584","v":""},{"$f":"VLOOKUP(V584,Minimos!$D$3:$E$26,2,FALSE)","v":{"$error":"#N/A"}},{"$f":"M584-W584","v":{"$error":"#N/A"}},{"$f":"IF(X584>=0,\"Apurado\",\"\")","v":{"$error":"#N/A"}}]
[null,null,null,null,null,null,null,null,null,null,null,null,null,null,null,null,null,null,null,{"$f":"IF(A585=\"\",\"\",G585&A585&J585)","v":""},{"$f":"IF(COUNTIF($T$5:T585,T585)=1,\"SB\",\"\")","v":""},{"$f":"A585&L585&G585","v":""},{"$f":"VLOOKUP(V585,Minimos!$D$3:$E$26,2,FALSE)","v":{"$error":"#N/A"}},{"$f":"M585-W585","v":{"$error":"#N/A"}},{"$f":"IF(X585>=0,\"Apurado\",\"\")","v":{"$error":"#N/A"}}]
[null,null,null,null,null,null,null,null,null,null,null,null,null,null,null,null,null,null,null,{"$f":"IF(A586=\"\",\"\",G586&A586&J586)","v":""},{"$f":"IF(COUNTIF($T$5:T586,T586)=1,\"SB\",\"\")","v":""},{"$f":"A586&L586&G586","v":""},{"$f":"VLOOKUP(V586,Minimos!$D$3:$E$26,2,FALSE)","v":{"$error":"#N/A"}},{"$f":"M586-W586","v":{"$error":"#N/A"}},{"$f":"IF(X586>=0,\"Apurado\",\"\")","v":{"$error":"#N/A"}}]
[null,null,null,null,null,null,null,null,null,null,null,null,null,null,null,null,null,null,null,{"$f":"IF(A587=\"\",\"\",G587&A587&J587)","v":""},{"$f":"IF(COUNTIF($T$5:T587,T587)=1,\"SB\",\"\")","v":""},{"$f":"A587&L587&G587","v":""},{"$f":"VLOOKUP(V587,Minimos!$D$3:$E$26,2,FALSE)","v":{"$error":"#N/A"}},{"$f":"M587-W587","v":{"$error":"#N/A"}},{"$f":"IF(X587>=0,\"Apurado\",\"\")","v":{"$error":"#N/A"}}]
[null,null,null,null,null,null,null,null,null,null,null,null,null,null,null,null,null,null,null,{"$f":"IF(A588=\"\",\"\",G588&A588&J588)","v":""},{"$f":"IF(COUNTIF($T$5:T588,T588)=1,\"SB\",\"\")","v":""},{"$f":"A588&L588&G588","v":""},{"$f":"VLOOKUP(V588,Minimos!$D$3:$E$26,2,FALSE)","v":{"$error":"#N/A"}},{"$f":"M588-W588","v":{"$error":"#N/A"}},{"$f":"IF(X588>=0,\"Apurado\",\"\")","v":{"$error":"#N/A"}}]
[null,null,null,null,null,null,null,null,null,null,null,null,null,null,null,null,null,null,null,{"$f":"IF(A589=\"\",\"\",G589&A589&J589)","v":""},{"$f":"IF(COUNTIF($T$5:T589,T589)=1,\"SB\",\"\")","v":""},{"$f":"A589&L589&G589","v":""},{"$f":"VLOOKUP(V589,Minimos!$D$3:$E$26,2,FALSE)","v":{"$error":"#N/A"}},{"$f":"M589-W589","v":{"$error":"#N/A"}},{"$f":"IF(X589>=0,\"Apurado\",\"\")","v":{"$error":"#N/A"}}]
[null,null,null,null,null,null,null,null,null,null,null,null,null,null,null,null,null,null,null,{"$f":"IF(A590=\"\",\"\",G590&A590&J590)","v":""},{"$f":"IF(COUNTIF($T$5:T590,T590)=1,\"SB\",\"\")","v":""},{"$f":"A590&L590&G590","v":""},{"$f":"VLOOKUP(V590,Minimos!$D$3:$E$26,2,FALSE)","v":{"$error":"#N/A"}},{"$f":"M590-W590","v":{"$error":"#N/A"}},{"$f":"IF(X590>=0,\"Apurado\",\"\")","v":{"$error":"#N/A"}}]
[null,null,null,null,null,null,null,null,null,null,null,null,null,null,null,null,null,null,null,{"$f":"IF(A591=\"\",\"\",G591&A591&J591)","v":""},{"$f":"IF(COUNTIF($T$5:T591,T591)=1,\"SB\",\"\")","v":""},{"$f":"A591&L591&G591","v":""},{"$f":"VLOOKUP(V591,Minimos!$D$3:$E$26,2,FALSE)","v":{"$error":"#N/A"}},{"$f":"M591-W591","v":{"$error":"#N/A"}},{"$f":"IF(X591>=0,\"Apurado\",\"\")","v":{"$error":"#N/A"}}]
[null,null,null,null,null,null,null,null,null,null,null,null,null,null,null,null,null,null,null,{"$f":"IF(A592=\"\",\"\",G592&A592&J592)","v":""},{"$f":"IF(COUNTIF($T$5:T592,T592)=1,\"SB\",\"\")","v":""},{"$f":"A592&L592&G592","v":""},{"$f":"VLOOKUP(V592,Minimos!$D$3:$E$26,2,FALSE)","v":{"$error":"#N/A"}},{"$f":"M592-W592","v":{"$error":"#N/A"}},{"$f":"IF(X592>=0,\"Apurado\",\"\")","v":{"$error":"#N/A"}}]
[null,null,null,null,null,null,null,null,null,null,null,null,null,null,null,null,null,null,null,{"$f":"IF(A593=\"\",\"\",G593&A593&J593)","v":""},{"$f":"IF(COUNTIF($T$5:T593,T593)=1,\"SB\",\"\")","v":""},{"$f":"A593&L593&G593","v":""},{"$f":"VLOOKUP(V593,Minimos!$D$3:$E$26,2,FALSE)","v":{"$error":"#N/A"}},{"$f":"M593-W593","v":{"$error":"#N/A"}},{"$f":"IF(X593>=0,\"Apurado\",\"\")","v":{"$error":"#N/A"}}]
[null,null,null,null,null,null,null,null,null,null,null,null,null,null,null,null,null,null,null,{"$f":"IF(A594=\"\",\"\",G594&A594&J594)","v":""},{"$f":"IF(COUNTIF($T$5:T594,T594)=1,\"SB\",\"\")","v":""},{"$f":"A594&L594&G594","v":""},{"$f":"VLOOKUP(V594,Minimos!$D$3:$E$26,2,FALSE)","v":{"$error":"#N/A"}},{"$f":"M594-W594","v":{"$error":"#N/A"}},{"$f":"IF(X594>=0,\"Apurado\",\"\")","v":{"$error":"#N/A"}}]
[null,null,null,null,null,null,null,null,null,null,null,null,null,null,null,null,null,null,null,{"$f":"IF(A595=\"\",\"\",G595&A595&J595)","v":""},{"$f":"IF(COUNTIF($T$5:T595,T595)=1,\"SB\",\"\")","v":""},{"$f":"A595&L595&G595","v":""},{"$f":"VLOOKUP(V595,Minimos!$D$3:$E$26,2,FALSE)","v":{"$error":"#N/A"}},{"$f":"M595-W595","v":{"$error":"#N/A"}},{"$f":"IF(X595>=0,\"Apurado\",\"\")","v":{"$error":"#N/A"}}]
[null,null,null,null,null,null,null,null,null,null,null,null,null,null,null,null,null,null,null,{"$f":"IF(A596=\"\",\"\",G596&A596&J596)","v":""},{"$f":"IF(COUNTIF($T$5:T596,T596)=1,\"SB\",\"\")","v":""},{"$f":"A596&L596&G596","v":""},{"$f":"VLOOKUP(V596,Minimos!$D$3:$E$26,2,FALSE)","v":{"$error":"#N/A"}},{"$f":"M596-W596","v":{"$error":"#N/A"}},{"$f":"IF(X596>=0,\"Apurado\",\"\")","v":{"$error":"#N/A"}}]
[null,null,null,null,null,null,null,null,null,null,null,null,null,null,null,null,null,null,null,{"$f":"IF(A597=\"\",\"\",G597&A597&J597)","v":""},{"$f":"IF(COUNTIF($T$5:T597,T597)=1,\"SB\",\"\")","v":""},{"$f":"A597&L597&G597","v":""},{"$f":"VLOOKUP(V597,Minimos!$D$3:$E$26,2,FALSE)","v":{"$error":"#N/A"}},{"$f":"M597-W597","v":{"$error":"#N/A"}},{"$f":"IF(X597>=0,\"Apurado\",\"\")","v":{"$error":"#N/A"}}]
[null,null,null,null,null,null,null,null,null,null,null,null,null,null,null,null,null,null,null,{"$f":"IF(A598=\"\",\"\",G598&A598&J598)","v":""},{"$f":"IF(COUNTIF($T$5:T598,T598)=1,\"SB\",\"\")","v":""},{"$f":"A598&L598&G598","v":""},{"$f":"VLOOKUP(V598,Minimos!$D$3:$E$26,2,FALSE)","v":{"$error":"#N/A"}},{"$f":"M598-W598","v":{"$error":"#N/A"}},{"$f":"IF(X598>=0,\"Apurado\",\"\")","v":{"$error":"#N/A"}}]
[null,null,null,null,null,null,null,null,null,null,null,null,null,null,null,null,null,null,null,{"$f":"IF(A599=\"\",\"\",G599&A599&J599)","v":""},{"$f":"IF(COUNTIF($T$5:T599,T599)=1,\"SB\",\"\")","v":""},{"$f":"A599&L599&G599","v":""},{"$f":"VLOOKUP(V599,Minimos!$D$3:$E$26,2,FALSE)","v":{"$error":"#N/A"}},{"$f":"M599-W599","v":{"$error":"#N/A"}},{"$f":"IF(X599>=0,\"Apurado\",\"\")","v":{"$error":"#N/A"}}]
[null,null,null,null,null,null,null,null,null,null,null,null,null,null,null,null,null,null,null,{"$f":"IF(A600=\"\",\"\",G600&A600&J600)","v":""},{"$f":"IF(COUNTIF($T$5:T600,T600)=1,\"SB\",\"\")","v":""},{"$f":"A600&L600&G600","v":""},{"$f":"VLOOKUP(V600,Minimos!$D$3:$E$26,2,FALSE)","v":{"$error":"#N/A"}},{"$f":"M600-W600","v":{"$error":"#N/A"}},{"$f":"IF(X600>=0,\"Apurado\",\"\")","v":{"$error":"#N/A"}}]
[null,null,null,null,null,null,null,null,null,null,null,null,null,null,null,null,null,null,null,{"$f":"IF(A601=\"\",\"\",G601&A601&J601)","v":""},{"$f":"IF(COUNTIF($T$5:T601,T601)=1,\"SB\",\"\")","v":""},{"$f":"A601&L601&G601","v":""},{"$f":"VLOOKUP(V601,Minimos!$D$3:$E$26,2,FALSE)","v":{"$error":"#N/A"}},{"$f":"M601-W601","v":{"$error":"#N/A"}},{"$f":"IF(X601>=0,\"Apurado\",\"\")","v":{"$error":"#N/A"}}]
[null,null,null,null,null,null,null,null,null,null,null,null,null,null,null,null,null,null,null,{"$f":"IF(A602=\"\",\"\",G602&A602&J602)","v":""},{"$f":"IF(COUNTIF($T$5:T602,T602)=1,\"SB\",\"\")","v":""},{"$f":"A602&L602&G602","v":""},{"$f":"VLOOKUP(V602,Minimos!$D$3:$E$26,2,FALSE)","v":{"$error":"#N/A"}},{"$f":"M602-W602","v":{"$error":"#N/A"}},{"$f":"IF(X602>=0,\"Apurado\",\"\")","v":{"$error":"#N/A"}}]
[null,null,null,null,null,null,null,null,null,null,null,null,null,null,null,null,null,null,null,{"$f":"IF(A603=\"\",\"\",G603&A603&J603)","v":""},{"$f":"IF(COUNTIF($T$5:T603,T603)=1,\"SB\",\"\")","v":""},{"$f":"A603&L603&G603","v":""},{"$f":"VLOOKUP(V603,Minimos!$D$3:$E$26,2,FALSE)","v":{"$error":"#N/A"}},{"$f":"M603-W603","v":{"$error":"#N/A"}},{"$f":"IF(X603>=0,\"Apurado\",\"\")","v":{"$error":"#N/A"}}]
[null,null,null,null,null,null,null,null,null,null,null,null,null,null,null,null,null,null,null,{"$f":"IF(A604=\"\",\"\",G604&A604&J604)","v":""},{"$f":"IF(COUNTIF($T$5:T604,T604)=1,\"SB\",\"\")","v":""},{"$f":"A604&L604&G604","v":""},{"$f":"VLOOKUP(V604,Minimos!$D$3:$E$26,2,FALSE)","v":{"$error":"#N/A"}},{"$f":"M604-W604","v":{"$error":"#N/A"}},{"$f":"IF(X604>=0,\"Apurado\",\"\")","v":{"$error":"#N/A"}}]
[null,null,null,null,null,null,null,null,null,null,null,null,null,null,null,null,null,null,null,{"$f":"IF(A605=\"\",\"\",G605&A605&J605)","v":""},{"$f":"IF(COUNTIF($T$5:T605,T605)=1,\"SB\",\"\")","v":""},{"$f":"A605&L605&G605","v":""},{"$f":"VLOOKUP(V605,Minimos!$D$3:$E$26,2,FALSE)","v":{"$error":"#N/A"}},{"$f":"M605-W605","v":{"$error":"#N/A"}},{"$f":"IF(X605>=0,\"Apurado\",\"\")","v":{"$error":"#N/A"}}]
[null,null,null,null,null,null,null,null,null,null,null,null,null,null,null,null,null,null,null,{"$f":"IF(A606=\"\",\"\",G606&A606&J606)","v":""},{"$f":"IF(COUNTIF($T$5:T606,T606)=1,\"SB\",\"\")","v":""},{"$f":"A606&L606&G606","v":""},{"$f":"VLOOKUP(V606,Minimos!$D$3:$E$26,2,FALSE)","v":{"$error":"#N/A"}},{"$f":"M606-W606","v":{"$error":"#N/A"}},{"$f":"IF(X606>=0,\"Apurado\",\"\")","v":{"$error":"#N/A"}}]
[null,null,null,null,null,null,null,null,null,null,null,null,null,null,null,null,null,null,null,{"$f":"IF(A607=\"\",\"\",G607&A607&J607)","v":""},{"$f":"IF(COUNTIF($T$5:T607,T607)=1,\"SB\",\"\")","v":""},{"$f":"A607&L607&G607","v":""},{"$f":"VLOOKUP(V607,Minimos!$D$3:$E$26,2,FALSE)","v":{"$error":"#N/A"}},{"$f":"M607-W607","v":{"$error":"#N/A"}},{"$f":"IF(X607>=0,\"Apurado\",\"\")","v":{"$error":"#N/A"}}]
[null,null,null,null,null,null,null,null,null,null,null,null,null,null,null,null,null,null,null,{"$f":"IF(A608=\"\",\"\",G608&A608&J608)","v":""},{"$f":"IF(COUNTIF($T$5:T608,T608)=1,\"SB\",\"\")","v":""},{"$f":"A608&L608&G608","v":""},{"$f":"VLOOKUP(V608,Minimos!$D$3:$E$26,2,FALSE)","v":{"$error":"#N/A"}},{"$f":"M608-W608","v":{"$error":"#N/A"}},{"$f":"IF(X608>=0,\"Apurado\",\"\")","v":{"$error":"#N/A"}}]
[null,null,null,null,null,null,null,null,null,null,null,null,null,null,null,null,null,null,null,{"$f":"IF(A609=\"\",\"\",G609&A609&J609)","v":""},{"$f":"IF(COUNTIF($T$5:T609,T609)=1,\"SB\",\"\")","v":""},{"$f":"A609&L609&G609","v":""},{"$f":"VLOOKUP(V609,Minimos!$D$3:$E$26,2,FALSE)","v":{"$error":"#N/A"}},{"$f":"M609-W609","v":{"$error":"#N/A"}},{"$f":"IF(X609>=0,\"Apurado\",\"\")","v":{"$error":"#N/A"}}]
[null,null,null,null,null,null,null,null,null,null,null,null,null,null,null,null,null,null,null,{"$f":"IF(A610=\"\",\"\",G610&A610&J610)","v":""},{"$f":"IF(COUNTIF($T$5:T610,T610)=1,\"SB\",\"\")","v":""},{"$f":"A610&L610&G610","v":""},{"$f":"VLOOKUP(V610,Minimos!$D$3:$E$26,2,FALSE)","v":{"$error":"#N/A"}},{"$f":"M610-W610","v":{"$error":"#N/A"}},{"$f":"IF(X610>=0,\"Apurado\",\"\")","v":{"$error":"#N/A"}}]
[null,null,null,null,null,null,null,null,null,null,null,null,null,null,null,null,null,null,null,{"$f":"IF(A611=\"\",\"\",G611&A611&J611)","v":""},{"$f":"IF(COUNTIF($T$5:T611,T611)=1,\"SB\",\"\")","v":""},{"$f":"A611&L611&G611","v":""},{"$f":"VLOOKUP(V611,Minimos!$D$3:$E$26,2,FALSE)","v":{"$error":"#N/A"}},{"$f":"M611-W611","v":{"$error":"#N/A"}},{"$f":"IF(X611>=0,\"Apurado\",\"\")","v":{"$error":"#N/A"}}]
[null,null,null,null,null,null,null,null,null,null,null,null,null,null,null,null,null,null,null,{"$f":"IF(A612=\"\",\"\",G612&A612&J612)","v":""},{"$f":"IF(COUNTIF($T$5:T612,T612)=1,\"SB\",\"\")","v":""},{"$f":"A612&L612&G612","v":""},{"$f":"VLOOKUP(V612,Minimos!$D$3:$E$26,2,FALSE)","v":{"$error":"#N/A"}},{"$f":"M612-W612","v":{"$error":"#N/A"}},{"$f":"IF(X612>=0,\"Apurado\",\"\")","v":{"$error":"#N/A"}}]
[null,null,null,null,null,null,null,null,null,null,null,null,null,null,null,null,null,null,null,{"$f":"IF(A613=\"\",\"\",G613&A613&J613)","v":""},{"$f":"IF(COUNTIF($T$5:T613,T613)=1,\"SB\",\"\")","v":""},{"$f":"A613&L613&G613","v":""},{"$f":"VLOOKUP(V613,Minimos!$D$3:$E$26,2,FALSE)","v":{"$error":"#N/A"}},{"$f":"M613-W613","v":{"$error":"#N/A"}},{"$f":"IF(X613>=0,\"Apurado\",\"\")","v":{"$error":"#N/A"}}]
[null,null,null,null,null,null,null,null,null,null,null,null,null,null,null,null,null,null,null,{"$f":"IF(A614=\"\",\"\",G614&A614&J614)","v":""},{"$f":"IF(COUNTIF($T$5:T614,T614)=1,\"SB\",\"\")","v":""},{"$f":"A614&L614&G614","v":""},{"$f":"VLOOKUP(V614,Minimos!$D$3:$E$26,2,FALSE)","v":{"$error":"#N/A"}},{"$f":"M614-W614","v":{"$error":"#N/A"}},{"$f":"IF(X614>=0,\"Apurado\",\"\")","v":{"$error":"#N/A"}}]
[null,null,null,null,null,null,null,null,null,null,null,null,null,null,null,null,null,null,null,{"$f":"IF(A615=\"\",\"\",G615&A615&J615)","v":""},{"$f":"IF(COUNTIF($T$5:T615,T615)=1,\"SB\",\"\")","v":""},{"$f":"A615&L615&G615","v":""},{"$f":"VLOOKUP(V615,Minimos!$D$3:$E$26,2,FALSE)","v":{"$error":"#N/A"}},{"$f":"M615-W615","v":{"$error":"#N/A"}},{"$f":"IF(X615>=0,\"Apurado\",\"\")","v":{"$error":"#N/A"}}]
[null,null,null,null,null,null,null,null,null,null,null,null,null,null,null,null,null,null,null,{"$f":"IF(A616=\"\",\"\",G616&A616&J616)","v":""},{"$f":"IF(COUNTIF($T$5:T616,T616)=1,\"SB\",\"\")","v":""},{"$f":"A616&L616&G616","v":""},{"$f":"VLOOKUP(V616,Minimos!$D$3:$E$26,2,FALSE)","v":{"$error":"#N/A"}},{"$f":"M616-W616","v":{"$error":"#N/A"}},{"$f":"IF(X616>=0,\"Apurado\",\"\")","v":{"$error":"#N/A"}}]
[null,null,null,null,null,null,null,null,null,null,null,null,null,null,null,null,null,null,null,{"$f":"IF(A617=\"\",\"\",G617&A617&J617)","v":""},{"$f":"IF(COUNTIF($T$5:T617,T617)=1,\"SB\",\"\")","v":""},{"$f":"A617&L617&G617","v":""},{"$f":"VLOOKUP(V617,Minimos!$D$3:$E$26,2,FALSE)","v":{"$error":"#N/A"}},{"$f":"M617-W617","v":{"$error":"#N/A"}},{"$f":"IF(X617>=0,\"Apurado\",\"\")","v":{"$error":"#N/A"}}]
[null,null,null,null,null,null,null,null,null,null,null,null,null,null,null,null,null,null,null,{"$f":"IF(A618=\"\",\"\",G618&A618&J618)","v":""},{"$f":"IF(COUNTIF($T$5:T618,T618)=1,\"SB\",\"\")","v":""},{"$f":"A618&L618&G618","v":""},{"$f":"VLOOKUP(V618,Minimos!$D$3:$E$26,2,FALSE)","v":{"$error":"#N/A"}},{"$f":"M618-W618","v":{"$error":"#N/A"}},{"$f":"IF(X618>=0,\"Apurado\",\"\")","v":{"$error":"#N/A"}}]
[null,null,null,null,null,null,null,null,null,null,null,null,null,null,null,null,null,null,null,{"$f":"IF(A619=\"\",\"\",G619&A619&J619)","v":""},{"$f":"IF(COUNTIF($T$5:T619,T619)=1,\"SB\",\"\")","v":""},{"$f":"A619&L619&G619","v":""},{"$f":"VLOOKUP(V619,Minimos!$D$3:$E$26,2,FALSE)","v":{"$error":"#N/A"}},{"$f":"M619-W619","v":{"$error":"#N/A"}},{"$f":"IF(X619>=0,\"Apurado\",\"\")","v":{"$error":"#N/A"}}]
[null,null,null,null,null,null,null,null,null,null,null,null,null,null,null,null,null,null,null,{"$f":"IF(A620=\"\",\"\",G620&A620&J620)","v":""},{"$f":"IF(COUNTIF($T$5:T620,T620)=1,\"SB\",\"\")","v":""},{"$f":"A620&L620&G620","v":""},{"$f":"VLOOKUP(V620,Minimos!$D$3:$E$26,2,FALSE)","v":{"$error":"#N/A"}},{"$f":"M620-W620","v":{"$error":"#N/A"}},{"$f":"IF(X620>=0,\"Apurado\",\"\")","v":{"$error":"#N/A"}}]
[null,null,null,null,null,null,null,null,null,null,null,null,null,null,null,null,null,null,null,{"$f":"IF(A621=\"\",\"\",G621&A621&J621)","v":""},{"$f":"IF(COUNTIF($T$5:T621,T621)=1,\"SB\",\"\")","v":""},{"$f":"A621&L621&G621","v":""},{"$f":"VLOOKUP(V621,Minimos!$D$3:$E$26,2,FALSE)","v":{"$error":"#N/A"}},{"$f":"M621-W621","v":{"$error":"#N/A"}},{"$f":"IF(X621>=0,\"Apurado\",\"\")","v":{"$error":"#N/A"}}]
[null,null,null,null,null,null,null,null,null,null,null,null,null,null,null,null,null,null,null,{"$f":"IF(A622=\"\",\"\",G622&A622&J622)","v":""},{"$f":"IF(COUNTIF($T$5:T622,T622)=1,\"SB\",\"\")","v":""},{"$f":"A622&L622&G622","v":""},{"$f":"VLOOKUP(V622,Minimos!$D$3:$E$26,2,FALSE)","v":{"$error":"#N/A"}},{"$f":"M622-W622","v":{"$error":"#N/A"}},{"$f":"IF(X622>=0,\"Apurado\",\"\")","v":{"$error":"#N/A"}}]
[null,null,null,null,null,null,null,null,null,null,null,null,null,null,null,null,null,null,null,{"$f":"IF(A623=\"\",\"\",G623&A623&J623)","v":""},{"$f":"IF(COUNTIF($T$5:T623,T623)=1,\"SB\",\"\")","v":""},{"$f":"A623&L623&G623","v":""},{"$f":"VLOOKUP(V623,Minimos!$D$3:$E$26,2,FALSE)","v":{"$error":"#N/A"}},{"$f":"M623-W623","v":{"$error":"#N/A"}},{"$f":"IF(X623>=0,\"Apurado\",\"\")","v":{"$error":"#N/A"}}]
[null,null,null,null,null,null,null,null,null,null,null,null,null,null,null,null,null,null,null,{"$f":"IF(A624=\"\",\"\",G624&A624&J624)","v":""},{"$f":"IF(COUNTIF($T$5:T624,T624)=1,\"SB\",\"\")","v":""},{"$f":"A624&L624&G624","v":""},{"$f":"VLOOKUP(V624,Minimos!$D$3:$E$26,2,FALSE)","v":{"$error":"#N/A"}},{"$f":"M624-W624","v":{"$error":"#N/A"}},{"$f":"IF(X624>=0,\"Apurado\",\"\")","v":{"$error":"#N/A"}}]
[null,null,null,null,null,null,null,null,null,null,null,null,null,null,null,null,null,null,null,{"$f":"IF(A625=\"\",\"\",G625&A625&J625)","v":""},{"$f":"IF(COUNTIF($T$5:T625,T625)=1,\"SB\",\"\")","v":""},{"$f":"A625&L625&G625","v":""},{"$f":"VLOOKUP(V625,Minimos!$D$3:$E$26,2,FALSE)","v":{"$error":"#N/A"}},{"$f":"M625-W625","v":{"$error":"#N/A"}},{"$f":"IF(X625>=0,\"Apurado\",\"\")","v":{"$error":"#N/A"}}]
[null,null,null,null,null,null,null,null,null,null,null,null,null,null,null,null,null,null,null,{"$f":"IF(A626=\"\",\"\",G626&A626&J626)","v":""},{"$f":"IF(COUNTIF($T$5:T626,T626)=1,\"SB\",\"\")","v":""},{"$f":"A626&L626&G626","v":""},{"$f":"VLOOKUP(V626,Minimos!$D$3:$E$26,2,FALSE)","v":{"$error":"#N/A"}},{"$f":"M626-W626","v":{"$error":"#N/A"}},{"$f":"IF(X626>=0,\"Apurado\",\"\")","v":{"$error":"#N/A"}}]
[null,null,null,null,null,null,null,null,null,null,null,null,null,null,null,null,null,null,null,{"$f":"IF(A627=\"\",\"\",G627&A627&J627)","v":""},{"$f":"IF(COUNTIF($T$5:T627,T627)=1,\"SB\",\"\")","v":""},{"$f":"A627&L627&G627","v":""},{"$f":"VLOOKUP(V627,Minimos!$D$3:$E$26,2,FALSE)","v":{"$error":"#N/A"}},{"$f":"M627-W627","v":{"$error":"#N/A"}},{"$f":"IF(X627>=0,\"Apurado\",\"\")","v":{"$error":"#N/A"}}]
[null,null,null,null,null,null,null,null,null,null,null,null,null,null,null,null,null,null,null,{"$f":"IF(A628=\"\",\"\",G628&A628&J628)","v":""},{"$f":"IF(COUNTIF($T$5:T628,T628)=1,\"SB\",\"\")","v":""},{"$f":"A628&L628&G628","v":""},{"$f":"VLOOKUP(V628,Minimos!$D$3:$E$26,2,FALSE)","v":{"$error":"#N/A"}},{"$f":"M628-W628","v":{"$error":"#N/A"}},{"$f":"IF(X628>=0,\"Apurado\",\"\")","v":{"$error":"#N/A"}}]
[null,null,null,null,null,null,null,null,null,null,null,null,null,null,null,null,null,null,null,{"$f":"IF(A629=\"\",\"\",G629&A629&J629)","v":""},{"$f":"IF(COUNTIF($T$5:T629,T629)=1,\"SB\",\"\")","v":""},{"$f":"A629&L629&G629","v":""},{"$f":"VLOOKUP(V629,Minimos!$D$3:$E$26,2,FALSE)","v":{"$error":"#N/A"}},{"$f":"M629-W629","v":{"$error":"#N/A"}},{"$f":"IF(X629>=0,\"Apurado\",\"\")","v":{"$error":"#N/A"}}]
[null,null,null,null,null,null,null,null,null,null,null,null,null,null,null,null,null,null,null,{"$f":"IF(A630=\"\",\"\",G630&A630&J630)","v":""},{"$f":"IF(COUNTIF($T$5:T630,T630)=1,\"SB\",\"\")","v":""},{"$f":"A630&L630&G630","v":""},{"$f":"VLOOKUP(V630,Minimos!$D$3:$E$26,2,FALSE)","v":{"$error":"#N/A"}},{"$f":"M630-W630","v":{"$error":"#N/A"}},{"$f":"IF(X630>=0,\"Apurado\",\"\")","v":{"$error":"#N/A"}}]
[null,null,null,null,null,null,null,null,null,null,null,null,null,null,null,null,null,null,null,{"$f":"IF(A631=\"\",\"\",G631&A631&J631)","v":""},{"$f":"IF(COUNTIF($T$5:T631,T631)=1,\"SB\",\"\")","v":""},{"$f":"A631&L631&G631","v":""},{"$f":"VLOOKUP(V631,Minimos!$D$3:$E$26,2,FALSE)","v":{"$error":"#N/A"}},{"$f":"M631-W631","v":{"$error":"#N/A"}},{"$f":"IF(X631>=0,\"Apurado\",\"\")","v":{"$error":"#N/A"}}]
[null,null,null,null,null,null,null,null,null,null,null,null,null,null,null,null,null,null,null,{"$f":"IF(A632=\"\",\"\",G632&A632&J632)","v":""},{"$f":"IF(COUNTIF($T$5:T632,T632)=1,\"SB\",\"\")","v":""},{"$f":"A632&L632&G632","v":""},{"$f":"VLOOKUP(V632,Minimos!$D$3:$E$26,2,FALSE)","v":{"$error":"#N/A"}},{"$f":"M632-W632","v":{"$error":"#N/A"}},{"$f":"IF(X632>=0,\"Apurado\",\"\")","v":{"$error":"#N/A"}}]
[null,null,null,null,null,null,null,null,null,null,null,null,null,null,null,null,null,null,null,{"$f":"IF(A633=\"\",\"\",G633&A633&J633)","v":""},{"$f":"IF(COUNTIF($T$5:T633,T633)=1,\"SB\",\"\")","v":""},{"$f":"A633&L633&G633","v":""},{"$f":"VLOOKUP(V633,Minimos!$D$3:$E$26,2,FALSE)","v":{"$error":"#N/A"}},{"$f":"M633-W633","v":{"$error":"#N/A"}},{"$f":"IF(X633>=0,\"Apurado\",\"\")","v":{"$error":"#N/A"}}]
[null,null,null,null,null,null,null,null,null,null,null,null,null,null,null,null,null,null,null,{"$f":"IF(A634=\"\",\"\",G634&A634&J634)","v":""},{"$f":"IF(COUNTIF($T$5:T634,T634)=1,\"SB\",\"\")","v":""},{"$f":"A634&L634&G634","v":""},{"$f":"VLOOKUP(V634,Minimos!$D$3:$E$26,2,FALSE)","v":{"$error":"#N/A"}},{"$f":"M634-W634","v":{"$error":"#N/A"}},{"$f":"IF(X634>=0,\"Apurado\",\"\")","v":{"$error":"#N/A"}}]
[null,null,null,null,null,null,null,null,null,null,null,null,null,null,null,null,null,null,null,{"$f":"IF(A635=\"\",\"\",G635&A635&J635)","v":""},{"$f":"IF(COUNTIF($T$5:T635,T635)=1,\"SB\",\"\")","v":""},{"$f":"A635&L635&G635","v":""},{"$f":"VLOOKUP(V635,Minimos!$D$3:$E$26,2,FALSE)","v":{"$error":"#N/A"}},{"$f":"M635-W635","v":{"$error":"#N/A"}},{"$f":"IF(X635>=0,\"Apurado\",\"\")","v":{"$error":"#N/A"}}]
[null,null,null,null,null,null,null,null,null,null,null,null,null,null,null,null,null,null,null,{"$f":"IF(A636=\"\",\"\",G636&A636&J636)","v":""},{"$f":"IF(COUNTIF($T$5:T636,T636)=1,\"SB\",\"\")","v":""},{"$f":"A636&L636&G636","v":""},{"$f":"VLOOKUP(V636,Minimos!$D$3:$E$26,2,FALSE)","v":{"$error":"#N/A"}},{"$f":"M636-W636","v":{"$error":"#N/A"}},{"$f":"IF(X636>=0,\"Apurado\",\"\")","v":{"$error":"#N/A"}}]
[null,null,null,null,null,null,null,null,null,null,null,null,null,null,null,null,null,null,null,{"$f":"IF(A637=\"\",\"\",G637&A637&J637)","v":""},{"$f":"IF(COUNTIF($T$5:T637,T637)=1,\"SB\",\"\")","v":""},{"$f":"A637&L637&G637","v":""},{"$f":"VLOOKUP(V637,Minimos!$D$3:$E$26,2,FALSE)","v":{"$error":"#N/A"}},{"$f":"M637-W637","v":{"$error":"#N/A"}},{"$f":"IF(X637>=0,\"Apurado\",\"\")","v":{"$error":"#N/A"}}]
[null,null,null,null,null,null,null,null,null,null,null,null,null,null,null,null,null,null,null,{"$f":"IF(A638=\"\",\"\",G638&A638&J638)","v":""},{"$f":"IF(COUNTIF($T$5:T638,T638)=1,\"SB\",\"\")","v":""},{"$f":"A638&L638&G638","v":""},{"$f":"VLOOKUP(V638,Minimos!$D$3:$E$26,2,FALSE)","v":{"$error":"#N/A"}},{"$f":"M638-W638","v":{"$error":"#N/A"}},{"$f":"IF(X638>=0,\"Apurado\",\"\")","v":{"$error":"#N/A"}}]
[null,null,null,null,null,null,null,null,null,null,null,null,null,null,null,null,null,null,null,{"$f":"IF(A639=\"\",\"\",G639&A639&J639)","v":""},{"$f":"IF(COUNTIF($T$5:T639,T639)=1,\"SB\",\"\")","v":""},{"$f":"A639&L639&G639","v":""},{"$f":"VLOOKUP(V639,Minimos!$D$3:$E$26,2,FALSE)","v":{"$error":"#N/A"}},{"$f":"M639-W639","v":{"$error":"#N/A"}},{"$f":"IF(X639>=0,\"Apurado\",\"\")","v":{"$error":"#N/A"}}]
[null,null,null,null,null,null,null,null,null,null,null,null,null,null,null,null,null,null,null,{"$f":"IF(A640=\"\",\"\",G640&A640&J640)","v":""},{"$f":"IF(COUNTIF($T$5:T640,T640)=1,\"SB\",\"\")","v":""},{"$f":"A640&L640&G640","v":""},{"$f":"VLOOKUP(V640,Minimos!$D$3:$E$26,2,FALSE)","v":{"$error":"#N/A"}},{"$f":"M640-W640","v":{"$error":"#N/A"}},{"$f":"IF(X640>=0,\"Apurado\",\"\")","v":{"$error":"#N/A"}}]
[null,null,null,null,null,null,null,null,null,null,null,null,null,null,null,null,null,null,null,{"$f":"IF(A641=\"\",\"\",G641&A641&J641)","v":""},{"$f":"IF(COUNTIF($T$5:T641,T641)=1,\"SB\",\"\")","v":""},{"$f":"A641&L641&G641","v":""},{"$f":"VLOOKUP(V641,Minimos!$D$3:$E$26,2,FALSE)","v":{"$error":"#N/A"}},{"$f":"M641-W641","v":{"$error":"#N/A"}},{"$f":"IF(X641>=0,\"Apurado\",\"\")","v":{"$error":"#N/A"}}]
[null,null,null,null,null,null,null,null,null,null,null,null,null,null,null,null,null,null,null,{"$f":"IF(A642=\"\",\"\",G642&A642&J642)","v":""},{"$f":"IF(COUNTIF($T$5:T642,T642)=1,\"SB\",\"\")","v":""},{"$f":"A642&L642&G642","v":""},{"$f":"VLOOKUP(V642,Minimos!$D$3:$E$26,2,FALSE)","v":{"$error":"#N/A"}},{"$f":"M642-W642","v":{"$error":"#N/A"}},{"$f":"IF(X642>=0,\"Apurado\",\"\")","v":{"$error":"#N/A"}}]
[null,null,null,null,null,null,null,null,null,null,null,null,null,null,null,null,null,null,null,{"$f":"IF(A643=\"\",\"\",G643&A643&J643)","v":""},{"$f":"IF(COUNTIF($T$5:T643,T643)=1,\"SB\",\"\")","v":""},{"$f":"A643&L643&G643","v":""},{"$f":"VLOOKUP(V643,Minimos!$D$3:$E$26,2,FALSE)","v":{"$error":"#N/A"}},{"$f":"M643-W643","v":{"$error":"#N/A"}},{"$f":"IF(X643>=0,\"Apurado\",\"\")","v":{"$error":"#N/A"}}]
[null,null,null,null,null,null,null,null,null,null,null,null,null,null,null,null,null,null,null,{"$f":"IF(A644=\"\",\"\",G644&A644&J644)","v":""},{"$f":"IF(COUNTIF($T$5:T644,T644)=1,\"SB\",\"\")","v":""},{"$f":"A644&L644&G644","v":""},{"$f":"VLOOKUP(V644,Minimos!$D$3:$E$26,2,FALSE)","v":{"$error":"#N/A"}},{"$f":"M644-W644","v":{"$error":"#N/A"}},{"$f":"IF(X644>=0,\"Apurado\",\"\")","v":{"$error":"#N/A"}}]
[null,null,null,null,null,null,null,null,null,null,null,null,null,null,null,null,null,null,null,{"$f":"IF(A645=\"\",\"\",G645&A645&J645)","v":""},{"$f":"IF(COUNTIF($T$5:T645,T645)=1,\"SB\",\"\")","v":""},{"$f":"A645&L645&G645","v":""},{"$f":"VLOOKUP(V645,Minimos!$D$3:$E$26,2,FALSE)","v":{"$error":"#N/A"}},{"$f":"M645-W645","v":{"$error":"#N/A"}},{"$f":"IF(X645>=0,\"Apurado\",\"\")","v":{"$error":"#N/A"}}]
[null,null,null,null,null,null,null,null,null,null,null,null,null,null,null,null,null,null,null,{"$f":"IF(A646=\"\",\"\",G646&A646&J646)","v":""},{"$f":"IF(COUNTIF($T$5:T646,T646)=1,\"SB\",\"\")","v":""},{"$f":"A646&L646&G646","v":""},{"$f":"VLOOKUP(V646,Minimos!$D$3:$E$26,2,FALSE)","v":{"$error":"#N/A"}},{"$f":"M646-W646","v":{"$error":"#N/A"}},{"$f":"IF(X646>=0,\"Apurado\",\"\")","v":{"$error":"#N/A"}}]
[null,null,null,null,null,null,null,null,null,null,null,null,null,null,null,null,null,null,null,{"$f":"IF(A647=\"\",\"\",G647&A647&J647)","v":""},{"$f":"IF(COUNTIF($T$5:T647,T647)=1,\"SB\",\"\")","v":""},{"$f":"A647&L647&G647","v":""},{"$f":"VLOOKUP(V647,Minimos!$D$3:$E$26,2,FALSE)","v":{"$error":"#N/A"}},{"$f":"M647-W647","v":{"$error":"#N/A"}},{"$f":"IF(X647>=0,\"Apurado\",\"\")","v":{"$error":"#N/A"}}]
[null,null,null,null,null,null,null,null,null,null,null,null,null,null,null,null,null,null,null,{"$f":"IF(A648=\"\",\"\",G648&A648&J648)","v":""},{"$f":"IF(COUNTIF($T$5:T648,T648)=1,\"SB\",\"\")","v":""},{"$f":"A648&L648&G648","v":""},{"$f":"VLOOKUP(V648,Minimos!$D$3:$E$26,2,FALSE)","v":{"$error":"#N/A"}},{"$f":"M648-W648","v":{"$error":"#N/A"}},{"$f":"IF(X648>=0,\"Apurado\",\"\")","v":{"$error":"#N/A"}}]
[null,null,null,null,null,null,null,null,null,null,null,null,null,null,null,null,null,null,null,{"$f":"IF(A649=\"\",\"\",G649&A649&J649)","v":""},{"$f":"IF(COUNTIF($T$5:T649,T649)=1,\"SB\",\"\")","v":""},{"$f":"A649&L649&G649","v":""},{"$f":"VLOOKUP(V649,Minimos!$D$3:$E$26,2,FALSE)","v":{"$error":"#N/A"}},{"$f":"M649-W649","v":{"$error":"#N/A"}},{"$f":"IF(X649>=0,\"Apurado\",\"\")","v":{"$error":"#N/A"}}]
[null,null,null,null,null,null,null,null,null,null,null,null,null,null,null,null,null,null,null,{"$f":"IF(A650=\"\",\"\",G650&A650&J650)","v":""},{"$f":"IF(COUNTIF($T$5:T650,T650)=1,\"SB\",\"\")","v":""},{"$f":"A650&L650&G650","v":""},{"$f":"VLOOKUP(V650,Minimos!$D$3:$E$26,2,FALSE)","v":{"$error":"#N/A"}},{"$f":"M650-W650","v":{"$error":"#N/A"}},{"$f":"IF(X650>=0,\"Apurado\",\"\")","v":{"$error":"#N/A"}}]
[null,null,null,null,null,null,null,null,null,null,null,null,null,null,null,null,null,null,null,{"$f":"IF(A651=\"\",\"\",G651&A651&J651)","v":""},{"$f":"IF(COUNTIF($T$5:T651,T651)=1,\"SB\",\"\")","v":""},{"$f":"A651&L651&G651","v":""},{"$f":"VLOOKUP(V651,Minimos!$D$3:$E$26,2,FALSE)","v":{"$error":"#N/A"}},{"$f":"M651-W651","v":{"$error":"#N/A"}},{"$f":"IF(X651>=0,\"Apurado\",\"\")","v":{"$error":"#N/A"}}]
[null,null,null,null,null,null,null,null,null,null,null,null,null,null,null,null,null,null,null,{"$f":"IF(A652=\"\",\"\",G652&A652&J652)","v":""},{"$f":"IF(COUNTIF($T$5:T652,T652)=1,\"SB\",\"\")","v":""},{"$f":"A652&L652&G652","v":""},{"$f":"VLOOKUP(V652,Minimos!$D$3:$E$26,2,FALSE)","v":{"$error":"#N/A"}},{"$f":"M652-W652","v":{"$error":"#N/A"}},{"$f":"IF(X652>=0,\"Apurado\",\"\")","v":{"$error":"#N/A"}}]
[null,null,null,null,null,null,null,null,null,null,null,null,null,null,null,null,null,null,null,{"$f":"IF(A653=\"\",\"\",G653&A653&J653)","v":""},{"$f":"IF(COUNTIF($T$5:T653,T653)=1,\"SB\",\"\")","v":""},{"$f":"A653&L653&G653","v":""},{"$f":"VLOOKUP(V653,Minimos!$D$3:$E$26,2,FALSE)","v":{"$error":"#N/A"}},{"$f":"M653-W653","v":{"$error":"#N/A"}},{"$f":"IF(X653>=0,\"Apurado\",\"\")","v":{"$error":"#N/A"}}]
[null,null,null,null,null,null,null,null,null,null,null,null,null,null,null,null,null,null,null,{"$f":"IF(A654=\"\",\"\",G654&A654&J654)","v":""},{"$f":"IF(COUNTIF($T$5:T654,T654)=1,\"SB\",\"\")","v":""},{"$f":"A654&L654&G654","v":""},{"$f":"VLOOKUP(V654,Minimos!$D$3:$E$26,2,FALSE)","v":{"$error":"#N/A"}},{"$f":"M654-W654","v":{"$error":"#N/A"}},{"$f":"IF(X654>=0,\"Apurado\",\"\")","v":{"$error":"#N/A"}}]
[null,null,null,null,null,null,null,null,null,null,null,null,null,null,null,null,null,null,null,{"$f":"IF(A655=\"\",\"\",G655&A655&J655)","v":""},{"$f":"IF(COUNTIF($T$5:T655,T655)=1,\"SB\",\"\")","v":""},{"$f":"A655&L655&G655","v":""},{"$f":"VLOOKUP(V655,Minimos!$D$3:$E$26,2,FALSE)","v":{"$error":"#N/A"}},{"$f":"M655-W655","v":{"$error":"#N/A"}},{"$f":"IF(X655>=0,\"Apurado\",\"\")","v":{"$error":"#N/A"}}]
[null,null,null,null,null,null,null,null,null,null,null,null,null,null,null,null,null,null,null,{"$f":"IF(A656=\"\",\"\",G656&A656&J656)","v":""},{"$f":"IF(COUNTIF($T$5:T656,T656)=1,\"SB\",\"\")","v":""},{"$f":"A656&L656&G656","v":""},{"$f":"VLOOKUP(V656,Minimos!$D$3:$E$26,2,FALSE)","v":{"$error":"#N/A"}},{"$f":"M656-W656","v":{"$error":"#N/A"}},{"$f":"IF(X656>=0,\"Apurado\",\"\")","v":{"$error":"#N/A"}}]
[null,null,null,null,null,null,null,null,null,null,null,null,null,null,null,null,null,null,null,{"$f":"IF(A657=\"\",\"\",G657&A657&J657)","v":""},{"$f":"IF(COUNTIF($T$5:T657,T657)=1,\"SB\",\"\")","v":""},{"$f":"A657&L657&G657","v":""},{"$f":"VLOOKUP(V657,Minimos!$D$3:$E$26,2,FALSE)","v":{"$error":"#N/A"}},{"$f":"M657-W657","v":{"$error":"#N/A"}},{"$f":"IF(X657>=0,\"Apurado\",\"\")","v":{"$error":"#N/A"}}]
[null,null,null,null,null,null,null,null,null,null,null,null,null,null,null,null,null,null,null,"Fim500","Fim500",{"$f":"A658&L658&G658","v":""},{"$f":"VLOOKUP(V658,Minimos!$D$3:$E$26,2,FALSE)","v":{"$error":"#N/A"}},{"$f":"M658-W658","v":{"$error":"#N/A"}},{"$f":"IF(X658>=0,\"Apurado\",\"\")","v":{"$error":"#N/A"}}]
[null,null,null,null,null,null,null,null,null,null,null,null,null,null,null,null,null,null,null,null,null,{"$f":"A659&L659&G659","v":""},{"$f":"VLOOKUP(V659,Minimos!$D$3:$E$26,2,FALSE)","v":{"$error":"#N/A"}},{"$f":"M659-W659","v":{"$error":"#N/A"}},{"$f":"IF(X659>=0,\"Apurado\",\"\")","v":{"$error":"#N/A"}}]
[null,null,null,null,null,null,null,null,null,null,null,null,null,null,null,null,null,null,null,null,null,{"$f":"A660&L660&G660","v":""},{"$f":"VLOOKUP(V660,Minimos!$D$3:$E$26,2,FALSE)","v":{"$error":"#N/A"}},{"$f":"M660-W660","v":{"$error":"#N/A"}},{"$f":"IF(X660>=0,\"Apurado\",\"\")","v":{"$error":"#N/A"}}]
[null,null,null,null,null,null,null,null,null,null,null,null,null,null,null,null,null,null,null,{"$f":"IF(A661=\"\",\"\",G661&A661&I661)","v":""},{"$f":"IF(COUNTIF($T$5:T661,T661)=1,\"SB\",\"\")","v":""},{"$f":"A661&L661&G661","v":""},{"$f":"VLOOKUP(V661,Minimos!$D$3:$E$26,2,FALSE)","v":{"$error":"#N/A"}},{"$f":"M661-W661","v":{"$error":"#N/A"}},{"$f":"IF(X661>=0,\"Apurado\",\"\")","v":{"$error":"#N/A"}}]
[null,null,null,null,null,null,null,null,null,null,null,null,null,null,null,null,null,null,null,null,null,{"$f":"A662&L662&G662","v":""},{"$f":"VLOOKUP(V662,Minimos!$D$3:$E$26,2,FALSE)","v":{"$error":"#N/A"}},{"$f":"M662-W662","v":{"$error":"#N/A"}},{"$f":"IF(X662>=0,\"Apurado\",\"\")","v":{"$error":"#N/A"}}]
[null,null,null,null,null,null,null,null,null,null,null,null,null,null,null,null,null,null,null,null,null,{"$f":"A663&L663&G663","v":""},{"$f":"VLOOKUP(V663,Minimos!$D$3:$E$26,2,FALSE)","v":{"$error":"#N/A"}},{"$f":"M663-W663","v":{"$error":"#N/A"}},{"$f":"IF(X663>=0,\"Apurado\",\"\")","v":{"$error":"#N/A"}}]
[null,null,null,null,null,null,null,null,null,null,null,null,null,null,null,null,null,null,null,null,null,{"$f":"A664&L664&G664","v":""},{"$f":"VLOOKUP(V664,Minimos!$D$3:$E$26,2,FALSE)","v":{"$error":"#N/A"}},{"$f":"M664-W664","v":{"$error":"#N/A"}},{"$f":"IF(X664>=0,\"Apurado\",\"\")","v":{"$error":"#N/A"}}]
[null,null,null,null,null,null,null,null,null,null,null,null,null,null,null,null,null,null,null,null,null,{"$f":"A665&L665&G665","v":""},{"$f":"VLOOKUP(V665,Minimos!$D$3:$E$26,2,FALSE)","v":{"$error":"#N/A"}},{"$f":"M665-W665","v":{"$error":"#N/A"}},{"$f":"IF(X665>=0,\"Apurado\",\"\")","v":{"$error":"#N/A"}}]
[null,null,null,null,null,null,null,null,null,null,null,null,null,null,null,null,null,null,null,null,null,{"$f":"A666&L666&G666","v":""},{"$f":"VLOOKUP(V666,Minimos!$D$3:$E$26,2,FALSE)","v":{"$error":"#N/A"}},{"$f":"M666-W666","v":{"$error":"#N/A"}},{"$f":"IF(X666>=0,\"Apurado\",\"\")","v":{"$error":"#N/A"}}]
[null,null,null,null,null,null,null,null,null,null,null,null,null,null,null,null,null,null,null,{"$f":"IF(A667=\"\",\"\",G667&A667&I667)","v":""},{"$f":"IF(COUNTIF($T$5:T667,T667)=1,\"SB\",\"\")","v":""},{"$f":"A667&L667&G667","v":""},{"$f":"VLOOKUP(V667,Minimos!$D$3:$E$26,2,FALSE)","v":{"$error":"#N/A"}},{"$f":"M667-W667","v":{"$error":"#N/A"}},{"$f":"IF(X667>=0,\"Apurado\",\"\")","v":{"$error":"#N/A"}}]
[null,null,null,null,null,null,null,null,null,null,null,null,null,null,null,null,null,null,null,null,null,{"$f":"A668&L668&G668","v":""},{"$f":"VLOOKUP(V668,Minimos!$D$3:$E$26,2,FALSE)","v":{"$error":"#N/A"}},{"$f":"M668-W668","v":{"$error":"#N/A"}},{"$f":"IF(X668>=0,\"Apurado\",\"\")","v":{"$error":"#N/A"}}]
[null,null,null,null,null,null,null,null,null,null,null,null,null,null,null,null,null,null,null,null,null,{"$f":"A669&L669&G669","v":""},{"$f":"VLOOKUP(V669,Minimos!$D$3:$E$26,2,FALSE)","v":{"$error":"#N/A"}},{"$f":"M669-W669","v":{"$error":"#N/A"}},{"$f":"IF(X669>=0,\"Apurado\",\"\")","v":{"$error":"#N/A"}}]
[null,null,null,null,null,null,null,null,null,null,null,null,null,null,null,null,null,null,null,null,null,{"$f":"A670&L670&G670","v":""},{"$f":"VLOOKUP(V670,Minimos!$D$3:$E$26,2,FALSE)","v":{"$error":"#N/A"}},{"$f":"M670-W670","v":{"$error":"#N/A"}},{"$f":"IF(X670>=0,\"Apurado\",\"\")","v":{"$error":"#N/A"}}]
[null,null,null,null,null,null,null,null,null,null,null,null,null,null,null,null,null,null,null,null,null,{"$f":"A671&L671&G671","v":""},{"$f":"VLOOKUP(V671,Minimos!$D$3:$E$26,2,FALSE)","v":{"$error":"#N/A"}},{"$f":"M671-W671","v":{"$error":"#N/A"}},{"$f":"IF(X671>=0,\"Apurado\",\"\")","v":{"$error":"#N/A"}}]
[null,null,null,null,null,null,null,null,null,null,null,null,null,null,null,null,null,null,null,null,null,{"$f":"A672&L672&G672","v":""},{"$f":"VLOOKUP(V672,Minimos!$D$3:$E$26,2,FALSE)","v":{"$error":"#N/A"}},{"$f":"M672-W672","v":{"$error":"#N/A"}},{"$f":"IF(X672>=0,\"Apurado\",\"\")","v":{"$error":"#N/A"}}]
[null,null,null,null,null,null,null,null,null,null,null,null,null,null,null,null,null,null,null,null,null,{"$f":"A673&L673&G673","v":""},{"$f":"VLOOKUP(V673,Minimos!$D$3:$E$26,2,FALSE)","v":{"$error":"#N/A"}},{"$f":"M673-W673","v":{"$error":"#N/A"}},{"$f":"IF(X673>=0,\"Apurado\",\"\")","v":{"$error":"#N/A"}}]
[null,null,null,null,null,null,null,null,null,null,null,null,null,null,null,null,null,null,null,null,null,{"$f":"A674&L674&G674","v":""},{"$f":"VLOOKUP(V674,Minimos!$D$3:$E$26,2,FALSE)","v":{"$error":"#N/A"}},{"$f":"M674-W674","v":{"$error":"#N/A"}},{"$f":"IF(X674>=0,\"Apurado\",\"\")","v":{"$error":"#N/A"}}]
[null,null,null,null,null,null,null,null,null,null,null,null,null,null,null,null,null,null,null,null,null,{"$f":"A675&L675&G675","v":""},{"$f":"VLOOKUP(V675,Minimos!$D$3:$E$26,2,FALSE)","v":{"$error":"#N/A"}},{"$f":"M675-W675","v":{"$error":"#N/A"}},{"$f":"IF(X675>=0,\"Apurado\",\"\")","v":{"$error":"#N/A"}}]
[null,null,null,null,null,null,null,null,null,null,null,null,null,null,null,null,null,null,null,null,null,{"$f":"A676&L676&G676","v":""},{"$f":"VLOOKUP(V676,Minimos!$D$3:$E$26,2,FALSE)","v":{"$error":"#N/A"}},{"$f":"M676-W676","v":{"$error":"#N/A"}},{"$f":"IF(X676>=0,\"Apurado\",\"\")","v":{"$error":"#N/A"}}]
[null,null,null,null,null,null,null,null,null,null,null,null,null,null,null,null,null,null,null,null,null,{"$f":"A677&L677&G677","v":""},{"$f":"VLOOKUP(V677,Minimos!$D$3:$E$26,2,FALSE)","v":{"$error":"#N/A"}},{"$f":"M677-W677","v":{"$error":"#N/A"}},{"$f":"IF(X677>=0,\"Apurado\",\"\")","v":{"$error":"#N/A"}}]
[null,null,null,null,null,null,null,null,null,null,null,null,null,null,null,null,null,null,null,null,null,{"$f":"A678&L678&G678","v":""},{"$f":"VLOOKUP(V678,Minimos!$D$3:$E$26,2,FALSE)","v":{"$error":"#N/A"}},{"$f":"M678-W678","v":{"$error":"#N/A"}},{"$f":"IF(X678>=0,\"Apurado\",\"\")","v":{"$error":"#N/A"}}]
[null,null,null,null,null,null,null,null,null,null,null,null,null,null,null,null,null,null,null,null,null,{"$f":"A679&L679&G679","v":""},{"$f":"VLOOKUP(V679,Minimos!$D$3:$E$26,2,FALSE)","v":{"$error":"#N/A"}},{"$f":"M679-W679","v":{"$error":"#N/A"}},{"$f":"IF(X679>=0,\"Apurado\",\"\")","v":{"$error":"#N/A"}}]
[null,null,null,null,null,null,null,null,null,null,null,null,null,null,null,null,null,null,null,null,null,{"$f":"A680&L680&G680","v":""},{"$f":"VLOOKUP(V680,Minimos!$D$3:$E$26,2,FALSE)","v":{"$error":"#N/A"}},{"$f":"M680-W680","v":{"$error":"#N/A"}},{"$f":"IF(X680>=0,\"Apurado\",\"\")","v":{"$error":"#N/A"}}]
[null,null,null,null,null,null,null,null,null,null,null,null,null,null,null,null,null,null,null,null,null,{"$f":"A681&L681&G681","v":""},{"$f":"VLOOKUP(V681,Minimos!$D$3:$E$26,2,FALSE)","v":{"$error":"#N/A"}},{"$f":"M681-W681","v":{"$error":"#N/A"}},{"$f":"IF(X681>=0,\"Apurado\",\"\")","v":{"$error":"#N/A"}}]
[null,null,null,null,null,null,null,null,null,null,null,null,null,null,null,null,null,null,null,null,null,{"$f":"A682&L682&G682","v":""},{"$f":"VLOOKUP(V682,Minimos!$D$3:$E$26,2,FALSE)","v":{"$error":"#N/A"}},{"$f":"M682-W682","v":{"$error":"#N/A"}},{"$f":"IF(X682>=0,\"Apurado\",\"\")","v":{"$error":"#N/A"}}]
[null,null,null,null,null,null,null,null,null,null,null,null,null,null,null,null,null,null,null,null,null,{"$f":"A683&L683&G683","v":""},{"$f":"VLOOKUP(V683,Minimos!$D$3:$E$26,2,FALSE)","v":{"$error":"#N/A"}},{"$f":"M683-W683","v":{"$error":"#N/A"}},{"$f":"IF(X683>=0,\"Apurado\",\"\")","v":{"$error":"#N/A"}}]
[null,null,null,null,null,null,null,null,null,null,null,null,null,null,null,null,null,null,null,null,null,{"$f":"A684&L684&G684","v":""},{"$f":"VLOOKUP(V684,Minimos!$D$3:$E$26,2,FALSE)","v":{"$error":"#N/A"}},{"$f":"M684-W684","v":{"$error":"#N/A"}},{"$f":"IF(X684>=0,\"Apurado\",\"\")","v":{"$error":"#N/A"}}]
[null,null,null,null,null,null,null,null,null,null,null,null,null,null,null,null,null,null,null,null,null,{"$f":"A685&L685&G685","v":""},{"$f":"VLOOKUP(V685,Minimos!$D$3:$E$26,2,FALSE)","v":{"$error":"#N/A"}},{"$f":"M685-W685","v":{"$error":"#N/A"}},{"$f":"IF(X685>=0,\"Apurado\",\"\")","v":{"$error":"#N/A"}}]
[null,null,null,null,null,null,null,null,null,null,null,null,null,null,null,null,null,null,null,null,null,{"$f":"A686&L686&G686","v":""},{"$f":"VLOOKUP(V686,Minimos!$D$3:$E$26,2,FALSE)","v":{"$error":"#N/A"}},{"$f":"M686-W686","v":{"$error":"#N/A"}},{"$f":"IF(X686>=0,\"Apurado\",\"\")","v":{"$error":"#N/A"}}]
[null,null,null,null,null,null,null,null,null,null,null,null,null,null,null,null,null,null,null,null,null,{"$f":"A687&L687&G687","v":""},{"$f":"VLOOKUP(V687,Minimos!$D$3:$E$26,2,FALSE)","v":{"$error":"#N/A"}},{"$f":"M687-W687","v":{"$error":"#N/A"}},{"$f":"IF(X687>=0,\"Apurado\",\"\")","v":{"$error":"#N/A"}}]
[null,null,null,null,null,null,null,null,null,null,null,null,null,null,null,null,null,null,null,null,null,{"$f":"A688&L688&G688","v":""},{"$f":"VLOOKUP(V688,Minimos!$D$3:$E$26,2,FALSE)","v":{"$error":"#N/A"}},{"$f":"M688-W688","v":{"$error":"#N/A"}},{"$f":"IF(X688>=0,\"Apurado\",\"\")","v":{"$error":"#N/A"}}]
[null,null,null,null,null,null,null,null,null,null,null,null,null,null,null,null,null,null,null,null,null,{"$f":"A689&L689&G689","v":""},{"$f":"VLOOKUP(V689,Minimos!$D$3:$E$26,2,FALSE)","v":{"$error":"#N/A"}},{"$f":"M689-W689","v":{"$error":"#N/A"}},{"$f":"IF(X689>=0,\"Apurado\",\"\")","v":{"$error":"#N/A"}}]
[null,null,null,null,null,null,null,null,null,null,null,null,null,null,null,null,null,null,null,null,null,{"$f":"A690&L690&G690","v":""},{"$f":"VLOOKUP(V690,Minimos!$D$3:$E$26,2,FALSE)","v":{"$error":"#N/A"}},{"$f":"M690-W690","v":{"$error":"#N/A"}},{"$f":"IF(X690>=0,\"Apurado\",\"\")","v":{"$error":"#N/A"}}]
[null,null,null,null,null,null,null,null,null,null,null,null,null,null,null,null,null,null,null,null,null,{"$f":"A691&L691&G691","v":""},{"$f":"VLOOKUP(V691,Minimos!$D$3:$E$26,2,FALSE)","v":{"$error":"#N/A"}},{"$f":"M691-W691","v":{"$error":"#N/A"}},{"$f":"IF(X691>=0,\"Apurado\",\"\")","v":{"$error":"#N/A"}}]
[null,null,null,null,null,null,null,null,null,null,null,null,null,null,null,null,null,null,null,null,null,{"$f":"A692&L692&G692","v":""},{"$f":"VLOOKUP(V692,Minimos!$D$3:$E$26,2,FALSE)","v":{"$error":"#N/A"}},{"$f":"M692-W692","v":{"$error":"#N/A"}},{"$f":"IF(X692>=0,\"Apurado\",\"\")","v":{"$error":"#N/A"}}]
[null,null,null,null,null,null,null,null,null,null,null,null,null,null,null,null,null,null,null,null,null,{"$f":"A693&L693&G693","v":""},{"$f":"VLOOKUP(V693,Minimos!$D$3:$E$26,2,FALSE)","v":{"$error":"#N/A"}},{"$f":"M693-W693","v":{"$error":"#N/A"}},{"$f":"IF(X693>=0,\"Apurado\",\"\")","v":{"$error":"#N/A"}}]
[null,null,null,null,null,null,null,null,null,null,null,null,null,null,null,null,null,null,null,null,null,{"$f":"A694&L694&G694","v":""},{"$f":"VLOOKUP(V694,Minimos!$D$3:$E$26,2,FALSE)","v":{"$error":"#N/A"}},{"$f":"M694-W694","v":{"$error":"#N/A"}},{"$f":"IF(X694>=0,\"Apurado\",\"\")","v":{"$error":"#N/A"}}]
[null,null,null,null,null,null,null,null,null,null,null,null,null,null,null,null,null,null,null,null,null,{"$f":"A695&L695&G695","v":""},{"$f":"VLOOKUP(V695,Minimos!$D$3:$E$26,2,FALSE)","v":{"$error":"#N/A"}},{"$f":"M695-W695","v":{"$error":"#N/A"}},{"$f":"IF(X695>=0,\"Apurado\",\"\")","v":{"$error":"#N/A"}}]
[null,null,null,null,null,null,null,null,null,null,null,null,null,null,null,null,null,null,null,null,null,{"$f":"A696&L696&G696","v":""},{"$f":"VLOOKUP(V696,Minimos!$D$3:$E$26,2,FALSE)","v":{"$error":"#N/A"}},{"$f":"M696-W696","v":{"$error":"#N/A"}},{"$f":"IF(X696>=0,\"Apurado\",\"\")","v":{"$error":"#N/A"}}]
[null,null,null,null,null,null,null,null,null,null,null,null,null,null,null,null,null,null,null,null,null,{"$f":"A697&L697&G697","v":""},{"$f":"VLOOKUP(V697,Minimos!$D$3:$E$26,2,FALSE)","v":{"$error":"#N/A"}},{"$f":"M697-W697","v":{"$error":"#N/A"}},{"$f":"IF(X697>=0,\"Apurado\",\"\")","v":{"$error":"#N/A"}}]
[null,null,null,null,null,null,null,null,null,null,null,null,null,null,null,null,null,null,null,{"$f":"IF(A698=\"\",\"\",G698&A698&I698)","v":""},{"$f":"IF(COUNTIF($T$5:T698,T698)=1,\"SB\",\"\")","v":""},{"$f":"A698&L698&G698","v":""},{"$f":"VLOOKUP(V698,Minimos!$D$3:$E$26,2,FALSE)","v":{"$error":"#N/A"}},{"$f":"M698-W698","v":{"$error":"#N/A"}},{"$f":"IF(X698>=0,\"Apurado\",\"\")","v":{"$error":"#N/A"}}]
[null,null,null,null,null,null,null,null,null,null,null,null,null,null,null,null,null,null,null,null,null,{"$f":"A699&L699&G699","v":""},{"$f":"VLOOKUP(V699,Minimos!$D$3:$E$26,2,FALSE)","v":{"$error":"#N/A"}},{"$f":"M699-W699","v":{"$error":"#N/A"}},{"$f":"IF(X699>=0,\"Apurado\",\"\")","v":{"$error":"#N/A"}}]
[null,null,null,null,null,null,null,null,null,null,null,null,null,null,null,null,null,null,null,null,null,{"$f":"A700&L700&G700","v":""},{"$f":"VLOOKUP(V700,Minimos!$D$3:$E$26,2,FALSE)","v":{"$error":"#N/A"}},{"$f":"M700-W700","v":{"$error":"#N/A"}},{"$f":"IF(X700>=0,\"Apurado\",\"\")","v":{"$error":"#N/A"}}]
[null,null,null,null,null,null,null,null,null,null,null,null,null,null,null,null,null,null,null,null,null,{"$f":"A701&L701&G701","v":""},{"$f":"VLOOKUP(V701,Minimos!$D$3:$E$26,2,FALSE)","v":{"$error":"#N/A"}},{"$f":"M701-W701","v":{"$error":"#N/A"}},{"$f":"IF(X701>=0,\"Apurado\",\"\")","v":{"$error":"#N/A"}}]
[null,null,null,null,null,null,null,null,null,null,null,null,null,null,null,null,null,null,null,null,null,{"$f":"A702&L702&G702","v":""},{"$f":"VLOOKUP(V702,Minimos!$D$3:$E$26,2,FALSE)","v":{"$error":"#N/A"}},{"$f":"M702-W702","v":{"$error":"#N/A"}},{"$f":"IF(X702>=0,\"Apurado\",\"\")","v":{"$error":"#N/A"}}]
[null,null,null,null,null,null,null,null,null,null,null,null,null,null,null,null,null,null,null,null,null,{"$f":"A703&L703&G703","v":""},{"$f":"VLOOKUP(V703,Minimos!$D$3:$E$26,2,FALSE)","v":{"$error":"#N/A"}},{"$f":"M703-W703","v":{"$error":"#N/A"}},{"$f":"IF(X703>=0,\"Apurado\",\"\")","v":{"$error":"#N/A"}}]
[null,null,null,null,null,null,null,null,null,null,null,null,null,null,null,null,null,null,null,{"$f":"IF(A704=\"\",\"\",G704&A704&I704)","v":""},{"$f":"IF(COUNTIF($T$5:T704,T704)=1,\"SB\",\"\")","v":""},{"$f":"A704&L704&G704","v":""},{"$f":"VLOOKUP(V704,Minimos!$D$3:$E$26,2,FALSE)","v":{"$error":"#N/A"}},{"$f":"M704-W704","v":{"$error":"#N/A"}},{"$f":"IF(X704>=0,\"Apurado\",\"\")","v":{"$error":"#N/A"}}]
[null,null,null,null,null,null,null,null,null,null,null,null,null,null,null,null,null,null,null,null,null,{"$f":"A705&L705&G705","v":""},{"$f":"VLOOKUP(V705,Minimos!$D$3:$E$26,2,FALSE)","v":{"$error":"#N/A"}},{"$f":"M705-W705","v":{"$error":"#N/A"}},{"$f":"IF(X705>=0,\"Apurado\",\"\")","v":{"$error":"#N/A"}}]
[null,null,null,null,null,null,null,null,null,null,null,null,null,null,null,null,null,null,null,null,null,{"$f":"A706&L706&G706","v":""},{"$f":"VLOOKUP(V706,Minimos!$D$3:$E$26,2,FALSE)","v":{"$error":"#N/A"}},{"$f":"M706-W706","v":{"$error":"#N/A"}},{"$f":"IF(X706>=0,\"Apurado\",\"\")","v":{"$error":"#N/A"}}]
[null,null,null,null,null,null,null,null,null,null,null,null,null,null,null,null,null,null,null,null,null,{"$f":"A707&L707&G707","v":""},{"$f":"VLOOKUP(V707,Minimos!$D$3:$E$26,2,FALSE)","v":{"$error":"#N/A"}},{"$f":"M707-W707","v":{"$error":"#N/A"}},{"$f":"IF(X707>=0,\"Apurado\",\"\")","v":{"$error":"#N/A"}}]
[null,null,null,null,null,null,null,null,null,null,null,null,null,null,null,null,null,null,null,null,null,{"$f":"A708&L708&G708","v":""},{"$f":"VLOOKUP(V708,Minimos!$D$3:$E$26,2,FALSE)","v":{"$error":"#N/A"}},{"$f":"M708-W708","v":{"$error":"#N/A"}},{"$f":"IF(X708>=0,\"Apurado\",\"\")","v":{"$error":"#N/A"}}]
[null,null,null,null,null,null,null,null,null,null,null,null,null,null,null,null,null,null,null,{"$f":"IF(A709=\"\",\"\",G709&A709&I709)","v":""},{"$f":"IF(COUNTIF($T$5:T709,T709)=1,\"SB\",\"\")","v":""},{"$f":"A709&L709&G709","v":""},{"$f":"VLOOKUP(V709,Minimos!$D$3:$E$26,2,FALSE)","v":{"$error":"#N/A"}},{"$f":"M709-W709","v":{"$error":"#N/A"}},{"$f":"IF(X709>=0,\"Apurado\",\"\")","v":{"$error":"#N/A"}}]
[null,null,null,null,null,null,null,null,null,null,null,null,null,null,null,null,null,null,null,null,null,{"$f":"A710&L710&G710","v":""},{"$f":"VLOOKUP(V710,Minimos!$D$3:$E$26,2,FALSE)","v":{"$error":"#N/A"}},{"$f":"M710-W710","v":{"$error":"#N/A"}},{"$f":"IF(X710>=0,\"Apurado\",\"\")","v":{"$error":"#N/A"}}]
[null,null,null,null,null,null,null,null,null,null,null,null,null,null,null,null,null,null,null,null,null,{"$f":"A711&L711&G711","v":""},{"$f":"VLOOKUP(V711,Minimos!$D$3:$E$26,2,FALSE)","v":{"$error":"#N/A"}},{"$f":"M711-W711","v":{"$error":"#N/A"}},{"$f":"IF(X711>=0,\"Apurado\",\"\")","v":{"$error":"#N/A"}}]
[null,null,null,null,null,null,null,null,null,null,null,null,null,null,null,null,null,null,null,null,null,{"$f":"A712&L712&G712","v":""},{"$f":"VLOOKUP(V712,Minimos!$D$3:$E$26,2,FALSE)","v":{"$error":"#N/A"}},{"$f":"M712-W712","v":{"$error":"#N/A"}},{"$f":"IF(X712>=0,\"Apurado\",\"\")","v":{"$error":"#N/A"}}]
[null,null,null,null,null,null,null,null,null,null,null,null,null,null,null,null,null,null,null,{"$f":"IF(A713=\"\",\"\",G713&A713&I713)","v":""},{"$f":"IF(COUNTIF($T$5:T713,T713)=1,\"SB\",\"\")","v":""},{"$f":"A713&L713&G713","v":""},{"$f":"VLOOKUP(V713,Minimos!$D$3:$E$26,2,FALSE)","v":{"$error":"#N/A"}},{"$f":"M713-W713","v":{"$error":"#N/A"}},{"$f":"IF(X713>=0,\"Apurado\",\"\")","v":{"$error":"#N/A"}}]
[null,null,null,null,null,null,null,null,null,null,null,null,null,null,null,null,null,null,null,null,null,{"$f":"A714&L714&G714","v":""},{"$f":"VLOOKUP(V714,Minimos!$D$3:$E$26,2,FALSE)","v":{"$error":"#N/A"}},{"$f":"M714-W714","v":{"$error":"#N/A"}},{"$f":"IF(X714>=0,\"Apurado\",\"\")","v":{"$error":"#N/A"}}]
[null,null,null,null,null,null,null,null,null,null,null,null,null,null,null,null,null,null,null,null,null,{"$f":"A715&L715&G715","v":""},{"$f":"VLOOKUP(V715,Minimos!$D$3:$E$26,2,FALSE)","v":{"$error":"#N/A"}},{"$f":"M715-W715","v":{"$error":"#N/A"}},{"$f":"IF(X715>=0,\"Apurado\",\"\")","v":{"$error":"#N/A"}}]
[null,null,null,null,null,null,null,null,null,null,null,null,null,null,null,null,null,null,null,null,null,{"$f":"A716&L716&G716","v":""},{"$f":"VLOOKUP(V716,Minimos!$D$3:$E$26,2,FALSE)","v":{"$error":"#N/A"}},{"$f":"M716-W716","v":{"$error":"#N/A"}},{"$f":"IF(X716>=0,\"Apurado\",\"\")","v":{"$error":"#N/A"}}]
[null,null,null,null,null,null,null,null,null,null,null,null,null,null,null,null,null,null,null,null,null,{"$f":"A717&L717&G717","v":""},{"$f":"VLOOKUP(V717,Minimos!$D$3:$E$26,2,FALSE)","v":{"$error":"#N/A"}},{"$f":"M717-W717","v":{"$error":"#N/A"}},{"$f":"IF(X717>=0,\"Apurado\",\"\")","v":{"$error":"#N/A"}}]
[null,null,null,null,null,null,null,null,null,null,null,null,null,null,null,null,null,null,null,null,null,{"$f":"A718&L718&G718","v":""},{"$f":"VLOOKUP(V718,Minimos!$D$3:$E$26,2,FALSE)","v":{"$error":"#N/A"}},{"$f":"M718-W718","v":{"$error":"#N/A"}},{"$f":"IF(X718>=0,\"Apurado\",\"\")","v":{"$error":"#N/A"}}]
[null,null,null,null,null,null,null,null,null,null,null,null,null,null,null,null,null,null,null,null,null,{"$f":"A719&L719&G719","v":""},{"$f":"VLOOKUP(V719,Minimos!$D$3:$E$26,2,FALSE)","v":{"$error":"#N/A"}},{"$f":"M719-W719","v":{"$error":"#N/A"}},{"$f":"IF(X719>=0,\"Apurado\",\"\")","v":{"$error":"#N/A"}}]
[null,null,null,null,null,null,null,null,null,null,null,null,null,null,null,null,null,null,null,null,null,{"$f":"A720&L720&G720","v":""},{"$f":"VLOOKUP(V720,Minimos!$D$3:$E$26,2,FALSE)","v":{"$error":"#N/A"}},{"$f":"M720-W720","v":{"$error":"#N/A"}},{"$f":"IF(X720>=0,\"Apurado\",\"\")","v":{"$error":"#N/A"}}]
[null,null,null,null,null,null,null,null,null,null,null,null,null,null,null,null,null,null,null,null,null,{"$f":"A721&L721&G721","v":""},{"$f":"VLOOKUP(V721,Minimos!$D$3:$E$26,2,FALSE)","v":{"$error":"#N/A"}},{"$f":"M721-W721","v":{"$error":"#N/A"}},{"$f":"IF(X721>=0,\"Apurado\",\"\")","v":{"$error":"#N/A"}}]
[null,null,null,null,null,null,null,null,null,null,null,null,null,null,null,null,null,null,null,null,null,{"$f":"A722&L722&G722","v":""},{"$f":"VLOOKUP(V722,Minimos!$D$3:$E$26,2,FALSE)","v":{"$error":"#N/A"}},{"$f":"M722-W722","v":{"$error":"#N/A"}},{"$f":"IF(X722>=0,\"Apurado\",\"\")","v":{"$error":"#N/A"}}]
[null,null,null,null,null,null,null,null,null,null,null,null,null,null,null,null,null,null,null,null,null,{"$f":"A723&L723&G723","v":""},{"$f":"VLOOKUP(V723,Minimos!$D$3:$E$26,2,FALSE)","v":{"$error":"#N/A"}},{"$f":"M723-W723","v":{"$error":"#N/A"}},{"$f":"IF(X723>=0,\"Apurado\",\"\")","v":{"$error":"#N/A"}}]
[null,null,null,null,null,null,null,null,null,null,null,null,null,null,null,null,null,null,null,null,null,{"$f":"A724&L724&G724","v":""},{"$f":"VLOOKUP(V724,Minimos!$D$3:$E$26,2,FALSE)","v":{"$error":"#N/A"}},{"$f":"M724-W724","v":{"$error":"#N/A"}},{"$f":"IF(X724>=0,\"Apurado\",\"\")","v":{"$error":"#N/A"}}]
[null,null,null,null,null,null,null,null,null,null,null,null,null,null,null,null,null,null,null,null,null,{"$f":"A725&L725&G725","v":""},{"$f":"VLOOKUP(V725,Minimos!$D$3:$E$26,2,FALSE)","v":{"$error":"#N/A"}},{"$f":"M725-W725","v":{"$error":"#N/A"}},{"$f":"IF(X725>=0,\"Apurado\",\"\")","v":{"$error":"#N/A"}}]
[null,null,null,null,null,null,null,null,null,null,null,null,null,null,null,null,null,null,null,null,null,{"$f":"A726&L726&G726","v":""},{"$f":"VLOOKUP(V726,Minimos!$D$3:$E$26,2,FALSE)","v":{"$error":"#N/A"}},{"$f":"M726-W726","v":{"$error":"#N/A"}},{"$f":"IF(X726>=0,\"Apurado\",\"\")","v":{"$error":"#N/A"}}]
[null,null,null,null,null,null,null,null,null,null,null,null,null,null,null,null,null,null,null,null,null,{"$f":"A727&L727&G727","v":""},{"$f":"VLOOKUP(V727,Minimos!$D$3:$E$26,2,FALSE)","v":{"$error":"#N/A"}},{"$f":"M727-W727","v":{"$error":"#N/A"}},{"$f":"IF(X727>=0,\"Apurado\",\"\")","v":{"$error":"#N/A"}}]
[null,null,null,null,null,null,null,null,null,null,null,null,null,null,null,null,null,null,null,null,null,{"$f":"A728&L728&G728","v":""},{"$f":"VLOOKUP(V728,Minimos!$D$3:$E$26,2,FALSE)","v":{"$error":"#N/A"}},{"$f":"M728-W728","v":{"$error":"#N/A"}},{"$f":"IF(X728>=0,\"Apurado\",\"\")","v":{"$error":"#N/A"}}]
[null,null,null,null,null,null,null,null,null,null,null,null,null,null,null,null,null,null,null,null,null,{"$f":"A729&L729&G729","v":""},{"$f":"VLOOKUP(V729,Minimos!$D$3:$E$26,2,FALSE)","v":{"$error":"#N/A"}},{"$f":"M729-W729","v":{"$error":"#N/A"}},{"$f":"IF(X729>=0,\"Apurado\",\"\")","v":{"$error":"#N/A"}}]
[null,null,null,null,null,null,null,null,null,null,null,null,null,null,null,null,null,null,null,null,null,{"$f":"A730&L730&G730","v":""},{"$f":"VLOOKUP(V730,Minimos!$D$3:$E$26,2,FALSE)","v":{"$error":"#N/A"}},{"$f":"M730-W730","v":{"$error":"#N/A"}},{"$f":"IF(X730>=0,\"Apurado\",\"\")","v":{"$error":"#N/A"}}]
[null,null,null,null,null,null,null,null,null,null,null,null,null,null,null,null,null,null,null,null,null,{"$f":"A731&L731&G731","v":""},{"$f":"VLOOKUP(V731,Minimos!$D$3:$E$26,2,FALSE)","v":{"$error":"#N/A"}},{"$f":"M731-W731","v":{"$error":"#N/A"}},{"$f":"IF(X731>=0,\"Apurado\",\"\")","v":{"$error":"#N/A"}}]
[null,null,null,null,null,null,null,null,null,null,null,null,null,null,null,null,null,null,null,null,null,{"$f":"A732&L732&G732","v":""},{"$f":"VLOOKUP(V732,Minimos!$D$3:$E$26,2,FALSE)","v":{"$error":"#N/A"}},{"$f":"M732-W732","v":{"$error":"#N/A"}},{"$f":"IF(X732>=0,\"Apurado\",\"\")","v":{"$error":"#N/A"}}]
[null,null,null,null,null,null,null,null,null,null,null,null,null,null,null,null,null,null,null,null,null,{"$f":"A733&L733&G733","v":""},{"$f":"VLOOKUP(V733,Minimos!$D$3:$E$26,2,FALSE)","v":{"$error":"#N/A"}},{"$f":"M733-W733","v":{"$error":"#N/A"}},{"$f":"IF(X733>=0,\"Apurado\",\"\")","v":{"$error":"#N/A"}}]
[null,null,null,null,null,null,null,null,null,null,null,null,null,null,null,null,null,null,null,null,null,{"$f":"A734&L734&G734","v":""},{"$f":"VLOOKUP(V734,Minimos!$D$3:$E$26,2,FALSE)","v":{"$error":"#N/A"}},{"$f":"M734-W734","v":{"$error":"#N/A"}},{"$f":"IF(X734>=0,\"Apurado\",\"\")","v":{"$error":"#N/A"}}]
[null,null,null,null,null,null,null,null,null,null,null,null,null,null,null,null,null,null,null,null,null,{"$f":"A735&L735&G735","v":""},{"$f":"VLOOKUP(V735,Minimos!$D$3:$E$26,2,FALSE)","v":{"$error":"#N/A"}},{"$f":"M735-W735","v":{"$error":"#N/A"}},{"$f":"IF(X735>=0,\"Apurado\",\"\")","v":{"$error":"#N/A"}}]
[null,null,null,null,null,null,null,null,null,null,null,null,null,null,null,null,null,null,null,{"$f":"IF(A736=\"\",\"\",G736&A736&I736)","v":""},{"$f":"IF(COUNTIF($T$5:T736,T736)=1,\"SB\",\"\")","v":""},{"$f":"A736&L736&G736","v":""},{"$f":"VLOOKUP(V736,Minimos!$D$3:$E$26,2,FALSE)","v":{"$error":"#N/A"}},{"$f":"M736-W736","v":{"$error":"#N/A"}},{"$f":"IF(X736>=0,\"Apurado\",\"\")","v":{"$error":"#N/A"}}]
[null,null,null,null,null,null,null,null,null,null,null,null,null,null,null,null,null,null,null,null,null,{"$f":"A737&L737&G737","v":""},{"$f":"VLOOKUP(V737,Minimos!$D$3:$E$26,2,FALSE)","v":{"$error":"#N/A"}},{"$f":"M737-W737","v":{"$error":"#N/A"}},{"$f":"IF(X737>=0,\"Apurado\",\"\")","v":{"$error":"#N/A"}}]
[null,null,null,null,null,null,null,null,null,null,null,null,null,null,null,null,null,null,null,null,null,{"$f":"A738&L738&G738","v":""},{"$f":"VLOOKUP(V738,Minimos!$D$3:$E$26,2,FALSE)","v":{"$error":"#N/A"}},{"$f":"M738-W738","v":{"$error":"#N/A"}},{"$f":"IF(X738>=0,\"Apurado\",\"\")","v":{"$error":"#N/A"}}]
[null,null,null,null,null,null,null,null,null,null,null,null,null,null,null,null,null,null,null,null,null,{"$f":"A739&L739&G739","v":""},{"$f":"VLOOKUP(V739,Minimos!$D$3:$E$26,2,FALSE)","v":{"$error":"#N/A"}},{"$f":"M739-W739","v":{"$error":"#N/A"}},{"$f":"IF(X739>=0,\"Apurado\",\"\")","v":{"$error":"#N/A"}}]
[null,null,null,null,null,null,null,null,null,null,null,null,null,null,null,null,null,null,null,null,null,{"$f":"A740&L740&G740","v":""},{"$f":"VLOOKUP(V740,Minimos!$D$3:$E$26,2,FALSE)","v":{"$error":"#N/A"}},{"$f":"M740-W740","v":{"$error":"#N/A"}},{"$f":"IF(X740>=0,\"Apurado\",\"\")","v":{"$error":"#N/A"}}]
[null,null,null,null,null,null,null,null,null,null,null,null,null,null,null,null,null,null,null,null,null,{"$f":"A741&L741&G741","v":""},{"$f":"VLOOKUP(V741,Minimos!$D$3:$E$26,2,FALSE)","v":{"$error":"#N/A"}},{"$f":"M741-W741","v":{"$error":"#N/A"}},{"$f":"IF(X741>=0,\"Apurado\",\"\")","v":{"$error":"#N/A"}}]
[null,null,null,null,null,null,null,null,null,null,null,null,null,null,null,null,null,null,null,null,null,{"$f":"A742&L742&G742","v":""},{"$f":"VLOOKUP(V742,Minimos!$D$3:$E$26,2,FALSE)","v":{"$error":"#N/A"}},{"$f":"M742-W742","v":{"$error":"#N/A"}},{"$f":"IF(X742>=0,\"Apurado\",\"\")","v":{"$error":"#N/A"}}]
[null,null,null,null,null,null,null,null,null,null,null,null,null,null,null,null,null,null,null,{"$f":"IF(A743=\"\",\"\",G743&A743&I743)","v":""},{"$f":"IF(COUNTIF($T$5:T743,T743)=1,\"SB\",\"\")","v":""},{"$f":"A743&L743&G743","v":""},{"$f":"VLOOKUP(V743,Minimos!$D$3:$E$26,2,FALSE)","v":{"$error":"#N/A"}},{"$f":"M743-W743","v":{"$error":"#N/A"}},{"$f":"IF(X743>=0,\"Apurado\",\"\")","v":{"$error":"#N/A"}}]
[null,null,null,null,null,null,null,null,null,null,null,null,null,null,null,null,null,null,null,null,null,{"$f":"A744&L744&G744","v":""},{"$f":"VLOOKUP(V744,Minimos!$D$3:$E$26,2,FALSE)","v":{"$error":"#N/A"}},{"$f":"M744-W744","v":{"$error":"#N/A"}},{"$f":"IF(X744>=0,\"Apurado\",\"\")","v":{"$error":"#N/A"}}]
[null,null,null,null,null,null,null,null,null,null,null,null,null,null,null,null,null,null,null,null,null,{"$f":"A745&L745&G745","v":""},{"$f":"VLOOKUP(V745,Minimos!$D$3:$E$26,2,FALSE)","v":{"$error":"#N/A"}},{"$f":"M745-W745","v":{"$error":"#N/A"}},{"$f":"IF(X745>=0,\"Apurado\",\"\")","v":{"$error":"#N/A"}}]
[null,null,null,null,null,null,null,null,null,null,null,null,null,null,null,null,null,null,null,null,null,{"$f":"A746&L746&G746","v":""},{"$f":"VLOOKUP(V746,Minimos!$D$3:$E$26,2,FALSE)","v":{"$error":"#N/A"}},{"$f":"M746-W746","v":{"$error":"#N/A"}},{"$f":"IF(X746>=0,\"Apurado\",\"\")","v":{"$error":"#N/A"}}]
[null,null,null,null,null,null,null,null,null,null,null,null,null,null,null,null,null,null,null,{"$f":"IF(A747=\"\",\"\",G747&A747&I747)","v":""},{"$f":"IF(COUNTIF($T$5:T747,T747)=1,\"SB\",\"\")","v":""},{"$f":"A747&L747&G747","v":""},{"$f":"VLOOKUP(V747,Minimos!$D$3:$E$26,2,FALSE)","v":{"$error":"#N/A"}},{"$f":"M747-W747","v":{"$error":"#N/A"}},{"$f":"IF(X747>=0,\"Apurado\",\"\")","v":{"$error":"#N/A"}}]
[null,null,null,null,null,null,null,null,null,null,null,null,null,null,null,null,null,null,null,{"$f":"IF(A748=\"\",\"\",G748&A748&I748)","v":""},{"$f":"IF(COUNTIF($T$5:T748,T748)=1,\"SB\",\"\")","v":""},{"$f":"A748&L748&G748","v":""},{"$f":"VLOOKUP(V748,Minimos!$D$3:$E$26,2,FALSE)","v":{"$error":"#N/A"}},{"$f":"M748-W748","v":{"$error":"#N/A"}},{"$f":"IF(X748>=0,\"Apurado\",\"\")","v":{"$error":"#N/A"}}]
[null,null,null,null,null,null,null,null,null,null,null,null,null,null,null,null,null,null,null,null,null,{"$f":"A749&L749&G749","v":""},{"$f":"VLOOKUP(V749,Minimos!$D$3:$E$26,2,FALSE)","v":{"$error":"#N/A"}},{"$f":"M749-W749","v":{"$error":"#N/A"}},{"$f":"IF(X749>=0,\"Apurado\",\"\")","v":{"$error":"#N/A"}}]
[null,null,null,null,null,null,null,null,null,null,null,null,null,null,null,null,null,null,null,null,null,{"$f":"A750&L750&G750","v":""},{"$f":"VLOOKUP(V750,Minimos!$D$3:$E$26,2,FALSE)","v":{"$error":"#N/A"}},{"$f":"M750-W750","v":{"$error":"#N/A"}},{"$f":"IF(X750>=0,\"Apurado\",\"\")","v":{"$error":"#N/A"}}]
[null,null,null,null,null,null,null,null,null,null,null,null,null,null,null,null,null,null,null,null,null,{"$f":"A751&L751&G751","v":""},{"$f":"VLOOKUP(V751,Minimos!$D$3:$E$26,2,FALSE)","v":{"$error":"#N/A"}},{"$f":"M751-W751","v":{"$error":"#N/A"}},{"$f":"IF(X751>=0,\"Apurado\",\"\")","v":{"$error":"#N/A"}}]
[null,null,null,null,null,null,null,null,null,null,null,null,null,null,null,null,null,null,null,null,null,{"$f":"A752&L752&G752","v":""},{"$f":"VLOOKUP(V752,Minimos!$D$3:$E$26,2,FALSE)","v":{"$error":"#N/A"}},{"$f":"M752-W752","v":{"$error":"#N/A"}},{"$f":"IF(X752>=0,\"Apurado\",\"\")","v":{"$error":"#N/A"}}]
[null,null,null,null,null,null,null,null,null,null,null,null,null,null,null,null,null,null,null,null,null,{"$f":"A753&L753&G753","v":""},{"$f":"VLOOKUP(V753,Minimos!$D$3:$E$26,2,FALSE)","v":{"$error":"#N/A"}},{"$f":"M753-W753","v":{"$error":"#N/A"}},{"$f":"IF(X753>=0,\"Apurado\",\"\")","v":{"$error":"#N/A"}}]
[null,null,null,null,null,null,null,null,null,null,null,null,null,null,null,null,null,null,null,null,null,{"$f":"A754&L754&G754","v":""},{"$f":"VLOOKUP(V754,Minimos!$D$3:$E$26,2,FALSE)","v":{"$error":"#N/A"}},{"$f":"M754-W754","v":{"$error":"#N/A"}},{"$f":"IF(X754>=0,\"Apurado\",\"\")","v":{"$error":"#N/A"}}]
[null,null,null,null,null,null,null,null,null,null,null,null,null,null,null,null,null,null,null,null,null,{"$f":"A755&L755&G755","v":""},{"$f":"VLOOKUP(V755,Minimos!$D$3:$E$26,2,FALSE)","v":{"$error":"#N/A"}},{"$f":"M755-W755","v":{"$error":"#N/A"}},{"$f":"IF(X755>=0,\"Apurado\",\"\")","v":{"$error":"#N/A"}}]
[null,null,null,null,null,null,null,null,null,null,null,null,null,null,null,null,null,null,null,null,null,{"$f":"A756&L756&G756","v":""},{"$f":"VLOOKUP(V756,Minimos!$D$3:$E$26,2,FALSE)","v":{"$error":"#N/A"}},{"$f":"M756-W756","v":{"$error":"#N/A"}},{"$f":"IF(X756>=0,\"Apurado\",\"\")","v":{"$error":"#N/A"}}]
[null,null,null,null,null,null,null,null,null,null,null,null,null,null,null,null,null,null,null,null,null,{"$f":"A757&L757&G757","v":""},{"$f":"VLOOKUP(V757,Minimos!$D$3:$E$26,2,FALSE)","v":{"$error":"#N/A"}},{"$f":"M757-W757","v":{"$error":"#N/A"}},{"$f":"IF(X757>=0,\"Apurado\",\"\")","v":{"$error":"#N/A"}}]
[null,null,null,null,null,null,null,null,null,null,null,null,null,null,null,null,null,null,null,null,null,{"$f":"A758&L758&G758","v":""},{"$f":"VLOOKUP(V758,Minimos!$D$3:$E$26,2,FALSE)","v":{"$error":"#N/A"}},{"$f":"M758-W758","v":{"$error":"#N/A"}},{"$f":"IF(X758>=0,\"Apurado\",\"\")","v":{"$error":"#N/A"}}]
[null,null,null,null,null,null,null,null,null,null,null,null,null,null,null,null,null,null,null,null,null,{"$f":"A759&L759&G759","v":""},{"$f":"VLOOKUP(V759,Minimos!$D$3:$E$26,2,FALSE)","v":{"$error":"#N/A"}},{"$f":"M759-W759","v":{"$error":"#N/A"}},{"$f":"IF(X759>=0,\"Apurado\",\"\")","v":{"$error":"#N/A"}}]
[null,null,null,null,null,null,null,null,null,null,null,null,null,null,null,null,null,null,null,null,null,{"$f":"A760&L760&G760","v":""},{"$f":"VLOOKUP(V760,Minimos!$D$3:$E$26,2,FALSE)","v":{"$error":"#N/A"}},{"$f":"M760-W760","v":{"$error":"#N/A"}},{"$f":"IF(X760>=0,\"Apurado\",\"\")","v":{"$error":"#N/A"}}]
[null,null,null,null,null,null,null,null,null,null,null,null,null,null,null,null,null,null,null,null,null,{"$f":"A761&L761&G761","v":""},{"$f":"VLOOKUP(V761,Minimos!$D$3:$E$26,2,FALSE)","v":{"$error":"#N/A"}},{"$f":"M761-W761","v":{"$error":"#N/A"}},{"$f":"IF(X761>=0,\"Apurado\",\"\")","v":{"$error":"#N/A"}}]
[null,null,null,null,null,null,null,null,null,null,null,null,null,null,null,null,null,null,null,null,null,{"$f":"A762&L762&G762","v":""},{"$f":"VLOOKUP(V762,Minimos!$D$3:$E$26,2,FALSE)","v":{"$error":"#N/A"}},{"$f":"M762-W762","v":{"$error":"#N/A"}},{"$f":"IF(X762>=0,\"Apurado\",\"\")","v":{"$error":"#N/A"}}]
[null,null,null,null,null,null,null,null,null,null,null,null,null,null,null,null,null,null,null,null,null,{"$f":"A763&L763&G763","v":""},{"$f":"VLOOKUP(V763,Minimos!$D$3:$E$26,2,FALSE)","v":{"$error":"#N/A"}},{"$f":"M763-W763","v":{"$error":"#N/A"}},{"$f":"IF(X763>=0,\"Apurado\",\"\")","v":{"$error":"#N/A"}}]
[null,null,null,null,null,null,null,null,null,null,null,null,null,null,null,null,null,null,null,null,null,{"$f":"A764&L764&G764","v":""},{"$f":"VLOOKUP(V764,Minimos!$D$3:$E$26,2,FALSE)","v":{"$error":"#N/A"}},{"$f":"M764-W764","v":{"$error":"#N/A"}},{"$f":"IF(X764>=0,\"Apurado\",\"\")","v":{"$error":"#N/A"}}]
[null,null,null,null,null,null,null,null,null,null,null,null,null,null,null,null,null,null,null,null,null,{"$f":"A765&L765&G765","v":""},{"$f":"VLOOKUP(V765,Minimos!$D$3:$E$26,2,FALSE)","v":{"$error":"#N/A"}},{"$f":"M765-W765","v":{"$error":"#N/A"}},{"$f":"IF(X765>=0,\"Apurado\",\"\")","v":{"$error":"#N/A"}}]
[null,null,null,null,null,null,null,null,null,null,null,null,null,null,null,null,null,null,null,null,null,{"$f":"A766&L766&G766","v":""},{"$f":"VLOOKUP(V766,Minimos!$D$3:$E$26,2,FALSE)","v":{"$error":"#N/A"}},{"$f":"M766-W766","v":{"$error":"#N/A"}},{"$f":"IF(X766>=0,\"Apurado\",\"\")","v":{"$error":"#N/A"}}]
[null,null,null,null,null,null,null,null,null,null,null,null,null,null,null,null,null,null,null,{"$f":"IF(A767=\"\",\"\",G767&A767&I767)","v":""},{"$f":"IF(COUNTIF($T$5:T767,T767)=1,\"SB\",\"\")","v":""},{"$f":"A767&L767&G767","v":""},{"$f":"VLOOKUP(V767,Minimos!$D$3:$E$26,2,FALSE)","v":{"$error":"#N/A"}},{"$f":"M767-W767","v":{"$error":"#N/A"}},{"$f":"IF(X767>=0,\"Apurado\",\"\")","v":{"$error":"#N/A"}}]
[null,null,null,null,null,null,null,null,null,null,null,null,null,null,null,null,null,null,null,null,null,{"$f":"A768&L768&G768","v":""},{"$f":"VLOOKUP(V768,Minimos!$D$3:$E$26,2,FALSE)","v":{"$error":"#N/A"}},{"$f":"M768-W768","v":{"$error":"#N/A"}},{"$f":"IF(X768>=0,\"Apurado\",\"\")","v":{"$error":"#N/A"}}]
[null,null,null,null,null,null,null,null,null,null,null,null,null,null,null,null,null,null,null,null,null,{"$f":"A769&L769&G769","v":""},{"$f":"VLOOKUP(V769,Minimos!$D$3:$E$26,2,FALSE)","v":{"$error":"#N/A"}},{"$f":"M769-W769","v":{"$error":"#N/A"}},{"$f":"IF(X769>=0,\"Apurado\",\"\")","v":{"$error":"#N/A"}}]
[null,null,null,null,null,null,null,null,null,null,null,null,null,null,null,null,null,null,null,null,null,{"$f":"A770&L770&G770","v":""},{"$f":"VLOOKUP(V770,Minimos!$D$3:$E$26,2,FALSE)","v":{"$error":"#N/A"}},{"$f":"M770-W770","v":{"$error":"#N/A"}},{"$f":"IF(X770>=0,\"Apurado\",\"\")","v":{"$error":"#N/A"}}]
[null,null,null,null,null,null,null,null,null,null,null,null,null,null,null,null,null,null,null,null,null,{"$f":"A771&L771&G771","v":""},{"$f":"VLOOKUP(V771,Minimos!$D$3:$E$26,2,FALSE)","v":{"$error":"#N/A"}},{"$f":"M771-W771","v":{"$error":"#N/A"}},{"$f":"IF(X771>=0,\"Apurado\",\"\")","v":{"$error":"#N/A"}}]
[null,null,null,null,null,null,null,null,null,null,null,null,null,null,null,null,null,null,null,{"$f":"IF(A772=\"\",\"\",G772&A772&I772)","v":""},{"$f":"IF(COUNTIF($T$5:T772,T772)=1,\"SB\",\"\")","v":""},{"$f":"A772&L772&G772","v":""},{"$f":"VLOOKUP(V772,Minimos!$D$3:$E$26,2,FALSE)","v":{"$error":"#N/A"}},{"$f":"M772-W772","v":{"$error":"#N/A"}},{"$f":"IF(X772>=0,\"Apurado\",\"\")","v":{"$error":"#N/A"}}]
[null,null,null,null,null,null,null,null,null,null,null,null,null,null,null,null,null,null,null,null,null,{"$f":"A773&L773&G773","v":""},{"$f":"VLOOKUP(V773,Minimos!$D$3:$E$26,2,FALSE)","v":{"$error":"#N/A"}},{"$f":"M773-W773","v":{"$error":"#N/A"}},{"$f":"IF(X773>=0,\"Apurado\",\"\")","v":{"$error":"#N/A"}}]
[null,null,null,null,null,null,null,null,null,null,null,null,null,null,null,null,null,null,null,null,null,{"$f":"A774&L774&G774","v":""},{"$f":"VLOOKUP(V774,Minimos!$D$3:$E$26,2,FALSE)","v":{"$error":"#N/A"}},{"$f":"M774-W774","v":{"$error":"#N/A"}},{"$f":"IF(X774>=0,\"Apurado\",\"\")","v":{"$error":"#N/A"}}]
[null,null,null,null,null,null,null,null,null,null,null,null,null,null,null,null,null,null,null,null,null,{"$f":"A775&L775&G775","v":""},{"$f":"VLOOKUP(V775,Minimos!$D$3:$E$26,2,FALSE)","v":{"$error":"#N/A"}},{"$f":"M775-W775","v":{"$error":"#N/A"}},{"$f":"IF(X775>=0,\"Apurado\",\"\")","v":{"$error":"#N/A"}}]
[null,null,null,null,null,null,null,null,null,null,null,null,null,null,null,null,null,null,null,null,null,{"$f":"A776&L776&G776","v":""},{"$f":"VLOOKUP(V776,Minimos!$D$3:$E$26,2,FALSE)","v":{"$error":"#N/A"}},{"$f":"M776-W776","v":{"$error":"#N/A"}},{"$f":"IF(X776>=0,\"Apurado\",\"\")","v":{"$error":"#N/A"}}]
[null,null,null,null,null,null,null,null,null,null,null,null,null,null,null,null,null,null,null,null,null,{"$f":"A777&L777&G777","v":""},{"$f":"VLOOKUP(V777,Minimos!$D$3:$E$26,2,FALSE)","v":{"$error":"#N/A"}},{"$f":"M777-W777","v":{"$error":"#N/A"}},{"$f":"IF(X777>=0,\"Apurado\",\"\")","v":{"$error":"#N/A"}}]
[null,null,null,null,null,null,null,null,null,null,null,null,null,null,null,null,null,null,null,null,null,{"$f":"A778&L778&G778","v":""},{"$f":"VLOOKUP(V778,Minimos!$D$3:$E$26,2,FALSE)","v":{"$error":"#N/A"}},{"$f":"M778-W778","v":{"$error":"#N/A"}},{"$f":"IF(X778>=0,\"Apurado\",\"\")","v":{"$error":"#N/A"}}]
[null,null,null,null,null,null,null,null,null,null,null,null,null,null,null,null,null,null,null,null,null,{"$f":"A779&L779&G779","v":""},{"$f":"VLOOKUP(V779,Minimos!$D$3:$E$26,2,FALSE)","v":{"$error":"#N/A"}},{"$f":"M779-W779","v":{"$error":"#N/A"}},{"$f":"IF(X779>=0,\"Apurado\",\"\")","v":{"$error":"#N/A"}}]
[null,null,null,null,null,null,null,null,null,null,null,null,null,null,null,null,null,null,null,null,null,{"$f":"A780&L780&G780","v":""},{"$f":"VLOOKUP(V780,Minimos!$D$3:$E$26,2,FALSE)","v":{"$error":"#N/A"}},{"$f":"M780-W780","v":{"$error":"#N/A"}},{"$f":"IF(X780>=0,\"Apurado\",\"\")","v":{"$error":"#N/A"}}]
[null,null,null,null,null,null,null,null,null,null,null,null,null,null,null,null,null,null,null,null,null,{"$f":"A781&L781&G781","v":""},{"$f":"VLOOKUP(V781,Minimos!$D$3:$E$26,2,FALSE)","v":{"$error":"#N/A"}},{"$f":"M781-W781","v":{"$error":"#N/A"}},{"$f":"IF(X781>=0,\"Apurado\",\"\")","v":{"$error":"#N/A"}}]
[null,null,null,null,null,null,null,null,null,null,null,null,null,null,null,null,null,null,null,null,null,{"$f":"A782&L782&G782","v":""},{"$f":"VLOOKUP(V782,Minimos!$D$3:$E$26,2,FALSE)","v":{"$error":"#N/A"}},{"$f":"M782-W782","v":{"$error":"#N/A"}},{"$f":"IF(X782>=0,\"Apurado\",\"\")","v":{"$error":"#N/A"}}]
[null,null,null,null,null,null,null,null,null,null,null,null,null,null,null,null,null,null,null,null,null,{"$f":"A783&L783&G783","v":""},{"$f":"VLOOKUP(V783,Minimos!$D$3:$E$26,2,FALSE)","v":{"$error":"#N/A"}},{"$f":"M783-W783","v":{"$error":"#N/A"}},{"$f":"IF(X783>=0,\"Apurado\",\"\")","v":{"$error":"#N/A"}}]
[null,null,null,null,null,null,null,null,null,null,null,null,null,null,null,null,null,null,null,null,null,{"$f":"A784&L784&G784","v":""},{"$f":"VLOOKUP(V784,Minimos!$D$3:$E$26,2,FALSE)","v":{"$error":"#N/A"}},{"$f":"M784-W784","v":{"$error":"#N/A"}},{"$f":"IF(X784>=0,\"Apurado\",\"\")","v":{"$error":"#N/A"}}]
[null,null,null,null,null,null,null,null,null,null,null,null,null,null,null,null,null,null,null,null,null,{"$f":"A785&L785&G785","v":""},{"$f":"VLOOKUP(V785,Minimos!$D$3:$E$26,2,FALSE)","v":{"$error":"#N/A"}},{"$f":"M785-W785","v":{"$error":"#N/A"}},{"$f":"IF(X785>=0,\"Apurado\",\"\")","v":{"$error":"#N/A"}}]
[null,null,null,null,null,null,null,null,null,null,null,null,null,null,null,null,null,null,null,null,null,{"$f":"A786&L786&G786","v":""},{"$f":"VLOOKUP(V786,Minimos!$D$3:$E$26,2,FALSE)","v":{"$error":"#N/A"}},{"$f":"M786-W786","v":{"$error":"#N/A"}},{"$f":"IF(X786>=0,\"Apurado\",\"\")","v":{"$error":"#N/A"}}]
[null,null,null,null,null,null,null,null,null,null,null,null,null,null,null,null,null,null,null,null,null,{"$f":"A787&L787&G787","v":""},{"$f":"VLOOKUP(V787,Minimos!$D$3:$E$26,2,FALSE)","v":{"$error":"#N/A"}},{"$f":"M787-W787","v":{"$error":"#N/A"}},{"$f":"IF(X787>=0,\"Apurado\",\"\")","v":{"$error":"#N/A"}}]
[null,null,null,null,null,null,null,null,null,null,null,null,null,null,null,null,null,null,null,null,null,{"$f":"A788&L788&G788","v":""},{"$f":"VLOOKUP(V788,Minimos!$D$3:$E$26,2,FALSE)","v":{"$error":"#N/A"}},{"$f":"M788-W788","v":{"$error":"#N/A"}},{"$f":"IF(X788>=0,\"Apurado\",\"\")","v":{"$error":"#N/A"}}]
[null,null,null,null,null,null,null,null,null,null,null,null,null,null,null,null,null,null,null,null,null,{"$f":"A789&L789&G789","v":""},{"$f":"VLOOKUP(V789,Minimos!$D$3:$E$26,2,FALSE)","v":{"$error":"#N/A"}},{"$f":"M789-W789","v":{"$error":"#N/A"}},{"$f":"IF(X789>=0,\"Apurado\",\"\")","v":{"$error":"#N/A"}}]
[null,null,null,null,null,null,null,null,null,null,null,null,null,null,null,null,null,null,null,null,null,{"$f":"A790&L790&G790","v":""},{"$f":"VLOOKUP(V790,Minimos!$D$3:$E$26,2,FALSE)","v":{"$error":"#N/A"}},{"$f":"M790-W790","v":{"$error":"#N/A"}},{"$f":"IF(X790>=0,\"Apurado\",\"\")","v":{"$error":"#N/A"}}]
[null,null,null,null,null,null,null,null,null,null,null,null,null,null,null,null,null,null,null,null,null,{"$f":"A791&L791&G791","v":""},{"$f":"VLOOKUP(V791,Minimos!$D$3:$E$26,2,FALSE)","v":{"$error":"#N/A"}},{"$f":"M791-W791","v":{"$error":"#N/A"}},{"$f":"IF(X791>=0,\"Apurado\",\"\")","v":{"$error":"#N/A"}}]
[null,null,null,null,null,null,null,null,null,null,null,null,null,null,null,null,null,null,null,null,null,{"$f":"A792&L792&G792","v":""},{"$f":"VLOOKUP(V792,Minimos!$D$3:$E$26,2,FALSE)","v":{"$error":"#N/A"}},{"$f":"M792-W792","v":{"$error":"#N/A"}},{"$f":"IF(X792>=0,\"Apurado\",\"\")","v":{"$error":"#N/A"}}]
[null,null,null,null,null,null,null,null,null,null,null,null,null,null,null,null,null,null,null,null,null,{"$f":"A793&L793&G793","v":""},{"$f":"VLOOKUP(V793,Minimos!$D$3:$E$26,2,FALSE)","v":{"$error":"#N/A"}},{"$f":"M793-W793","v":{"$error":"#N/A"}},{"$f":"IF(X793>=0,\"Apurado\",\"\")","v":{"$error":"#N/A"}}]
[null,null,null,null,null,null,null,null,null,null,null,null,null,null,null,null,null,null,null,null,null,{"$f":"A794&L794&G794","v":""},{"$f":"VLOOKUP(V794,Minimos!$D$3:$E$26,2,FALSE)","v":{"$error":"#N/A"}},{"$f":"M794-W794","v":{"$error":"#N/A"}},{"$f":"IF(X794>=0,\"Apurado\",\"\")","v":{"$error":"#N/A"}}]
[null,null,null,null,null,null,null,null,null,null,null,null,null,null,null,null,null,null,null,null,null,{"$f":"A795&L795&G795","v":""},{"$f":"VLOOKUP(V795,Minimos!$D$3:$E$26,2,FALSE)","v":{"$error":"#N/A"}},{"$f":"M795-W795","v":{"$error":"#N/A"}},{"$f":"IF(X795>=0,\"Apurado\",\"\")","v":{"$error":"#N/A"}}]
[null,null,null,null,null,null,null,null,null,null,null,null,null,null,null,null,null,null,null,null,null,{"$f":"A796&L796&G796","v":""},{"$f":"VLOOKUP(V796,Minimos!$D$3:$E$26,2,FALSE)","v":{"$error":"#N/A"}},{"$f":"M796-W796","v":{"$error":"#N/A"}},{"$f":"IF(X796>=0,\"Apurado\",\"\")","v":{"$error":"#N/A"}}]
[null,null,null,null,null,null,null,null,null,null,null,null,null,null,null,null,null,null,null,null,null,{"$f":"A797&L797&G797","v":""},{"$f":"VLOOKUP(V797,Minimos!$D$3:$E$26,2,FALSE)","v":{"$error":"#N/A"}},{"$f":"M797-W797","v":{"$error":"#N/A"}},{"$f":"IF(X797>=0,\"Apurado\",\"\")","v":{"$error":"#N/A"}}]
[null,null,null,null,null,null,null,null,null,null,null,null,null,null,null,null,null,null,null,null,null,{"$f":"A798&L798&G798","v":""},{"$f":"VLOOKUP(V798,Minimos!$D$3:$E$26,2,FALSE)","v":{"$error":"#N/A"}},{"$f":"M798-W798","v":{"$error":"#N/A"}},{"$f":"IF(X798>=0,\"Apurado\",\"\")","v":{"$error":"#N/A"}}]
[null,null,null,null,null,null,null,null,null,null,null,null,null,null,null,null,null,null,null,null,null,{"$f":"A799&L799&G799","v":""},{"$f":"VLOOKUP(V799,Minimos!$D$3:$E$26,2,FALSE)","v":{"$error":"#N/A"}},{"$f":"M799-W799","v":{"$error":"#N/A"}},{"$f":"IF(X799>=0,\"Apurado\",\"\")","v":{"$error":"#N/A"}}]
[null,null,null,null,null,null,null,null,null,null,null,null,null,null,null,null,null,null,null,null,null,{"$f":"A800&L800&G800","v":""},{"$f":"VLOOKUP(V800,Minimos!$D$3:$E$26,2,FALSE)","v":{"$error":"#N/A"}},{"$f":"M800-W800","v":{"$error":"#N/A"}},{"$f":"IF(X800>=0,\"Apurado\",\"\")","v":{"$error":"#N/A"}}]
[null,null,null,null,null,null,null,null,null,null,null,null,null,null,null,null,null,null,null,null,null,{"$f":"A801&L801&G801","v":""},{"$f":"VLOOKUP(V801,Minimos!$D$3:$E$26,2,FALSE)","v":{"$error":"#N/A"}},{"$f":"M801-W801","v":{"$error":"#N/A"}},{"$f":"IF(X801>=0,\"Apurado\",\"\")","v":{"$error":"#N/A"}}]
[null,null,null,null,null,null,null,null,null,null,null,null,null,null,null,null,null,null,null,null,null,{"$f":"A802&L802&G802","v":""},{"$f":"VLOOKUP(V802,Minimos!$D$3:$E$26,2,FALSE)","v":{"$error":"#N/A"}},{"$f":"M802-W802","v":{"$error":"#N/A"}},{"$f":"IF(X802>=0,\"Apurado\",\"\")","v":{"$error":"#N/A"}}]
[null,null,null,null,null,null,null,null,null,null,null,null,null,null,null,null,null,null,null,null,null,{"$f":"A803&L803&G803","v":""},{"$f":"VLOOKUP(V803,Minimos!$D$3:$E$26,2,FALSE)","v":{"$error":"#N/A"}},{"$f":"M803-W803","v":{"$error":"#N/A"}},{"$f":"IF(X803>=0,\"Apurado\",\"\")","v":{"$error":"#N/A"}}]
[null,null,null,null,null,null,null,null,null,null,null,null,null,null,null,null,null,null,null,null,null,{"$f":"A804&L804&G804","v":""},{"$f":"VLOOKUP(V804,Minimos!$D$3:$E$26,2,FALSE)","v":{"$error":"#N/A"}},{"$f":"M804-W804","v":{"$error":"#N/A"}},{"$f":"IF(X804>=0,\"Apurado\",\"\")","v":{"$error":"#N/A"}}]
[null,null,null,null,null,null,null,null,null,null,null,null,null,null,null,null,null,null,null,{"$f":"IF(A805=\"\",\"\",G805&A805&I805)","v":""},{"$f":"IF(COUNTIF($T$5:T805,T805)=1,\"SB\",\"\")","v":""},{"$f":"A805&L805&G805","v":""},{"$f":"VLOOKUP(V805,Minimos!$D$3:$E$26,2,FALSE)","v":{"$error":"#N/A"}},{"$f":"M805-W805","v":{"$error":"#N/A"}},{"$f":"IF(X805>=0,\"Apurado\",\"\")","v":{"$error":"#N/A"}}]
[null,null,null,null,null,null,null,null,null,null,null,null,null,null,null,null,null,null,null,null,null,{"$f":"A806&L806&G806","v":""},{"$f":"VLOOKUP(V806,Minimos!$D$3:$E$26,2,FALSE)","v":{"$error":"#N/A"}},{"$f":"M806-W806","v":{"$error":"#N/A"}},{"$f":"IF(X806>=0,\"Apurado\",\"\")","v":{"$error":"#N/A"}}]
[null,null,null,null,null,null,null,null,null,null,null,null,null,null,null,null,null,null,null,null,null,{"$f":"A807&L807&G807","v":""},{"$f":"VLOOKUP(V807,Minimos!$D$3:$E$26,2,FALSE)","v":{"$error":"#N/A"}},{"$f":"M807-W807","v":{"$error":"#N/A"}},{"$f":"IF(X807>=0,\"Apurado\",\"\")","v":{"$error":"#N/A"}}]
[null,null,null,null,null,null,null,null,null,null,null,null,null,null,null,null,null,null,null,null,null,{"$f":"A808&L808&G808","v":""},{"$f":"VLOOKUP(V808,Minimos!$D$3:$E$26,2,FALSE)","v":{"$error":"#N/A"}},{"$f":"M808-W808","v":{"$error":"#N/A"}},{"$f":"IF(X808>=0,\"Apurado\",\"\")","v":{"$error":"#N/A"}}]
[null,null,null,null,null,null,null,null,null,null,null,null,null,null,null,null,null,null,null,null,null,{"$f":"A809&L809&G809","v":""},{"$f":"VLOOKUP(V809,Minimos!$D$3:$E$26,2,FALSE)","v":{"$error":"#N/A"}},{"$f":"M809-W809","v":{"$error":"#N/A"}},{"$f":"IF(X809>=0,\"Apurado\",\"\")","v":{"$error":"#N/A"}}]
[null,null,null,null,null,null,null,null,null,null,null,null,null,null,null,null,null,null,null,null,null,{"$f":"A810&L810&G810","v":""},{"$f":"VLOOKUP(V810,Minimos!$D$3:$E$26,2,FALSE)","v":{"$error":"#N/A"}},{"$f":"M810-W810","v":{"$error":"#N/A"}},{"$f":"IF(X810>=0,\"Apurado\",\"\")","v":{"$error":"#N/A"}}]
[null,null,null,null,null,null,null,null,null,null,null,null,null,null,null,null,null,null,null,null,null,{"$f":"A811&L811&G811","v":""},{"$f":"VLOOKUP(V811,Minimos!$D$3:$E$26,2,FALSE)","v":{"$error":"#N/A"}},{"$f":"M811-W811","v":{"$error":"#N/A"}},{"$f":"IF(X811>=0,\"Apurado\",\"\")","v":{"$error":"#N/A"}}]
[null,null,null,null,null,null,null,null,null,null,null,null,null,null,null,null,null,null,null,null,null,{"$f":"A812&L812&G812","v":""},{"$f":"VLOOKUP(V812,Minimos!$D$3:$E$26,2,FALSE)","v":{"$error":"#N/A"}},{"$f":"M812-W812","v":{"$error":"#N/A"}},{"$f":"IF(X812>=0,\"Apurado\",\"\")","v":{"$error":"#N/A"}}]
[null,null,null,null,null,null,null,null,null,null,null,null,null,null,null,null,null,null,null,null,null,{"$f":"A813&L813&G813","v":""},{"$f":"VLOOKUP(V813,Minimos!$D$3:$E$26,2,FALSE)","v":{"$error":"#N/A"}},{"$f":"M813-W813","v":{"$error":"#N/A"}},{"$f":"IF(X813>=0,\"Apurado\",\"\")","v":{"$error":"#N/A"}}]
[null,null,null,null,null,null,null,null,null,null,null,null,null,null,null,null,null,null,null,null,null,{"$f":"A814&L814&G814","v":""},{"$f":"VLOOKUP(V814,Minimos!$D$3:$E$26,2,FALSE)","v":{"$error":"#N/A"}},{"$f":"M814-W814","v":{"$error":"#N/A"}},{"$f":"IF(X814>=0,\"Apurado\",\"\")","v":{"$error":"#N/A"}}]
[null,null,null,null,null,null,null,null,null,null,null,null,null,null,null,null,null,null,null,null,null,{"$f":"A815&L815&G815","v":""},{"$f":"VLOOKUP(V815,Minimos!$D$3:$E$26,2,FALSE)","v":{"$error":"#N/A"}},{"$f":"M815-W815","v":{"$error":"#N/A"}},{"$f":"IF(X815>=0,\"Apurado\",\"\")","v":{"$error":"#N/A"}}]
[null,null,null,null,null,null,null,null,null,null,null,null,null,null,null,null,null,null,null,{"$f":"IF(A816=\"\",\"\",G816&A816&I816)","v":""},{"$f":"IF(COUNTIF($T$5:T816,T816)=1,\"SB\",\"\")","v":""},{"$f":"A816&L816&G816","v":""},{"$f":"VLOOKUP(V816,Minimos!$D$3:$E$26,2,FALSE)","v":{"$error":"#N/A"}},{"$f":"M816-W816","v":{"$error":"#N/A"}},{"$f":"IF(X816>=0,\"Apurado\",\"\")","v":{"$error":"#N/A"}}]
[null,null,null,null,null,null,null,null,null,null,null,null,null,null,null,null,null,null,null,{"$f":"IF(A817=\"\",\"\",G817&A817&I817)","v":""},{"$f":"IF(COUNTIF($T$5:T817,T817)=1,\"SB\",\"\")","v":""},{"$f":"A817&L817&G817","v":""},{"$f":"VLOOKUP(V817,Minimos!$D$3:$E$26,2,FALSE)","v":{"$error":"#N/A"}},{"$f":"M817-W817","v":{"$error":"#N/A"}},{"$f":"IF(X817>=0,\"Apurado\",\"\")","v":{"$error":"#N/A"}}]
[null,null,null,null,null,null,null,null,null,null,null,null,null,null,null,null,null,null,null,null,null,{"$f":"A818&L818&G818","v":""},{"$f":"VLOOKUP(V818,Minimos!$D$3:$E$26,2,FALSE)","v":{"$error":"#N/A"}},{"$f":"M818-W818","v":{"$error":"#N/A"}},{"$f":"IF(X818>=0,\"Apurado\",\"\")","v":{"$error":"#N/A"}}]
[null,null,null,null,null,null,null,null,null,null,null,null,null,null,null,null,null,null,null,null,null,{"$f":"A819&L819&G819","v":""},{"$f":"VLOOKUP(V819,Minimos!$D$3:$E$26,2,FALSE)","v":{"$error":"#N/A"}},{"$f":"M819-W819","v":{"$error":"#N/A"}},{"$f":"IF(X819>=0,\"Apurado\",\"\")","v":{"$error":"#N/A"}}]
[null,null,null,null,null,null,null,null,null,null,null,null,null,null,null,null,null,null,null,null,null,{"$f":"A820&L820&G820","v":""},{"$f":"VLOOKUP(V820,Minimos!$D$3:$E$26,2,FALSE)","v":{"$error":"#N/A"}},{"$f":"M820-W820","v":{"$error":"#N/A"}},{"$f":"IF(X820>=0,\"Apurado\",\"\")","v":{"$error":"#N/A"}}]
[null,null,null,null,null,null,null,null,null,null,null,null,null,null,null,null,null,null,null,null,null,{"$f":"A821&L821&G821","v":""},{"$f":"VLOOKUP(V821,Minimos!$D$3:$E$26,2,FALSE)","v":{"$error":"#N/A"}},{"$f":"M821-W821","v":{"$error":"#N/A"}},{"$f":"IF(X821>=0,\"Apurado\",\"\")","v":{"$error":"#N/A"}}]
[null,null,null,null,null,null,null,null,null,null,null,null,null,null,null,null,null,null,null,null,null,{"$f":"A822&L822&G822","v":""},{"$f":"VLOOKUP(V822,Minimos!$D$3:$E$26,2,FALSE)","v":{"$error":"#N/A"}},{"$f":"M822-W822","v":{"$error":"#N/A"}},{"$f":"IF(X822>=0,\"Apurado\",\"\")","v":{"$error":"#N/A"}}]
[null,null,null,null,null,null,null,null,null,null,null,null,null,null,null,null,null,null,null,null,null,{"$f":"A823&L823&G823","v":""},{"$f":"VLOOKUP(V823,Minimos!$D$3:$E$26,2,FALSE)","v":{"$error":"#N/A"}},{"$f":"M823-W823","v":{"$error":"#N/A"}},{"$f":"IF(X823>=0,\"Apurado\",\"\")","v":{"$error":"#N/A"}}]
[null,null,null,null,null,null,null,null,null,null,null,null,null,null,null,null,null,null,null,null,null,{"$f":"A824&L824&G824","v":""},{"$f":"VLOOKUP(V824,Minimos!$D$3:$E$26,2,FALSE)","v":{"$error":"#N/A"}},{"$f":"M824-W824","v":{"$error":"#N/A"}},{"$f":"IF(X824>=0,\"Apurado\",\"\")","v":{"$error":"#N/A"}}]
[null,null,null,null,null,null,null,null,null,null,null,null,null,null,null,null,null,null,null,null,null,{"$f":"A825&L825&G825","v":""},{"$f":"VLOOKUP(V825,Minimos!$D$3:$E$26,2,FALSE)","v":{"$error":"#N/A"}},{"$f":"M825-W825","v":{"$error":"#N/A"}},{"$f":"IF(X825>=0,\"Apurado\",\"\")","v":{"$error":"#N/A"}}]
[null,null,null,null,null,null,null,null,null,null,null,null,null,null,null,null,null,null,null,null,null,{"$f":"A826&L826&G826","v":""},{"$f":"VLOOKUP(V826,Minimos!$D$3:$E$26,2,FALSE)","v":{"$error":"#N/A"}},{"$f":"M826-W826","v":{"$error":"#N/A"}},{"$f":"IF(X826>=0,\"Apurado\",\"\")","v":{"$error":"#N/A"}}]
[null,null,null,null,null,null,null,null,null,null,null,null,null,null,null,null,null,null,null,null,null,{"$f":"A827&L827&G827","v":""},{"$f":"VLOOKUP(V827,Minimos!$D$3:$E$26,2,FALSE)","v":{"$error":"#N/A"}},{"$f":"M827-W827","v":{"$error":"#N/A"}},{"$f":"IF(X827>=0,\"Apurado\",\"\")","v":{"$error":"#N/A"}}]
[null,null,null,null,null,null,null,null,null,null,null,null,null,null,null,null,null,null,null,null,null,{"$f":"A828&L828&G828","v":""},{"$f":"VLOOKUP(V828,Minimos!$D$3:$E$26,2,FALSE)","v":{"$error":"#N/A"}},{"$f":"M828-W828","v":{"$error":"#N/A"}},{"$f":"IF(X828>=0,\"Apurado\",\"\")","v":{"$error":"#N/A"}}]
[null,null,null,null,null,null,null,null,null,null,null,null,null,null,null,null,null,null,null,null,null,{"$f":"A829&L829&G829","v":""},{"$f":"VLOOKUP(V829,Minimos!$D$3:$E$26,2,FALSE)","v":{"$error":"#N/A"}},{"$f":"M829-W829","v":{"$error":"#N/A"}},{"$f":"IF(X829>=0,\"Apurado\",\"\")","v":{"$error":"#N/A"}}]
[null,null,null,null,null,null,null,null,null,null,null,null,null,null,null,null,null,null,null,null,null,{"$f":"A830&L830&G830","v":""},{"$f":"VLOOKUP(V830,Minimos!$D$3:$E$26,2,FALSE)","v":{"$error":"#N/A"}},{"$f":"M830-W830","v":{"$error":"#N/A"}},{"$f":"IF(X830>=0,\"Apurado\",\"\")","v":{"$error":"#N/A"}}]
[null,null,null,null,null,null,null,null,null,null,null,null,null,null,null,null,null,null,null,null,null,{"$f":"A831&L831&G831","v":""},{"$f":"VLOOKUP(V831,Minimos!$D$3:$E$26,2,FALSE)","v":{"$error":"#N/A"}},{"$f":"M831-W831","v":{"$error":"#N/A"}},{"$f":"IF(X831>=0,\"Apurado\",\"\")","v":{"$error":"#N/A"}}]
[null,null,null,null,null,null,null,null,null,null,null,null,null,null,null,null,null,null,null,null,null,{"$f":"A832&L832&G832","v":""},{"$f":"VLOOKUP(V832,Minimos!$D$3:$E$26,2,FALSE)","v":{"$error":"#N/A"}},{"$f":"M832-W832","v":{"$error":"#N/A"}},{"$f":"IF(X832>=0,\"Apurado\",\"\")","v":{"$error":"#N/A"}}]
[null,null,null,null,null,null,null,null,null,null,null,null,null,null,null,null,null,null,null,null,null,{"$f":"A833&L833&G833","v":""},{"$f":"VLOOKUP(V833,Minimos!$D$3:$E$26,2,FALSE)","v":{"$error":"#N/A"}},{"$f":"M833-W833","v":{"$error":"#N/A"}},{"$f":"IF(X833>=0,\"Apurado\",\"\")","v":{"$error":"#N/A"}}]
[null,null,null,null,null,null,null,null,null,null,null,null,null,null,null,null,null,null,null,null,null,{"$f":"A834&L834&G834","v":""},{"$f":"VLOOKUP(V834,Minimos!$D$3:$E$26,2,FALSE)","v":{"$error":"#N/A"}},{"$f":"M834-W834","v":{"$error":"#N/A"}},{"$f":"IF(X834>=0,\"Apurado\",\"\")","v":{"$error":"#N/A"}}]
[null,null,null,null,null,null,null,null,null,null,null,null,null,null,null,null,null,null,null,null,null,{"$f":"A835&L835&G835","v":""},{"$f":"VLOOKUP(V835,Minimos!$D$3:$E$26,2,FALSE)","v":{"$error":"#N/A"}},{"$f":"M835-W835","v":{"$error":"#N/A"}},{"$f":"IF(X835>=0,\"Apurado\",\"\")","v":{"$error":"#N/A"}}]
[null,null,null,null,null,null,null,null,null,null,null,null,null,null,null,null,null,null,null,null,null,{"$f":"A836&L836&G836","v":""},{"$f":"VLOOKUP(V836,Minimos!$D$3:$E$26,2,FALSE)","v":{"$error":"#N/A"}},{"$f":"M836-W836","v":{"$error":"#N/A"}},{"$f":"IF(X836>=0,\"Apurado\",\"\")","v":{"$error":"#N/A"}}]
[null,null,null,null,null,null,null,null,null,null,null,null,null,null,null,null,null,null,null,null,null,{"$f":"A837&L837&G837","v":""},{"$f":"VLOOKUP(V837,Minimos!$D$3:$E$26,2,FALSE)","v":{"$error":"#N/A"}},{"$f":"M837-W837","v":{"$error":"#N/A"}},{"$f":"IF(X837>=0,\"Apurado\",\"\")","v":{"$error":"#N/A"}}]
[null,null,null,null,null,null,null,null,null,null,null,null,null,null,null,null,null,null,null,null,null,{"$f":"A838&L838&G838","v":""},{"$f":"VLOOKUP(V838,Minimos!$D$3:$E$26,2,FALSE)","v":{"$error":"#N/A"}},{"$f":"M838-W838","v":{"$error":"#N/A"}},{"$f":"IF(X838>=0,\"Apurado\",\"\")","v":{"$error":"#N/A"}}]
[null,null,null,null,null,null,null,null,null,null,null,null,null,null,null,null,null,null,null,null,null,{"$f":"A839&L839&G839","v":""},{"$f":"VLOOKUP(V839,Minimos!$D$3:$E$26,2,FALSE)","v":{"$error":"#N/A"}},{"$f":"M839-W839","v":{"$error":"#N/A"}},{"$f":"IF(X839>=0,\"Apurado\",\"\")","v":{"$error":"#N/A"}}]
[null,null,null,null,null,null,null,null,null,null,null,null,null,null,null,null,null,null,null,null,null,{"$f":"A840&L840&G840","v":""},{"$f":"VLOOKUP(V840,Minimos!$D$3:$E$26,2,FALSE)","v":{"$error":"#N/A"}},{"$f":"M840-W840","v":{"$error":"#N/A"}},{"$f":"IF(X840>=0,\"Apurado\",\"\")","v":{"$error":"#N/A"}}]
[null,null,null,null,null,null,null,null,null,null,null,null,null,null,null,null,null,null,null,null,null,{"$f":"A841&L841&G841","v":""},{"$f":"VLOOKUP(V841,Minimos!$D$3:$E$26,2,FALSE)","v":{"$error":"#N/A"}},{"$f":"M841-W841","v":{"$error":"#N/A"}},{"$f":"IF(X841>=0,\"Apurado\",\"\")","v":{"$error":"#N/A"}}]
[null,null,null,null,null,null,null,null,null,null,null,null,null,null,null,null,null,null,null,null,null,{"$f":"A842&L842&G842","v":""},{"$f":"VLOOKUP(V842,Minimos!$D$3:$E$26,2,FALSE)","v":{"$error":"#N/A"}},{"$f":"M842-W842","v":{"$error":"#N/A"}},{"$f":"IF(X842>=0,\"Apurado\",\"\")","v":{"$error":"#N/A"}}]
[null,null,null,null,null,null,null,null,null,null,null,null,null,null,null,null,null,null,null,null,null,{"$f":"A843&L843&G843","v":""},{"$f":"VLOOKUP(V843,Minimos!$D$3:$E$26,2,FALSE)","v":{"$error":"#N/A"}},{"$f":"M843-W843","v":{"$error":"#N/A"}},{"$f":"IF(X843>=0,\"Apurado\",\"\")","v":{"$error":"#N/A"}}]
[null,null,null,null,null,null,null,null,null,null,null,null,null,null,null,null,null,null,null,null,null,{"$f":"A844&L844&G844","v":""},{"$f":"VLOOKUP(V844,Minimos!$D$3:$E$26,2,FALSE)","v":{"$error":"#N/A"}},{"$f":"M844-W844","v":{"$error":"#N/A"}},{"$f":"IF(X844>=0,\"Apurado\",\"\")","v":{"$error":"#N/A"}}]
[null,null,null,null,null,null,null,null,null,null,null,null,null,null,null,null,null,null,null,null,null,{"$f":"A845&L845&G845","v":""},{"$f":"VLOOKUP(V845,Minimos!$D$3:$E$26,2,FALSE)","v":{"$error":"#N/A"}},{"$f":"M845-W845","v":{"$error":"#N/A"}},{"$f":"IF(X845>=0,\"Apurado\",\"\")","v":{"$error":"#N/A"}}]
[null,null,null,null,null,null,null,null,null,null,null,null,null,null,null,null,null,null,null,null,null,{"$f":"A846&L846&G846","v":""},{"$f":"VLOOKUP(V846,Minimos!$D$3:$E$26,2,FALSE)","v":{"$error":"#N/A"}},{"$f":"M846-W846","v":{"$error":"#N/A"}},{"$f":"IF(X846>=0,\"Apurado\",\"\")","v":{"$error":"#N/A"}}]
[null,null,null,null,null,null,null,null,null,null,null,null,null,null,null,null,null,null,null,null,null,{"$f":"A847&L847&G847","v":""},{"$f":"VLOOKUP(V847,Minimos!$D$3:$E$26,2,FALSE)","v":{"$error":"#N/A"}},{"$f":"M847-W847","v":{"$error":"#N/A"}},{"$f":"IF(X847>=0,\"Apurado\",\"\")","v":{"$error":"#N/A"}}]
[null,null,null,null,null,null,null,null,null,null,null,null,null,null,null,null,null,null,null,null,null,{"$f":"A848&L848&G848","v":""},{"$f":"VLOOKUP(V848,Minimos!$D$3:$E$26,2,FALSE)","v":{"$error":"#N/A"}},{"$f":"M848-W848","v":{"$error":"#N/A"}},{"$f":"IF(X848>=0,\"Apurado\",\"\")","v":{"$error":"#N/A"}}]
[null,null,null,null,null,null,null,null,null,null,null,null,null,null,null,null,null,null,null,null,null,{"$f":"A849&L849&G849","v":""},{"$f":"VLOOKUP(V849,Minimos!$D$3:$E$26,2,FALSE)","v":{"$error":"#N/A"}},{"$f":"M849-W849","v":{"$error":"#N/A"}},{"$f":"IF(X849>=0,\"Apurado\",\"\")","v":{"$error":"#N/A"}}]
[null,null,null,null,null,null,null,null,null,null,null,null,null,null,null,null,null,null,null,null,null,{"$f":"A850&L850&G850","v":""},{"$f":"VLOOKUP(V850,Minimos!$D$3:$E$26,2,FALSE)","v":{"$error":"#N/A"}},{"$f":"M850-W850","v":{"$error":"#N/A"}},{"$f":"IF(X850>=0,\"Apurado\",\"\")","v":{"$error":"#N/A"}}]
[null,null,null,null,null,null,null,null,null,null,null,null,null,null,null,null,null,null,null,null,null,{"$f":"A851&L851&G851","v":""},{"$f":"VLOOKUP(V851,Minimos!$D$3:$E$26,2,FALSE)","v":{"$error":"#N/A"}},{"$f":"M851-W851","v":{"$error":"#N/A"}},{"$f":"IF(X851>=0,\"Apurado\",\"\")","v":{"$error":"#N/A"}}]
[null,null,null,null,null,null,null,null,null,null,null,null,null,null,null,null,null,null,null,null,null,{"$f":"A852&L852&G852","v":""},{"$f":"VLOOKUP(V852,Minimos!$D$3:$E$26,2,FALSE)","v":{"$error":"#N/A"}},{"$f":"M852-W852","v":{"$error":"#N/A"}},{"$f":"IF(X852>=0,\"Apurado\",\"\")","v":{"$error":"#N/A"}}]
[null,null,null,null,null,null,null,null,null,null,null,null,null,null,null,null,null,null,null,null,null,{"$f":"A853&L853&G853","v":""},{"$f":"VLOOKUP(V853,Minimos!$D$3:$E$26,2,FALSE)","v":{"$error":"#N/A"}},{"$f":"M853-W853","v":{"$error":"#N/A"}},{"$f":"IF(X853>=0,\"Apurado\",\"\")","v":{"$error":"#N/A"}}]
[null,null,null,null,null,null,null,null,null,null,null,null,null,null,null,null,null,null,null,null,null,{"$f":"A854&L854&G854","v":""},{"$f":"VLOOKUP(V854,Minimos!$D$3:$E$26,2,FALSE)","v":{"$error":"#N/A"}},{"$f":"M854-W854","v":{"$error":"#N/A"}},{"$f":"IF(X854>=0,\"Apurado\",\"\")","v":{"$error":"#N/A"}}]
[null,null,null,null,null,null,null,null,null,null,null,null,null,null,null,null,null,null,null,null,null,{"$f":"A855&L855&G855","v":""},{"$f":"VLOOKUP(V855,Minimos!$D$3:$E$26,2,FALSE)","v":{"$error":"#N/A"}},{"$f":"M855-W855","v":{"$error":"#N/A"}},{"$f":"IF(X855>=0,\"Apurado\",\"\")","v":{"$error":"#N/A"}}]
[null,null,null,null,null,null,null,null,null,null,null,null,null,null,null,null,null,null,null,null,null,{"$f":"A856&L856&G856","v":""},{"$f":"VLOOKUP(V856,Minimos!$D$3:$E$26,2,FALSE)","v":{"$error":"#N/A"}},{"$f":"M856-W856","v":{"$error":"#N/A"}},{"$f":"IF(X856>=0,\"Apurado\",\"\")","v":{"$error":"#N/A"}}]
[null,null,null,null,null,null,null,null,null,null,null,null,null,null,null,null,null,null,null,null,null,{"$f":"A857&L857&G857","v":""},{"$f":"VLOOKUP(V857,Minimos!$D$3:$E$26,2,FALSE)","v":{"$error":"#N/A"}},{"$f":"M857-W857","v":{"$error":"#N/A"}},{"$f":"IF(X857>=0,\"Apurado\",\"\")","v":{"$error":"#N/A"}}]
[null,null,null,null,null,null,null,null,null,null,null,null,null,null,null,null,null,null,null,null,null,{"$f":"A858&L858&G858","v":""},{"$f":"VLOOKUP(V858,Minimos!$D$3:$E$26,2,FALSE)","v":{"$error":"#N/A"}},{"$f":"M858-W858","v":{"$error":"#N/A"}},{"$f":"IF(X858>=0,\"Apurado\",\"\")","v":{"$error":"#N/A"}}]
[null,null,null,null,null,null,null,null,null,null,null,null,null,null,null,null,null,null,null,null,null,{"$f":"A859&L859&G859","v":""},{"$f":"VLOOKUP(V859,Minimos!$D$3:$E$26,2,FALSE)","v":{"$error":"#N/A"}},{"$f":"M859-W859","v":{"$error":"#N/A"}},{"$f":"IF(X859>=0,\"Apurado\",\"\")","v":{"$error":"#N/A"}}]
[null,null,null,null,null,null,null,null,null,null,null,null,null,null,null,null,null,null,null,null,null,{"$f":"A860&L860&G860","v":""},{"$f":"VLOOKUP(V860,Minimos!$D$3:$E$26,2,FALSE)","v":{"$error":"#N/A"}},{"$f":"M860-W860","v":{"$error":"#N/A"}},{"$f":"IF(X860>=0,\"Apurado\",\"\")","v":{"$error":"#N/A"}}]
[null,null,null,null,null,null,null,null,null,null,null,null,null,null,null,null,null,null,null,null,null,{"$f":"A861&L861&G861","v":""},{"$f":"VLOOKUP(V861,Minimos!$D$3:$E$26,2,FALSE)","v":{"$error":"#N/A"}},{"$f":"M861-W861","v":{"$error":"#N/A"}},{"$f":"IF(X861>=0,\"Apurado\",\"\")","v":{"$error":"#N/A"}}]
[null,null,null,null,null,null,null,null,null,null,null,null,null,null,null,null,null,null,null,null,null,{"$f":"A862&L862&G862","v":""},{"$f":"VLOOKUP(V862,Minimos!$D$3:$E$26,2,FALSE)","v":{"$error":"#N/A"}},{"$f":"M862-W862","v":{"$error":"#N/A"}},{"$f":"IF(X862>=0,\"Apurado\",\"\")","v":{"$error":"#N/A"}}]
[null,null,null,null,null,null,null,null,null,null,null,null,null,null,null,null,null,null,null,null,null,{"$f":"A863&L863&G863","v":""},{"$f":"VLOOKUP(V863,Minimos!$D$3:$E$26,2,FALSE)","v":{"$error":"#N/A"}},{"$f":"M863-W863","v":{"$error":"#N/A"}},{"$f":"IF(X863>=0,\"Apurado\",\"\")","v":{"$error":"#N/A"}}]
[null,null,null,null,null,null,null,null,null,null,null,null,null,null,null,null,null,null,null,null,null,{"$f":"A864&L864&G864","v":""},{"$f":"VLOOKUP(V864,Minimos!$D$3:$E$26,2,FALSE)","v":{"$error":"#N/A"}},{"$f":"M864-W864","v":{"$error":"#N/A"}},{"$f":"IF(X864>=0,\"Apurado\",\"\")","v":{"$error":"#N/A"}}]
[null,null,null,null,null,null,null,null,null,null,null,null,null,null,null,null,null,null,null,null,null,{"$f":"A865&L865&G865","v":""},{"$f":"VLOOKUP(V865,Minimos!$D$3:$E$26,2,FALSE)","v":{"$error":"#N/A"}},{"$f":"M865-W865","v":{"$error":"#N/A"}},{"$f":"IF(X865>=0,\"Apurado\",\"\")","v":{"$error":"#N/A"}}]
[null,null,null,null,null,null,null,null,null,null,null,null,null,null,null,null,null,null,null,null,null,{"$f":"A866&L866&G866","v":""},{"$f":"VLOOKUP(V866,Minimos!$D$3:$E$26,2,FALSE)","v":{"$error":"#N/A"}},{"$f":"M866-W866","v":{"$error":"#N/A"}},{"$f":"IF(X866>=0,\"Apurado\",\"\")","v":{"$error":"#N/A"}}]
[null,null,null,null,null,null,null,null,null,null,null,null,null,null,null,null,null,null,null,null,null,{"$f":"A867&L867&G867","v":""},{"$f":"VLOOKUP(V867,Minimos!$D$3:$E$26,2,FALSE)","v":{"$error":"#N/A"}},{"$f":"M867-W867","v":{"$error":"#N/A"}},{"$f":"IF(X867>=0,\"Apurado\",\"\")","v":{"$error":"#N/A"}}]
[null,null,null,null,null,null,null,null,null,null,null,null,null,null,null,null,null,null,null,null,null,{"$f":"A868&L868&G868","v":""},{"$f":"VLOOKUP(V868,Minimos!$D$3:$E$26,2,FALSE)","v":{"$error":"#N/A"}},{"$f":"M868-W868","v":{"$error":"#N/A"}},{"$f":"IF(X868>=0,\"Apurado\",\"\")","v":{"$error":"#N/A"}}]
[null,null,null,null,null,null,null,null,null,null,null,null,null,null,null,null,null,null,null,null,null,{"$f":"A869&L869&G869","v":""},{"$f":"VLOOKUP(V869,Minimos!$D$3:$E$26,2,FALSE)","v":{"$error":"#N/A"}},{"$f":"M869-W869","v":{"$error":"#N/A"}},{"$f":"IF(X869>=0,\"Apurado\",\"\")","v":{"$error":"#N/A"}}]
[null,null,null,null,null,null,null,null,null,null,null,null,null,null,null,null,null,null,null,null,null,{"$f":"A870&L870&G870","v":""},{"$f":"VLOOKUP(V870,Minimos!$D$3:$E$26,2,FALSE)","v":{"$error":"#N/A"}},{"$f":"M870-W870","v":{"$error":"#N/A"}},{"$f":"IF(X870>=0,\"Apurado\",\"\")","v":{"$error":"#N/A"}}]
[null,null,null,null,null,null,null,null,null,null,null,null,null,null,null,null,null,null,null,null,null,{"$f":"A871&L871&G871","v":""},{"$f":"VLOOKUP(V871,Minimos!$D$3:$E$26,2,FALSE)","v":{"$error":"#N/A"}},{"$f":"M871-W871","v":{"$error":"#N/A"}},{"$f":"IF(X871>=0,\"Apurado\",\"\")","v":{"$error":"#N/A"}}]
[null,null,null,null,null,null,null,null,null,null,null,null,null,null,null,null,null,null,null,null,null,{"$f":"A872&L872&G872","v":""},{"$f":"VLOOKUP(V872,Minimos!$D$3:$E$26,2,FALSE)","v":{"$error":"#N/A"}},{"$f":"M872-W872","v":{"$error":"#N/A"}},{"$f":"IF(X872>=0,\"Apurado\",\"\")","v":{"$error":"#N/A"}}]
[null,null,null,null,null,null,null,null,null,null,null,null,null,null,null,null,null,null,null,null,null,{"$f":"A873&L873&G873","v":""},{"$f":"VLOOKUP(V873,Minimos!$D$3:$E$26,2,FALSE)","v":{"$error":"#N/A"}},{"$f":"M873-W873","v":{"$error":"#N/A"}},{"$f":"IF(X873>=0,\"Apurado\",\"\")","v":{"$error":"#N/A"}}]
[null,null,null,null,null,null,null,null,null,null,null,null,null,null,null,null,null,null,null,null,null,{"$f":"A874&L874&G874","v":""},{"$f":"VLOOKUP(V874,Minimos!$D$3:$E$26,2,FALSE)","v":{"$error":"#N/A"}},{"$f":"M874-W874","v":{"$error":"#N/A"}},{"$f":"IF(X874>=0,\"Apurado\",\"\")","v":{"$error":"#N/A"}}]
[null,null,null,null,null,null,null,null,null,null,null,null,null,null,null,null,null,null,null,null,null,{"$f":"A875&L875&G875","v":""},{"$f":"VLOOKUP(V875,Minimos!$D$3:$E$26,2,FALSE)","v":{"$error":"#N/A"}},{"$f":"M875-W875","v":{"$error":"#N/A"}},{"$f":"IF(X875>=0,\"Apurado\",\"\")","v":{"$error":"#N/A"}}]
[null,null,null,null,null,null,null,null,null,null,null,null,null,null,null,null,null,null,null,null,null,{"$f":"A876&L876&G876","v":""},{"$f":"VLOOKUP(V876,Minimos!$D$3:$E$26,2,FALSE)","v":{"$error":"#N/A"}},{"$f":"M876-W876","v":{"$error":"#N/A"}},{"$f":"IF(X876>=0,\"Apurado\",\"\")","v":{"$error":"#N/A"}}]
[null,null,null,null,null,null,null,null,null,null,null,null,null,null,null,null,null,null,null,null,null,{"$f":"A877&L877&G877","v":""},{"$f":"VLOOKUP(V877,Minimos!$D$3:$E$26,2,FALSE)","v":{"$error":"#N/A"}},{"$f":"M877-W877","v":{"$error":"#N/A"}},{"$f":"IF(X877>=0,\"Apurado\",\"\")","v":{"$error":"#N/A"}}]
[null,null,null,null,null,null,null,null,null,null,null,null,null,null,null,null,null,null,null,null,null,{"$f":"A878&L878&G878","v":""},{"$f":"VLOOKUP(V878,Minimos!$D$3:$E$26,2,FALSE)","v":{"$error":"#N/A"}},{"$f":"M878-W878","v":{"$error":"#N/A"}},{"$f":"IF(X878>=0,\"Apurado\",\"\")","v":{"$error":"#N/A"}}]
[null,null,null,null,null,null,null,null,null,null,null,null,null,null,null,null,null,null,null,null,null,{"$f":"A879&L879&G879","v":""},{"$f":"VLOOKUP(V879,Minimos!$D$3:$E$26,2,FALSE)","v":{"$error":"#N/A"}},{"$f":"M879-W879","v":{"$error":"#N/A"}},{"$f":"IF(X879>=0,\"Apurado\",\"\")","v":{"$error":"#N/A"}}]
[null,null,null,null,null,null,null,null,null,null,null,null,null,null,null,null,null,null,null,null,null,{"$f":"A880&L880&G880","v":""},{"$f":"VLOOKUP(V880,Minimos!$D$3:$E$26,2,FALSE)","v":{"$error":"#N/A"}},{"$f":"M880-W880","v":{"$error":"#N/A"}},{"$f":"IF(X880>=0,\"Apurado\",\"\")","v":{"$error":"#N/A"}}]
[null,null,null,null,null,null,null,null,null,null,null,null,null,null,null,null,null,null,null,null,null,{"$f":"A881&L881&G881","v":""},{"$f":"VLOOKUP(V881,Minimos!$D$3:$E$26,2,FALSE)","v":{"$error":"#N/A"}},{"$f":"M881-W881","v":{"$error":"#N/A"}},{"$f":"IF(X881>=0,\"Apurado\",\"\")","v":{"$error":"#N/A"}}]
[null,null,null,null,null,null,null,null,null,null,null,null,null,null,null,null,null,null,null,null,null,{"$f":"A882&L882&G882","v":""},{"$f":"VLOOKUP(V882,Minimos!$D$3:$E$26,2,FALSE)","v":{"$error":"#N/A"}},{"$f":"M882-W882","v":{"$error":"#N/A"}},{"$f":"IF(X882>=0,\"Apurado\",\"\")","v":{"$error":"#N/A"}}]
[null,null,null,null,null,null,null,null,null,null,null,null,null,null,null,null,null,null,null,null,null,{"$f":"A883&L883&G883","v":""},{"$f":"VLOOKUP(V883,Minimos!$D$3:$E$26,2,FALSE)","v":{"$error":"#N/A"}},{"$f":"M883-W883","v":{"$error":"#N/A"}},{"$f":"IF(X883>=0,\"Apurado\",\"\")","v":{"$error":"#N/A"}}]
[null,null,null,null,null,null,null,null,null,null,null,null,null,null,null,null,null,null,null,null,null,{"$f":"A884&L884&G884","v":""},{"$f":"VLOOKUP(V884,Minimos!$D$3:$E$26,2,FALSE)","v":{"$error":"#N/A"}},{"$f":"M884-W884","v":{"$error":"#N/A"}},{"$f":"IF(X884>=0,\"Apurado\",\"\")","v":{"$error":"#N/A"}}]
[null,null,null,null,null,null,null,null,null,null,null,null,null,null,null,null,null,null,null,null,null,{"$f":"A885&L885&G885","v":""},{"$f":"VLOOKUP(V885,Minimos!$D$3:$E$26,2,FALSE)","v":{"$error":"#N/A"}},{"$f":"M885-W885","v":{"$error":"#N/A"}},{"$f":"IF(X885>=0,\"Apurado\",\"\")","v":{"$error":"#N/A"}}]
[null,null,null,null,null,null,null,null,null,null,null,null,null,null,null,null,null,null,null,null,null,{"$f":"A886&L886&G886","v":""},{"$f":"VLOOKUP(V886,Minimos!$D$3:$E$26,2,FALSE)","v":{"$error":"#N/A"}},{"$f":"M886-W886","v":{"$error":"#N/A"}},{"$f":"IF(X886>=0,\"Apurado\",\"\")","v":{"$error":"#N/A"}}]
[null,null,null,null,null,null,null,null,null,null,null,null,null,null,null,null,null,null,null,null,null,{"$f":"A887&L887&G887","v":""},{"$f":"VLOOKUP(V887,Minimos!$D$3:$E$26,2,FALSE)","v":{"$error":"#N/A"}},{"$f":"M887-W887","v":{"$error":"#N/A"}},{"$f":"IF(X887>=0,\"Apurado\",\"\")","v":{"$error":"#N/A"}}]
[null,null,null,null,null,null,null,null,null,null,null,null,null,null,null,null,null,null,null,null,null,{"$f":"A888&L888&G888","v":""},{"$f":"VLOOKUP(V888,Minimos!$D$3:$E$26,2,FALSE)","v":{"$error":"#N/A"}},{"$f":"M888-W888","v":{"$error":"#N/A"}},{"$f":"IF(X888>=0,\"Apurado\",\"\")","v":{"$error":"#N/A"}}]
[null,null,null,null,null,null,null,null,null,null,null,null,null,null,null,null,null,null,null,null,null,{"$f":"A889&L889&G889","v":""},{"$f":"VLOOKUP(V889,Minimos!$D$3:$E$26,2,FALSE)","v":{"$error":"#N/A"}},{"$f":"M889-W889","v":{"$error":"#N/A"}},{"$f":"IF(X889>=0,\"Apurado\",\"\")","v":{"$error":"#N/A"}}]
[null,null,null,null,null,null,null,null,null,null,null,null,null,null,null,null,null,null,null,null,null,{"$f":"A890&L890&G890","v":""},{"$f":"VLOOKUP(V890,Minimos!$D$3:$E$26,2,FALSE)","v":{"$error":"#N/A"}},{"$f":"M890-W890","v":{"$error":"#N/A"}},{"$f":"IF(X890>=0,\"Apurado\",\"\")","v":{"$error":"#N/A"}}]
[null,null,null,null,null,null,null,null,null,null,null,null,null,null,null,null,null,null,null,null,null,{"$f":"A891&L891&G891","v":""},{"$f":"VLOOKUP(V891,Minimos!$D$3:$E$26,2,FALSE)","v":{"$error":"#N/A"}},{"$f":"M891-W891","v":{"$error":"#N/A"}},{"$f":"IF(X891>=0,\"Apurado\",\"\")","v":{"$error":"#N/A"}}]
[null,null,null,null,null,null,null,null,null,null,null,null,null,null,null,null,null,null,null,null,null,{"$f":"A892&L892&G892","v":""},{"$f":"VLOOKUP(V892,Minimos!$D$3:$E$26,2,FALSE)","v":{"$error":"#N/A"}},{"$f":"M892-W892","v":{"$error":"#N/A"}},{"$f":"IF(X892>=0,\"Apurado\",\"\")","v":{"$error":"#N/A"}}]
[null,null,null,null,null,null,null,null,null,null,null,null,null,null,null,null,null,null,null,null,null,{"$f":"A893&L893&G893","v":""},{"$f":"VLOOKUP(V893,Minimos!$D$3:$E$26,2,FALSE)","v":{"$error":"#N/A"}},{"$f":"M893-W893","v":{"$error":"#N/A"}},{"$f":"IF(X893>=0,\"Apurado\",\"\")","v":{"$error":"#N/A"}}]
[null,null,null,null,null,null,null,null,null,null,null,null,null,null,null,null,null,null,null,null,null,{"$f":"A894&L894&G894","v":""},{"$f":"VLOOKUP(V894,Minimos!$D$3:$E$26,2,FALSE)","v":{"$error":"#N/A"}},{"$f":"M894-W894","v":{"$error":"#N/A"}},{"$f":"IF(X894>=0,\"Apurado\",\"\")","v":{"$error":"#N/A"}}]
[null,null,null,null,null,null,null,null,null,null,null,null,null,null,null,null,null,null,null,null,null,{"$f":"A895&L895&G895","v":""},{"$f":"VLOOKUP(V895,Minimos!$D$3:$E$26,2,FALSE)","v":{"$error":"#N/A"}},{"$f":"M895-W895","v":{"$error":"#N/A"}},{"$f":"IF(X895>=0,\"Apurado\",\"\")","v":{"$error":"#N/A"}}]
[null,null,null,null,null,null,null,null,null,null,null,null,null,null,null,null,null,null,null,null,null,{"$f":"A896&L896&G896","v":""},{"$f":"VLOOKUP(V896,Minimos!$D$3:$E$26,2,FALSE)","v":{"$error":"#N/A"}},{"$f":"M896-W896","v":{"$error":"#N/A"}},{"$f":"IF(X896>=0,\"Apurado\",\"\")","v":{"$error":"#N/A"}}]
[null,null,null,null,null,null,null,null,null,null,null,null,null,null,null,null,null,null,null,null,null,{"$f":"A897&L897&G897","v":""},{"$f":"VLOOKUP(V897,Minimos!$D$3:$E$26,2,FALSE)","v":{"$error":"#N/A"}},{"$f":"M897-W897","v":{"$error":"#N/A"}},{"$f":"IF(X897>=0,\"Apurado\",\"\")","v":{"$error":"#N/A"}}]
[null,null,null,null,null,null,null,null,null,null,null,null,null,null,null,null,null,null,null,null,null,{"$f":"A898&L898&G898","v":""},{"$f":"VLOOKUP(V898,Minimos!$D$3:$E$26,2,FALSE)","v":{"$error":"#N/A"}},{"$f":"M898-W898","v":{"$error":"#N/A"}},{"$f":"IF(X898>=0,\"Apurado\",\"\")","v":{"$error":"#N/A"}}]
[null,null,null,null,null,null,null,null,null,null,null,null,null,null,null,null,null,null,null,null,null,{"$f":"A899&L899&G899","v":""},{"$f":"VLOOKUP(V899,Minimos!$D$3:$E$26,2,FALSE)","v":{"$error":"#N/A"}},{"$f":"M899-W899","v":{"$error":"#N/A"}},{"$f":"IF(X899>=0,\"Apurado\",\"\")","v":{"$error":"#N/A"}}]
[null,null,null,null,null,null,null,null,null,null,null,null,null,null,null,null,null,null,null,null,null,{"$f":"A900&L900&G900","v":""},{"$f":"VLOOKUP(V900,Minimos!$D$3:$E$26,2,FALSE)","v":{"$error":"#N/A"}},{"$f":"M900-W900","v":{"$error":"#N/A"}},{"$f":"IF(X900>=0,\"Apurado\",\"\")","v":{"$error":"#N/A"}}]
[null,null,null,null,null,null,null,null,null,null,null,null,null,null,null,null,null,null,null,null,null,{"$f":"A901&L901&G901","v":""},{"$f":"VLOOKUP(V901,Minimos!$D$3:$E$26,2,FALSE)","v":{"$error":"#N/A"}},{"$f":"M901-W901","v":{"$error":"#N/A"}},{"$f":"IF(X901>=0,\"Apurado\",\"\")","v":{"$error":"#N/A"}}]
[null,null,null,null,null,null,null,null,null,null,null,null,null,null,null,null,null,null,null,null,null,{"$f":"A902&L902&G902","v":""},{"$f":"VLOOKUP(V902,Minimos!$D$3:$E$26,2,FALSE)","v":{"$error":"#N/A"}},{"$f":"M902-W902","v":{"$error":"#N/A"}},{"$f":"IF(X902>=0,\"Apurado\",\"\")","v":{"$error":"#N/A"}}]
[null,null,null,null,null,null,null,null,null,null,null,null,null,null,null,null,null,null,null,null,null,{"$f":"A903&L903&G903","v":""},{"$f":"VLOOKUP(V903,Minimos!$D$3:$E$26,2,FALSE)","v":{"$error":"#N/A"}},{"$f":"M903-W903","v":{"$error":"#N/A"}},{"$f":"IF(X903>=0,\"Apurado\",\"\")","v":{"$error":"#N/A"}}]
[null,null,null,null,null,null,null,null,null,null,null,null,null,null,null,null,null,null,null,null,null,{"$f":"A904&L904&G904","v":""},{"$f":"VLOOKUP(V904,Minimos!$D$3:$E$26,2,FALSE)","v":{"$error":"#N/A"}},{"$f":"M904-W904","v":{"$error":"#N/A"}},{"$f":"IF(X904>=0,\"Apurado\",\"\")","v":{"$error":"#N/A"}}]
[null,null,null,null,null,null,null,null,null,null,null,null,null,null,null,null,null,null,null,null,null,{"$f":"A905&L905&G905","v":""},{"$f":"VLOOKUP(V905,Minimos!$D$3:$E$26,2,FALSE)","v":{"$error":"#N/A"}},{"$f":"M905-W905","v":{"$error":"#N/A"}},{"$f":"IF(X905>=0,\"Apurado\",\"\")","v":{"$error":"#N/A"}}]
[null,null,null,null,null,null,null,null,null,null,null,null,null,null,null,null,null,null,null,null,null,{"$f":"A906&L906&G906","v":""},{"$f":"VLOOKUP(V906,Minimos!$D$3:$E$26,2,FALSE)","v":{"$error":"#N/A"}},{"$f":"M906-W906","v":{"$error":"#N/A"}},{"$f":"IF(X906>=0,\"Apurado\",\"\")","v":{"$error":"#N/A"}}]
[null,null,null,null,null,null,null,null,null,null,null,null,null,null,null,null,null,null,null,null,null,{"$f":"A907&L907&G907","v":""},{"$f":"VLOOKUP(V907,Minimos!$D$3:$E$26,2,FALSE)","v":{"$error":"#N/A"}},{"$f":"M907-W907","v":{"$error":"#N/A"}},{"$f":"IF(X907>=0,\"Apurado\",\"\")","v":{"$error":"#N/A"}}]
[null,null,null,null,null,null,null,null,null,null,null,null,null,null,null,null,null,null,null,null,null,{"$f":"A908&L908&G908","v":""},{"$f":"VLOOKUP(V908,Minimos!$D$3:$E$26,2,FALSE)","v":{"$error":"#N/A"}},{"$f":"M908-W908","v":{"$error":"#N/A"}},{"$f":"IF(X908>=0,\"Apurado\",\"\")","v":{"$error":"#N/A"}}]
[null,null,null,null,null,null,null,null,null,null,null,null,null,null,null,null,null,null,null,null,null,{"$f":"A909&L909&G909","v":""},{"$f":"VLOOKUP(V909,Minimos!$D$3:$E$26,2,FALSE)","v":{"$error":"#N/A"}},{"$f":"M909-W909","v":{"$error":"#N/A"}},{"$f":"IF(X909>=0,\"Apurado\",\"\")","v":{"$error":"#N/A"}}]
[null,null,null,null,null,null,null,null,null,null,null,null,null,null,null,null,null,null,null,null,null,{"$f":"A910&L910&G910","v":""},{"$f":"VLOOKUP(V910,Minimos!$D$3:$E$26,2,FALSE)","v":{"$error":"#N/A"}},{"$f":"M910-W910","v":{"$error":"#N/A"}},{"$f":"IF(X910>=0,\"Apurado\",\"\")","v":{"$error":"#N/A"}}]
[null,null,null,null,null,null,null,null,null,null,null,null,null,null,null,null,null,null,null,null,null,{"$f":"A911&L911&G911","v":""},{"$f":"VLOOKUP(V911,Minimos!$D$3:$E$26,2,FALSE)","v":{"$error":"#N/A"}},{"$f":"M911-W911","v":{"$error":"#N/A"}},{"$f":"IF(X911>=0,\"Apurado\",\"\")","v":{"$error":"#N/A"}}]
[null,null,null,null,null,null,null,null,null,null,null,null,null,null,null,null,null,null,null,null,null,{"$f":"A912&L912&G912","v":""},{"$f":"VLOOKUP(V912,Minimos!$D$3:$E$26,2,FALSE)","v":{"$error":"#N/A"}},{"$f":"M912-W912","v":{"$error":"#N/A"}},{"$f":"IF(X912>=0,\"Apurado\",\"\")","v":{"$error":"#N/A"}}]
[null,null,null,null,null,null,null,null,null,null,null,null,null,null,null,null,null,null,null,null,null,{"$f":"A913&L913&G913","v":""},{"$f":"VLOOKUP(V913,Minimos!$D$3:$E$26,2,FALSE)","v":{"$error":"#N/A"}},{"$f":"M913-W913","v":{"$error":"#N/A"}},{"$f":"IF(X913>=0,\"Apurado\",\"\")","v":{"$error":"#N/A"}}]
[null,null,null,null,null,null,null,null,null,null,null,null,null,null,null,null,null,null,null,null,null,{"$f":"A914&L914&G914","v":""},{"$f":"VLOOKUP(V914,Minimos!$D$3:$E$26,2,FALSE)","v":{"$error":"#N/A"}},{"$f":"M914-W914","v":{"$error":"#N/A"}},{"$f":"IF(X914>=0,\"Apurado\",\"\")","v":{"$error":"#N/A"}}]
[null,null,null,null,null,null,null,null,null,null,null,null,null,null,null,null,null,null,null,null,null,{"$f":"A915&L915&G915","v":""},{"$f":"VLOOKUP(V915,Minimos!$D$3:$E$26,2,FALSE)","v":{"$error":"#N/A"}},{"$f":"M915-W915","v":{"$error":"#N/A"}},{"$f":"IF(X915>=0,\"Apurado\",\"\")","v":{"$error":"#N/A"}}]
[null,null,null,null,null,null,null,null,null,null,null,null,null,null,null,null,null,null,null,null,null,{"$f":"A916&L916&G916","v":""},{"$f":"VLOOKUP(V916,Minimos!$D$3:$E$26,2,FALSE)","v":{"$error":"#N/A"}},{"$f":"M916-W916","v":{"$error":"#N/A"}},{"$f":"IF(X916>=0,\"Apurado\",\"\")","v":{"$error":"#N/A"}}]
[null,null,null,null,null,null,null,null,null,null,null,null,null,null,null,null,null,null,null,null,null,{"$f":"A917&L917&G917","v":""},{"$f":"VLOOKUP(V917,Minimos!$D$3:$E$26,2,FALSE)","v":{"$error":"#N/A"}},{"$f":"M917-W917","v":{"$error":"#N/A"}},{"$f":"IF(X917>=0,\"Apurado\",\"\")","v":{"$error":"#N/A"}}]
[null,null,null,null,null,null,null,null,null,null,null,null,null,null,null,null,null,null,null,null,null,{"$f":"A918&L918&G918","v":""},{"$f":"VLOOKUP(V918,Minimos!$D$3:$E$26,2,FALSE)","v":{"$error":"#N/A"}},{"$f":"M918-W918","v":{"$error":"#N/A"}},{"$f":"IF(X918>=0,\"Apurado\",\"\")","v":{"$error":"#N/A"}}]
[null,null,null,null,null,null,null,null,null,null,null,null,null,null,null,null,null,null,null,null,null,{"$f":"A919&L919&G919","v":""},{"$f":"VLOOKUP(V919,Minimos!$D$3:$E$26,2,FALSE)","v":{"$error":"#N/A"}},{"$f":"M919-W919","v":{"$error":"#N/A"}},{"$f":"IF(X919>=0,\"Apurado\",\"\")","v":{"$error":"#N/A"}}]
[null,null,null,null,null,null,null,null,null,null,null,null,null,null,null,null,null,null,null,null,null,{"$f":"A920&L920&G920","v":""},{"$f":"VLOOKUP(V920,Minimos!$D$3:$E$26,2,FALSE)","v":{"$error":"#N/A"}},{"$f":"M920-W920","v":{"$error":"#N/A"}},{"$f":"IF(X920>=0,\"Apurado\",\"\")","v":{"$error":"#N/A"}}]
[null,null,null,null,null,null,null,null,null,null,null,null,null,null,null,null,null,null,null,null,null,{"$f":"A921&L921&G921","v":""},{"$f":"VLOOKUP(V921,Minimos!$D$3:$E$26,2,FALSE)","v":{"$error":"#N/A"}},{"$f":"M921-W921","v":{"$error":"#N/A"}},{"$f":"IF(X921>=0,\"Apurado\",\"\")","v":{"$error":"#N/A"}}]
[null,null,null,null,null,null,null,null,null,null,null,null,null,null,null,null,null,null,null,null,null,{"$f":"A922&L922&G922","v":""},{"$f":"VLOOKUP(V922,Minimos!$D$3:$E$26,2,FALSE)","v":{"$error":"#N/A"}},{"$f":"M922-W922","v":{"$error":"#N/A"}},{"$f":"IF(X922>=0,\"Apurado\",\"\")","v":{"$error":"#N/A"}}]
[null,null,null,null,null,null,null,null,null,null,null,null,null,null,null,null,null,null,null,null,null,{"$f":"A923&L923&G923","v":""},{"$f":"VLOOKUP(V923,Minimos!$D$3:$E$26,2,FALSE)","v":{"$error":"#N/A"}},{"$f":"M923-W923","v":{"$error":"#N/A"}},{"$f":"IF(X923>=0,\"Apurado\",\"\")","v":{"$error":"#N/A"}}]
[null,null,null,null,null,null,null,null,null,null,null,null,null,null,null,null,null,null,null,null,null,{"$f":"A924&L924&G924","v":""},{"$f":"VLOOKUP(V924,Minimos!$D$3:$E$26,2,FALSE)","v":{"$error":"#N/A"}},{"$f":"M924-W924","v":{"$error":"#N/A"}},{"$f":"IF(X924>=0,\"Apurado\",\"\")","v":{"$error":"#N/A"}}]
[null,null,null,null,null,null,null,null,null,null,null,null,null,null,null,null,null,null,null,null,null,{"$f":"A925&L925&G925","v":""},{"$f":"VLOOKUP(V925,Minimos!$D$3:$E$26,2,FALSE)","v":{"$error":"#N/A"}},{"$f":"M925-W925","v":{"$error":"#N/A"}},{"$f":"IF(X925>=0,\"Apurado\",\"\")","v":{"$error":"#N/A"}}]
[null,null,null,null,null,null,null,null,null,null,null,null,null,null,null,null,null,null,null,null,null,{"$f":"A926&L926&G926","v":""},{"$f":"VLOOKUP(V926,Minimos!$D$3:$E$26,2,FALSE)","v":{"$error":"#N/A"}},{"$f":"M926-W926","v":{"$error":"#N/A"}},{"$f":"IF(X926>=0,\"Apurado\",\"\")","v":{"$error":"#N/A"}}]
[null,null,null,null,null,null,null,null,null,null,null,null,null,null,null,null,null,null,null,null,null,{"$f":"A927&L927&G927","v":""},{"$f":"VLOOKUP(V927,Minimos!$D$3:$E$26,2,FALSE)","v":{"$error":"#N/A"}},{"$f":"M927-W927","v":{"$error":"#N/A"}},{"$f":"IF(X927>=0,\"Apurado\",\"\")","v":{"$error":"#N/A"}}]
[null,null,null,null,null,null,null,null,null,null,null,null,null,null,null,null,null,null,null,null,null,{"$f":"A928&L928&G928","v":""},{"$f":"VLOOKUP(V928,Minimos!$D$3:$E$26,2,FALSE)","v":{"$error":"#N/A"}},{"$f":"M928-W928","v":{"$error":"#N/A"}},{"$f":"IF(X928>=0,\"Apurado\",\"\")","v":{"$error":"#N/A"}}]
[null,null,null,null,null,null,null,null,null,null,null,null,null,null,null,null,null,null,null,null,null,{"$f":"A929&L929&G929","v":""},{"$f":"VLOOKUP(V929,Minimos!$D$3:$E$26,2,FALSE)","v":{"$error":"#N/A"}},{"$f":"M929-W929","v":{"$error":"#N/A"}},{"$f":"IF(X929>=0,\"Apurado\",\"\")","v":{"$error":"#N/A"}}]
[null,null,null,null,null,null,null,null,null,null,null,null,null,null,null,null,null,null,null,null,null,{"$f":"A930&L930&G930","v":""},{"$f":"VLOOKUP(V930,Minimos!$D$3:$E$26,2,FALSE)","v":{"$error":"#N/A"}},{"$f":"M930-W930","v":{"$error":"#N/A"}},{"$f":"IF(X930>=0,\"Apurado\",\"\")","v":{"$error":"#N/A"}}]
[null,null,null,null,null,null,null,null,null,null,null,null,null,null,null,null,null,null,null,null,null,{"$f":"A931&L931&G931","v":""},{"$f":"VLOOKUP(V931,Minimos!$D$3:$E$26,2,FALSE)","v":{"$error":"#N/A"}},{"$f":"M931-W931","v":{"$error":"#N/A"}},{"$f":"IF(X931>=0,\"Apurado\",\"\")","v":{"$error":"#N/A"}}]
[null,null,null,null,null,null,null,null,null,null,null,null,null,null,null,null,null,null,null,null,null,{"$f":"A932&L932&G932","v":""},{"$f":"VLOOKUP(V932,Minimos!$D$3:$E$26,2,FALSE)","v":{"$error":"#N/A"}},{"$f":"M932-W932","v":{"$error":"#N/A"}},{"$f":"IF(X932>=0,\"Apurado\",\"\")","v":{"$error":"#N/A"}}]
[null,null,null,null,null,null,null,null,null,null,null,null,null,null,null,null,null,null,null,null,null,{"$f":"A933&L933&G933","v":""},{"$f":"VLOOKUP(V933,Minimos!$D$3:$E$26,2,FALSE)","v":{"$error":"#N/A"}},{"$f":"M933-W933","v":{"$error":"#N/A"}},{"$f":"IF(X933>=0,\"Apurado\",\"\")","v":{"$error":"#N/A"}}]
[null,null,null,null,null,null,null,null,null,null,null,null,null,null,null,null,null,null,null,null,null,{"$f":"A934&L934&G934","v":""},{"$f":"VLOOKUP(V934,Minimos!$D$3:$E$26,2,FALSE)","v":{"$error":"#N/A"}},{"$f":"M934-W934","v":{"$error":"#N/A"}},{"$f":"IF(X934>=0,\"Apurado\",\"\")","v":{"$error":"#N/A"}}]
[null,null,null,null,null,null,null,null,null,null,null,null,null,null,null,null,null,null,null,null,null,{"$f":"A935&L935&G935","v":""},{"$f":"VLOOKUP(V935,Minimos!$D$3:$E$26,2,FALSE)","v":{"$error":"#N/A"}},{"$f":"M935-W935","v":{"$error":"#N/A"}},{"$f":"IF(X935>=0,\"Apurado\",\"\")","v":{"$error":"#N/A"}}]
[null,null,null,null,null,null,null,null,null,null,null,null,null,null,null,null,null,null,null,null,null,{"$f":"A936&L936&G936","v":""},{"$f":"VLOOKUP(V936,Minimos!$D$3:$E$26,2,FALSE)","v":{"$error":"#N/A"}},{"$f":"M936-W936","v":{"$error":"#N/A"}},{"$f":"IF(X936>=0,\"Apurado\",\"\")","v":{"$error":"#N/A"}}]
[null,null,null,null,null,null,null,null,null,null,null,null,null,null,null,null,null,null,null,null,null,{"$f":"A937&L937&G937","v":""},{"$f":"VLOOKUP(V937,Minimos!$D$3:$E$26,2,FALSE)","v":{"$error":"#N/A"}},{"$f":"M937-W937","v":{"$error":"#N/A"}},{"$f":"IF(X937>=0,\"Apurado\",\"\")","v":{"$error":"#N/A"}}]
[null,null,null,null,null,null,null,null,null,null,null,null,null,null,null,null,null,null,null,null,null,{"$f":"A938&L938&G938","v":""},{"$f":"VLOOKUP(V938,Minimos!$D$3:$E$26,2,FALSE)","v":{"$error":"#N/A"}},{"$f":"M938-W938","v":{"$error":"#N/A"}},{"$f":"IF(X938>=0,\"Apurado\",\"\")","v":{"$error":"#N/A"}}]
[null,null,null,null,null,null,null,null,null,null,null,null,null,null,null,null,null,null,null,null,null,{"$f":"A939&L939&G939","v":""},{"$f":"VLOOKUP(V939,Minimos!$D$3:$E$26,2,FALSE)","v":{"$error":"#N/A"}},{"$f":"M939-W939","v":{"$error":"#N/A"}},{"$f":"IF(X939>=0,\"Apurado\",\"\")","v":{"$error":"#N/A"}}]
[null,null,null,null,null,null,null,null,null,null,null,null,null,null,null,null,null,null,null,null,null,{"$f":"A940&L940&G940","v":""},{"$f":"VLOOKUP(V940,Minimos!$D$3:$E$26,2,FALSE)","v":{"$error":"#N/A"}},{"$f":"M940-W940","v":{"$error":"#N/A"}},{"$f":"IF(X940>=0,\"Apurado\",\"\")","v":{"$error":"#N/A"}}]
[null,null,null,null,null,null,null,null,null,null,null,null,null,null,null,null,null,null,null,null,null,{"$f":"A941&L941&G941","v":""},{"$f":"VLOOKUP(V941,Minimos!$D$3:$E$26,2,FALSE)","v":{"$error":"#N/A"}},{"$f":"M941-W941","v":{"$error":"#N/A"}},{"$f":"IF(X941>=0,\"Apurado\",\"\")","v":{"$error":"#N/A"}}]
[null,null,null,null,null,null,null,null,null,null,null,null,null,null,null,null,null,null,null,null,null,{"$f":"A942&L942&G942","v":""},{"$f":"VLOOKUP(V942,Minimos!$D$3:$E$26,2,FALSE)","v":{"$error":"#N/A"}},{"$f":"M942-W942","v":{"$error":"#N/A"}},{"$f":"IF(X942>=0,\"Apurado\",\"\")","v":{"$error":"#N/A"}}]
[null,null,null,null,null,null,null,null,null,null,null,null,null,null,null,null,null,null,null,null,null,{"$f":"A943&L943&G943","v":""},{"$f":"VLOOKUP(V943,Minimos!$D$3:$E$26,2,FALSE)","v":{"$error":"#N/A"}},{"$f":"M943-W943","v":{"$error":"#N/A"}},{"$f":"IF(X943>=0,\"Apurado\",\"\")","v":{"$error":"#N/A"}}]
[null,null,null,null,null,null,null,null,null,null,null,null,null,null,null,null,null,null,null,null,null,{"$f":"A944&L944&G944","v":""},{"$f":"VLOOKUP(V944,Minimos!$D$3:$E$26,2,FALSE)","v":{"$error":"#N/A"}},{"$f":"M944-W944","v":{"$error":"#N/A"}},{"$f":"IF(X944>=0,\"Apurado\",\"\")","v":{"$error":"#N/A"}}]
[null,null,null,null,null,null,null,null,null,null,null,null,null,null,null,null,null,null,null,null,null,{"$f":"A945&L945&G945","v":""},{"$f":"VLOOKUP(V945,Minimos!$D$3:$E$26,2,FALSE)","v":{"$error":"#N/A"}},{"$f":"M945-W945","v":{"$error":"#N/A"}},{"$f":"IF(X945>=0,\"Apurado\",\"\")","v":{"$error":"#N/A"}}]
[null,null,null,null,null,null,null,null,null,null,null,null,null,null,null,null,null,null,null,null,null,{"$f":"A946&L946&G946","v":""},{"$f":"VLOOKUP(V946,Minimos!$D$3:$E$26,2,FALSE)","v":{"$error":"#N/A"}},{"$f":"M946-W946","v":{"$error":"#N/A"}},{"$f":"IF(X946>=0,\"Apurado\",\"\")","v":{"$error":"#N/A"}}]
[null,null,null,null,null,null,null,null,null,null,null,null,null,null,null,null,null,null,null,null,null,{"$f":"A947&L947&G947","v":""},{"$f":"VLOOKUP(V947,Minimos!$D$3:$E$26,2,FALSE)","v":{"$error":"#N/A"}},{"$f":"M947-W947","v":{"$error":"#N/A"}},{"$f":"IF(X947>=0,\"Apurado\",\"\")","v":{"$error":"#N/A"}}]
[null,null,null,null,null,null,null,null,null,null,null,null,null,null,null,null,null,null,null,null,null,{"$f":"A948&L948&G948","v":""},{"$f":"VLOOKUP(V948,Minimos!$D$3:$E$26,2,FALSE)","v":{"$error":"#N/A"}},{"$f":"M948-W948","v":{"$error":"#N/A"}},{"$f":"IF(X948>=0,\"Apurado\",\"\")","v":{"$error":"#N/A"}}]
[null,null,null,null,null,null,null,null,null,null,null,null,null,null,null,null,null,null,null,null,null,{"$f":"A949&L949&G949","v":""},{"$f":"VLOOKUP(V949,Minimos!$D$3:$E$26,2,FALSE)","v":{"$error":"#N/A"}},{"$f":"M949-W949","v":{"$error":"#N/A"}},{"$f":"IF(X949>=0,\"Apurado\",\"\")","v":{"$error":"#N/A"}}]
[null,null,null,null,null,null,null,null,null,null,null,null,null,null,null,null,null,null,null,null,null,{"$f":"A950&L950&G950","v":""},{"$f":"VLOOKUP(V950,Minimos!$D$3:$E$26,2,FALSE)","v":{"$error":"#N/A"}},{"$f":"M950-W950","v":{"$error":"#N/A"}},{"$f":"IF(X950>=0,\"Apurado\",\"\")","v":{"$error":"#N/A"}}]
[null,null,null,null,null,null,null,null,null,null,null,null,null,null,null,null,null,null,null,null,null,{"$f":"A951&L951&G951","v":""},{"$f":"VLOOKUP(V951,Minimos!$D$3:$E$26,2,FALSE)","v":{"$error":"#N/A"}},{"$f":"M951-W951","v":{"$error":"#N/A"}},{"$f":"IF(X951>=0,\"Apurado\",\"\")","v":{"$error":"#N/A"}}]
[null,null,null,null,null,null,null,null,null,null,null,null,null,null,null,null,null,null,null,null,null,{"$f":"A952&L952&G952","v":""},{"$f":"VLOOKUP(V952,Minimos!$D$3:$E$26,2,FALSE)","v":{"$error":"#N/A"}},{"$f":"M952-W952","v":{"$error":"#N/A"}},{"$f":"IF(X952>=0,\"Apurado\",\"\")","v":{"$error":"#N/A"}}]
[null,null,null,null,null,null,null,null,null,null,null,null,null,null,null,null,null,null,null,null,null,{"$f":"A953&L953&G953","v":""},{"$f":"VLOOKUP(V953,Minimos!$D$3:$E$26,2,FALSE)","v":{"$error":"#N/A"}},{"$f":"M953-W953","v":{"$error":"#N/A"}},{"$f":"IF(X953>=0,\"Apurado\",\"\")","v":{"$error":"#N/A"}}]
[null,null,null,null,null,null,null,null,null,null,null,null,null,null,null,null,null,null,null,null,null,{"$f":"A954&L954&G954","v":""},{"$f":"VLOOKUP(V954,Minimos!$D$3:$E$26,2,FALSE)","v":{"$error":"#N/A"}},{"$f":"M954-W954","v":{"$error":"#N/A"}},{"$f":"IF(X954>=0,\"Apurado\",\"\")","v":{"$error":"#N/A"}}]
[null,null,null,null,null,null,null,null,null,null,null,null,null,null,null,null,null,null,null,null,null,{"$f":"A955&L955&G955","v":""},{"$f":"VLOOKUP(V955,Minimos!$D$3:$E$26,2,FALSE)","v":{"$error":"#N/A"}},{"$f":"M955-W955","v":{"$error":"#N/A"}},{"$f":"IF(X955>=0,\"Apurado\",\"\")","v":{"$error":"#N/A"}}]
[null,null,null,null,null,null,null,null,null,null,null,null,null,null,null,null,null,null,null,null,null,{"$f":"A956&L956&G956","v":""},{"$f":"VLOOKUP(V956,Minimos!$D$3:$E$26,2,FALSE)","v":{"$error":"#N/A"}},{"$f":"M956-W956","v":{"$error":"#N/A"}},{"$f":"IF(X956>=0,\"Apurado\",\"\")","v":{"$error":"#N/A"}}]
[null,null,null,null,null,null,null,null,null,null,null,null,null,null,null,null,null,null,null,null,null,{"$f":"A957&L957&G957","v":""},{"$f":"VLOOKUP(V957,Minimos!$D$3:$E$26,2,FALSE)","v":{"$error":"#N/A"}},{"$f":"M957-W957","v":{"$error":"#N/A"}},{"$f":"IF(X957>=0,\"Apurado\",\"\")","v":{"$error":"#N/A"}}]
[null,null,null,null,null,null,null,null,null,null,null,null,null,null,null,null,null,null,null,null,null,{"$f":"A958&L958&G958","v":""},{"$f":"VLOOKUP(V958,Minimos!$D$3:$E$26,2,FALSE)","v":{"$error":"#N/A"}},{"$f":"M958-W958","v":{"$error":"#N/A"}},{"$f":"IF(X958>=0,\"Apurado\",\"\")","v":{"$error":"#N/A"}}]
[null,null,null,null,null,null,null,null,null,null,null,null,null,null,null,null,null,null,null,null,null,{"$f":"A959&L959&G959","v":""},{"$f":"VLOOKUP(V959,Minimos!$D$3:$E$26,2,FALSE)","v":{"$error":"#N/A"}},{"$f":"M959-W959","v":{"$error":"#N/A"}},{"$f":"IF(X959>=0,\"Apurado\",\"\")","v":{"$error":"#N/A"}}]
[null,null,null,null,null,null,null,null,null,null,null,null,null,null,null,null,null,null,null,null,null,{"$f":"A960&L960&G960","v":""},{"$f":"VLOOKUP(V960,Minimos!$D$3:$E$26,2,FALSE)","v":{"$error":"#N/A"}},{"$f":"M960-W960","v":{"$error":"#N/A"}},{"$f":"IF(X960>=0,\"Apurado\",\"\")","v":{"$error":"#N/A"}}]
[null,null,null,null,null,null,null,null,null,null,null,null,null,null,null,null,null,null,null,null,null,{"$f":"A961&L961&G961","v":""},{"$f":"VLOOKUP(V961,Minimos!$D$3:$E$26,2,FALSE)","v":{"$error":"#N/A"}},{"$f":"M961-W961","v":{"$error":"#N/A"}},{"$f":"IF(X961>=0,\"Apurado\",\"\")","v":{"$error":"#N/A"}}]
[null,null,null,null,null,null,null,null,null,null,null,null,null,null,null,null,null,null,null,null,null,{"$f":"A962&L962&G962","v":""},{"$f":"VLOOKUP(V962,Minimos!$D$3:$E$26,2,FALSE)","v":{"$error":"#N/A"}},{"$f":"M962-W962","v":{"$error":"#N/A"}},{"$f":"IF(X962>=0,\"Apurado\",\"\")","v":{"$error":"#N/A"}}]
[null,null,null,null,null,null,null,null,null,null,null,null,null,null,null,null,null,null,null,null,null,{"$f":"A963&L963&G963","v":""},{"$f":"VLOOKUP(V963,Minimos!$D$3:$E$26,2,FALSE)","v":{"$error":"#N/A"}},{"$f":"M963-W963","v":{"$error":"#N/A"}},{"$f":"IF(X963>=0,\"Apurado\",\"\")","v":{"$error":"#N/A"}}]
[null,null,null,null,null,null,null,null,null,null,null,null,null,null,null,null,null,null,null,null,null,{"$f":"A964&L964&G964","v":""},{"$f":"VLOOKUP(V964,Minimos!$D$3:$E$26,2,FALSE)","v":{"$error":"#N/A"}},{"$f":"M964-W964","v":{"$error":"#N/A"}},{"$f":"IF(X964>=0,\"Apurado\",\"\")","v":{"$error":"#N/A"}}]
[null,null,null,null,null,null,null,null,null,null,null,null,null,null,null,null,null,null,null,null,null,{"$f":"A965&L965&G965","v":""},{"$f":"VLOOKUP(V965,Minimos!$D$3:$E$26,2,FALSE)","v":{"$error":"#N/A"}},{"$f":"M965-W965","v":{"$error":"#N/A"}},{"$f":"IF(X965>=0,\"Apurado\",\"\")","v":{"$error":"#N/A"}}]
[null,null,null,null,null,null,null,null,null,null,null,null,null,null,null,null,null,null,null,null,null,{"$f":"A966&L966&G966","v":""},{"$f":"VLOOKUP(V966,Minimos!$D$3:$E$26,2,FALSE)","v":{"$error":"#N/A"}},{"$f":"M966-W966","v":{"$error":"#N/A"}},{"$f":"IF(X966>=0,\"Apurado\",\"\")","v":{"$error":"#N/A"}}]
[null,null,null,null,null,null,null,null,null,null,null,null,null,null,null,null,null,null,null,null,null,{"$f":"A967&L967&G967","v":""},{"$f":"VLOOKUP(V967,Minimos!$D$3:$E$26,2,FALSE)","v":{"$error":"#N/A"}},{"$f":"M967-W967","v":{"$error":"#N/A"}},{"$f":"IF(X967>=0,\"Apurado\",\"\")","v":{"$error":"#N/A"}}]
[null,null,null,null,null,null,null,null,null,null,null,null,null,null,null,null,null,null,null,null,null,{"$f":"A968&L968&G968","v":""},{"$f":"VLOOKUP(V968,Minimos!$D$3:$E$26,2,FALSE)","v":{"$error":"#N/A"}},{"$f":"M968-W968","v":{"$error":"#N/A"}},{"$f":"IF(X968>=0,\"Apurado\",\"\")","v":{"$error":"#N/A"}}]
[null,null,null,null,null,null,null,null,null,null,null,null,null,null,null,null,null,null,null,null,null,{"$f":"A969&L969&G969","v":""},{"$f":"VLOOKUP(V969,Minimos!$D$3:$E$26,2,FALSE)","v":{"$error":"#N/A"}},{"$f":"M969-W969","v":{"$error":"#N/A"}},{"$f":"IF(X969>=0,\"Apurado\",\"\")","v":{"$error":"#N/A"}}]
[null,null,null,null,null,null,null,null,null,null,null,null,null,null,null,null,null,null,null,null,null,{"$f":"A970&L970&G970","v":""},{"$f":"VLOOKUP(V970,Minimos!$D$3:$E$26,2,FALSE)","v":{"$error":"#N/A"}},{"$f":"M970-W970","v":{"$error":"#N/A"}},{"$f":"IF(X970>=0,\"Apurado\",\"\")","v":{"$error":"#N/A"}}]
[null,null,null,null,null,null,null,null,null,null,null,null,null,null,null,null,null,null,null,null,null,{"$f":"A971&L971&G971","v":""},{"$f":"VLOOKUP(V971,Minimos!$D$3:$E$26,2,FALSE)","v":{"$error":"#N/A"}},{"$f":"M971-W971","v":{"$error":"#N/A"}},{"$f":"IF(X971>=0,\"Apurado\",\"\")","v":{"$error":"#N/A"}}]
[null,null,null,null,null,null,null,null,null,null,null,null,null,null,null,null,null,null,null,null,null,{"$f":"A972&L972&G972","v":""},{"$f":"VLOOKUP(V972,Minimos!$D$3:$E$26,2,FALSE)","v":{"$error":"#N/A"}},{"$f":"M972-W972","v":{"$error":"#N/A"}},{"$f":"IF(X972>=0,\"Apurado\",\"\")","v":{"$error":"#N/A"}}]
[null,null,null,null,null,null,null,null,null,null,null,null,null,null,null,null,null,null,null,null,null,{"$f":"A973&L973&G973","v":""},{"$f":"VLOOKUP(V973,Minimos!$D$3:$E$26,2,FALSE)","v":{"$error":"#N/A"}},{"$f":"M973-W973","v":{"$error":"#N/A"}},{"$f":"IF(X973>=0,\"Apurado\",\"\")","v":{"$error":"#N/A"}}]
[null,null,null,null,null,null,null,null,null,null,null,null,null,null,null,null,null,null,null,null,null,{"$f":"A974&L974&G974","v":""},{"$f":"VLOOKUP(V974,Minimos!$D$3:$E$26,2,FALSE)","v":{"$error":"#N/A"}},{"$f":"M974-W974","v":{"$error":"#N/A"}},{"$f":"IF(X974>=0,\"Apurado\",\"\")","v":{"$error":"#N/A"}}]
[null,null,null,null,null,null,null,null,null,null,null,null,null,null,null,null,null,null,null,null,null,{"$f":"A975&L975&G975","v":""},{"$f":"VLOOKUP(V975,Minimos!$D$3:$E$26,2,FALSE)","v":{"$error":"#N/A"}},{"$f":"M975-W975","v":{"$error":"#N/A"}},{"$f":"IF(X975>=0,\"Apurado\",\"\")","v":{"$error":"#N/A"}}]
[null,null,null,null,null,null,null,null,null,null,null,null,null,null,null,null,null,null,null,null,null,{"$f":"A976&L976&G976","v":""},{"$f":"VLOOKUP(V976,Minimos!$D$3:$E$26,2,FALSE)","v":{"$error":"#N/A"}},{"$f":"M976-W976","v":{"$error":"#N/A"}},{"$f":"IF(X976>=0,\"Apurado\",\"\")","v":{"$error":"#N/A"}}]
[null,null,null,null,null,null,null,null,null,null,null,null,null,null,null,null,null,null,null,null,null,{"$f":"A977&L977&G977","v":""},{"$f":"VLOOKUP(V977,Minimos!$D$3:$E$26,2,FALSE)","v":{"$error":"#N/A"}},{"$f":"M977-W977","v":{"$error":"#N/A"}},{"$f":"IF(X977>=0,\"Apurado\",\"\")","v":{"$error":"#N/A"}}]
[null,null,null,null,null,null,null,null,null,null,null,null,null,null,null,null,null,null,null,null,null,{"$f":"A978&L978&G978","v":""},{"$f":"VLOOKUP(V978,Minimos!$D$3:$E$26,2,FALSE)","v":{"$error":"#N/A"}},{"$f":"M978-W978","v":{"$error":"#N/A"}},{"$f":"IF(X978>=0,\"Apurado\",\"\")","v":{"$error":"#N/A"}}]
[null,null,null,null,null,null,null,null,null,null,null,null,null,null,null,null,null,null,null,null,null,{"$f":"A979&L979&G979","v":""},{"$f":"VLOOKUP(V979,Minimos!$D$3:$E$26,2,FALSE)","v":{"$error":"#N/A"}},{"$f":"M979-W979","v":{"$error":"#N/A"}},{"$f":"IF(X979>=0,\"Apurado\",\"\")","v":{"$error":"#N/A"}}]
[null,null,null,null,null,null,null,null,null,null,null,null,null,null,null,null,null,null,null,null,null,{"$f":"A980&L980&G980","v":""},{"$f":"VLOOKUP(V980,Minimos!$D$3:$E$26,2,FALSE)","v":{"$error":"#N/A"}},{"$f":"M980-W980","v":{"$error":"#N/A"}},{"$f":"IF(X980>=0,\"Apurado\",\"\")","v":{"$error":"#N/A"}}]
[null,null,null,null,null,null,null,null,null,null,null,null,null,null,null,null,null,null,null,null,null,{"$f":"A981&L981&G981","v":""},{"$f":"VLOOKUP(V981,Minimos!$D$3:$E$26,2,FALSE)","v":{"$error":"#N/A"}},{"$f":"M981-W981","v":{"$error":"#N/A"}},{"$f":"IF(X981>=0,\"Apurado\",\"\")","v":{"$error":"#N/A"}}]
[null,null,null,null,null,null,null,null,null,null,null,null,null,null,null,null,null,null,null,null,null,{"$f":"A982&L982&G982","v":""},{"$f":"VLOOKUP(V982,Minimos!$D$3:$E$26,2,FALSE)","v":{"$error":"#N/A"}},{"$f":"M982-W982","v":{"$error":"#N/A"}},{"$f":"IF(X982>=0,\"Apurado\",\"\")","v":{"$error":"#N/A"}}]
[null,null,null,null,null,null,null,null,null,null,null,null,null,null,null,null,null,null,null,null,null,{"$f":"A983&L983&G983","v":""},{"$f":"VLOOKUP(V983,Minimos!$D$3:$E$26,2,FALSE)","v":{"$error":"#N/A"}},{"$f":"M983-W983","v":{"$error":"#N/A"}},{"$f":"IF(X983>=0,\"Apurado\",\"\")","v":{"$error":"#N/A"}}]
[null,null,null,null,null,null,null,null,null,null,null,null,null,null,null,null,null,null,null,null,null,{"$f":"A984&L984&G984","v":""},{"$f":"VLOOKUP(V984,Minimos!$D$3:$E$26,2,FALSE)","v":{"$error":"#N/A"}},{"$f":"M984-W984","v":{"$error":"#N/A"}},{"$f":"IF(X984>=0,\"Apurado\",\"\")","v":{"$error":"#N/A"}}]
[null,null,null,null,null,null,null,null,null,null,null,null,null,null,null,null,null,null,null,null,null,{"$f":"A985&L985&G985","v":""},{"$f":"VLOOKUP(V985,Minimos!$D$3:$E$26,2,FALSE)","v":{"$error":"#N/A"}},{"$f":"M985-W985","v":{"$error":"#N/A"}},{"$f":"IF(X985>=0,\"Apurado\",\"\")","v":{"$error":"#N/A"}}]
[null,null,null,null,null,null,null,null,null,null,null,null,null,null,null,null,null,null,null,null,null,{"$f":"A986&L986&G986","v":""},{"$f":"VLOOKUP(V986,Minimos!$D$3:$E$26,2,FALSE)","v":{"$error":"#N/A"}},{"$f":"M986-W986","v":{"$error":"#N/A"}},{"$f":"IF(X986>=0,\"Apurado\",\"\")","v":{"$error":"#N/A"}}]
[null,null,null,null,null,null,null,null,null,null,null,null,null,null,null,null,null,null,null,null,null,{"$f":"A987&L987&G987","v":""},{"$f":"VLOOKUP(V987,Minimos!$D$3:$E$26,2,FALSE)","v":{"$error":"#N/A"}},{"$f":"M987-W987","v":{"$error":"#N/A"}},{"$f":"IF(X987>=0,\"Apurado\",\"\")","v":{"$error":"#N/A"}}]
[null,null,null,null,null,null,null,null,null,null,null,null,null,null,null,null,null,null,null,null,null,{"$f":"A988&L988&G988","v":""},{"$f":"VLOOKUP(V988,Minimos!$D$3:$E$26,2,FALSE)","v":{"$error":"#N/A"}},{"$f":"M988-W988","v":{"$error":"#N/A"}},{"$f":"IF(X988>=0,\"Apurado\",\"\")","v":{"$error":"#N/A"}}]
[null,null,null,null,null,null,null,null,null,null,null,null,null,null,null,null,null,null,null,null,null,{"$f":"A989&L989&G989","v":""},{"$f":"VLOOKUP(V989,Minimos!$D$3:$E$26,2,FALSE)","v":{"$error":"#N/A"}},{"$f":"M989-W989","v":{"$error":"#N/A"}},{"$f":"IF(X989>=0,\"Apurado\",\"\")","v":{"$error":"#N/A"}}]
[null,null,null,null,null,null,null,null,null,null,null,null,null,null,null,null,null,null,null,null,null,{"$f":"A990&L990&G990","v":""},{"$f":"VLOOKUP(V990,Minimos!$D$3:$E$26,2,FALSE)","v":{"$error":"#N/A"}},{"$f":"M990-W990","v":{"$error":"#N/A"}},{"$f":"IF(X990>=0,\"Apurado\",\"\")","v":{"$error":"#N/A"}}]
[null,null,null,null,null,null,null,null,null,null,null,null,null,null,null,null,null,null,null,null,null,{"$f":"A991&L991&G991","v":""},{"$f":"VLOOKUP(V991,Minimos!$D$3:$E$26,2,FALSE)","v":{"$error":"#N/A"}},{"$f":"M991-W991","v":{"$error":"#N/A"}},{"$f":"IF(X991>=0,\"Apurado\",\"\")","v":{"$error":"#N/A"}}]
[null,null,null,null,null,null,null,null,null,null,null,null,null,null,null,null,null,null,null,null,null,{"$f":"A992&L992&G992","v":""},{"$f":"VLOOKUP(V992,Minimos!$D$3:$E$26,2,FALSE)","v":{"$error":"#N/A"}},{"$f":"M992-W992","v":{"$error":"#N/A"}},{"$f":"IF(X992>=0,\"Apurado\",\"\")","v":{"$error":"#N/A"}}]
[null,null,null,null,null,null,null,null,null,null,null,null,null,null,null,null,null,null,null,null,null,{"$f":"A993&L993&G993","v":""},{"$f":"VLOOKUP(V993,Minimos!$D$3:$E$26,2,FALSE)","v":{"$error":"#N/A"}},{"$f":"M993-W993","v":{"$error":"#N/A"}},{"$f":"IF(X993>=0,\"Apurado\",\"\")","v":{"$error":"#N/A"}}]
[null,null,null,null,null,null,null,null,null,null,null,null,null,null,null,null,null,null,null,null,null,{"$f":"A994&L994&G994","v":""},{"$f":"VLOOKUP(V994,Minimos!$D$3:$E$26,2,FALSE)","v":{"$error":"#N/A"}},{"$f":"M994-W994","v":{"$error":"#N/A"}},{"$f":"IF(X994>=0,\"Apurado\",\"\")","v":{"$error":"#N/A"}}]
[null,null,null,null,null,null,null,null,null,null,null,null,null,null,null,null,null,null,null,null,null,{"$f":"A995&L995&G995","v":""},{"$f":"VLOOKUP(V995,Minimos!$D$3:$E$26,2,FALSE)","v":{"$error":"#N/A"}},{"$f":"M995-W995","v":{"$error":"#N/A"}},{"$f":"IF(X995>=0,\"Apurado\",\"\")","v":{"$error":"#N/A"}}]
[null,null,null,null,null,null,null,null,null,null,null,null,null,null,null,null,null,null,null,null,null,{"$f":"A996&L996&G996","v":""},{"$f":"VLOOKUP(V996,Minimos!$D$3:$E$26,2,FALSE)","v":{"$error":"#N/A"}},{"$f":"M996-W996","v":{"$error":"#N/A"}},{"$f":"IF(X996>=0,\"Apurado\",\"\")","v":{"$error":"#N/A"}}]
[null,null,null,null,null,null,null,null,null,null,null,null,null,null,null,null,null,null,null,null,null,{"$f":"A997&L997&G997","v":""},{"$f":"VLOOKUP(V997,Minimos!$D$3:$E$26,2,FALSE)","v":{"$error":"#N/A"}},{"$f":"M997-W997","v":{"$error":"#N/A"}},{"$f":"IF(X997>=0,\"Apurado\",\"\")","v":{"$error":"#N/A"}}]
[null,null,null,null,null,null,null,null,null,null,null,null,null,null,null,null,null,null,null,null,null,{"$f":"A998&L998&G998","v":""},{"$f":"VLOOKUP(V998,Minimos!$D$3:$E$26,2,FALSE)","v":{"$error":"#N/A"}},{"$f":"M998-W998","v":{"$error":"#N/A"}},{"$f":"IF(X998>=0,\"Apurado\",\"\")","v":{"$error":"#N/A"}}]
[null,null,null,null,null,null,null,null,null,null,null,null,null,null,null,null,null,null,null,null,null,{"$f":"A999&L999&G999","v":""},{"$f":"VLOOKUP(V999,Minimos!$D$3:$E$26,2,FALSE)","v":{"$error":"#N/A"}},{"$f":"M999-W999","v":{"$error":"#N/A"}},{"$f":"IF(X999>=0,\"Apurado\",\"\")","v":{"$error":"#N/A"}}]
[null,null,null,null,null,null,null,null,null,null,null,null,null,null,null,null,null,null,null,null,null,{"$f":"A1000&L1000&G1000","v":""},{"$f":"VLOOKUP(V1000,Minimos!$D$3:$E$26,2,FALSE)","v":{"$error":"#N/A"}},{"$f":"M1000-W1000","v":{"$error":"#N/A"}},{"$f":"IF(X1000>=0,\"Apurado\",\"\")","v":{"$error":"#N/A"}}]
[null,null,null,null,null,null,null,null,null,null,null,null,null,null,null,null,null,null,null,null,null,{"$f":"A1002&L1002&G1002","v":""},{"$f":"VLOOKUP(V1002,Minimos!$D$3:$E$26,2,FALSE)","v":{"$error":"#N/A"}},{"$f":"M1002-W1002","v":{"$error":"#N/A"}},{"$f":"IF(X1002>=0,\"Apurado\",\"\")","v":{"$error":"#N/A"}}]
[null,null,null,null,null,null,null,null,null,null,null,null,null,null,null,null,null,null,null,null,null,{"$f":"A1013&L1013&G1013","v":""},{"$f":"VLOOKUP(V1013,Minimos!$D$3:$E$26,2,FALSE)","v":{"$error":"#N/A"}},{"$f":"M1013-W1013","v":{"$error":"#N/A"}},{"$f":"IF(X1013>=0,\"Apurado\",\"\")","v":{"$error":"#N/A"}}]
[null,null,null,null,null,null,null,null,null,null,null,null,null,null,null,null,null,null,null,null,null,{"$f":"A1025&L1025&G1025","v":""},{"$f":"VLOOKUP(V1025,Minimos!$D$3:$E$26,2,FALSE)","v":{"$error":"#N/A"}},{"$f":"M1025-W1025","v":{"$error":"#N/A"}},{"$f":"IF(X1025>=0,\"Apurado\",\"\")","v":{"$error":"#N/A"}}]
[null,null,null,null,null,null,null,null,null,null,null,null,null,null,null,null,null,null,null,null,null,{"$f":"A1032&L1032&G1032","v":""},{"$f":"VLOOKUP(V1032,Minimos!$D$3:$E$26,2,FALSE)","v":{"$error":"#N/A"}},{"$f":"M1032-W1032","v":{"$error":"#N/A"}},{"$f":"IF(X1032>=0,\"Apurado\",\"\")","v":{"$error":"#N/A"}}]
[null,null,null,null,null,null,null,null,null,null,null,null,null,null,null,null,null,null,null,null,null,{"$f":"A1041&L1041&G1041","v":""},{"$f":"VLOOKUP(V1041,Minimos!$D$3:$E$26,2,FALSE)","v":{"$error":"#N/A"}},{"$f":"M1041-W1041","v":{"$error":"#N/A"}},{"$f":"IF(X1041>=0,\"Apurado\",\"\")","v":{"$error":"#N/A"}}]
[null,null,null,null,null,null,null,null,null,null,null,null,null,null,null,null,null,null,null,null,null,{"$f":"A1046&L1046&G1046","v":""},{"$f":"VLOOKUP(V1046,Minimos!$D$3:$E$26,2,FALSE)","v":{"$error":"#N/A"}},{"$f":"M1046-W1046","v":{"$error":"#N/A"}},{"$f":"IF(X1046>=0,\"Apurado\",\"\")","v":{"$error":"#N/A"}}]
[null,null,null,null,null,null,null,null,null,null,null,null,null,null,null,null,null,null,null,null,null,{"$f":"A1053&L1053&G1053","v":""},{"$f":"VLOOKUP(V1053,Minimos!$D$3:$E$26,2,FALSE)","v":{"$error":"#N/A"}},{"$f":"M1053-W1053","v":{"$error":"#N/A"}},{"$f":"IF(X1053>=0,\"Apurado\",\"\")","v":{"$error":"#N/A"}}]
[null,null,null,null,null,null,null,null,null,null,null,null,null,null,null,null,null,null,null,null,null,{"$f":"A1065&L1065&G1065","v":""},{"$f":"VLOOKUP(V1065,Minimos!$D$3:$E$26,2,FALSE)","v":{"$error":"#N/A"}},{"$f":"M1065-W1065","v":{"$error":"#N/A"}},{"$f":"IF(X1065>=0,\"Apurado\",\"\")","v":{"$error":"#N/A"}}]
[null,null,null,null,null,null,null,null,null,null,null,null,null,null,null,null,null,null,null,null,null,{"$f":"A1072&L1072&G1072","v":""},{"$f":"VLOOKUP(V1072,Minimos!$D$3:$E$26,2,FALSE)","v":{"$error":"#N/A"}},{"$f":"M1072-W1072","v":{"$error":"#N/A"}},{"$f":"IF(X1072>=0,\"Apurado\",\"\")","v":{"$error":"#N/A"}}]
[null,null,null,null,null,null,null,null,null,null,null,null,null,null,null,null,null,null,null,null,null,{"$f":"A1083&L1083&G1083","v":""},{"$f":"VLOOKUP(V1083,Minimos!$D$3:$E$26,2,FALSE)","v":{"$error":"#N/A"}},{"$f":"M1083-W1083","v":{"$error":"#N/A"}},{"$f":"IF(X1083>=0,\"Apurado\",\"\")","v":{"$error":"#N/A"}}]
[null,null,null,null,null,null,null,null,null,null,null,null,null,null,null,null,null,null,null,null,null,{"$f":"A1095&L1095&G1095","v":""},{"$f":"VLOOKUP(V1095,Minimos!$D$3:$E$26,2,FALSE)","v":{"$error":"#N/A"}},{"$f":"M1095-W1095","v":{"$error":"#N/A"}},{"$f":"IF(X1095>=0,\"Apurado\",\"\")","v":{"$error":"#N/A"}}]
[null,null,null,null,null,null,null,null,null,null,null,null,null,null,null,null,null,null,null,null,null,{"$f":"A1102&L1102&G1102","v":""},{"$f":"VLOOKUP(V1102,Minimos!$D$3:$E$26,2,FALSE)","v":{"$error":"#N/A"}},{"$f":"M1102-W1102","v":{"$error":"#N/A"}},{"$f":"IF(X1102>=0,\"Apurado\",\"\")","v":{"$error":"#N/A"}}]
[null,null,null,null,null,null,null,null,null,null,null,null,null,null,null,null,null,null,null,null,null,{"$f":"A1111&L1111&G1111","v":""},{"$f":"VLOOKUP(V1111,Minimos!$D$3:$E$26,2,FALSE)","v":{"$error":"#N/A"}},{"$f":"M1111-W1111","v":{"$error":"#N/A"}},{"$f":"IF(X1111>=0,\"Apurado\",\"\")","v":{"$error":"#N/A"}}]
[null,null,null,null,null,null,null,null,null,null,null,null,null,null,null,null,null,null,null,null,null,{"$f":"A1116&L1116&G1116","v":""},{"$f":"VLOOKUP(V1116,Minimos!$D$3:$E$26,2,FALSE)","v":{"$error":"#N/A"}},{"$f":"M1116-W1116","v":{"$error":"#N/A"}},{"$f":"IF(X1116>=0,\"Apurado\",\"\")","v":{"$error":"#N/A"}}]
[null,null,null,null,null,null,null,null,null,null,null,null,null,null,null,null,null,null,null,null,null,{"$f":"A1123&L1123&G1123","v":""},{"$f":"VLOOKUP(V1123,Minimos!$D$3:$E$26,2,FALSE)","v":{"$error":"#N/A"}},{"$f":"M1123-W1123","v":{"$error":"#N/A"}},{"$f":"IF(X1123>=0,\"Apurado\",\"\")","v":{"$error":"#N/A"}}]
[null,null,null,null,null,null,null,null,null,null,null,null,null,null,null,null,null,null,null,null,null,{"$f":"A1135&L1135&G1135","v":""},{"$f":"VLOOKUP(V1135,Minimos!$D$3:$E$26,2,FALSE)","v":{"$error":"#N/A"}},{"$f":"M1135-W1135","v":{"$error":"#N/A"}},{"$f":"IF(X1135>=0,\"Apurado\",\"\")","v":{"$error":"#N/A"}}]
[null,null,null,null,null,null,null,null,null,null,null,null,null,null,null,null,null,null,null,null,null,{"$f":"A1142&L1142&G1142","v":""},{"$f":"VLOOKUP(V1142,Minimos!$D$3:$E$26,2,FALSE)","v":{"$error":"#N/A"}},{"$f":"M1142-W1142","v":{"$error":"#N/A"}},{"$f":"IF(X1142>=0,\"Apurado\",\"\")","v":{"$error":"#N/A"}}]
[null,null,null,null,null,null,null,null,null,null,null,null,null,null,null,null,null,null,null,null,null,{"$f":"A1153&L1153&G1153","v":""},{"$f":"VLOOKUP(V1153,Minimos!$D$3:$E$26,2,FALSE)","v":{"$error":"#N/A"}},{"$f":"M1153-W1153","v":{"$error":"#N/A"}},{"$f":"IF(X1153>=0,\"Apurado\",\"\")","v":{"$error":"#N/A"}}]
[null,null,null,null,null,null,null,null,null,null,null,null,null,null,null,null,null,null,null,null,null,{"$f":"A1165&L1165&G1165","v":""},{"$f":"VLOOKUP(V1165,Minimos!$D$3:$E$26,2,FALSE)","v":{"$error":"#N/A"}},{"$f":"M1165-W1165","v":{"$error":"#N/A"}},{"$f":"IF(X1165>=0,\"Apurado\",\"\")","v":{"$error":"#N/A"}}]
[null,null,null,null,null,null,null,null,null,null,null,null,null,null,null,null,null,null,null,null,null,{"$f":"A1172&L1172&G1172","v":""},{"$f":"VLOOKUP(V1172,Minimos!$D$3:$E$26,2,FALSE)","v":{"$error":"#N/A"}},{"$f":"M1172-W1172","v":{"$error":"#N/A"}},{"$f":"IF(X1172>=0,\"Apurado\",\"\")","v":{"$error":"#N/A"}}]
[null,null,null,null,null,null,null,null,null,null,null,null,null,null,null,null,null,null,null,null,null,{"$f":"A1181&L1181&G1181","v":""},{"$f":"VLOOKUP(V1181,Minimos!$D$3:$E$26,2,FALSE)","v":{"$error":"#N/A"}},{"$f":"M1181-W1181","v":{"$error":"#N/A"}},{"$f":"IF(X1181>=0,\"Apurado\",\"\")","v":{"$error":"#N/A"}}]
[null,null,null,null,null,null,null,null,null,null,null,null,null,null,null,null,null,null,null,null,null,{"$f":"A1190&L1190&G1190","v":""},{"$f":"VLOOKUP(V1190,Minimos!$D$3:$E$26,2,FALSE)","v":{"$error":"#N/A"}},{"$f":"M1190-W1190","v":{"$error":"#N/A"}},{"$f":"IF(X1190>=0,\"Apurado\",\"\")","v":{"$error":"#N/A"}}]
[null,null,null,null,null,null,null,null,null,null,null,null,null,null,null,null,null,null,null,null,null,{"$f":"A1193&L1193&G1193","v":""},{"$f":"VLOOKUP(V1193,Minimos!$D$3:$E$26,2,FALSE)","v":{"$error":"#N/A"}},{"$f":"M1193-W1193","v":{"$error":"#N/A"}},{"$f":"IF(X1193>=0,\"Apurado\",\"\")","v":{"$error":"#N/A"}}]
[null,null,null,null,null,null,null,null,null,null,null,null,null,null,null,null,null,null,null,null,null,{"$f":"A1205&L1205&G1205","v":""},{"$f":"VLOOKUP(V1205,Minimos!$D$3:$E$26,2,FALSE)","v":{"$error":"#N/A"}},{"$f":"M1205-W1205","v":{"$error":"#N/A"}},{"$f":"IF(X1205>=0,\"Apurado\",\"\")","v":{"$error":"#N/A"}}]
[null,null,null,null,null,null,null,null,null,null,null,null,null,null,null,null,null,null,null,null,null,{"$f":"A1212&L1212&G1212","v":""},{"$f":"VLOOKUP(V1212,Minimos!$D$3:$E$26,2,FALSE)","v":{"$error":"#N/A"}},{"$f":"M1212-W1212","v":{"$error":"#N/A"}},{"$f":"IF(X1212>=0,\"Apurado\",\"\")","v":{"$error":"#N/A"}}]
[null,null,null,null,null,null,null,null,null,null,null,null,null,null,null,null,null,null,null,null,null,{"$f":"A1223&L1223&G1223","v":""},{"$f":"VLOOKUP(V1223,Minimos!$D$3:$E$26,2,FALSE)","v":{"$error":"#N/A"}},{"$f":"M1223-W1223","v":{"$error":"#N/A"}},{"$f":"IF(X1223>=0,\"Apurado\",\"\")","v":{"$error":"#N/A"}}]
[null,null,null,null,null,null,null,null,null,null,null,null,null,null,null,null,null,null,null,null,null,{"$f":"A1235&L1235&G1235","v":""},{"$f":"VLOOKUP(V1235,Minimos!$D$3:$E$26,2,FALSE)","v":{"$error":"#N/A"}},{"$f":"M1235-W1235","v":{"$error":"#N/A"}},{"$f":"IF(X1235>=0,\"Apurado\",\"\")","v":{"$error":"#N/A"}}]
[null,null,null,null,null,null,null,null,null,null,null,null,null,null,null,null,null,null,null,null,null,{"$f":"A1242&L1242&G1242","v":""},{"$f":"VLOOKUP(V1242,Minimos!$D$3:$E$26,2,FALSE)","v":{"$error":"#N/A"}},{"$f":"M1242-W1242","v":{"$error":"#N/A"}},{"$f":"IF(X1242>=0,\"Apurado\",\"\")","v":{"$error":"#N/A"}}]
[null,null,null,null,null,null,null,null,null,null,null,null,null,null,null,null,null,null,null,null,null,{"$f":"A1251&L1251&G1251","v":""},{"$f":"VLOOKUP(V1251,Minimos!$D$3:$E$26,2,FALSE)","v":{"$error":"#N/A"}},{"$f":"M1251-W1251","v":{"$error":"#N/A"}},{"$f":"IF(X1251>=0,\"Apurado\",\"\")","v":{"$error":"#N/A"}}]
[null,null,null,null,null,null,null,null,null,null,null,null,null,null,null,null,null,null,null,null,null,{"$f":"A1260&L1260&G1260","v":""},{"$f":"VLOOKUP(V1260,Minimos!$D$3:$E$26,2,FALSE)","v":{"$error":"#N/A"}},{"$f":"M1260-W1260","v":{"$error":"#N/A"}},{"$f":"IF(X1260>=0,\"Apurado\",\"\")","v":{"$error":"#N/A"}}]
[null,null,null,null,null,null,null,null,null,null,null,null,null,null,null,null,null,null,null,null,null,{"$f":"A1263&L1263&G1263","v":""},{"$f":"VLOOKUP(V1263,Minimos!$D$3:$E$26,2,FALSE)","v":{"$error":"#N/A"}},{"$f":"M1263-W1263","v":{"$error":"#N/A"}},{"$f":"IF(X1263>=0,\"Apurado\",\"\")","v":{"$error":"#N/A"}}]
[null,null,null,null,null,null,null,null,null,null,null,null,null,null,null,null,null,null,null,null,null,{"$f":"A1275&L1275&G1275","v":""},{"$f":"VLOOKUP(V1275,Minimos!$D$3:$E$26,2,FALSE)","v":{"$error":"#N/A"}},{"$f":"M1275-W1275","v":{"$error":"#N/A"}},{"$f":"IF(X1275>=0,\"Apurado\",\"\")","v":{"$error":"#N/A"}}]
[null,null,null,null,null,null,null,null,null,null,null,null,null,null,null,null,null,null,null,null,null,{"$f":"A1282&L1282&G1282","v":""},{"$f":"VLOOKUP(V1282,Minimos!$D$3:$E$26,2,FALSE)","v":{"$error":"#N/A"}},{"$f":"M1282-W1282","v":{"$error":"#N/A"}},{"$f":"IF(X1282>=0,\"Apurado\",\"\")","v":{"$error":"#N/A"}}]
[null,null,null,null,null,null,null,null,null,null,null,null,null,null,null,null,null,null,null,null,null,{"$f":"A1293&L1293&G1293","v":""},{"$f":"VLOOKUP(V1293,Minimos!$D$3:$E$26,2,FALSE)","v":{"$error":"#N/A"}},{"$f":"M1293-W1293","v":{"$error":"#N/A"}},{"$f":"IF(X1293>=0,\"Apurado\",\"\")","v":{"$error":"#N/A"}}]
[null,null,null,null,null,null,null,null,null,null,null,null,null,null,null,null,null,null,null,null,null,{"$f":"A1305&L1305&G1305","v":""},{"$f":"VLOOKUP(V1305,Minimos!$D$3:$E$26,2,FALSE)","v":{"$error":"#N/A"}},{"$f":"M1305-W1305","v":{"$error":"#N/A"}},{"$f":"IF(X1305>=0,\"Apurado\",\"\")","v":{"$error":"#N/A"}}]
[null,null,null,null,null,null,null,null,null,null,null,null,null,null,null,null,null,null,null,null,null,{"$f":"A1312&L1312&G1312","v":""},{"$f":"VLOOKUP(V1312,Minimos!$D$3:$E$26,2,FALSE)","v":{"$error":"#N/A"}},{"$f":"M1312-W1312","v":{"$error":"#N/A"}},{"$f":"IF(X1312>=0,\"Apurado\",\"\")","v":{"$error":"#N/A"}}]
[null,null,null,null,null,null,null,null,null,null,null,null,null,null,null,null,null,null,null,null,null,{"$f":"A1321&L1321&G1321","v":""},{"$f":"VLOOKUP(V1321,Minimos!$D$3:$E$26,2,FALSE)","v":{"$error":"#N/A"}},{"$f":"M1321-W1321","v":{"$error":"#N/A"}},{"$f":"IF(X1321>=0,\"Apurado\",\"\")","v":{"$error":"#N/A"}}]
[null,null,null,null,null,null,null,null,null,null,null,null,null,null,null,null,null,null,null,null,null,{"$f":"A1330&L1330&G1330","v":""},{"$f":"VLOOKUP(V1330,Minimos!$D$3:$E$26,2,FALSE)","v":{"$error":"#N/A"}},{"$f":"M1330-W1330","v":{"$error":"#N/A"}},{"$f":"IF(X1330>=0,\"Apurado\",\"\")","v":{"$error":"#N/A"}}]
[null,null,null,null,null,null,null,null,null,null,null,null,null,null,null,null,null,null,null,null,null,{"$f":"A1333&L1333&G1333","v":""},{"$f":"VLOOKUP(V1333,Minimos!$D$3:$E$26,2,FALSE)","v":{"$error":"#N/A"}},{"$f":"M1333-W1333","v":{"$error":"#N/A"}},{"$f":"IF(X1333>=0,\"Apurado\",\"\")","v":{"$error":"#N/A"}}]
[null,null,null,null,null,null,null,null,null,null,null,null,null,null,null,null,null,null,null,null,null,{"$f":"A1345&L1345&G1345","v":""},{"$f":"VLOOKUP(V1345,Minimos!$D$3:$E$26,2,FALSE)","v":{"$error":"#N/A"}},{"$f":"M1345-W1345","v":{"$error":"#N/A"}},{"$f":"IF(X1345>=0,\"Apurado\",\"\")","v":{"$error":"#N/A"}}]
[null,null,null,null,null,null,null,null,null,null,null,null,null,null,null,null,null,null,null,null,null,{"$f":"A1352&L1352&G1352","v":""},{"$f":"VLOOKUP(V1352,Minimos!$D$3:$E$26,2,FALSE)","v":{"$error":"#N/A"}},{"$f":"M1352-W1352","v":{"$error":"#N/A"}},{"$f":"IF(X1352>=0,\"Apurado\",\"\")","v":{"$error":"#N/A"}}]
[null,null,null,null,null,null,null,null,null,null,null,null,null,null,null,null,null,null,null,null,null,{"$f":"A1363&L1363&G1363","v":""},{"$f":"VLOOKUP(V1363,Minimos!$D$3:$E$26,2,FALSE)","v":{"$error":"#N/A"}},{"$f":"M1363-W1363","v":{"$error":"#N/A"}},{"$f":"IF(X1363>=0,\"Apurado\",\"\")","v":{"$error":"#N/A"}}]
[null,null,null,null,null,null,null,null,null,null,null,null,null,null,null,null,null,null,null,null,null,{"$f":"A1370&L1370&G1370","v":""},{"$f":"VLOOKUP(V1370,Minimos!$D$3:$E$26,2,FALSE)","v":{"$error":"#N/A"}},{"$f":"M1370-W1370","v":{"$error":"#N/A"}},{"$f":"IF(X1370>=0,\"Apurado\",\"\")","v":{"$error":"#N/A"}}]
[null,null,null,null,null,null,null,null,null,null,null,null,null,null,null,null,null,null,null,null,null,{"$f":"A1382&L1382&G1382","v":""},{"$f":"VLOOKUP(V1382,Minimos!$D$3:$E$26,2,FALSE)","v":{"$error":"#N/A"}},{"$f":"M1382-W1382","v":{"$error":"#N/A"}},{"$f":"IF(X1382>=0,\"Apurado\",\"\")","v":{"$error":"#N/A"}}]
[null,null,null,null,null,null,null,null,null,null,null,null,null,null,null,null,null,null,null,null,null,{"$f":"A1391&L1391&G1391","v":""},{"$f":"VLOOKUP(V1391,Minimos!$D$3:$E$26,2,FALSE)","v":{"$error":"#N/A"}},{"$f":"M1391-W1391","v":{"$error":"#N/A"}},{"$f":"IF(X1391>=0,\"Apurado\",\"\")","v":{"$error":"#N/A"}}]
[null,null,null,null,null,null,null,null,null,null,null,null,null,null,null,null,null,null,null,null,null,{"$f":"A1400&L1400&G1400","v":""},{"$f":"VLOOKUP(V1400,Minimos!$D$3:$E$26,2,FALSE)","v":{"$error":"#N/A"}},{"$f":"M1400-W1400","v":{"$error":"#N/A"}},{"$f":"IF(X1400>=0,\"Apurado\",\"\")","v":{"$error":"#N/A"}}]
[null,null,null,null,null,null,null,null,null,null,null,null,null,null,null,null,null,null,null,null,null,{"$f":"A1403&L1403&G1403","v":""},{"$f":"VLOOKUP(V1403,Minimos!$D$3:$E$26,2,FALSE)","v":{"$error":"#N/A"}},{"$f":"M1403-W1403","v":{"$error":"#N/A"}},{"$f":"IF(X1403>=0,\"Apurado\",\"\")","v":{"$error":"#N/A"}}]
[null,null,null,null,null,null,null,null,null,null,null,null,null,null,null,null,null,null,null,null,null,{"$f":"A1415&L1415&G1415","v":""},{"$f":"VLOOKUP(V1415,Minimos!$D$3:$E$26,2,FALSE)","v":{"$error":"#N/A"}},{"$f":"M1415-W1415","v":{"$error":"#N/A"}},{"$f":"IF(X1415>=0,\"Apurado\",\"\")","v":{"$error":"#N/A"}}]
[null,null,null,null,null,null,null,null,null,null,null,null,null,null,null,null,null,null,null,null,null,{"$f":"A1422&L1422&G1422","v":""},{"$f":"VLOOKUP(V1422,Minimos!$D$3:$E$26,2,FALSE)","v":{"$error":"#N/A"}},{"$f":"M1422-W1422","v":{"$error":"#N/A"}},{"$f":"IF(X1422>=0,\"Apurado\",\"\")","v":{"$error":"#N/A"}}]
[null,null,null,null,null,null,null,null,null,null,null,null,null,null,null,null,null,null,null,null,null,{"$f":"A1433&L1433&G1433","v":""},{"$f":"VLOOKUP(V1433,Minimos!$D$3:$E$26,2,FALSE)","v":{"$error":"#N/A"}},{"$f":"M1433-W1433","v":{"$error":"#N/A"}},{"$f":"IF(X1433>=0,\"Apurado\",\"\")","v":{"$error":"#N/A"}}]
[null,null,null,null,null,null,null,null,null,null,null,null,null,null,null,null,null,null,null,null,null,{"$f":"A1440&L1440&G1440","v":""},{"$f":"VLOOKUP(V1440,Minimos!$D$3:$E$26,2,FALSE)","v":{"$error":"#N/A"}},{"$f":"M1440-W1440","v":{"$error":"#N/A"}},{"$f":"IF(X1440>=0,\"Apurado\",\"\")","v":{"$error":"#N/A"}}]
[null,null,null,null,null,null,null,null,null,null,null,null,null,null,null,null,null,null,null,null,null,{"$f":"A1452&L1452&G1452","v":""},{"$f":"VLOOKUP(V1452,Minimos!$D$3:$E$26,2,FALSE)","v":{"$error":"#N/A"}},{"$f":"M1452-W1452","v":{"$error":"#N/A"}},{"$f":"IF(X1452>=0,\"Apurado\",\"\")","v":{"$error":"#N/A"}}]
[null,null,null,null,null,null,null,null,null,null,null,null,null,null,null,null,null,null,null,null,null,{"$f":"A1461&L1461&G1461","v":""},{"$f":"VLOOKUP(V1461,Minimos!$D$3:$E$26,2,FALSE)","v":{"$error":"#N/A"}},{"$f":"M1461-W1461","v":{"$error":"#N/A"}},{"$f":"IF(X1461>=0,\"Apurado\",\"\")","v":{"$error":"#N/A"}}]
[null,null,null,null,null,null,null,null,null,null,null,null,null,null,null,null,null,null,null,null,null,{"$f":"A1470&L1470&G1470","v":""},{"$f":"VLOOKUP(V1470,Minimos!$D$3:$E$26,2,FALSE)","v":{"$error":"#N/A"}},{"$f":"M1470-W1470","v":{"$error":"#N/A"}},{"$f":"IF(X1470>=0,\"Apurado\",\"\")","v":{"$error":"#N/A"}}]
[null,null,null,null,null,null,null,null,null,null,null,null,null,null,null,null,null,null,null,null,null,{"$f":"A1473&L1473&G1473","v":""},{"$f":"VLOOKUP(V1473,Minimos!$D$3:$E$26,2,FALSE)","v":{"$error":"#N/A"}},{"$f":"M1473-W1473","v":{"$error":"#N/A"}},{"$f":"IF(X1473>=0,\"Apurado\",\"\")","v":{"$error":"#N/A"}}]
[null,null,null,null,null,null,null,null,null,null,null,null,null,null,null,null,null,null,null,null,null,{"$f":"A1489&L1489&G1489","v":""},{"$f":"VLOOKUP(V1489,Minimos!$D$3:$E$26,2,FALSE)","v":{"$error":"#N/A"}},{"$f":"M1489-W1489","v":{"$error":"#N/A"}},{"$f":"IF(X1489>=0,\"Apurado\",\"\")","v":{"$error":"#N/A"}}]
[null,null,null,null,null,null,null,null,null,null,null,null,null,null,null,null,null,null,null,null,null,{"$f":"A1492&L1492&G1492","v":""},{"$f":"VLOOKUP(V1492,Minimos!$D$3:$E$26,2,FALSE)","v":{"$error":"#N/A"}},{"$f":"M1492-W1492","v":{"$error":"#N/A"}},{"$f":"IF(X1492>=0,\"Apurado\",\"\")","v":{"$error":"#N/A"}}]
[null,null,null,null,null,null,null,null,null,null,null,null,null,null,null,null,null,null,null,null,null,{"$f":"A1503&L1503&G1503","v":""},{"$f":"VLOOKUP(V1503,Minimos!$D$3:$E$26,2,FALSE)","v":{"$error":"#N/A"}},{"$f":"M1503-W1503","v":{"$error":"#N/A"}},{"$f":"IF(X1503>=0,\"Apurado\",\"\")","v":{"$error":"#N/A"}}]
[null,null,null,null,null,null,null,null,null,null,null,null,null,null,null,null,null,null,null,null,null,{"$f":"A1510&L1510&G1510","v":""},{"$f":"VLOOKUP(V1510,Minimos!$D$3:$E$26,2,FALSE)","v":{"$error":"#N/A"}},{"$f":"M1510-W1510","v":{"$error":"#N/A"}},{"$f":"IF(X1510>=0,\"Apurado\",\"\")","v":{"$error":"#N/A"}}]
[null,null,null,null,null,null,null,null,null,null,null,null,null,null,null,null,null,null,null,null,null,{"$f":"A1522&L1522&G1522","v":""},{"$f":"VLOOKUP(V1522,Minimos!$D$3:$E$26,2,FALSE)","v":{"$error":"#N/A"}},{"$f":"M1522-W1522","v":{"$error":"#N/A"}},{"$f":"IF(X1522>=0,\"Apurado\",\"\")","v":{"$error":"#N/A"}}]
[null,null,null,null,null,null,null,null,null,null,null,null,null,null,null,null,null,null,null,null,null,{"$f":"A1531&L1531&G1531","v":""},{"$f":"VLOOKUP(V1531,Minimos!$D$3:$E$26,2,FALSE)","v":{"$error":"#N/A"}},{"$f":"M1531-W1531","v":{"$error":"#N/A"}},{"$f":"IF(X1531>=0,\"Apurado\",\"\")","v":{"$error":"#N/A"}}]
[null,null,null,null,null,null,null,null,null,null,null,null,null,null,null,null,null,null,null,null,null,{"$f":"A1540&L1540&G1540","v":""},{"$f":"VLOOKUP(V1540,Minimos!$D$3:$E$26,2,FALSE)","v":{"$error":"#N/A"}},{"$f":"M1540-W1540","v":{"$error":"#N/A"}},{"$f":"IF(X1540>=0,\"Apurado\",\"\")","v":{"$error":"#N/A"}}]
[null,null,null,null,null,null,null,null,null,null,null,null,null,null,null,null,null,null,null,null,null,{"$f":"A1543&L1543&G1543","v":""},{"$f":"VLOOKUP(V1543,Minimos!$D$3:$E$26,2,FALSE)","v":{"$error":"#N/A"}},{"$f":"M1543-W1543","v":{"$error":"#N/A"}},{"$f":"IF(X1543>=0,\"Apurado\",\"\")","v":{"$error":"#N/A"}}]
[null,null,null,null,null,null,null,null,null,null,null,null,null,null,null,null,null,null,null,null,null,{"$f":"A1559&L1559&G1559","v":""},{"$f":"VLOOKUP(V1559,Minimos!$D$3:$E$26,2,FALSE)","v":{"$error":"#N/A"}},{"$f":"M1559-W1559","v":{"$error":"#N/A"}},{"$f":"IF(X1559>=0,\"Apurado\",\"\")","v":{"$error":"#N/A"}}]
[null,null,null,null,null,null,null,null,null,null,null,null,null,null,null,null,null,null,null,null,null,{"$f":"A1562&L1562&G1562","v":""},{"$f":"VLOOKUP(V1562,Minimos!$D$3:$E$26,2,FALSE)","v":{"$error":"#N/A"}},{"$f":"M1562-W1562","v":{"$error":"#N/A"}},{"$f":"IF(X1562>=0,\"Apurado\",\"\")","v":{"$error":"#N/A"}}]
[null,null,null,null,null,null,null,null,null,null,null,null,null,null,null,null,null,null,null,null,null,{"$f":"A1573&L1573&G1573","v":""},{"$f":"VLOOKUP(V1573,Minimos!$D$3:$E$26,2,FALSE)","v":{"$error":"#N/A"}},{"$f":"M1573-W1573","v":{"$error":"#N/A"}},{"$f":"IF(X1573>=0,\"Apurado\",\"\")","v":{"$error":"#N/A"}}]
[null,null,null,null,null,null,null,null,null,null,null,null,null,null,null,null,null,null,null,null,null,{"$f":"A1580&L1580&G1580","v":""},{"$f":"VLOOKUP(V1580,Minimos!$D$3:$E$26,2,FALSE)","v":{"$error":"#N/A"}},{"$f":"M1580-W1580","v":{"$error":"#N/A"}},{"$f":"IF(X1580>=0,\"Apurado\",\"\")","v":{"$error":"#N/A"}}]
[null,null,null,null,null,null,null,null,null,null,null,null,null,null,null,null,null,null,null,null,null,{"$f":"A1592&L1592&G1592","v":""},{"$f":"VLOOKUP(V1592,Minimos!$D$3:$E$26,2,FALSE)","v":{"$error":"#N/A"}},{"$f":"M1592-W1592","v":{"$error":"#N/A"}},{"$f":"IF(X1592>=0,\"Apurado\",\"\")","v":{"$error":"#N/A"}}]
[null,null,null,null,null,null,null,null,null,null,null,null,null,null,null,null,null,null,null,null,null,{"$f":"A1601&L1601&G1601","v":""},{"$f":"VLOOKUP(V1601,Minimos!$D$3:$E$26,2,FALSE)","v":{"$error":"#N/A"}},{"$f":"M1601-W1601","v":{"$error":"#N/A"}},{"$f":"IF(X1601>=0,\"Apurado\",\"\")","v":{"$error":"#N/A"}}]
[null,null,null,null,null,null,null,null,null,null,null,null,null,null,null,null,null,null,null,null,null,{"$f":"A1610&L1610&G1610","v":""},{"$f":"VLOOKUP(V1610,Minimos!$D$3:$E$26,2,FALSE)","v":{"$error":"#N/A"}},{"$f":"M1610-W1610","v":{"$error":"#N/A"}},{"$f":"IF(X1610>=0,\"Apurado\",\"\")","v":{"$error":"#N/A"}}]
[null,null,null,null,null,null,null,null,null,null,null,null,null,null,null,null,null,null,null,null,null,{"$f":"A1613&L1613&G1613","v":""},{"$f":"VLOOKUP(V1613,Minimos!$D$3:$E$26,2,FALSE)","v":{"$error":"#N/A"}},{"$f":"M1613-W1613","v":{"$error":"#N/A"}},{"$f":"IF(X1613>=0,\"Apurado\",\"\")","v":{"$error":"#N/A"}}]
[null,null,null,null,null,null,null,null,null,null,null,null,null,null,null,null,null,null,null,null,null,{"$f":"A1629&L1629&G1629","v":""},{"$f":"VLOOKUP(V1629,Minimos!$D$3:$E$26,2,FALSE)","v":{"$error":"#N/A"}},{"$f":"M1629-W1629","v":{"$error":"#N/A"}},{"$f":"IF(X1629>=0,\"Apurado\",\"\")","v":{"$error":"#N/A"}}]
[null,null,null,null,null,null,null,null,null,null,null,null,null,null,null,null,null,null,null,null,null,{"$f":"A1632&L1632&G1632","v":""},{"$f":"VLOOKUP(V1632,Minimos!$D$3:$E$26,2,FALSE)","v":{"$error":"#N/A"}},{"$f":"M1632-W1632","v":{"$error":"#N/A"}},{"$f":"IF(X1632>=0,\"Apurado\",\"\")","v":{"$error":"#N/A"}}]
[null,null,null,null,null,null,null,null,null,null,null,null,null,null,null,null,null,null,null,null,null,{"$f":"A1643&L1643&G1643","v":""},{"$f":"VLOOKUP(V1643,Minimos!$D$3:$E$26,2,FALSE)","v":{"$error":"#N/A"}},{"$f":"M1643-W1643","v":{"$error":"#N/A"}},{"$f":"IF(X1643>=0,\"Apurado\",\"\")","v":{"$error":"#N/A"}}]
[null,null,null,null,null,null,null,null,null,null,null,null,null,null,null,null,null,null,null,null,null,{"$f":"A1650&L1650&G1650","v":""},{"$f":"VLOOKUP(V1650,Minimos!$D$3:$E$26,2,FALSE)","v":{"$error":"#N/A"}},{"$f":"M1650-W1650","v":{"$error":"#N/A"}},{"$f":"IF(X1650>=0,\"Apurado\",\"\")","v":{"$error":"#N/A"}}]
[null,null,null,null,null,null,null,null,null,null,null,null,null,null,null,null,null,null,null,null,null,{"$f":"A1662&L1662&G1662","v":""},{"$f":"VLOOKUP(V1662,Minimos!$D$3:$E$26,2,FALSE)","v":{"$error":"#N/A"}},{"$f":"M1662-W1662","v":{"$error":"#N/A"}},{"$f":"IF(X1662>=0,\"Apurado\",\"\")","v":{"$error":"#N/A"}}]
[null,null,null,null,null,null,null,null,null,null,null,null,null,null,null,null,null,null,null,null,null,{"$f":"A1671&L1671&G1671","v":""},{"$f":"VLOOKUP(V1671,Minimos!$D$3:$E$26,2,FALSE)","v":{"$error":"#N/A"}},{"$f":"M1671-W1671","v":{"$error":"#N/A"}},{"$f":"IF(X1671>=0,\"Apurado\",\"\")","v":{"$error":"#N/A"}}]
[null,null,null,null,null,null,null,null,null,null,null,null,null,null,null,null,null,null,null,null,null,{"$f":"A1680&L1680&G1680","v":""},{"$f":"VLOOKUP(V1680,Minimos!$D$3:$E$26,2,FALSE)","v":{"$error":"#N/A"}},{"$f":"M1680-W1680","v":{"$error":"#N/A"}},{"$f":"IF(X1680>=0,\"Apurado\",\"\")","v":{"$error":"#N/A"}}]
[null,null,null,null,null,null,null,null,null,null,null,null,null,null,null,null,null,null,null,null,null,{"$f":"A1683&L1683&G1683","v":""},{"$f":"VLOOKUP(V1683,Minimos!$D$3:$E$26,2,FALSE)","v":{"$error":"#N/A"}},{"$f":"M1683-W1683","v":{"$error":"#N/A"}},{"$f":"IF(X1683>=0,\"Apurado\",\"\")","v":{"$error":"#N/A"}}]
[null,null,null,null,null,null,null,null,null,null,null,null,null,null,null,null,null,null,null,null,null,{"$f":"A1699&L1699&G1699","v":""},{"$f":"VLOOKUP(V1699,Minimos!$D$3:$E$26,2,FALSE)","v":{"$error":"#N/A"}},{"$f":"M1699-W1699","v":{"$error":"#N/A"}},{"$f":"IF(X1699>=0,\"Apurado\",\"\")","v":{"$error":"#N/A"}}]
[null,null,null,null,null,null,null,null,null,null,null,null,null,null,null,null,null,null,null,null,null,{"$f":"A1702&L1702&G1702","v":""},{"$f":"VLOOKUP(V1702,Minimos!$D$3:$E$26,2,FALSE)","v":{"$error":"#N/A"}},{"$f":"M1702-W1702","v":{"$error":"#N/A"}},{"$f":"IF(X1702>=0,\"Apurado\",\"\")","v":{"$error":"#N/A"}}]
[null,null,null,null,null,null,null,null,null,null,null,null,null,null,null,null,null,null,null,null,null,{"$f":"A1713&L1713&G1713","v":""},{"$f":"VLOOKUP(V1713,Minimos!$D$3:$E$26,2,FALSE)","v":{"$error":"#N/A"}},{"$f":"M1713-W1713","v":{"$error":"#N/A"}},{"$f":"IF(X1713>=0,\"Apurado\",\"\")","v":{"$error":"#N/A"}}]
[null,null,null,null,null,null,null,null,null,null,null,null,null,null,null,null,null,null,null,null,null,{"$f":"A1720&L1720&G1720","v":""},{"$f":"VLOOKUP(V1720,Minimos!$D$3:$E$26,2,FALSE)","v":{"$error":"#N/A"}},{"$f":"M1720-W1720","v":{"$error":"#N/A"}},{"$f":"IF(X1720>=0,\"Apurado\",\"\")","v":{"$error":"#N/A"}}]
[null,null,null,null,null,null,null,null,null,null,null,null,null,null,null,null,null,null,null,null,null,{"$f":"A1732&L1732&G1732","v":""},{"$f":"VLOOKUP(V1732,Minimos!$D$3:$E$26,2,FALSE)","v":{"$error":"#N/A"}},{"$f":"M1732-W1732","v":{"$error":"#N/A"}},{"$f":"IF(X1732>=0,\"Apurado\",\"\")","v":{"$error":"#N/A"}}]
[null,null,null,null,null,null,null,null,null,null,null,null,null,null,null,null,null,null,null,null,null,{"$f":"A1741&L1741&G1741","v":""},{"$f":"VLOOKUP(V1741,Minimos!$D$3:$E$26,2,FALSE)","v":{"$error":"#N/A"}},{"$f":"M1741-W1741","v":{"$error":"#N/A"}},{"$f":"IF(X1741>=0,\"Apurado\",\"\")","v":{"$error":"#N/A"}}]
[null,null,null,null,null,null,null,null,null,null,null,null,null,null,null,null,null,null,null,null,null,{"$f":"A1750&L1750&G1750","v":""},{"$f":"VLOOKUP(V1750,Minimos!$D$3:$E$26,2,FALSE)","v":{"$error":"#N/A"}},{"$f":"M1750-W1750","v":{"$error":"#N/A"}},{"$f":"IF(X1750>=0,\"Apurado\",\"\")","v":{"$error":"#N/A"}}]
[null,null,null,null,null,null,null,null,null,null,null,null,null,null,null,null,null,null,null,null,null,{"$f":"A1753&L1753&G1753","v":""},{"$f":"VLOOKUP(V1753,Minimos!$D$3:$E$26,2,FALSE)","v":{"$error":"#N/A"}},{"$f":"M1753-W1753","v":{"$error":"#N/A"}},{"$f":"IF(X1753>=0,\"Apurado\",\"\")","v":{"$error":"#N/A"}}]
[null,null,null,null,null,null,null,null,null,null,null,null,null,null,null,null,null,null,null,null,null,{"$f":"A1769&L1769&G1769","v":""},{"$f":"VLOOKUP(V1769,Minimos!$D$3:$E$26,2,FALSE)","v":{"$error":"#N/A"}},{"$f":"M1769-W1769","v":{"$error":"#N/A"}},{"$f":"IF(X1769>=0,\"Apurado\",\"\")","v":{"$error":"#N/A"}}]
[null,null,null,null,null,null,null,null,null,null,null,null,null,null,null,null,null,null,null,null,null,{"$f":"A1772&L1772&G1772","v":""},{"$f":"VLOOKUP(V1772,Minimos!$D$3:$E$26,2,FALSE)","v":{"$error":"#N/A"}},{"$f":"M1772-W1772","v":{"$error":"#N/A"}},{"$f":"IF(X1772>=0,\"Apurado\",\"\")","v":{"$error":"#N/A"}}]
[null,null,null,null,null,null,null,null,null,null,null,null,null,null,null,null,null,null,null,null,null,{"$f":"A1783&L1783&G1783","v":""},{"$f":"VLOOKUP(V1783,Minimos!$D$3:$E$26,2,FALSE)","v":{"$error":"#N/A"}},{"$f":"M1783-W1783","v":{"$error":"#N/A"}},{"$f":"IF(X1783>=0,\"Apurado\",\"\")","v":{"$error":"#N/A"}}]
[null,null,null,null,null,null,null,null,null,null,null,null,null,null,null,null,null,null,null,null,null,{"$f":"A1790&L1790&G1790","v":""},{"$f":"VLOOKUP(V1790,Minimos!$D$3:$E$26,2,FALSE)","v":{"$error":"#N/A"}},{"$f":"M1790-W1790","v":{"$error":"#N/A"}},{"$f":"IF(X1790>=0,\"Apurado\",\"\")","v":{"$error":"#N/A"}}]
[null,null,null,null,null,null,null,null,null,null,null,null,null,null,null,null,null,null,null,null,null,{"$f":"A1802&L1802&G1802","v":""},{"$f":"VLOOKUP(V1802,Minimos!$D$3:$E$26,2,FALSE)","v":{"$error":"#N/A"}},{"$f":"M1802-W1802","v":{"$error":"#N/A"}},{"$f":"IF(X1802>=0,\"Apurado\",\"\")","v":{"$error":"#N/A"}}]
[null,null,null,null,null,null,null,null,null,null,null,null,null,null,null,null,null,null,null,null,null,{"$f":"A1811&L1811&G1811","v":""},{"$f":"VLOOKUP(V1811,Minimos!$D$3:$E$26,2,FALSE)","v":{"$error":"#N/A"}},{"$f":"M1811-W1811","v":{"$error":"#N/A"}},{"$f":"IF(X1811>=0,\"Apurado\",\"\")","v":{"$error":"#N/A"}}]
[null,null,null,null,null,null,null,null,null,null,null,null,null,null,null,null,null,null,null,null,null,{"$f":"A1820&L1820&G1820","v":""},{"$f":"VLOOKUP(V1820,Minimos!$D$3:$E$26,2,FALSE)","v":{"$error":"#N/A"}},{"$f":"M1820-W1820","v":{"$error":"#N/A"}},{"$f":"IF(X1820>=0,\"Apurado\",\"\")","v":{"$error":"#N/A"}}]
[null,null,null,null,null,null,null,null,null,null,null,null,null,null,null,null,null,null,null,null,null,{"$f":"A1823&L1823&G1823","v":""},{"$f":"VLOOKUP(V1823,Minimos!$D$3:$E$26,2,FALSE)","v":{"$error":"#N/A"}},{"$f":"M1823-W1823","v":{"$error":"#N/A"}},{"$f":"IF(X1823>=0,\"Apurado\",\"\")","v":{"$error":"#N/A"}}]
[null,null,null,null,null,null,null,null,null,null,null,null,null,null,null,null,null,null,null,null,null,{"$f":"A1839&L1839&G1839","v":""},{"$f":"VLOOKUP(V1839,Minimos!$D$3:$E$26,2,FALSE)","v":{"$error":"#N/A"}},{"$f":"M1839-W1839","v":{"$error":"#N/A"}},{"$f":"IF(X1839>=0,\"Apurado\",\"\")","v":{"$error":"#N/A"}}]
[null,null,null,null,null,null,null,null,null,null,null,null,null,null,null,null,null,null,null,null,null,{"$f":"A1842&L1842&G1842","v":""},{"$f":"VLOOKUP(V1842,Minimos!$D$3:$E$26,2,FALSE)","v":{"$error":"#N/A"}},{"$f":"M1842-W1842","v":{"$error":"#N/A"}},{"$f":"IF(X1842>=0,\"Apurado\",\"\")","v":{"$error":"#N/A"}}]
[null,null,null,null,null,null,null,null,null,null,null,null,null,null,null,null,null,null,null,null,null,{"$f":"A1857&L1857&G1857","v":""},{"$f":"VLOOKUP(V1857,Minimos!$D$3:$E$26,2,FALSE)","v":{"$error":"#N/A"}},{"$f":"M1857-W1857","v":{"$error":"#N/A"}},{"$f":"IF(X1857>=0,\"Apurado\",\"\")","v":{"$error":"#N/A"}}]
[null,null,null,null,null,null,null,null,null,null,null,null,null,null,null,null,null,null,null,null,null,{"$f":"A1860&L1860&G1860","v":""},{"$f":"VLOOKUP(V1860,Minimos!$D$3:$E$26,2,FALSE)","v":{"$error":"#N/A"}},{"$f":"M1860-W1860","v":{"$error":"#N/A"}},{"$f":"IF(X1860>=0,\"Apurado\",\"\")","v":{"$error":"#N/A"}}]
[null,null,null,null,null,null,null,null,null,null,null,null,null,null,null,null,null,null,null,null,null,{"$f":"A1872&L1872&G1872","v":""},{"$f":"VLOOKUP(V1872,Minimos!$D$3:$E$26,2,FALSE)","v":{"$error":"#N/A"}},{"$f":"M1872-W1872","v":{"$error":"#N/A"}},{"$f":"IF(X1872>=0,\"Apurado\",\"\")","v":{"$error":"#N/A"}}]
[null,null,null,null,null,null,null,null,null,null,null,null,null,null,null,null,null,null,null,null,null,{"$f":"A1881&L1881&G1881","v":""},{"$f":"VLOOKUP(V1881,Minimos!$D$3:$E$26,2,FALSE)","v":{"$error":"#N/A"}},{"$f":"M1881-W1881","v":{"$error":"#N/A"}},{"$f":"IF(X1881>=0,\"Apurado\",\"\")","v":{"$error":"#N/A"}}]
[null,null,null,null,null,null,null,null,null,null,null,null,null,null,null,null,null,null,null,null,null,{"$f":"A1890&L1890&G1890","v":""},{"$f":"VLOOKUP(V1890,Minimos!$D$3:$E$26,2,FALSE)","v":{"$error":"#N/A"}},{"$f":"M1890-W1890","v":{"$error":"#N/A"}},{"$f":"IF(X1890>=0,\"Apurado\",\"\")","v":{"$error":"#N/A"}}]
[null,null,null,null,null,null,null,null,null,null,null,null,null,null,null,null,null,null,null,null,null,{"$f":"A1893&L1893&G1893","v":""},{"$f":"VLOOKUP(V1893,Minimos!$D$3:$E$26,2,FALSE)","v":{"$error":"#N/A"}},{"$f":"M1893-W1893","v":{"$error":"#N/A"}},{"$f":"IF(X1893>=0,\"Apurado\",\"\")","v":{"$error":"#N/A"}}]
[null,null,null,null,null,null,null,null,null,null,null,null,null,null,null,null,null,null,null,null,null,{"$f":"A1909&L1909&G1909","v":""},{"$f":"VLOOKUP(V1909,Minimos!$D$3:$E$26,2,FALSE)","v":{"$error":"#N/A"}},{"$f":"M1909-W1909","v":{"$error":"#N/A"}},{"$f":"IF(X1909>=0,\"Apurado\",\"\")","v":{"$error":"#N/A"}}]
[null,null,null,null,null,null,null,null,null,null,null,null,null,null,null,null,null,null,null,null,null,{"$f":"A1912&L1912&G1912","v":""},{"$f":"VLOOKUP(V1912,Minimos!$D$3:$E$26,2,FALSE)","v":{"$error":"#N/A"}},{"$f":"M1912-W1912","v":{"$error":"#N/A"}},{"$f":"IF(X1912>=0,\"Apurado\",\"\")","v":{"$error":"#N/A"}}]
[null,null,null,null,null,null,null,null,null,null,null,null,null,null,null,null,null,null,null,null,null,{"$f":"A1927&L1927&G1927","v":""},{"$f":"VLOOKUP(V1927,Minimos!$D$3:$E$26,2,FALSE)","v":{"$error":"#N/A"}},{"$f":"M1927-W1927","v":{"$error":"#N/A"}},{"$f":"IF(X1927>=0,\"Apurado\",\"\")","v":{"$error":"#N/A"}}]
[null,null,null,null,null,null,null,null,null,null,null,null,null,null,null,null,null,null,null,null,null,{"$f":"A1930&L1930&G1930","v":""},{"$f":"VLOOKUP(V1930,Minimos!$D$3:$E$26,2,FALSE)","v":{"$error":"#N/A"}},{"$f":"M1930-W1930","v":{"$error":"#N/A"}},{"$f":"IF(X1930>=0,\"Apurado\",\"\")","v":{"$error":"#N/A"}}]
[null,null,null,null,null,null,null,null,null,null,null,null,null,null,null,null,null,null,null,null,null,{"$f":"A1942&L1942&G1942","v":""},{"$f":"VLOOKUP(V1942,Minimos!$D$3:$E$26,2,FALSE)","v":{"$error":"#N/A"}},{"$f":"M1942-W1942","v":{"$error":"#N/A"}},{"$f":"IF(X1942>=0,\"Apurado\",\"\")","v":{"$error":"#N/A"}}]
[null,null,null,null,null,null,null,null,null,null,null,null,null,null,null,null,null,null,null,null,null,{"$f":"A1951&L1951&G1951","v":""},{"$f":"VLOOKUP(V1951,Minimos!$D$3:$E$26,2,FALSE)","v":{"$error":"#N/A"}},{"$f":"M1951-W1951","v":{"$error":"#N/A"}},{"$f":"IF(X1951>=0,\"Apurado\",\"\")","v":{"$error":"#N/A"}}]
[null,null,null,null,null,null,null,null,null,null,null,null,null,null,null,null,null,null,null,null,null,{"$f":"A1960&L1960&G1960","v":""},{"$f":"VLOOKUP(V1960,Minimos!$D$3:$E$26,2,FALSE)","v":{"$error":"#N/A"}},{"$f":"M1960-W1960","v":{"$error":"#N/A"}},{"$f":"IF(X1960>=0,\"Apurado\",\"\")","v":{"$error":"#N/A"}}]
[null,null,null,null,null,null,null,null,null,null,null,null,null,null,null,null,null,null,null,null,null,{"$f":"A1967&L1967&G1967","v":""},{"$f":"VLOOKUP(V1967,Minimos!$D$3:$E$26,2,FALSE)","v":{"$error":"#N/A"}},{"$f":"M1967-W1967","v":{"$error":"#N/A"}},{"$f":"IF(X1967>=0,\"Apurado\",\"\")","v":{"$error":"#N/A"}}]
[null,null,null,null,null,null,null,null,null,null,null,null,null,null,null,null,null,null,null,null,null,{"$f":"A1979&L1979&G1979","v":""},{"$f":"VLOOKUP(V1979,Minimos!$D$3:$E$26,2,FALSE)","v":{"$error":"#N/A"}},{"$f":"M1979-W1979","v":{"$error":"#N/A"}},{"$f":"IF(X1979>=0,\"Apurado\",\"\")","v":{"$error":"#N/A"}}]
[null,null,null,null,null,null,null,null,null,null,null,null,null,null,null,null,null,null,null,null,null,{"$f":"A1982&L1982&G1982","v":""},{"$f":"VLOOKUP(V1982,Minimos!$D$3:$E$26,2,FALSE)","v":{"$error":"#N/A"}},{"$f":"M1982-W1982","v":{"$error":"#N/A"}},{"$f":"IF(X1982>=0,\"Apurado\",\"\")","v":{"$error":"#N/A"}}]
[null,null,null,null,null,null,null,null,null,null,null,null,null,null,null,null,null,null,null,null,null,{"$f":"A1997&L1997&G1997","v":""},{"$f":"VLOOKUP(V1997,Minimos!$D$3:$E$26,2,FALSE)","v":{"$error":"#N/A"}},{"$f":"M1997-W1997","v":{"$error":"#N/A"}},{"$f":"IF(X1997>=0,\"Apurado\",\"\")","v":{"$error":"#N/A"}}]
[null,null,null,null,null,null,null,null,null,null,null,null,null,null,null,null,null,null,null,null,null,{"$f":"A2000&L2000&G2000","v":""},{"$f":"VLOOKUP(V2000,Minimos!$D$3:$E$26,2,FALSE)","v":{"$error":"#N/A"}},{"$f":"M2000-W2000","v":{"$error":"#N/A"}},{"$f":"IF(X2000>=0,\"Apurado\",\"\")","v":{"$error":"#N/A"}}]
[null,null,null,null,null,null,null,null,null,null,null,null,null,null,null,null,null,null,null,null,null,{"$f":"A2012&L2012&G2012","v":""},{"$f":"VLOOKUP(V2012,Minimos!$D$3:$E$26,2,FALSE)","v":{"$error":"#N/A"}},{"$f":"M2012-W2012","v":{"$error":"#N/A"}},{"$f":"IF(X2012>=0,\"Apurado\",\"\")","v":{"$error":"#N/A"}}]
[null,null,null,null,null,null,null,null,null,null,null,null,null,null,null,null,null,null,null,null,null,{"$f":"A2021&L2021&G2021","v":""},{"$f":"VLOOKUP(V2021,Minimos!$D$3:$E$26,2,FALSE)","v":{"$error":"#N/A"}},{"$f":"M2021-W2021","v":{"$error":"#N/A"}},{"$f":"IF(X2021>=0,\"Apurado\",\"\")","v":{"$error":"#N/A"}}]
[null,null,null,null,null,null,null,null,null,null,null,null,null,null,null,null,null,null,null,null,null,{"$f":"A2030&L2030&G2030","v":""},{"$f":"VLOOKUP(V2030,Minimos!$D$3:$E$26,2,FALSE)","v":{"$error":"#N/A"}},{"$f":"M2030-W2030","v":{"$error":"#N/A"}},{"$f":"IF(X2030>=0,\"Apurado\",\"\")","v":{"$error":"#N/A"}}]
[null,null,null,null,null,null,null,null,null,null,null,null,null,null,null,null,null,null,null,null,null,{"$f":"A2037&L2037&G2037","v":""},{"$f":"VLOOKUP(V2037,Minimos!$D$3:$E$26,2,FALSE)","v":{"$error":"#N/A"}},{"$f":"M2037-W2037","v":{"$error":"#N/A"}},{"$f":"IF(X2037>=0,\"Apurado\",\"\")","v":{"$error":"#N/A"}}]
[null,null,null,null,null,null,null,null,null,null,null,null,null,null,null,null,null,null,null,null,null,{"$f":"A2049&L2049&G2049","v":""},{"$f":"VLOOKUP(V2049,Minimos!$D$3:$E$26,2,FALSE)","v":{"$error":"#N/A"}},{"$f":"M2049-W2049","v":{"$error":"#N/A"}},{"$f":"IF(X2049>=0,\"Apurado\",\"\")","v":{"$error":"#N/A"}}]
[null,null,null,null,null,null,null,null,null,null,null,null,null,null,null,null,null,null,null,null,null,{"$f":"A2052&L2052&G2052","v":""},{"$f":"VLOOKUP(V2052,Minimos!$D$3:$E$26,2,FALSE)","v":{"$error":"#N/A"}},{"$f":"M2052-W2052","v":{"$error":"#N/A"}},{"$f":"IF(X2052>=0,\"Apurado\",\"\")","v":{"$error":"#N/A"}}]
[null,null,null,null,null,null,null,null,null,null,null,null,null,null,null,null,null,null,null,null,null,{"$f":"A2067&L2067&G2067","v":""},{"$f":"VLOOKUP(V2067,Minimos!$D$3:$E$26,2,FALSE)","v":{"$error":"#N/A"}},{"$f":"M2067-W2067","v":{"$error":"#N/A"}},{"$f":"IF(X2067>=0,\"Apurado\",\"\")","v":{"$error":"#N/A"}}]
[null,null,null,null,null,null,null,null,null,null,null,null,null,null,null,null,null,null,null,null,null,{"$f":"A2070&L2070&G2070","v":""},{"$f":"VLOOKUP(V2070,Minimos!$D$3:$E$26,2,FALSE)","v":{"$error":"#N/A"}},{"$f":"M2070-W2070","v":{"$error":"#N/A"}},{"$f":"IF(X2070>=0,\"Apurado\",\"\")","v":{"$error":"#N/A"}}]
[null,null,null,null,null,null,null,null,null,null,null,null,null,null,null,null,null,null,null,null,null,{"$f":"A2082&L2082&G2082","v":""},{"$f":"VLOOKUP(V2082,Minimos!$D$3:$E$26,2,FALSE)","v":{"$error":"#N/A"}},{"$f":"M2082-W2082","v":{"$error":"#N/A"}},{"$f":"IF(X2082>=0,\"Apurado\",\"\")","v":{"$error":"#N/A"}}]
[null,null,null,null,null,null,null,null,null,null,null,null,null,null,null,null,null,null,null,null,null,{"$f":"A2091&L2091&G2091","v":""},{"$f":"VLOOKUP(V2091,Minimos!$D$3:$E$26,2,FALSE)","v":{"$error":"#N/A"}},{"$f":"M2091-W2091","v":{"$error":"#N/A"}},{"$f":"IF(X2091>=0,\"Apurado\",\"\")","v":{"$error":"#N/A"}}]
[null,null,null,null,null,null,null,null,null,null,null,null,null,null,null,null,null,null,null,null,null,{"$f":"A2100&L2100&G2100","v":""},{"$f":"VLOOKUP(V2100,Minimos!$D$3:$E$26,2,FALSE)","v":{"$error":"#N/A"}},{"$f":"M2100-W2100","v":{"$error":"#N/A"}},{"$f":"IF(X2100>=0,\"Apurado\",\"\")","v":{"$error":"#N/A"}}]
[null,null,null,null,null,null,null,null,null,null,null,null,null,null,null,null,null,null,null,null,null,{"$f":"A2107&L2107&G2107","v":""},{"$f":"VLOOKUP(V2107,Minimos!$D$3:$E$26,2,FALSE)","v":{"$error":"#N/A"}},{"$f":"M2107-W2107","v":{"$error":"#N/A"}},{"$f":"IF(X2107>=0,\"Apurado\",\"\")","v":{"$error":"#N/A"}}]
[null,null,null,null,null,null,null,null,null,null,null,null,null,null,null,null,null,null,null,null,null,{"$f":"A2119&L2119&G2119","v":""},{"$f":"VLOOKUP(V2119,Minimos!$D$3:$E$26,2,FALSE)","v":{"$error":"#N/A"}},{"$f":"M2119-W2119","v":{"$error":"#N/A"}},{"$f":"IF(X2119>=0,\"Apurado\",\"\")","v":{"$error":"#N/A"}}]
[null,null,null,null,null,null,null,null,null,null,null,null,null,null,null,null,null,null,null,null,null,{"$f":"A2122&L2122&G2122","v":""},{"$f":"VLOOKUP(V2122,Minimos!$D$3:$E$26,2,FALSE)","v":{"$error":"#N/A"}},{"$f":"M2122-W2122","v":{"$error":"#N/A"}},{"$f":"IF(X2122>=0,\"Apurado\",\"\")","v":{"$error":"#N/A"}}]
[null,null,null,null,null,null,null,null,null,null,null,null,null,null,null,null,null,null,null,null,null,{"$f":"A2137&L2137&G2137","v":""},{"$f":"VLOOKUP(V2137,Minimos!$D$3:$E$26,2,FALSE)","v":{"$error":"#N/A"}},{"$f":"M2137-W2137","v":{"$error":"#N/A"}},{"$f":"IF(X2137>=0,\"Apurado\",\"\")","v":{"$error":"#N/A"}}]
[null,null,null,null,null,null,null,null,null,null,null,null,null,null,null,null,null,null,null,null,null,{"$f":"A2140&L2140&G2140","v":""},{"$f":"VLOOKUP(V2140,Minimos!$D$3:$E$26,2,FALSE)","v":{"$error":"#N/A"}},{"$f":"M2140-W2140","v":{"$error":"#N/A"}},{"$f":"IF(X2140>=0,\"Apurado\",\"\")","v":{"$error":"#N/A"}}]
[null,null,null,null,null,null,null,null,null,null,null,null,null,null,null,null,null,null,null,null,null,{"$f":"A2147&L2147&G2147","v":""},{"$f":"VLOOKUP(V2147,Minimos!$D$3:$E$26,2,FALSE)","v":{"$error":"#N/A"}},{"$f":"M2147-W2147","v":{"$error":"#N/A"}},{"$f":"IF(X2147>=0,\"Apurado\",\"\")","v":{"$error":"#N/A"}}]
[null,null,null,null,null,null,null,null,null,null,null,null,null,null,null,null,null,null,null,null,null,{"$f":"A2161&L2161&G2161","v":""},{"$f":"VLOOKUP(V2161,Minimos!$D$3:$E$26,2,FALSE)","v":{"$error":"#N/A"}},{"$f":"M2161-W2161","v":{"$error":"#N/A"}},{"$f":"IF(X2161>=0,\"Apurado\",\"\")","v":{"$error":"#N/A"}}]
[null,null,null,null,null,null,null,null,null,null,null,null,null,null,null,null,null,null,null,null,null,{"$f":"A2170&L2170&G2170","v":""},{"$f":"VLOOKUP(V2170,Minimos!$D$3:$E$26,2,FALSE)","v":{"$error":"#N/A"}},{"$f":"M2170-W2170","v":{"$error":"#N/A"}},{"$f":"IF(X2170>=0,\"Apurado\",\"\")","v":{"$error":"#N/A"}}]
[null,null,null,null,null,null,null,null,null,null,null,null,null,null,null,null,null,null,null,null,null,{"$f":"A2177&L2177&G2177","v":""},{"$f":"VLOOKUP(V2177,Minimos!$D$3:$E$26,2,FALSE)","v":{"$error":"#N/A"}},{"$f":"M2177-W2177","v":{"$error":"#N/A"}},{"$f":"IF(X2177>=0,\"Apurado\",\"\")","v":{"$error":"#N/A"}}]
[null,null,null,null,null,null,null,null,null,null,null,null,null,null,null,null,null,null,null,null,null,{"$f":"A2189&L2189&G2189","v":""},{"$f":"VLOOKUP(V2189,Minimos!$D$3:$E$26,2,FALSE)","v":{"$error":"#N/A"}},{"$f":"M2189-W2189","v":{"$error":"#N/A"}},{"$f":"IF(X2189>=0,\"Apurado\",\"\")","v":{"$error":"#N/A"}}]
[null,null,null,null,null,null,null,null,null,null,null,null,null,null,null,null,null,null,null,null,null,{"$f":"A2192&L2192&G2192","v":""},{"$f":"VLOOKUP(V2192,Minimos!$D$3:$E$26,2,FALSE)","v":{"$error":"#N/A"}},{"$f":"M2192-W2192","v":{"$error":"#N/A"}},{"$f":"IF(X2192>=0,\"Apurado\",\"\")","v":{"$error":"#N/A"}}]
[null,null,null,null,null,null,null,null,null,null,null,null,null,null,null,null,null,null,null,null,null,{"$f":"A2207&L2207&G2207","v":""},{"$f":"VLOOKUP(V2207,Minimos!$D$3:$E$26,2,FALSE)","v":{"$error":"#N/A"}},{"$f":"M2207-W2207","v":{"$error":"#N/A"}},{"$f":"IF(X2207>=0,\"Apurado\",\"\")","v":{"$error":"#N/A"}}]
[null,null,null,null,null,null,null,null,null,null,null,null,null,null,null,null,null,null,null,null,null,{"$f":"A2210&L2210&G2210","v":""},{"$f":"VLOOKUP(V2210,Minimos!$D$3:$E$26,2,FALSE)","v":{"$error":"#N/A"}},{"$f":"M2210-W2210","v":{"$error":"#N/A"}},{"$f":"IF(X2210>=0,\"Apurado\",\"\")","v":{"$error":"#N/A"}}]
[null,null,null,null,null,null,null,null,null,null,null,null,null,null,null,null,null,null,null,null,null,{"$f":"A2217&L2217&G2217","v":""},{"$f":"VLOOKUP(V2217,Minimos!$D$3:$E$26,2,FALSE)","v":{"$error":"#N/A"}},{"$f":"M2217-W2217","v":{"$error":"#N/A"}},{"$f":"IF(X2217>=0,\"Apurado\",\"\")","v":{"$error":"#N/A"}}]
[null,null,null,null,null,null,null,null,null,null,null,null,null,null,null,null,null,null,null,null,null,{"$f":"A2231&L2231&G2231","v":""},{"$f":"VLOOKUP(V2231,Minimos!$D$3:$E$26,2,FALSE)","v":{"$error":"#N/A"}},{"$f":"M2231-W2231","v":{"$error":"#N/A"}},{"$f":"IF(X2231>=0,\"Apurado\",\"\")","v":{"$error":"#N/A"}}]
[null,null,null,null,null,null,null,null,null,null,null,null,null,null,null,null,null,null,null,null,null,{"$f":"A2240&L2240&G2240","v":""},{"$f":"VLOOKUP(V2240,Minimos!$D$3:$E$26,2,FALSE)","v":{"$error":"#N/A"}},{"$f":"M2240-W2240","v":{"$error":"#N/A"}},{"$f":"IF(X2240>=0,\"Apurado\",\"\")","v":{"$error":"#N/A"}}]
[null,null,null,null,null,null,null,null,null,null,null,null,null,null,null,null,null,null,null,null,null,{"$f":"A2247&L2247&G2247","v":""},{"$f":"VLOOKUP(V2247,Minimos!$D$3:$E$26,2,FALSE)","v":{"$error":"#N/A"}},{"$f":"M2247-W2247","v":{"$error":"#N/A"}},{"$f":"IF(X2247>=0,\"Apurado\",\"\")","v":{"$error":"#N/A"}}]
[null,null,null,null,null,null,null,null,null,null,null,null,null,null,null,null,null,null,null,null,null,{"$f":"A2259&L2259&G2259","v":""},{"$f":"VLOOKUP(V2259,Minimos!$D$3:$E$26,2,FALSE)","v":{"$error":"#N/A"}},{"$f":"M2259-W2259","v":{"$error":"#N/A"}},{"$f":"IF(X2259>=0,\"Apurado\",\"\")","v":{"$error":"#N/A"}}]
[null,null,null,null,null,null,null,null,null,null,null,null,null,null,null,null,null,null,null,null,null,{"$f":"A2262&L2262&G2262","v":""},{"$f":"VLOOKUP(V2262,Minimos!$D$3:$E$26,2,FALSE)","v":{"$error":"#N/A"}},{"$f":"M2262-W2262","v":{"$error":"#N/A"}},{"$f":"IF(X2262>=0,\"Apurado\",\"\")","v":{"$error":"#N/A"}}]
[null,null,null,null,null,null,null,null,null,null,null,null,null,null,null,null,null,null,null,null,null,{"$f":"A2277&L2277&G2277","v":""},{"$f":"VLOOKUP(V2277,Minimos!$D$3:$E$26,2,FALSE)","v":{"$error":"#N/A"}},{"$f":"M2277-W2277","v":{"$error":"#N/A"}},{"$f":"IF(X2277>=0,\"Apurado\",\"\")","v":{"$error":"#N/A"}}]
[null,null,null,null,null,null,null,null,null,null,null,null,null,null,null,null,null,null,null,null,null,{"$f":"A2280&L2280&G2280","v":""},{"$f":"VLOOKUP(V2280,Minimos!$D$3:$E$26,2,FALSE)","v":{"$error":"#N/A"}},{"$f":"M2280-W2280","v":{"$error":"#N/A"}},{"$f":"IF(X2280>=0,\"Apurado\",\"\")","v":{"$error":"#N/A"}}]
[null,null,null,null,null,null,null,null,null,null,null,null,null,null,null,null,null,null,null,null,null,{"$f":"A2287&L2287&G2287","v":""},{"$f":"VLOOKUP(V2287,Minimos!$D$3:$E$26,2,FALSE)","v":{"$error":"#N/A"}},{"$f":"M2287-W2287","v":{"$error":"#N/A"}},{"$f":"IF(X2287>=0,\"Apurado\",\"\")","v":{"$error":"#N/A"}}]
[null,null,null,null,null,null,null,null,null,null,null,null,null,null,null,null,null,null,null,null,null,{"$f":"A2301&L2301&G2301","v":""},{"$f":"VLOOKUP(V2301,Minimos!$D$3:$E$26,2,FALSE)","v":{"$error":"#N/A"}},{"$f":"M2301-W2301","v":{"$error":"#N/A"}},{"$f":"IF(X2301>=0,\"Apurado\",\"\")","v":{"$error":"#N/A"}}]
[null,null,null,null,null,null,null,null,null,null,null,null,null,null,null,null,null,null,null,null,null,{"$f":"A2310&L2310&G2310","v":""},{"$f":"VLOOKUP(V2310,Minimos!$D$3:$E$26,2,FALSE)","v":{"$error":"#N/A"}},{"$f":"M2310-W2310","v":{"$error":"#N/A"}},{"$f":"IF(X2310>=0,\"Apurado\",\"\")","v":{"$error":"#N/A"}}]
[null,null,null,null,null,null,null,null,null,null,null,null,null,null,null,null,null,null,null,null,null,{"$f":"A2317&L2317&G2317","v":""},{"$f":"VLOOKUP(V2317,Minimos!$D$3:$E$26,2,FALSE)","v":{"$error":"#N/A"}},{"$f":"M2317-W2317","v":{"$error":"#N/A"}},{"$f":"IF(X2317>=0,\"Apurado\",\"\")","v":{"$error":"#N/A"}}]
[null,null,null,null,null,null,null,null,null,null,null,null,null,null,null,null,null,null,null,null,null,{"$f":"A2329&L2329&G2329","v":""},{"$f":"VLOOKUP(V2329,Minimos!$D$3:$E$26,2,FALSE)","v":{"$error":"#N/A"}},{"$f":"M2329-W2329","v":{"$error":"#N/A"}},{"$f":"IF(X2329>=0,\"Apurado\",\"\")","v":{"$error":"#N/A"}}]
[null,null,null,null,null,null,null,null,null,null,null,null,null,null,null,null,null,null,null,null,null,{"$f":"A2332&L2332&G2332","v":""},{"$f":"VLOOKUP(V2332,Minimos!$D$3:$E$26,2,FALSE)","v":{"$error":"#N/A"}},{"$f":"M2332-W2332","v":{"$error":"#N/A"}},{"$f":"IF(X2332>=0,\"Apurado\",\"\")","v":{"$error":"#N/A"}}]
[null,null,null,null,null,null,null,null,null,null,null,null,null,null,null,null,null,null,null,null,null,{"$f":"A2347&L2347&G2347","v":""},{"$f":"VLOOKUP(V2347,Minimos!$D$3:$E$26,2,FALSE)","v":{"$error":"#N/A"}},{"$f":"M2347-W2347","v":{"$error":"#N/A"}},{"$f":"IF(X2347>=0,\"Apurado\",\"\")","v":{"$error":"#N/A"}}]
[null,null,null,null,null,null,null,null,null,null,null,null,null,null,null,null,null,null,null,null,null,{"$f":"A2350&L2350&G2350","v":""},{"$f":"VLOOKUP(V2350,Minimos!$D$3:$E$26,2,FALSE)","v":{"$error":"#N/A"}},{"$f":"M2350-W2350","v":{"$error":"#N/A"}},{"$f":"IF(X2350>=0,\"Apurado\",\"\")","v":{"$error":"#N/A"}}]
[null,null,null,null,null,null,null,null,null,null,null,null,null,null,null,null,null,null,null,null,null,{"$f":"A2357&L2357&G2357","v":""},{"$f":"VLOOKUP(V2357,Minimos!$D$3:$E$26,2,FALSE)","v":{"$error":"#N/A"}},{"$f":"M2357-W2357","v":{"$error":"#N/A"}},{"$f":"IF(X2357>=0,\"Apurado\",\"\")","v":{"$error":"#N/A"}}]
[null,null,null,null,null,null,null,null,null,null,null,null,null,null,null,null,null,null,null,null,null,{"$f":"A2371&L2371&G2371","v":""},{"$f":"VLOOKUP(V2371,Minimos!$D$3:$E$26,2,FALSE)","v":{"$error":"#N/A"}},{"$f":"M2371-W2371","v":{"$error":"#N/A"}},{"$f":"IF(X2371>=0,\"Apurado\",\"\")","v":{"$error":"#N/A"}}]
[null,null,null,null,null,null,null,null,null,null,null,null,null,null,null,null,null,null,null,null,null,{"$f":"A2380&L2380&G2380","v":""},{"$f":"VLOOKUP(V2380,Minimos!$D$3:$E$26,2,FALSE)","v":{"$error":"#N/A"}},{"$f":"M2380-W2380","v":{"$error":"#N/A"}},{"$f":"IF(X2380>=0,\"Apurado\",\"\")","v":{"$error":"#N/A"}}]
[null,null,null,null,null,null,null,null,null,null,null,null,null,null,null,null,null,null,null,null,null,{"$f":"A2387&L2387&G2387","v":""},{"$f":"VLOOKUP(V2387,Minimos!$D$3:$E$26,2,FALSE)","v":{"$error":"#N/A"}},{"$f":"M2387-W2387","v":{"$error":"#N/A"}},{"$f":"IF(X2387>=0,\"Apurado\",\"\")","v":{"$error":"#N/A"}}]
[null,null,null,null,null,null,null,null,null,null,null,null,null,null,null,null,null,null,null,null,null,{"$f":"A2399&L2399&G2399","v":""},{"$f":"VLOOKUP(V2399,Minimos!$D$3:$E$26,2,FALSE)","v":{"$error":"#N/A"}},{"$f":"M2399-W2399","v":{"$error":"#N/A"}},{"$f":"IF(X2399>=0,\"Apurado\",\"\")","v":{"$error":"#N/A"}}]
[null,null,null,null,null,null,null,null,null,null,null,null,null,null,null,null,null,null,null,null,null,{"$f":"A2402&L2402&G2402","v":""},{"$f":"VLOOKUP(V2402,Minimos!$D$3:$E$26,2,FALSE)","v":{"$error":"#N/A"}},{"$f":"M2402-W2402","v":{"$error":"#N/A"}},{"$f":"IF(X2402>=0,\"Apurado\",\"\")","v":{"$error":"#N/A"}}]
[null,null,null,null,null,null,null,null,null,null,null,null,null,null,null,null,null,null,null,null,null,{"$f":"A2417&L2417&G2417","v":""},{"$f":"VLOOKUP(V2417,Minimos!$D$3:$E$26,2,FALSE)","v":{"$error":"#N/A"}},{"$f":"M2417-W2417","v":{"$error":"#N/A"}},{"$f":"IF(X2417>=0,\"Apurado\",\"\")","v":{"$error":"#N/A"}}]
[null,null,null,null,null,null,null,null,null,null,null,null,null,null,null,null,null,null,null,null,null,{"$f":"A2420&L2420&G2420","v":""},{"$f":"VLOOKUP(V2420,Minimos!$D$3:$E$26,2,FALSE)","v":{"$error":"#N/A"}},{"$f":"M2420-W2420","v":{"$error":"#N/A"}},{"$f":"IF(X2420>=0,\"Apurado\",\"\")","v":{"$error":"#N/A"}}]
[null,null,null,null,null,null,null,null,null,null,null,null,null,null,null,null,null,null,null,null,null,{"$f":"A2427&L2427&G2427","v":""},{"$f":"VLOOKUP(V2427,Minimos!$D$3:$E$26,2,FALSE)","v":{"$error":"#N/A"}},{"$f":"M2427-W2427","v":{"$error":"#N/A"}},{"$f":"IF(X2427>=0,\"Apurado\",\"\")","v":{"$error":"#N/A"}}]
[null,null,null,null,null,null,null,null,null,null,null,null,null,null,null,null,null,null,null,null,null,{"$f":"A2441&L2441&G2441","v":""},{"$f":"VLOOKUP(V2441,Minimos!$D$3:$E$26,2,FALSE)","v":{"$error":"#N/A"}},{"$f":"M2441-W2441","v":{"$error":"#N/A"}},{"$f":"IF(X2441>=0,\"Apurado\",\"\")","v":{"$error":"#N/A"}}]
[null,null,null,null,null,null,null,null,null,null,null,null,null,null,null,null,null,null,null,null,null,{"$f":"A2445&L2445&G2445","v":""},{"$f":"VLOOKUP(V2445,Minimos!$D$3:$E$26,2,FALSE)","v":{"$error":"#N/A"}},{"$f":"M2445-W2445","v":{"$error":"#N/A"}},{"$f":"IF(X2445>=0,\"Apurado\",\"\")","v":{"$error":"#N/A"}}]
[null,null,null,null,null,null,null,null,null,null,null,null,null,null,null,null,null,null,null,null,null,{"$f":"A2457&L2457&G2457","v":""},{"$f":"VLOOKUP(V2457,Minimos!$D$3:$E$26,2,FALSE)","v":{"$error":"#N/A"}},{"$f":"M2457-W2457","v":{"$error":"#N/A"}},{"$f":"IF(X2457>=0,\"Apurado\",\"\")","v":{"$error":"#N/A"}}]
[null,null,null,null,null,null,null,null,null,null,null,null,null,null,null,null,null,null,null,null,null,{"$f":"A2469&L2469&G2469","v":""},{"$f":"VLOOKUP(V2469,Minimos!$D$3:$E$26,2,FALSE)","v":{"$error":"#N/A"}},{"$f":"M2469-W2469","v":{"$error":"#N/A"}},{"$f":"IF(X2469>=0,\"Apurado\",\"\")","v":{"$error":"#N/A"}}]
[null,null,null,null,null,null,null,null,null,null,null,null,null,null,null,null,null,null,null,null,null,{"$f":"A2472&L2472&G2472","v":""},{"$f":"VLOOKUP(V2472,Minimos!$D$3:$E$26,2,FALSE)","v":{"$error":"#N/A"}},{"$f":"M2472-W2472","v":{"$error":"#N/A"}},{"$f":"IF(X2472>=0,\"Apurado\",\"\")","v":{"$error":"#N/A"}}]
[null,null,null,null,null,null,null,null,null,null,null,null,null,null,null,null,null,null,null,null,null,{"$f":"A2487&L2487&G2487","v":""},{"$f":"VLOOKUP(V2487,Minimos!$D$3:$E$26,2,FALSE)","v":{"$error":"#N/A"}},{"$f":"M2487-W2487","v":{"$error":"#N/A"}},{"$f":"IF(X2487>=0,\"Apurado\",\"\")","v":{"$error":"#N/A"}}]
[null,null,null,null,null,null,null,null,null,null,null,null,null,null,null,null,null,null,null,null,null,{"$f":"A2490&L2490&G2490","v":""},{"$f":"VLOOKUP(V2490,Minimos!$D$3:$E$26,2,FALSE)","v":{"$error":"#N/A"}},{"$f":"M2490-W2490","v":{"$error":"#N/A"}},{"$f":"IF(X2490>=0,\"Apurado\",\"\")","v":{"$error":"#N/A"}}]
[null,null,null,null,null,null,null,null,null,null,null,null,null,null,null,null,null,null,null,null,null,{"$f":"A2497&L2497&G2497","v":""},{"$f":"VLOOKUP(V2497,Minimos!$D$3:$E$26,2,FALSE)","v":{"$error":"#N/A"}},{"$f":"M2497-W2497","v":{"$error":"#N/A"}},{"$f":"IF(X2497>=0,\"Apurado\",\"\")","v":{"$error":"#N/A"}}]
[null,null,null,null,null,null,null,null,null,null,null,null,null,null,null,null,null,null,null,null,null,{"$f":"A2511&L2511&G2511","v":""},{"$f":"VLOOKUP(V2511,Minimos!$D$3:$E$26,2,FALSE)","v":{"$error":"#N/A"}},{"$f":"M2511-W2511","v":{"$error":"#N/A"}},{"$f":"IF(X2511>=0,\"Apurado\",\"\")","v":{"$error":"#N/A"}}]
[null,null,null,null,null,null,null,null,null,null,null,null,null,null,null,null,null,null,null,null,null,{"$f":"A2515&L2515&G2515","v":""},{"$f":"VLOOKUP(V2515,Minimos!$D$3:$E$26,2,FALSE)","v":{"$error":"#N/A"}},{"$f":"M2515-W2515","v":{"$error":"#N/A"}},{"$f":"IF(X2515>=0,\"Apurado\",\"\")","v":{"$error":"#N/A"}}]
[null,null,null,null,null,null,null,null,null,null,null,null,null,null,null,null,null,null,null,null,null,{"$f":"A2527&L2527&G2527","v":""},{"$f":"VLOOKUP(V2527,Minimos!$D$3:$E$26,2,FALSE)","v":{"$error":"#N/A"}},{"$f":"M2527-W2527","v":{"$error":"#N/A"}},{"$f":"IF(X2527>=0,\"Apurado\",\"\")","v":{"$error":"#N/A"}}]
[null,null,null,null,null,null,null,null,null,null,null,null,null,null,null,null,null,null,null,null,null,{"$f":"A2539&L2539&G2539","v":""},{"$f":"VLOOKUP(V2539,Minimos!$D$3:$E$26,2,FALSE)","v":{"$error":"#N/A"}},{"$f":"M2539-W2539","v":{"$error":"#N/A"}},{"$f":"IF(X2539>=0,\"Apurado\",\"\")","v":{"$error":"#N/A"}}]
[null,null,null,null,null,null,null,null,null,null,null,null,null,null,null,null,null,null,null,null,null,{"$f":"A2542&L2542&G2542","v":""},{"$f":"VLOOKUP(V2542,Minimos!$D$3:$E$26,2,FALSE)","v":{"$error":"#N/A"}},{"$f":"M2542-W2542","v":{"$error":"#N/A"}},{"$f":"IF(X2542>=0,\"Apurado\",\"\")","v":{"$error":"#N/A"}}]
[null,null,null,null,null,null,null,null,null,null,null,null,null,null,null,null,null,null,null,null,null,{"$f":"A2557&L2557&G2557","v":""},{"$f":"VLOOKUP(V2557,Minimos!$D$3:$E$26,2,FALSE)","v":{"$error":"#N/A"}},{"$f":"M2557-W2557","v":{"$error":"#N/A"}},{"$f":"IF(X2557>=0,\"Apurado\",\"\")","v":{"$error":"#N/A"}}]
[null,null,null,null,null,null,null,null,null,null,null,null,null,null,null,null,null,null,null,null,null,{"$f":"A2560&L2560&G2560","v":""},{"$f":"VLOOKUP(V2560,Minimos!$D$3:$E$26,2,FALSE)","v":{"$error":"#N/A"}},{"$f":"M2560-W2560","v":{"$error":"#N/A"}},{"$f":"IF(X2560>=0,\"Apurado\",\"\")","v":{"$error":"#N/A"}}]
[null,null,null,null,null,null,null,null,null,null,null,null,null,null,null,null,null,null,null,null,null,{"$f":"A2567&L2567&G2567","v":""},{"$f":"VLOOKUP(V2567,Minimos!$D$3:$E$26,2,FALSE)","v":{"$error":"#N/A"}},{"$f":"M2567-W2567","v":{"$error":"#N/A"}},{"$f":"IF(X2567>=0,\"Apurado\",\"\")","v":{"$error":"#N/A"}}]
[null,null,null,null,null,null,null,null,null,null,null,null,null,null,null,null,null,null,null,null,null,{"$f":"A2581&L2581&G2581","v":""},{"$f":"VLOOKUP(V2581,Minimos!$D$3:$E$26,2,FALSE)","v":{"$error":"#N/A"}},{"$f":"M2581-W2581","v":{"$error":"#N/A"}},{"$f":"IF(X2581>=0,\"Apurado\",\"\")","v":{"$error":"#N/A"}}]
[null,null,null,null,null,null,null,null,null,null,null,null,null,null,null,null,null,null,null,null,null,{"$f":"A2585&L2585&G2585","v":""},{"$f":"VLOOKUP(V2585,Minimos!$D$3:$E$26,2,FALSE)","v":{"$error":"#N/A"}},{"$f":"M2585-W2585","v":{"$error":"#N/A"}},{"$f":"IF(X2585>=0,\"Apurado\",\"\")","v":{"$error":"#N/A"}}]
[null,null,null,null,null,null,null,null,null,null,null,null,null,null,null,null,null,null,null,null,null,{"$f":"A2597&L2597&G2597","v":""},{"$f":"VLOOKUP(V2597,Minimos!$D$3:$E$26,2,FALSE)","v":{"$error":"#N/A"}},{"$f":"M2597-W2597","v":{"$error":"#N/A"}},{"$f":"IF(X2597>=0,\"Apurado\",\"\")","v":{"$error":"#N/A"}}]
[null,null,null,null,null,null,null,null,null,null,null,null,null,null,null,null,null,null,null,null,null,{"$f":"A2609&L2609&G2609","v":""},{"$f":"VLOOKUP(V2609,Minimos!$D$3:$E$26,2,FALSE)","v":{"$error":"#N/A"}},{"$f":"M2609-W2609","v":{"$error":"#N/A"}},{"$f":"IF(X2609>=0,\"Apurado\",\"\")","v":{"$error":"#N/A"}}]
[null,null,null,null,null,null,null,null,null,null,null,null,null,null,null,null,null,null,null,null,null,{"$f":"A2612&L2612&G2612","v":""},{"$f":"VLOOKUP(V2612,Minimos!$D$3:$E$26,2,FALSE)","v":{"$error":"#N/A"}},{"$f":"M2612-W2612","v":{"$error":"#N/A"}},{"$f":"IF(X2612>=0,\"Apurado\",\"\")","v":{"$error":"#N/A"}}]
[null,null,null,null,null,null,null,null,null,null,null,null,null,null,null,null,null,null,null,null,null,{"$f":"A2627&L2627&G2627","v":""},{"$f":"VLOOKUP(V2627,Minimos!$D$3:$E$26,2,FALSE)","v":{"$error":"#N/A"}},{"$f":"M2627-W2627","v":{"$error":"#N/A"}},{"$f":"IF(X2627>=0,\"Apurado\",\"\")","v":{"$error":"#N/A"}}]
[null,null,null,null,null,null,null,null,null,null,null,null,null,null,null,null,null,null,null,null,null,{"$f":"A2634&L2634&G2634","v":""},{"$f":"VLOOKUP(V2634,Minimos!$D$3:$E$26,2,FALSE)","v":{"$error":"#N/A"}},{"$f":"M2634-W2634","v":{"$error":"#N/A"}},{"$f":"IF(X2634>=0,\"Apurado\",\"\")","v":{"$error":"#N/A"}}]
[null,null,null,null,null,null,null,null,null,null,null,null,null,null,null,null,null,null,null,null,null,{"$f":"A2637&L2637&G2637","v":""},{"$f":"VLOOKUP(V2637,Minimos!$D$3:$E$26,2,FALSE)","v":{"$error":"#N/A"}},{"$f":"M2637-W2637","v":{"$error":"#N/A"}},{"$f":"IF(X2637>=0,\"Apurado\",\"\")","v":{"$error":"#N/A"}}]
[null,null,null,null,null,null,null,null,null,null,null,null,null,null,null,null,null,null,null,null,null,{"$f":"A2651&L2651&G2651","v":""},{"$f":"VLOOKUP(V2651,Minimos!$D$3:$E$26,2,FALSE)","v":{"$error":"#N/A"}},{"$f":"M2651-W2651","v":{"$error":"#N/A"}},{"$f":"IF(X2651>=0,\"Apurado\",\"\")","v":{"$error":"#N/A"}}]
[null,null,null,null,null,null,null,null,null,null,null,null,null,null,null,null,null,null,null,null,null,{"$f":"A2655&L2655&G2655","v":""},{"$f":"VLOOKUP(V2655,Minimos!$D$3:$E$26,2,FALSE)","v":{"$error":"#N/A"}},{"$f":"M2655-W2655","v":{"$error":"#N/A"}},{"$f":"IF(X2655>=0,\"Apurado\",\"\")","v":{"$error":"#N/A"}}]
[null,null,null,null,null,null,null,null,null,null,null,null,null,null,null,null,null,null,null,null,null,{"$f":"A2667&L2667&G2667","v":""},{"$f":"VLOOKUP(V2667,Minimos!$D$3:$E$26,2,FALSE)","v":{"$error":"#N/A"}},{"$f":"M2667-W2667","v":{"$error":"#N/A"}},{"$f":"IF(X2667>=0,\"Apurado\",\"\")","v":{"$error":"#N/A"}}]
[null,null,null,null,null,null,null,null,null,null,null,null,null,null,null,null,null,null,null,null,null,{"$f":"A2679&L2679&G2679","v":""},{"$f":"VLOOKUP(V2679,Minimos!$D$3:$E$26,2,FALSE)","v":{"$error":"#N/A"}},{"$f":"M2679-W2679","v":{"$error":"#N/A"}},{"$f":"IF(X2679>=0,\"Apurado\",\"\")","v":{"$error":"#N/A"}}]
[null,null,null,null,null,null,null,null,null,null,null,null,null,null,null,null,null,null,null,null,null,{"$f":"A2682&L2682&G2682","v":""},{"$f":"VLOOKUP(V2682,Minimos!$D$3:$E$26,2,FALSE)","v":{"$error":"#N/A"}},{"$f":"M2682-W2682","v":{"$error":"#N/A"}},{"$f":"IF(X2682>=0,\"Apurado\",\"\")","v":{"$error":"#N/A"}}]
[null,null,null,null,null,null,null,null,null,null,null,null,null,null,null,null,null,null,null,null,null,{"$f":"A2697&L2697&G2697","v":""},{"$f":"VLOOKUP(V2697,Minimos!$D$3:$E$26,2,FALSE)","v":{"$error":"#N/A"}},{"$f":"M2697-W2697","v":{"$error":"#N/A"}},{"$f":"IF(X2697>=0,\"Apurado\",\"\")","v":{"$error":"#N/A"}}]
[null,null,null,null,null,null,null,null,null,null,null,null,null,null,null,null,null,null,null,null,null,{"$f":"A2704&L2704&G2704","v":""},{"$f":"VLOOKUP(V2704,Minimos!$D$3:$E$26,2,FALSE)","v":{"$error":"#N/A"}},{"$f":"M2704-W2704","v":{"$error":"#N/A"}},{"$f":"IF(X2704>=0,\"Apurado\",\"\")","v":{"$error":"#N/A"}}]
[null,null,null,null,null,null,null,null,null,null,null,null,null,null,null,null,null,null,null,null,null,{"$f":"A2707&L2707&G2707","v":""},{"$f":"VLOOKUP(V2707,Minimos!$D$3:$E$26,2,FALSE)","v":{"$error":"#N/A"}},{"$f":"M2707-W2707","v":{"$error":"#N/A"}},{"$f":"IF(X2707>=0,\"Apurado\",\"\")","v":{"$error":"#N/A"}}]
[null,null,null,null,null,null,null,null,null,null,null,null,null,null,null,null,null,null,null,null,null,{"$f":"A2721&L2721&G2721","v":""},{"$f":"VLOOKUP(V2721,Minimos!$D$3:$E$26,2,FALSE)","v":{"$error":"#N/A"}},{"$f":"M2721-W2721","v":{"$error":"#N/A"}},{"$f":"IF(X2721>=0,\"Apurado\",\"\")","v":{"$error":"#N/A"}}]
[null,null,null,null,null,null,null,null,null,null,null,null,null,null,null,null,null,null,null,null,null,{"$f":"A2725&L2725&G2725","v":""},{"$f":"VLOOKUP(V2725,Minimos!$D$3:$E$26,2,FALSE)","v":{"$error":"#N/A"}},{"$f":"M2725-W2725","v":{"$error":"#N/A"}},{"$f":"IF(X2725>=0,\"Apurado\",\"\")","v":{"$error":"#N/A"}}]
[null,null,null,null,null,null,null,null,null,null,null,null,null,null,null,null,null,null,null,null,null,{"$f":"A2737&L2737&G2737","v":""},{"$f":"VLOOKUP(V2737,Minimos!$D$3:$E$26,2,FALSE)","v":{"$error":"#N/A"}},{"$f":"M2737-W2737","v":{"$error":"#N/A"}},{"$f":"IF(X2737>=0,\"Apurado\",\"\")","v":{"$error":"#N/A"}}]
[null,null,null,null,null,null,null,null,null,null,null,null,null,null,null,null,null,null,null,null,null,{"$f":"A2744&L2744&G2744","v":""},{"$f":"VLOOKUP(V2744,Minimos!$D$3:$E$26,2,FALSE)","v":{"$error":"#N/A"}},{"$f":"M2744-W2744","v":{"$error":"#N/A"}},{"$f":"IF(X2744>=0,\"Apurado\",\"\")","v":{"$error":"#N/A"}}]
[null,null,null,null,null,null,null,null,null,null,null,null,null,null,null,null,null,null,null,null,null,{"$f":"A2752&L2752&G2752","v":""},{"$f":"VLOOKUP(V2752,Minimos!$D$3:$E$26,2,FALSE)","v":{"$error":"#N/A"}},{"$f":"M2752-W2752","v":{"$error":"#N/A"}},{"$f":"IF(X2752>=0,\"Apurado\",\"\")","v":{"$error":"#N/A"}}]
[null,null,null,null,null,null,null,null,null,null,null,null,null,null,null,null,null,null,null,null,null,{"$f":"A2767&L2767&G2767","v":""},{"$f":"VLOOKUP(V2767,Minimos!$D$3:$E$26,2,FALSE)","v":{"$error":"#N/A"}},{"$f":"M2767-W2767","v":{"$error":"#N/A"}},{"$f":"IF(X2767>=0,\"Apurado\",\"\")","v":{"$error":"#N/A"}}]
[null,null,null,null,null,null,null,null,null,null,null,null,null,null,null,null,null,null,null,null,null,{"$f":"A2774&L2774&G2774","v":""},{"$f":"VLOOKUP(V2774,Minimos!$D$3:$E$26,2,FALSE)","v":{"$error":"#N/A"}},{"$f":"M2774-W2774","v":{"$error":"#N/A"}},{"$f":"IF(X2774>=0,\"Apurado\",\"\")","v":{"$error":"#N/A"}}]
[null,null,null,null,null,null,null,null,null,null,null,null,null,null,null,null,null,null,null,null,null,{"$f":"A2777&L2777&G2777","v":""},{"$f":"VLOOKUP(V2777,Minimos!$D$3:$E$26,2,FALSE)","v":{"$error":"#N/A"}},{"$f":"M2777-W2777","v":{"$error":"#N/A"}},{"$f":"IF(X2777>=0,\"Apurado\",\"\")","v":{"$error":"#N/A"}}]
[null,null,null,null,null,null,null,null,null,null,null,null,null,null,null,null,null,null,null,null,null,{"$f":"A2791&L2791&G2791","v":""},{"$f":"VLOOKUP(V2791,Minimos!$D$3:$E$26,2,FALSE)","v":{"$error":"#N/A"}},{"$f":"M2791-W2791","v":{"$error":"#N/A"}},{"$f":"IF(X2791>=0,\"Apurado\",\"\")","v":{"$error":"#N/A"}}]
[null,null,null,null,null,null,null,null,null,null,null,null,null,null,null,null,null,null,null,null,null,{"$f":"A2795&L2795&G2795","v":""},{"$f":"VLOOKUP(V2795,Minimos!$D$3:$E$26,2,FALSE)","v":{"$error":"#N/A"}},{"$f":"M2795-W2795","v":{"$error":"#N/A"}},{"$f":"IF(X2795>=0,\"Apurado\",\"\")","v":{"$error":"#N/A"}}]
[null,null,null,null,null,null,null,null,null,null,null,null,null,null,null,null,null,null,null,null,null,{"$f":"A2807&L2807&G2807","v":""},{"$f":"VLOOKUP(V2807,Minimos!$D$3:$E$26,2,FALSE)","v":{"$error":"#N/A"}},{"$f":"M2807-W2807","v":{"$error":"#N/A"}},{"$f":"IF(X2807>=0,\"Apurado\",\"\")","v":{"$error":"#N/A"}}]
[null,null,null,null,null,null,null,null,null,null,null,null,null,null,null,null,null,null,null,null,null,{"$f":"A2814&L2814&G2814","v":""},{"$f":"VLOOKUP(V2814,Minimos!$D$3:$E$26,2,FALSE)","v":{"$error":"#N/A"}},{"$f":"M2814-W2814","v":{"$error":"#N/A"}},{"$f":"IF(X2814>=0,\"Apurado\",\"\")","v":{"$error":"#N/A"}}]
[null,null,null,null,null,null,null,null,null,null,null,null,null,null,null,null,null,null,null,null,null,{"$f":"A2822&L2822&G2822","v":""},{"$f":"VLOOKUP(V2822,Minimos!$D$3:$E$26,2,FALSE)","v":{"$error":"#N/A"}},{"$f":"M2822-W2822","v":{"$error":"#N/A"}},{"$f":"IF(X2822>=0,\"Apurado\",\"\")","v":{"$error":"#N/A"}}]
[null,null,null,null,null,null,null,null,null,null,null,null,null,null,null,null,null,null,null,null,null,{"$f":"A2837&L2837&G2837","v":""},{"$f":"VLOOKUP(V2837,Minimos!$D$3:$E$26,2,FALSE)","v":{"$error":"#N/A"}},{"$f":"M2837-W2837","v":{"$error":"#N/A"}},{"$f":"IF(X2837>=0,\"Apurado\",\"\")","v":{"$error":"#N/A"}}]
[null,null,null,null,null,null,null,null,null,null,null,null,null,null,null,null,null,null,null,null,null,{"$f":"A2844&L2844&G2844","v":""},{"$f":"VLOOKUP(V2844,Minimos!$D$3:$E$26,2,FALSE)","v":{"$error":"#N/A"}},{"$f":"M2844-W2844","v":{"$error":"#N/A"}},{"$f":"IF(X2844>=0,\"Apurado\",\"\")","v":{"$error":"#N/A"}}]
[null,null,null,null,null,null,null,null,null,null,null,null,null,null,null,null,null,null,null,null,null,{"$f":"A2847&L2847&G2847","v":""},{"$f":"VLOOKUP(V2847,Minimos!$D$3:$E$26,2,FALSE)","v":{"$error":"#N/A"}},{"$f":"M2847-W2847","v":{"$error":"#N/A"}},{"$f":"IF(X2847>=0,\"Apurado\",\"\")","v":{"$error":"#N/A"}}]
[null,null,null,null,null,null,null,null,null,null,null,null,null,null,null,null,null,null,null,null,null,{"$f":"A2861&L2861&G2861","v":""},{"$f":"VLOOKUP(V2861,Minimos!$D$3:$E$26,2,FALSE)","v":{"$error":"#N/A"}},{"$f":"M2861-W2861","v":{"$error":"#N/A"}},{"$f":"IF(X2861>=0,\"Apurado\",\"\")","v":{"$error":"#N/A"}}]
[null,null,null,null,null,null,null,null,null,null,null,null,null,null,null,null,null,null,null,null,null,{"$f":"A2865&L2865&G2865","v":""},{"$f":"VLOOKUP(V2865,Minimos!$D$3:$E$26,2,FALSE)","v":{"$error":"#N/A"}},{"$f":"M2865-W2865","v":{"$error":"#N/A"}},{"$f":"IF(X2865>=0,\"Apurado\",\"\")","v":{"$error":"#N/A"}}]
[null,null,null,null,null,null,null,null,null,null,null,null,null,null,null,null,null,null,null,null,null,{"$f":"A2877&L2877&G2877","v":""},{"$f":"VLOOKUP(V2877,Minimos!$D$3:$E$26,2,FALSE)","v":{"$error":"#N/A"}},{"$f":"M2877-W2877","v":{"$error":"#N/A"}},{"$f":"IF(X2877>=0,\"Apurado\",\"\")","v":{"$error":"#N/A"}}]
[null,null,null,null,null,null,null,null,null,null,null,null,null,null,null,null,null,null,null,null,null,{"$f":"A2884&L2884&G2884","v":""},{"$f":"VLOOKUP(V2884,Minimos!$D$3:$E$26,2,FALSE)","v":{"$error":"#N/A"}},{"$f":"M2884-W2884","v":{"$error":"#N/A"}},{"$f":"IF(X2884>=0,\"Apurado\",\"\")","v":{"$error":"#N/A"}}]
[null,null,null,null,null,null,null,null,null,null,null,null,null,null,null,null,null,null,null,null,null,{"$f":"A2892&L2892&G2892","v":""},{"$f":"VLOOKUP(V2892,Minimos!$D$3:$E$26,2,FALSE)","v":{"$error":"#N/A"}},{"$f":"M2892-W2892","v":{"$error":"#N/A"}},{"$f":"IF(X2892>=0,\"Apurado\",\"\")","v":{"$error":"#N/A"}}]
[null,null,null,null,null,null,null,null,null,null,null,null,null,null,null,null,null,null,null,null,null,{"$f":"A2907&L2907&G2907","v":""},{"$f":"VLOOKUP(V2907,Minimos!$D$3:$E$26,2,FALSE)","v":{"$error":"#N/A"}},{"$f":"M2907-W2907","v":{"$error":"#N/A"}},{"$f":"IF(X2907>=0,\"Apurado\",\"\")","v":{"$error":"#N/A"}}]
[null,null,null,null,null,null,null,null,null,null,null,null,null,null,null,null,null,null,null,null,null,{"$f":"A2914&L2914&G2914","v":""},{"$f":"VLOOKUP(V2914,Minimos!$D$3:$E$26,2,FALSE)","v":{"$error":"#N/A"}},{"$f":"M2914-W2914","v":{"$error":"#N/A"}},{"$f":"IF(X2914>=0,\"Apurado\",\"\")","v":{"$error":"#N/A"}}]
[null,null,null,null,null,null,null,null,null,null,null,null,null,null,null,null,null,null,null,null,null,{"$f":"A2917&L2917&G2917","v":""},{"$f":"VLOOKUP(V2917,Minimos!$D$3:$E$26,2,FALSE)","v":{"$error":"#N/A"}},{"$f":"M2917-W2917","v":{"$error":"#N/A"}},{"$f":"IF(X2917>=0,\"Apurado\",\"\")","v":{"$error":"#N/A"}}]
[null,null,null,null,null,null,null,null,null,null,null,null,null,null,null,null,null,null,null,null,null,{"$f":"A2931&L2931&G2931","v":""},{"$f":"VLOOKUP(V2931,Minimos!$D$3:$E$26,2,FALSE)","v":{"$error":"#N/A"}},{"$f":"M2931-W2931","v":{"$error":"#N/A"}},{"$f":"IF(X2931>=0,\"Apurado\",\"\")","v":{"$error":"#N/A"}}]
[null,null,null,null,null,null,null,null,null,null,null,null,null,null,null,null,null,null,null,null,null,{"$f":"A2935&L2935&G2935","v":""},{"$f":"VLOOKUP(V2935,Minimos!$D$3:$E$26,2,FALSE)","v":{"$error":"#N/A"}},{"$f":"M2935-W2935","v":{"$error":"#N/A"}},{"$f":"IF(X2935>=0,\"Apurado\",\"\")","v":{"$error":"#N/A"}}]
[null,null,null,null,null,null,null,null,null,null,null,null,null,null,null,null,null,null,null,null,null,{"$f":"A2947&L2947&G2947","v":""},{"$f":"VLOOKUP(V2947,Minimos!$D$3:$E$26,2,FALSE)","v":{"$error":"#N/A"}},{"$f":"M2947-W2947","v":{"$error":"#N/A"}},{"$f":"IF(X2947>=0,\"Apurado\",\"\")","v":{"$error":"#N/A"}}]
[null,null,null,null,null,null,null,null,null,null,null,null,null,null,null,null,null,null,null,null,null,{"$f":"A2954&L2954&G2954","v":""},{"$f":"VLOOKUP(V2954,Minimos!$D$3:$E$26,2,FALSE)","v":{"$error":"#N/A"}},{"$f":"M2954-W2954","v":{"$error":"#N/A"}},{"$f":"IF(X2954>=0,\"Apurado\",\"\")","v":{"$error":"#N/A"}}]
[null,null,null,null,null,null,null,null,null,null,null,null,null,null,null,null,null,null,null,null,null,{"$f":"A2962&L2962&G2962","v":""},{"$f":"VLOOKUP(V2962,Minimos!$D$3:$E$26,2,FALSE)","v":{"$error":"#N/A"}},{"$f":"M2962-W2962","v":{"$error":"#N/A"}},{"$f":"IF(X2962>=0,\"Apurado\",\"\")","v":{"$error":"#N/A"}}]
[null,null,null,null,null,null,null,null,null,null,null,null,null,null,null,null,null,null,null,null,null,{"$f":"A2977&L2977&G2977","v":""},{"$f":"VLOOKUP(V2977,Minimos!$D$3:$E$26,2,FALSE)","v":{"$error":"#N/A"}},{"$f":"M2977-W2977","v":{"$error":"#N/A"}},{"$f":"IF(X2977>=0,\"Apurado\",\"\")","v":{"$error":"#N/A"}}]
[null,null,null,null,null,null,null,null,null,null,null,null,null,null,null,null,null,null,null,null,null,{"$f":"A2984&L2984&G2984","v":""},{"$f":"VLOOKUP(V2984,Minimos!$D$3:$E$26,2,FALSE)","v":{"$error":"#N/A"}},{"$f":"M2984-W2984","v":{"$error":"#N/A"}},{"$f":"IF(X2984>=0,\"Apurado\",\"\")","v":{"$error":"#N/A"}}]
[null,null,null,null,null,null,null,null,null,null,null,null,null,null,null,null,null,null,null,null,null,{"$f":"A2987&L2987&G2987","v":""},{"$f":"VLOOKUP(V2987,Minimos!$D$3:$E$26,2,FALSE)","v":{"$error":"#N/A"}},{"$f":"M2987-W2987","v":{"$error":"#N/A"}},{"$f":"IF(X2987>=0,\"Apurado\",\"\")","v":{"$error":"#N/A"}}]
[null,null,null,null,null,null,null,null,null,null,null,null,null,null,null,null,null,null,null,null,null,{"$f":"A3001&L3001&G3001","v":""},{"$f":"VLOOKUP(V3001,Minimos!$D$3:$E$26,2,FALSE)","v":{"$error":"#N/A"}},{"$f":"M3001-W3001","v":{"$error":"#N/A"}},{"$f":"IF(X3001>=0,\"Apurado\",\"\")","v":{"$error":"#N/A"}}]
[null,null,null,null,null,null,null,null,null,null,null,null,null,null,null,null,null,null,null,null,null,{"$f":"A3005&L3005&G3005","v":""},{"$f":"VLOOKUP(V3005,Minimos!$D$3:$E$26,2,FALSE)","v":{"$error":"#N/A"}},{"$f":"M3005-W3005","v":{"$error":"#N/A"}},{"$f":"IF(X3005>=0,\"Apurado\",\"\")","v":{"$error":"#N/A"}}]
[null,null,null,null,null,null,null,null,null,null,null,null,null,null,null,null,null,null,null,null,null,{"$f":"A3017&L3017&G3017","v":""},{"$f":"VLOOKUP(V3017,Minimos!$D$3:$E$26,2,FALSE)","v":{"$error":"#N/A"}},{"$f":"M3017-W3017","v":{"$error":"#N/A"}},{"$f":"IF(X3017>=0,\"Apurado\",\"\")","v":{"$error":"#N/A"}}]
[null,null,null,null,null,null,null,null,null,null,null,null,null,null,null,null,null,null,null,null,null,{"$f":"A3024&L3024&G3024","v":""},{"$f":"VLOOKUP(V3024,Minimos!$D$3:$E$26,2,FALSE)","v":{"$error":"#N/A"}},{"$f":"M3024-W3024","v":{"$error":"#N/A"}},{"$f":"IF(X3024>=0,\"Apurado\",\"\")","v":{"$error":"#N/A"}}]
[null,null,null,null,null,null,null,null,null,null,null,null,null,null,null,null,null,null,null,null,null,{"$f":"A3032&L3032&G3032","v":""},{"$f":"VLOOKUP(V3032,Minimos!$D$3:$E$26,2,FALSE)","v":{"$error":"#N/A"}},{"$f":"M3032-W3032","v":{"$error":"#N/A"}},{"$f":"IF(X3032>=0,\"Apurado\",\"\")","v":{"$error":"#N/A"}}]
[null,null,null,null,null,null,null,null,null,null,null,null,null,null,null,null,null,null,null,null,null,{"$f":"A3047&L3047&G3047","v":""},{"$f":"VLOOKUP(V3047,Minimos!$D$3:$E$26,2,FALSE)","v":{"$error":"#N/A"}},{"$f":"M3047-W3047","v":{"$error":"#N/A"}},{"$f":"IF(X3047>=0,\"Apurado\",\"\")","v":{"$error":"#N/A"}}]
[null,null,null,null,null,null,null,null,null,null,null,null,null,null,null,null,null,null,null,null,null,{"$f":"A3054&L3054&G3054","v":""},{"$f":"VLOOKUP(V3054,Minimos!$D$3:$E$26,2,FALSE)","v":{"$error":"#N/A"}},{"$f":"M3054-W3054","v":{"$error":"#N/A"}},{"$f":"IF(X3054>=0,\"Apurado\",\"\")","v":{"$error":"#N/A"}}]
[null,null,null,null,null,null,null,null,null,null,null,null,null,null,null,null,null,null,null,null,null,{"$f":"A3057&L3057&G3057","v":""},{"$f":"VLOOKUP(V3057,Minimos!$D$3:$E$26,2,FALSE)","v":{"$error":"#N/A"}},{"$f":"M3057-W3057","v":{"$error":"#N/A"}},{"$f":"IF(X3057>=0,\"Apurado\",\"\")","v":{"$error":"#N/A"}}]
[null,null,null,null,null,null,null,null,null,null,null,null,null,null,null,null,null,null,null,null,null,{"$f":"A3071&L3071&G3071","v":""},{"$f":"VLOOKUP(V3071,Minimos!$D$3:$E$26,2,FALSE)","v":{"$error":"#N/A"}},{"$f":"M3071-W3071","v":{"$error":"#N/A"}},{"$f":"IF(X3071>=0,\"Apurado\",\"\")","v":{"$error":"#N/A"}}]
[null,null,null,null,null,null,null,null,null,null,null,null,null,null,null,null,null,null,null,null,null,{"$f":"A3075&L3075&G3075","v":""},{"$f":"VLOOKUP(V3075,Minimos!$D$3:$E$26,2,FALSE)","v":{"$error":"#N/A"}},{"$f":"M3075-W3075","v":{"$error":"#N/A"}},{"$f":"IF(X3075>=0,\"Apurado\",\"\")","v":{"$error":"#N/A"}}]
[null,null,null,null,null,null,null,null,null,null,null,null,null,null,null,null,null,null,null,null,null,{"$f":"A3087&L3087&G3087","v":""},{"$f":"VLOOKUP(V3087,Minimos!$D$3:$E$26,2,FALSE)","v":{"$error":"#N/A"}},{"$f":"M3087-W3087","v":{"$error":"#N/A"}},{"$f":"IF(X3087>=0,\"Apurado\",\"\")","v":{"$error":"#N/A"}}]
[null,null,null,null,null,null,null,null,null,null,null,null,null,null,null,null,null,null,null,null,null,{"$f":"A3094&L3094&G3094","v":""},{"$f":"VLOOKUP(V3094,Minimos!$D$3:$E$26,2,FALSE)","v":{"$error":"#N/A"}},{"$f":"M3094-W3094","v":{"$error":"#N/A"}},{"$f":"IF(X3094>=0,\"Apurado\",\"\")","v":{"$error":"#N/A"}}]
[null,null,null,null,null,null,null,null,null,null,null,null,null,null,null,null,null,null,null,null,null,{"$f":"A3102&L3102&G3102","v":""},{"$f":"VLOOKUP(V3102,Minimos!$D$3:$E$26,2,FALSE)","v":{"$error":"#N/A"}},{"$f":"M3102-W3102","v":{"$error":"#N/A"}},{"$f":"IF(X3102>=0,\"Apurado\",\"\")","v":{"$error":"#N/A"}}]
[null,null,null,null,null,null,null,null,null,null,null,null,null,null,null,null,null,null,null,null,null,{"$f":"A3112&L3112&G3112","v":""},{"$f":"VLOOKUP(V3112,Minimos!$D$3:$E$26,2,FALSE)","v":{"$error":"#N/A"}},{"$f":"M3112-W3112","v":{"$error":"#N/A"}},{"$f":"IF(X3112>=0,\"Apurado\",\"\")","v":{"$error":"#N/A"}}]
[null,null,null,null,null,null,null,null,null,null,null,null,null,null,null,null,null,null,null,null,null,{"$f":"A3124&L3124&G3124","v":""},{"$f":"VLOOKUP(V3124,Minimos!$D$3:$E$26,2,FALSE)","v":{"$error":"#N/A"}},{"$f":"M3124-W3124","v":{"$error":"#N/A"}},{"$f":"IF(X3124>=0,\"Apurado\",\"\")","v":{"$error":"#N/A"}}]
[null,null,null,null,null,null,null,null,null,null,null,null,null,null,null,null,null,null,null,null,null,{"$f":"A3127&L3127&G3127","v":""},{"$f":"VLOOKUP(V3127,Minimos!$D$3:$E$26,2,FALSE)","v":{"$error":"#N/A"}},{"$f":"M3127-W3127","v":{"$error":"#N/A"}},{"$f":"IF(X3127>=0,\"Apurado\",\"\")","v":{"$error":"#N/A"}}]
[null,null,null,null,null,null,null,null,null,null,null,null,null,null,null,null,null,null,null,null,null,{"$f":"A3141&L3141&G3141","v":""},{"$f":"VLOOKUP(V3141,Minimos!$D$3:$E$26,2,FALSE)","v":{"$error":"#N/A"}},{"$f":"M3141-W3141","v":{"$error":"#N/A"}},{"$f":"IF(X3141>=0,\"Apurado\",\"\")","v":{"$error":"#N/A"}}]
[null,null,null,null,null,null,null,null,null,null,null,null,null,null,null,null,null,null,null,null,null,{"$f":"A3145&L3145&G3145","v":""},{"$f":"VLOOKUP(V3145,Minimos!$D$3:$E$26,2,FALSE)","v":{"$error":"#N/A"}},{"$f":"M3145-W3145","v":{"$error":"#N/A"}},{"$f":"IF(X3145>=0,\"Apurado\",\"\")","v":{"$error":"#N/A"}}]
[null,null,null,null,null,null,null,null,null,null,null,null,null,null,null,null,null,null,null,null,null,{"$f":"A3157&L3157&G3157","v":""},{"$f":"VLOOKUP(V3157,Minimos!$D$3:$E$26,2,FALSE)","v":{"$error":"#N/A"}},{"$f":"M3157-W3157","v":{"$error":"#N/A"}},{"$f":"IF(X3157>=0,\"Apurado\",\"\")","v":{"$error":"#N/A"}}]
[null,null,null,null,null,null,null,null,null,null,null,null,null,null,null,null,null,null,null,null,null,{"$f":"A3164&L3164&G3164","v":""},{"$f":"VLOOKUP(V3164,Minimos!$D$3:$E$26,2,FALSE)","v":{"$error":"#N/A"}},{"$f":"M3164-W3164","v":{"$error":"#N/A"}},{"$f":"IF(X3164>=0,\"Apurado\",\"\")","v":{"$error":"#N/A"}}]
[null,null,null,null,null,null,null,null,null,null,null,null,null,null,null,null,null,null,null,null,null,{"$f":"A3172&L3172&G3172","v":""},{"$f":"VLOOKUP(V3172,Minimos!$D$3:$E$26,2,FALSE)","v":{"$error":"#N/A"}},{"$f":"M3172-W3172","v":{"$error":"#N/A"}},{"$f":"IF(X3172>=0,\"Apurado\",\"\")","v":{"$error":"#N/A"}}]
[null,null,null,null,null,null,null,null,null,null,null,null,null,null,null,null,null,null,null,null,null,{"$f":"A3182&L3182&G3182","v":""},{"$f":"VLOOKUP(V3182,Minimos!$D$3:$E$26,2,FALSE)","v":{"$error":"#N/A"}},{"$f":"M3182-W3182","v":{"$error":"#N/A"}},{"$f":"IF(X3182>=0,\"Apurado\",\"\")","v":{"$error":"#N/A"}}]
[null,null,null,null,null,null,null,null,null,null,null,null,null,null,null,null,null,null,null,null,null,{"$f":"A3194&L3194&G3194","v":""},{"$f":"VLOOKUP(V3194,Minimos!$D$3:$E$26,2,FALSE)","v":{"$error":"#N/A"}},{"$f":"M3194-W3194","v":{"$error":"#N/A"}},{"$f":"IF(X3194>=0,\"Apurado\",\"\")","v":{"$error":"#N/A"}}]
[null,null,null,null,null,null,null,null,null,null,null,null,null,null,null,null,null,null,null,null,null,{"$f":"A3197&L3197&G3197","v":""},{"$f":"VLOOKUP(V3197,Minimos!$D$3:$E$26,2,FALSE)","v":{"$error":"#N/A"}},{"$f":"M3197-W3197","v":{"$error":"#N/A"}},{"$f":"IF(X3197>=0,\"Apurado\",\"\")","v":{"$error":"#N/A"}}]
[null,null,null,null,null,null,null,null,null,null,null,null,null,null,null,null,null,null,null,null,null,{"$f":"A3213&L3213&G3213","v":""},{"$f":"VLOOKUP(V3213,Minimos!$D$3:$E$26,2,FALSE)","v":{"$error":"#N/A"}},{"$f":"M3213-W3213","v":{"$error":"#N/A"}},{"$f":"IF(X3213>=0,\"Apurado\",\"\")","v":{"$error":"#N/A"}}]
[null,null,null,null,null,null,null,null,null,null,null,null,null,null,null,null,null,null,null,null,null,{"$f":"A3221&L3221&G3221","v":""},{"$f":"VLOOKUP(V3221,Minimos!$D$3:$E$26,2,FALSE)","v":{"$error":"#N/A"}},{"$f":"M3221-W3221","v":{"$error":"#N/A"}},{"$f":"IF(X3221>=0,\"Apurado\",\"\")","v":{"$error":"#N/A"}}]
[null,null,null,null,null,null,null,null,null,null,null,null,null,null,null,null,null,null,null,null,null,{"$f":"A3231&L3231&G3231","v":""},{"$f":"VLOOKUP(V3231,Minimos!$D$3:$E$26,2,FALSE)","v":{"$error":"#N/A"}},{"$f":"M3231-W3231","v":{"$error":"#N/A"}},{"$f":"IF(X3231>=0,\"Apurado\",\"\")","v":{"$error":"#N/A"}}]
[null,null,null,null,null,null,null,null,null,null,null,null,null,null,null,null,null,null,null,null,null,{"$f":"A3234&L3234&G3234","v":""},{"$f":"VLOOKUP(V3234,Minimos!$D$3:$E$26,2,FALSE)","v":{"$error":"#N/A"}},{"$f":"M3234-W3234","v":{"$error":"#N/A"}},{"$f":"IF(X3234>=0,\"Apurado\",\"\")","v":{"$error":"#N/A"}}]
[null,null,null,null,null,null,null,null,null,null,null,null,null,null,null,null,null,null,null,null,null,{"$f":"A3246&L3246&G3246","v":""},{"$f":"VLOOKUP(V3246,Minimos!$D$3:$E$26,2,FALSE)","v":{"$error":"#N/A"}},{"$f":"M3246-W3246","v":{"$error":"#N/A"}},{"$f":"IF(X3246>=0,\"Apurado\",\"\")","v":{"$error":"#N/A"}}]
[null,null,null,null,null,null,null,null,null,null,null,null,null,null,null,null,null,null,null,null,null,{"$f":"A3252&L3252&G3252","v":""},{"$f":"VLOOKUP(V3252,Minimos!$D$3:$E$26,2,FALSE)","v":{"$error":"#N/A"}},{"$f":"M3252-W3252","v":{"$error":"#N/A"}},{"$f":"IF(X3252>=0,\"Apurado\",\"\")","v":{"$error":"#N/A"}}]
[null,null,null,null,null,null,null,null,null,null,null,null,null,null,null,null,null,null,null,null,null,{"$f":"A3264&L3264&G3264","v":""},{"$f":"VLOOKUP(V3264,Minimos!$D$3:$E$26,2,FALSE)","v":{"$error":"#N/A"}},{"$f":"M3264-W3264","v":{"$error":"#N/A"}},{"$f":"IF(X3264>=0,\"Apurado\",\"\")","v":{"$error":"#N/A"}}]
[null,null,null,null,null,null,null,null,null,null,null,null,null,null,null,null,null,null,null,null,null,{"$f":"A3267&L3267&G3267","v":""},{"$f":"VLOOKUP(V3267,Minimos!$D$3:$E$26,2,FALSE)","v":{"$error":"#N/A"}},{"$f":"M3267-W3267","v":{"$error":"#N/A"}},{"$f":"IF(X3267>=0,\"Apurado\",\"\")","v":{"$error":"#N/A"}}]
[null,null,null,null,null,null,null,null,null,null,null,null,null,null,null,null,null,null,null,null,null,{"$f":"A3283&L3283&G3283","v":""},{"$f":"VLOOKUP(V3283,Minimos!$D$3:$E$26,2,FALSE)","v":{"$error":"#N/A"}},{"$f":"M3283-W3283","v":{"$error":"#N/A"}},{"$f":"IF(X3283>=0,\"Apurado\",\"\")","v":{"$error":"#N/A"}}]
[null,null,null,null,null,null,null,null,null,null,null,null,null,null,null,null,null,null,null,null,null,{"$f":"A3291&L3291&G3291","v":""},{"$f":"VLOOKUP(V3291,Minimos!$D$3:$E$26,2,FALSE)","v":{"$error":"#N/A"}},{"$f":"M3291-W3291","v":{"$error":"#N/A"}},{"$f":"IF(X3291>=0,\"Apurado\",\"\")","v":{"$error":"#N/A"}}]
[null,null,null,null,null,null,null,null,null,null,null,null,null,null,null,null,null,null,null,null,null,{"$f":"A3301&L3301&G3301","v":""},{"$f":"VLOOKUP(V3301,Minimos!$D$3:$E$26,2,FALSE)","v":{"$error":"#N/A"}},{"$f":"M3301-W3301","v":{"$error":"#N/A"}},{"$f":"IF(X3301>=0,\"Apurado\",\"\")","v":{"$error":"#N/A"}}]
[null,null,null,null,null,null,null,null,null,null,null,null,null,null,null,null,null,null,null,null,null,{"$f":"A3304&L3304&G3304","v":""},{"$f":"VLOOKUP(V3304,Minimos!$D$3:$E$26,2,FALSE)","v":{"$error":"#N/A"}},{"$f":"M3304-W3304","v":{"$error":"#N/A"}},{"$f":"IF(X3304>=0,\"Apurado\",\"\")","v":{"$error":"#N/A"}}]
[null,null,null,null,null,null,null,null,null,null,null,null,null,null,null,null,null,null,null,null,null,{"$f":"A3316&L3316&G3316","v":""},{"$f":"VLOOKUP(V3316,Minimos!$D$3:$E$26,2,FALSE)","v":{"$error":"#N/A"}},{"$f":"M3316-W3316","v":{"$error":"#N/A"}},{"$f":"IF(X3316>=0,\"Apurado\",\"\")","v":{"$error":"#N/A"}}]
[null,null,null,null,null,null,null,null,null,null,null,null,null,null,null,null,null,null,null,null,null,{"$f":"A3322&L3322&G3322","v":""},{"$f":"VLOOKUP(V3322,Minimos!$D$3:$E$26,2,FALSE)","v":{"$error":"#N/A"}},{"$f":"M3322-W3322","v":{"$error":"#N/A"}},{"$f":"IF(X3322>=0,\"Apurado\",\"\")","v":{"$error":"#N/A"}}]
[null,null,null,null,null,null,null,null,null,null,null,null,null,null,null,null,null,null,null,null,null,{"$f":"A3334&L3334&G3334","v":""},{"$f":"VLOOKUP(V3334,Minimos!$D$3:$E$26,2,FALSE)","v":{"$error":"#N/A"}},{"$f":"M3334-W3334","v":{"$error":"#N/A"}},{"$f":"IF(X3334>=0,\"Apurado\",\"\")","v":{"$error":"#N/A"}}]
[null,null,null,null,null,null,null,null,null,null,null,null,null,null,null,null,null,null,null,null,null,{"$f":"A3337&L3337&G3337","v":""},{"$f":"VLOOKUP(V3337,Minimos!$D$3:$E$26,2,FALSE)","v":{"$error":"#N/A"}},{"$f":"M3337-W3337","v":{"$error":"#N/A"}},{"$f":"IF(X3337>=0,\"Apurado\",\"\")","v":{"$error":"#N/A"}}]
[null,null,null,null,null,null,null,null,null,null,null,null,null,null,null,null,null,null,null,null,null,{"$f":"A3353&L3353&G3353","v":""},{"$f":"VLOOKUP(V3353,Minimos!$D$3:$E$26,2,FALSE)","v":{"$error":"#N/A"}},{"$f":"M3353-W3353","v":{"$error":"#N/A"}},{"$f":"IF(X3353>=0,\"Apurado\",\"\")","v":{"$error":"#N/A"}}]
[null,null,null,null,null,null,null,null,null,null,null,null,null,null,null,null,null,null,null,null,null,{"$f":"A3361&L3361&G3361","v":""},{"$f":"VLOOKUP(V3361,Minimos!$D$3:$E$26,2,FALSE)","v":{"$error":"#N/A"}},{"$f":"M3361-W3361","v":{"$error":"#N/A"}},{"$f":"IF(X3361>=0,\"Apurado\",\"\")","v":{"$error":"#N/A"}}]
[null,null,null,null,null,null,null,null,null,null,null,null,null,null,null,null,null,null,null,null,null,{"$f":"A3371&L3371&G3371","v":""},{"$f":"VLOOKUP(V3371,Minimos!$D$3:$E$26,2,FALSE)","v":{"$error":"#N/A"}},{"$f":"M3371-W3371","v":{"$error":"#N/A"}},{"$f":"IF(X3371>=0,\"Apurado\",\"\")","v":{"$error":"#N/A"}}]
[null,null,null,null,null,null,null,null,null,null,null,null,null,null,null,null,null,null,null,null,null,{"$f":"A3374&L3374&G3374","v":""},{"$f":"VLOOKUP(V3374,Minimos!$D$3:$E$26,2,FALSE)","v":{"$error":"#N/A"}},{"$f":"M3374-W3374","v":{"$error":"#N/A"}},{"$f":"IF(X3374>=0,\"Apurado\",\"\")","v":{"$error":"#N/A"}}]
[null,null,null,null,null,null,null,null,null,null,null,null,null,null,null,null,null,null,null,null,null,{"$f":"A3386&L3386&G3386","v":""},{"$f":"VLOOKUP(V3386,Minimos!$D$3:$E$26,2,FALSE)","v":{"$error":"#N/A"}},{"$f":"M3386-W3386","v":{"$error":"#N/A"}},{"$f":"IF(X3386>=0,\"Apurado\",\"\")","v":{"$error":"#N/A"}}]
[null,null,null,null,null,null,null,null,null,null,null,null,null,null,null,null,null,null,null,null,null,{"$f":"A3392&L3392&G3392","v":""},{"$f":"VLOOKUP(V3392,Minimos!$D$3:$E$26,2,FALSE)","v":{"$error":"#N/A"}},{"$f":"M3392-W3392","v":{"$error":"#N/A"}},{"$f":"IF(X3392>=0,\"Apurado\",\"\")","v":{"$error":"#N/A"}}]
[null,null,null,null,null,null,null,null,null,null,null,null,null,null,null,null,null,null,null,null,null,{"$f":"A3404&L3404&G3404","v":""},{"$f":"VLOOKUP(V3404,Minimos!$D$3:$E$26,2,FALSE)","v":{"$error":"#N/A"}},{"$f":"M3404-W3404","v":{"$error":"#N/A"}},{"$f":"IF(X3404>=0,\"Apurado\",\"\")","v":{"$error":"#N/A"}}]
[null,null,null,null,null,null,null,null,null,null,null,null,null,null,null,null,null,null,null,null,null,{"$f":"A3411&L3411&G3411","v":""},{"$f":"VLOOKUP(V3411,Minimos!$D$3:$E$26,2,FALSE)","v":{"$error":"#N/A"}},{"$f":"M3411-W3411","v":{"$error":"#N/A"}},{"$f":"IF(X3411>=0,\"Apurado\",\"\")","v":{"$error":"#N/A"}}]
[null,null,null,null,null,null,null,null,null,null,null,null,null,null,null,null,null,null,null,null,null,{"$f":"A3423&L3423&G3423","v":""},{"$f":"VLOOKUP(V3423,Minimos!$D$3:$E$26,2,FALSE)","v":{"$error":"#N/A"}},{"$f":"M3423-W3423","v":{"$error":"#N/A"}},{"$f":"IF(X3423>=0,\"Apurado\",\"\")","v":{"$error":"#N/A"}}]
[null,null,null,null,null,null,null,null,null,null,null,null,null,null,null,null,null,null,null,null,null,{"$f":"A3431&L3431&G3431","v":""},{"$f":"VLOOKUP(V3431,Minimos!$D$3:$E$26,2,FALSE)","v":{"$error":"#N/A"}},{"$f":"M3431-W3431","v":{"$error":"#N/A"}},{"$f":"IF(X3431>=0,\"Apurado\",\"\")","v":{"$error":"#N/A"}}]
[null,null,null,null,null,null,null,null,null,null,null,null,null,null,null,null,null,null,null,null,null,{"$f":"A3441&L3441&G3441","v":""},{"$f":"VLOOKUP(V3441,Minimos!$D$3:$E$26,2,FALSE)","v":{"$error":"#N/A"}},{"$f":"M3441-W3441","v":{"$error":"#N/A"}},{"$f":"IF(X3441>=0,\"Apurado\",\"\")","v":{"$error":"#N/A"}}]
[null,null,null,null,null,null,null,null,null,null,null,null,null,null,null,null,null,null,null,null,null,{"$f":"A3444&L3444&G3444","v":""},{"$f":"VLOOKUP(V3444,Minimos!$D$3:$E$26,2,FALSE)","v":{"$error":"#N/A"}},{"$f":"M3444-W3444","v":{"$error":"#N/A"}},{"$f":"IF(X3444>=0,\"Apurado\",\"\")","v":{"$error":"#N/A"}}]
[null,null,null,null,null,null,null,null,null,null,null,null,null,null,null,null,null,null,null,null,null,{"$f":"A3456&L3456&G3456","v":""},{"$f":"VLOOKUP(V3456,Minimos!$D$3:$E$26,2,FALSE)","v":{"$error":"#N/A"}},{"$f":"M3456-W3456","v":{"$error":"#N/A"}},{"$f":"IF(X3456>=0,\"Apurado\",\"\")","v":{"$error":"#N/A"}}]
[null,null,null,null,null,null,null,null,null,null,null,null,null,null,null,null,null,null,null,null,null,{"$f":"A3462&L3462&G3462","v":""},{"$f":"VLOOKUP(V3462,Minimos!$D$3:$E$26,2,FALSE)","v":{"$error":"#N/A"}},{"$f":"M3462-W3462","v":{"$error":"#N/A"}},{"$f":"IF(X3462>=0,\"Apurado\",\"\")","v":{"$error":"#N/A"}}]
[null,null,null,null,null,null,null,null,null,null,null,null,null,null,null,null,null,null,null,null,null,{"$f":"A3474&L3474&G3474","v":""},{"$f":"VLOOKUP(V3474,Minimos!$D$3:$E$26,2,FALSE)","v":{"$error":"#N/A"}},{"$f":"M3474-W3474","v":{"$error":"#N/A"}},{"$f":"IF(X3474>=0,\"Apurado\",\"\")","v":{"$error":"#N/A"}}]
[null,null,null,null,null,null,null,null,null,null,null,null,null,null,null,null,null,null,null,null,null,{"$f":"A3481&L3481&G3481","v":""},{"$f":"VLOOKUP(V3481,Minimos!$D$3:$E$26,2,FALSE)","v":{"$error":"#N/A"}},{"$f":"M3481-W3481","v":{"$error":"#N/A"}},{"$f":"IF(X3481>=0,\"Apurado\",\"\")","v":{"$error":"#N/A"}}]
[null,null,null,null,null,null,null,null,null,null,null,null,null,null,null,null,null,null,null,null,null,{"$f":"A3493&L3493&G3493","v":""},{"$f":"VLOOKUP(V3493,Minimos!$D$3:$E$26,2,FALSE)","v":{"$error":"#N/A"}},{"$f":"M3493-W3493","v":{"$error":"#N/A"}},{"$f":"IF(X3493>=0,\"Apurado\",\"\")","v":{"$error":"#N/A"}}]
[null,null,null,null,null,null,null,null,null,null,null,null,null,null,null,null,null,null,null,null,null,{"$f":"A3501&L3501&G3501","v":""},{"$f":"VLOOKUP(V3501,Minimos!$D$3:$E$26,2,FALSE)","v":{"$error":"#N/A"}},{"$f":"M3501-W3501","v":{"$error":"#N/A"}},{"$f":"IF(X3501>=0,\"Apurado\",\"\")","v":{"$error":"#N/A"}}]
[null,null,null,null,null,null,null,null,null,null,null,null,null,null,null,null,null,null,null,null,null,{"$f":"A3511&L3511&G3511","v":""},{"$f":"VLOOKUP(V3511,Minimos!$D$3:$E$26,2,FALSE)","v":{"$error":"#N/A"}},{"$f":"M3511-W3511","v":{"$error":"#N/A"}},{"$f":"IF(X3511>=0,\"Apurado\",\"\")","v":{"$error":"#N/A"}}]
[null,null,null,null,null,null,null,null,null,null,null,null,null,null,null,null,null,null,null,null,null,{"$f":"A3514&L3514&G3514","v":""},{"$f":"VLOOKUP(V3514,Minimos!$D$3:$E$26,2,FALSE)","v":{"$error":"#N/A"}},{"$f":"M3514-W3514","v":{"$error":"#N/A"}},{"$f":"IF(X3514>=0,\"Apurado\",\"\")","v":{"$error":"#N/A"}}]
[null,null,null,null,null,null,null,null,null,null,null,null,null,null,null,null,null,null,null,null,null,{"$f":"A3521&L3521&G3521","v":""},{"$f":"VLOOKUP(V3521,Minimos!$D$3:$E$26,2,FALSE)","v":{"$error":"#N/A"}},{"$f":"M3521-W3521","v":{"$error":"#N/A"}},{"$f":"IF(X3521>=0,\"Apurado\",\"\")","v":{"$error":"#N/A"}}]
[null,null,null,null,null,null,null,null,null,null,null,null,null,null,null,null,null,null,null,null,null,{"$f":"A3532&L3532&G3532","v":""},{"$f":"VLOOKUP(V3532,Minimos!$D$3:$E$26,2,FALSE)","v":{"$error":"#N/A"}},{"$f":"M3532-W3532","v":{"$error":"#N/A"}},{"$f":"IF(X3532>=0,\"Apurado\",\"\")","v":{"$error":"#N/A"}}]
[null,null,null,null,null,null,null,null,null,null,null,null,null,null,null,null,null,null,null,null,null,{"$f":"A3544&L3544&G3544","v":""},{"$f":"VLOOKUP(V3544,Minimos!$D$3:$E$26,2,FALSE)","v":{"$error":"#N/A"}},{"$f":"M3544-W3544","v":{"$error":"#N/A"}},{"$f":"IF(X3544>=0,\"Apurado\",\"\")","v":{"$error":"#N/A"}}]
[null,null,null,null,null,null,null,null,null,null,null,null,null,null,null,null,null,null,null,null,null,{"$f":"A3551&L3551&G3551","v":""},{"$f":"VLOOKUP(V3551,Minimos!$D$3:$E$26,2,FALSE)","v":{"$error":"#N/A"}},{"$f":"M3551-W3551","v":{"$error":"#N/A"}},{"$f":"IF(X3551>=0,\"Apurado\",\"\")","v":{"$error":"#N/A"}}]
[null,null,null,null,null,null,null,null,null,null,null,null,null,null,null,null,null,null,null,null,null,{"$f":"A3563&L3563&G3563","v":""},{"$f":"VLOOKUP(V3563,Minimos!$D$3:$E$26,2,FALSE)","v":{"$error":"#N/A"}},{"$f":"M3563-W3563","v":{"$error":"#N/A"}},{"$f":"IF(X3563>=0,\"Apurado\",\"\")","v":{"$error":"#N/A"}}]
[null,null,null,null,null,null,null,null,null,null,null,null,null,null,null,null,null,null,null,null,null,{"$f":"A3571&L3571&G3571","v":""},{"$f":"VLOOKUP(V3571,Minimos!$D$3:$E$26,2,FALSE)","v":{"$error":"#N/A"}},{"$f":"M3571-W3571","v":{"$error":"#N/A"}},{"$f":"IF(X3571>=0,\"Apurado\",\"\")","v":{"$error":"#N/A"}}]
[null,null,null,null,null,null,null,null,null,null,null,null,null,null,null,null,null,null,null,null,null,{"$f":"A3581&L3581&G3581","v":""},{"$f":"VLOOKUP(V3581,Minimos!$D$3:$E$26,2,FALSE)","v":{"$error":"#N/A"}},{"$f":"M3581-W3581","v":{"$error":"#N/A"}},{"$f":"IF(X3581>=0,\"Apurado\",\"\")","v":{"$error":"#N/A"}}]
[null,null,null,null,null,null,null,null,null,null,null,null,null,null,null,null,null,null,null,null,null,{"$f":"A3584&L3584&G3584","v":""},{"$f":"VLOOKUP(V3584,Minimos!$D$3:$E$26,2,FALSE)","v":{"$error":"#N/A"}},{"$f":"M3584-W3584","v":{"$error":"#N/A"}},{"$f":"IF(X3584>=0,\"Apurado\",\"\")","v":{"$error":"#N/A"}}]
[null,null,null,null,null,null,null,null,null,null,null,null,null,null,null,null,null,null,null,null,null,{"$f":"A3591&L3591&G3591","v":""},{"$f":"VLOOKUP(V3591,Minimos!$D$3:$E$26,2,FALSE)","v":{"$error":"#N/A"}},{"$f":"M3591-W3591","v":{"$error":"#N/A"}},{"$f":"IF(X3591>=0,\"Apurado\",\"\")","v":{"$error":"#N/A"}}]
[null,null,null,null,null,null,null,null,null,null,null,null,null,null,null,null,null,null,null,null,null,{"$f":"A3602&L3602&G3602","v":""},{"$f":"VLOOKUP(V3602,Minimos!$D$3:$E$26,2,FALSE)","v":{"$error":"#N/A"}},{"$f":"M3602-W3602","v":{"$error":"#N/A"}},{"$f":"IF(X3602>=0,\"Apurado\",\"\")","v":{"$error":"#N/A"}}]
[null,null,null,null,null,null,null,null,null,null,null,null,null,null,null,null,null,null,null,null,null,{"$f":"A3614&L3614&G3614","v":""},{"$f":"VLOOKUP(V3614,Minimos!$D$3:$E$26,2,FALSE)","v":{"$error":"#N/A"}},{"$f":"M3614-W3614","v":{"$error":"#N/A"}},{"$f":"IF(X3614>=0,\"Apurado\",\"\")","v":{"$error":"#N/A"}}]
[null,null,null,null,null,null,null,null,null,null,null,null,null,null,null,null,null,null,null,null,null,{"$f":"A3621&L3621&G3621","v":""},{"$f":"VLOOKUP(V3621,Minimos!$D$3:$E$26,2,FALSE)","v":{"$error":"#N/A"}},{"$f":"M3621-W3621","v":{"$error":"#N/A"}},{"$f":"IF(X3621>=0,\"Apurado\",\"\")","v":{"$error":"#N/A"}}]
[null,null,null,null,null,null,null,null,null,null,null,null,null,null,null,null,null,null,null,null,null,{"$f":"A3633&L3633&G3633","v":""},{"$f":"VLOOKUP(V3633,Minimos!$D$3:$E$26,2,FALSE)","v":{"$error":"#N/A"}},{"$f":"M3633-W3633","v":{"$error":"#N/A"}},{"$f":"IF(X3633>=0,\"Apurado\",\"\")","v":{"$error":"#N/A"}}]
[null,null,null,null,null,null,null,null,null,null,null,null,null,null,null,null,null,null,null,null,null,{"$f":"A3641&L3641&G3641","v":""},{"$f":"VLOOKUP(V3641,Minimos!$D$3:$E$26,2,FALSE)","v":{"$error":"#N/A"}},{"$f":"M3641-W3641","v":{"$error":"#N/A"}},{"$f":"IF(X3641>=0,\"Apurado\",\"\")","v":{"$error":"#N/A"}}]
[null,null,null,null,null,null,null,null,null,null,null,null,null,null,null,null,null,null,null,null,null,{"$f":"A3651&L3651&G3651","v":""},{"$f":"VLOOKUP(V3651,Minimos!$D$3:$E$26,2,FALSE)","v":{"$error":"#N/A"}},{"$f":"M3651-W3651","v":{"$error":"#N/A"}},{"$f":"IF(X3651>=0,\"Apurado\",\"\")","v":{"$error":"#N/A"}}]
[null,null,null,null,null,null,null,null,null,null,null,null,null,null,null,null,null,null,null,null,null,{"$f":"A3654&L3654&G3654","v":""},{"$f":"VLOOKUP(V3654,Minimos!$D$3:$E$26,2,FALSE)","v":{"$error":"#N/A"}},{"$f":"M3654-W3654","v":{"$error":"#N/A"}},{"$f":"IF(X3654>=0,\"Apurado\",\"\")","v":{"$error":"#N/A"}}]
[null,null,null,null,null,null,null,null,null,null,null,null,null,null,null,null,null,null,null,null,null,{"$f":"A3661&L3661&G3661","v":""},{"$f":"VLOOKUP(V3661,Minimos!$D$3:$E$26,2,FALSE)","v":{"$error":"#N/A"}},{"$f":"M3661-W3661","v":{"$error":"#N/A"}},{"$f":"IF(X3661>=0,\"Apurado\",\"\")","v":{"$error":"#N/A"}}]
[null,null,null,null,null,null,null,null,null,null,null,null,null,null,null,null,null,null,null,null,null,{"$f":"A3672&L3672&G3672","v":""},{"$f":"VLOOKUP(V3672,Minimos!$D$3:$E$26,2,FALSE)","v":{"$error":"#N/A"}},{"$f":"M3672-W3672","v":{"$error":"#N/A"}},{"$f":"IF(X3672>=0,\"Apurado\",\"\")","v":{"$error":"#N/A"}}]
[null,null,null,null,null,null,null,null,null,null,null,null,null,null,null,null,null,null,null,null,null,{"$f":"A3684&L3684&G3684","v":""},{"$f":"VLOOKUP(V3684,Minimos!$D$3:$E$26,2,FALSE)","v":{"$error":"#N/A"}},{"$f":"M3684-W3684","v":{"$error":"#N/A"}},{"$f":"IF(X3684>=0,\"Apurado\",\"\")","v":{"$error":"#N/A"}}]
[null,null,null,null,null,null,null,null,null,null,null,null,null,null,null,null,null,null,null,null,null,{"$f":"A3691&L3691&G3691","v":""},{"$f":"VLOOKUP(V3691,Minimos!$D$3:$E$26,2,FALSE)","v":{"$error":"#N/A"}},{"$f":"M3691-W3691","v":{"$error":"#N/A"}},{"$f":"IF(X3691>=0,\"Apurado\",\"\")","v":{"$error":"#N/A"}}]
[null,null,null,null,null,null,null,null,null,null,null,null,null,null,null,null,null,null,null,null,null,{"$f":"A3703&L3703&G3703","v":""},{"$f":"VLOOKUP(V3703,Minimos!$D$3:$E$26,2,FALSE)","v":{"$error":"#N/A"}},{"$f":"M3703-W3703","v":{"$error":"#N/A"}},{"$f":"IF(X3703>=0,\"Apurado\",\"\")","v":{"$error":"#N/A"}}]
[null,null,null,null,null,null,null,null,null,null,null,null,null,null,null,null,null,null,null,null,null,{"$f":"A3711&L3711&G3711","v":""},{"$f":"VLOOKUP(V3711,Minimos!$D$3:$E$26,2,FALSE)","v":{"$error":"#N/A"}},{"$f":"M3711-W3711","v":{"$error":"#N/A"}},{"$f":"IF(X3711>=0,\"Apurado\",\"\")","v":{"$error":"#N/A"}}]
[null,null,null,null,null,null,null,null,null,null,null,null,null,null,null,null,null,null,null,null,null,{"$f":"A3721&L3721&G3721","v":""},{"$f":"VLOOKUP(V3721,Minimos!$D$3:$E$26,2,FALSE)","v":{"$error":"#N/A"}},{"$f":"M3721-W3721","v":{"$error":"#N/A"}},{"$f":"IF(X3721>=0,\"Apurado\",\"\")","v":{"$error":"#N/A"}}]
[null,null,null,null,null,null,null,null,null,null,null,null,null,null,null,null,null,null,null,null,null,{"$f":"A3724&L3724&G3724","v":""},{"$f":"VLOOKUP(V3724,Minimos!$D$3:$E$26,2,FALSE)","v":{"$error":"#N/A"}},{"$f":"M3724-W3724","v":{"$error":"#N/A"}},{"$f":"IF(X3724>=0,\"Apurado\",\"\")","v":{"$error":"#N/A"}}]
[null,null,null,null,null,null,null,null,null,null,null,null,null,null,null,null,null,null,null,null,null,{"$f":"A3731&L3731&G3731","v":""},{"$f":"VLOOKUP(V3731,Minimos!$D$3:$E$26,2,FALSE)","v":{"$error":"#N/A"}},{"$f":"M3731-W3731","v":{"$error":"#N/A"}},{"$f":"IF(X3731>=0,\"Apurado\",\"\")","v":{"$error":"#N/A"}}]
[null,null,null,null,null,null,null,null,null,null,null,null,null,null,null,null,null,null,null,null,null,{"$f":"A3742&L3742&G3742","v":""},{"$f":"VLOOKUP(V3742,Minimos!$D$3:$E$26,2,FALSE)","v":{"$error":"#N/A"}},{"$f":"M3742-W3742","v":{"$error":"#N/A"}},{"$f":"IF(X3742>=0,\"Apurado\",\"\")","v":{"$error":"#N/A"}}]
[null,null,null,null,null,null,null,null,null,null,null,null,null,null,null,null,null,null,null,null,null,{"$f":"A3754&L3754&G3754","v":""},{"$f":"VLOOKUP(V3754,Minimos!$D$3:$E$26,2,FALSE)","v":{"$error":"#N/A"}},{"$f":"M3754-W3754","v":{"$error":"#N/A"}},{"$f":"IF(X3754>=0,\"Apurado\",\"\")","v":{"$error":"#N/A"}}]
[null,null,null,null,null,null,null,null,null,null,null,null,null,null,null,null,null,null,null,null,null,{"$f":"A3761&L3761&G3761","v":""},{"$f":"VLOOKUP(V3761,Minimos!$D$3:$E$26,2,FALSE)","v":{"$error":"#N/A"}},{"$f":"M3761-W3761","v":{"$error":"#N/A"}},{"$f":"IF(X3761>=0,\"Apurado\",\"\")","v":{"$error":"#N/A"}}]
[null,null,null,null,null,null,null,null,null,null,null,null,null,null,null,null,null,null,null,null,null,{"$f":"A3773&L3773&G3773","v":""},{"$f":"VLOOKUP(V3773,Minimos!$D$3:$E$26,2,FALSE)","v":{"$error":"#N/A"}},{"$f":"M3773-W3773","v":{"$error":"#N/A"}},{"$f":"IF(X3773>=0,\"Apurado\",\"\")","v":{"$error":"#N/A"}}]
[null,null,null,null,null,null,null,null,null,null,null,null,null,null,null,null,null,null,null,null,null,{"$f":"A3781&L3781&G3781","v":""},{"$f":"VLOOKUP(V3781,Minimos!$D$3:$E$26,2,FALSE)","v":{"$error":"#N/A"}},{"$f":"M3781-W3781","v":{"$error":"#N/A"}},{"$f":"IF(X3781>=0,\"Apurado\",\"\")","v":{"$error":"#N/A"}}]
[null,null,null,null,null,null,null,null,null,null,null,null,null,null,null,null,null,null,null,null,null,{"$f":"A3791&L3791&G3791","v":""},{"$f":"VLOOKUP(V3791,Minimos!$D$3:$E$26,2,FALSE)","v":{"$error":"#N/A"}},{"$f":"M3791-W3791","v":{"$error":"#N/A"}},{"$f":"IF(X3791>=0,\"Apurado\",\"\")","v":{"$error":"#N/A"}}]
[null,null,null,null,null,null,null,null,null,null,null,null,null,null,null,null,null,null,null,null,null,{"$f":"A3794&L3794&G3794","v":""},{"$f":"VLOOKUP(V3794,Minimos!$D$3:$E$26,2,FALSE)","v":{"$error":"#N/A"}},{"$f":"M3794-W3794","v":{"$error":"#N/A"}},{"$f":"IF(X3794>=0,\"Apurado\",\"\")","v":{"$error":"#N/A"}}]
[null,null,null,null,null,null,null,null,null,null,null,null,null,null,null,null,null,null,null,null,null,{"$f":"A3801&L3801&G3801","v":""},{"$f":"VLOOKUP(V3801,Minimos!$D$3:$E$26,2,FALSE)","v":{"$error":"#N/A"}},{"$f":"M3801-W3801","v":{"$error":"#N/A"}},{"$f":"IF(X3801>=0,\"Apurado\",\"\")","v":{"$error":"#N/A"}}]
[null,null,null,null,null,null,null,null,null,null,null,null,null,null,null,null,null,null,null,null,null,{"$f":"A3812&L3812&G3812","v":""},{"$f":"VLOOKUP(V3812,Minimos!$D$3:$E$26,2,FALSE)","v":{"$error":"#N/A"}},{"$f":"M3812-W3812","v":{"$error":"#N/A"}},{"$f":"IF(X3812>=0,\"Apurado\",\"\")","v":{"$error":"#N/A"}}]
[null,null,null,null,null,null,null,null,null,null,null,null,null,null,null,null,null,null,null,null,null,{"$f":"A3824&L3824&G3824","v":""},{"$f":"VLOOKUP(V3824,Minimos!$D$3:$E$26,2,FALSE)","v":{"$error":"#N/A"}},{"$f":"M3824-W3824","v":{"$error":"#N/A"}},{"$f":"IF(X3824>=0,\"Apurado\",\"\")","v":{"$error":"#N/A"}}]
[null,null,null,null,null,null,null,null,null,null,null,null,null,null,null,null,null,null,null,null,null,{"$f":"A3831&L3831&G3831","v":""},{"$f":"VLOOKUP(V3831,Minimos!$D$3:$E$26,2,FALSE)","v":{"$error":"#N/A"}},{"$f":"M3831-W3831","v":{"$error":"#N/A"}},{"$f":"IF(X3831>=0,\"Apurado\",\"\")","v":{"$error":"#N/A"}}]
[null,null,null,null,null,null,null,null,null,null,null,null,null,null,null,null,null,null,null,null,null,{"$f":"A3843&L3843&G3843","v":""},{"$f":"VLOOKUP(V3843,Minimos!$D$3:$E$26,2,FALSE)","v":{"$error":"#N/A"}},{"$f":"M3843-W3843","v":{"$error":"#N/A"}},{"$f":"IF(X3843>=0,\"Apurado\",\"\")","v":{"$error":"#N/A"}}]
[null,null,null,null,null,null,null,null,null,null,null,null,null,null,null,null,null,null,null,null,null,{"$f":"A3851&L3851&G3851","v":""},{"$f":"VLOOKUP(V3851,Minimos!$D$3:$E$26,2,FALSE)","v":{"$error":"#N/A"}},{"$f":"M3851-W3851","v":{"$error":"#N/A"}},{"$f":"IF(X3851>=0,\"Apurado\",\"\")","v":{"$error":"#N/A"}}]
[null,null,null,null,null,null,null,null,null,null,null,null,null,null,null,null,null,null,null,null,null,{"$f":"A3861&L3861&G3861","v":""},{"$f":"VLOOKUP(V3861,Minimos!$D$3:$E$26,2,FALSE)","v":{"$error":"#N/A"}},{"$f":"M3861-W3861","v":{"$error":"#N/A"}},{"$f":"IF(X3861>=0,\"Apurado\",\"\")","v":{"$error":"#N/A"}}]
[null,null,null,null,null,null,null,null,null,null,null,null,null,null,null,null,null,null,null,null,null,{"$f":"A3864&L3864&G3864","v":""},{"$f":"VLOOKUP(V3864,Minimos!$D$3:$E$26,2,FALSE)","v":{"$error":"#N/A"}},{"$f":"M3864-W3864","v":{"$error":"#N/A"}},{"$f":"IF(X3864>=0,\"Apurado\",\"\")","v":{"$error":"#N/A"}}]
[null,null,null,null,null,null,null,null,null,null,null,null,null,null,null,null,null,null,null,null,null,{"$f":"A3871&L3871&G3871","v":""},{"$f":"VLOOKUP(V3871,Minimos!$D$3:$E$26,2,FALSE)","v":{"$error":"#N/A"}},{"$f":"M3871-W3871","v":{"$error":"#N/A"}},{"$f":"IF(X3871>=0,\"Apurado\",\"\")","v":{"$error":"#N/A"}}]
[null,null,null,null,null,null,null,null,null,null,null,null,null,null,null,null,null,null,null,null,null,{"$f":"A3882&L3882&G3882","v":""},{"$f":"VLOOKUP(V3882,Minimos!$D$3:$E$26,2,FALSE)","v":{"$error":"#N/A"}},{"$f":"M3882-W3882","v":{"$error":"#N/A"}},{"$f":"IF(X3882>=0,\"Apurado\",\"\")","v":{"$error":"#N/A"}}]
[null,null,null,null,null,null,null,null,null,null,null,null,null,null,null,null,null,null,null,null,null,{"$f":"A3889&L3889&G3889","v":""},{"$f":"VLOOKUP(V3889,Minimos!$D$3:$E$26,2,FALSE)","v":{"$error":"#N/A"}},{"$f":"M3889-W3889","v":{"$error":"#N/A"}},{"$f":"IF(X3889>=0,\"Apurado\",\"\")","v":{"$error":"#N/A"}}]
[null,null,null,null,null,null,null,null,null,null,null,null,null,null,null,null,null,null,null,null,null,{"$f":"A3901&L3901&G3901","v":""},{"$f":"VLOOKUP(V3901,Minimos!$D$3:$E$26,2,FALSE)","v":{"$error":"#N/A"}},{"$f":"M3901-W3901","v":{"$error":"#N/A"}},{"$f":"IF(X3901>=0,\"Apurado\",\"\")","v":{"$error":"#N/A"}}]
[null,null,null,null,null,null,null,null,null,null,null,null,null,null,null,null,null,null,null,null,null,{"$f":"A3913&L3913&G3913","v":""},{"$f":"VLOOKUP(V3913,Minimos!$D$3:$E$26,2,FALSE)","v":{"$error":"#N/A"}},{"$f":"M3913-W3913","v":{"$error":"#N/A"}},{"$f":"IF(X3913>=0,\"Apurado\",\"\")","v":{"$error":"#N/A"}}]
[null,null,null,null,null,null,null,null,null,null,null,null,null,null,null,null,null,null,null,null,null,{"$f":"A3921&L3921&G3921","v":""},{"$f":"VLOOKUP(V3921,Minimos!$D$3:$E$26,2,FALSE)","v":{"$error":"#N/A"}},{"$f":"M3921-W3921","v":{"$error":"#N/A"}},{"$f":"IF(X3921>=0,\"Apurado\",\"\")","v":{"$error":"#N/A"}}]
[null,null,null,null,null,null,null,null,null,null,null,null,null,null,null,null,null,null,null,null,null,{"$f":"A3931&L3931&G3931","v":""},{"$f":"VLOOKUP(V3931,Minimos!$D$3:$E$26,2,FALSE)","v":{"$error":"#N/A"}},{"$f":"M3931-W3931","v":{"$error":"#N/A"}},{"$f":"IF(X3931>=0,\"Apurado\",\"\")","v":{"$error":"#N/A"}}]
[null,null,null,null,null,null,null,null,null,null,null,null,null,null,null,null,null,null,null,null,null,{"$f":"A3934&L3934&G3934","v":""},{"$f":"VLOOKUP(V3934,Minimos!$D$3:$E$26,2,FALSE)","v":{"$error":"#N/A"}},{"$f":"M3934-W3934","v":{"$error":"#N/A"}},{"$f":"IF(X3934>=0,\"Apurado\",\"\")","v":{"$error":"#N/A"}}]
[null,null,null,null,null,null,null,null,null,null,null,null,null,null,null,null,null,null,null,null,null,{"$f":"A3941&L3941&G3941","v":""},{"$f":"VLOOKUP(V3941,Minimos!$D$3:$E$26,2,FALSE)","v":{"$error":"#N/A"}},{"$f":"M3941-W3941","v":{"$error":"#N/A"}},{"$f":"IF(X3941>=0,\"Apurado\",\"\")","v":{"$error":"#N/A"}}]
[null,null,null,null,null,null,null,null,null,null,null,null,null,null,null,null,null,null,null,null,null,{"$f":"A3952&L3952&G3952","v":""},{"$f":"VLOOKUP(V3952,Minimos!$D$3:$E$26,2,FALSE)","v":{"$error":"#N/A"}},{"$f":"M3952-W3952","v":{"$error":"#N/A"}},{"$f":"IF(X3952>=0,\"Apurado\",\"\")","v":{"$error":"#N/A"}}]
[null,null,null,null,null,null,null,null,null,null,null,null,null,null,null,null,null,null,null,null,null,{"$f":"A3959&L3959&G3959","v":""},{"$f":"VLOOKUP(V3959,Minimos!$D$3:$E$26,2,FALSE)","v":{"$error":"#N/A"}},{"$f":"M3959-W3959","v":{"$error":"#N/A"}},{"$f":"IF(X3959>=0,\"Apurado\",\"\")","v":{"$error":"#N/A"}}]
[null,null,null,null,null,null,null,null,null,null,null,null,null,null,null,null,null,null,null,null,null,{"$f":"A3971&L3971&G3971","v":""},{"$f":"VLOOKUP(V3971,Minimos!$D$3:$E$26,2,FALSE)","v":{"$error":"#N/A"}},{"$f":"M3971-W3971","v":{"$error":"#N/A"}},{"$f":"IF(X3971>=0,\"Apurado\",\"\")","v":{"$error":"#N/A"}}]
[null,null,null,null,null,null,null,null,null,null,null,null,null,null,null,null,null,null,null,null,null,{"$f":"A3983&L3983&G3983","v":""},{"$f":"VLOOKUP(V3983,Minimos!$D$3:$E$26,2,FALSE)","v":{"$error":"#N/A"}},{"$f":"M3983-W3983","v":{"$error":"#N/A"}},{"$f":"IF(X3983>=0,\"Apurado\",\"\")","v":{"$error":"#N/A"}}]
[null,null,null,null,null,null,null,null,null,null,null,null,null,null,null,null,null,null,null,null,null,{"$f":"A3991&L3991&G3991","v":""},{"$f":"VLOOKUP(V3991,Minimos!$D$3:$E$26,2,FALSE)","v":{"$error":"#N/A"}},{"$f":"M3991-W3991","v":{"$error":"#N/A"}},{"$f":"IF(X3991>=0,\"Apurado\",\"\")","v":{"$error":"#N/A"}}]
[null,null,null,null,null,null,null,null,null,null,null,null,null,null,null,null,null,null,null,null,null,{"$f":"A4001&L4001&G4001","v":""},{"$f":"VLOOKUP(V4001,Minimos!$D$3:$E$26,2,FALSE)","v":{"$error":"#N/A"}},{"$f":"M4001-W4001","v":{"$error":"#N/A"}},{"$f":"IF(X4001>=0,\"Apurado\",\"\")","v":{"$error":"#N/A"}}]
[null,null,null,null,null,null,null,null,null,null,null,null,null,null,null,null,null,null,null,null,null,"",{"$f":"VLOOKUP(V4008,Minimos!$D$3:$E$26,2,FALSE)","v":{"$error":"#N/A"}},{"$error":"#N/A"},{"$error":"#N/A"}]
[null,null,null,null,null,null,null,null,null,null,null,null,null,null,null,null,null,null,null,null,null,"",{"$f":"VLOOKUP(V4011,Minimos!$D$3:$E$26,2,FALSE)","v":{"$error":"#N/A"}},{"$error":"#N/A"},{"$error":"#N/A"}]
[null,null,null,null,null,null,null,null,null,null,null,null,null,null,null,null,null,null,null,null,null,"",{"$f":"VLOOKUP(V4022,Minimos!$D$3:$E$26,2,FALSE)","v":{"$error":"#N/A"}},{"$error":"#N/A"},{"$error":"#N/A"}]
[null,null,null,null,null,null,null,null,null,null,null,null,null,null,null,null,null,null,null,null,null,"",{"$f":"VLOOKUP(V4029,Minimos!$D$3:$E$26,2,FALSE)","v":{"$error":"#N/A"}},{"$error":"#N/A"},{"$error":"#N/A"}]
[null,null,null,null,null,null,null,null,null,null,null,null,null,null,null,null,null,null,null,null,null,"",{"$f":"VLOOKUP(V4041,Minimos!$D$3:$E$26,2,FALSE)","v":{"$error":"#N/A"}},{"$error":"#N/A"},{"$error":"#N/A"}]
[null,null,null,null,null,null,null,null,null,null,null,null,null,null,null,null,null,null,null,null,null,"",{"$f":"VLOOKUP(V4053,Minimos!$D$3:$E$26,2,FALSE)","v":{"$error":"#N/A"}},{"$error":"#N/A"},{"$error":"#N/A"}]
[null,null,null,null,null,null,null,null,null,null,null,null,null,null,null,null,null,null,null,null,null,"",{"$f":"VLOOKUP(V4061,Minimos!$D$3:$E$26,2,FALSE)","v":{"$error":"#N/A"}},{"$error":"#N/A"},{"$error":"#N/A"}]
[null,null,null,null,null,null,null,null,null,null,null,null,null,null,null,null,null,null,null,null,null,"",{"$f":"VLOOKUP(V4071,Minimos!$D$3:$E$26,2,FALSE)","v":{"$error":"#N/A"}},{"$error":"#N/A"},{"$error":"#N/A"}]
[null,null,null,null,null,null,null,null,null,null,null,null,null,null,null,null,null,null,null,null,null,"",{"$f":"VLOOKUP(V4078,Minimos!$D$3:$E$26,2,FALSE)","v":{"$error":"#N/A"}},{"$error":"#N/A"},{"$error":"#N/A"}]
[null,null,null,null,null,null,null,null,null,null,null,null,null,null,null,null,null,null,null,null,null,"",{"$f":"VLOOKUP(V4081,Minimos!$D$3:$E$26,2,FALSE)","v":{"$error":"#N/A"}},{"$error":"#N/A"},{"$error":"#N/A"}]
[null,null,null,null,null,null,null,null,null,null,null,null,null,null,null,null,null,null,null,null,null,"",{"$f":"VLOOKUP(V4092,Minimos!$D$3:$E$26,2,FALSE)","v":{"$error":"#N/A"}},{"$error":"#N/A"},{"$error":"#N/A"}]
[null,null,null,null,null,null,null,null,null,null,null,null,null,null,null,null,null,null,null,null,null,"",{"$f":"VLOOKUP(V4099,Minimos!$D$3:$E$26,2,FALSE)","v":{"$error":"#N/A"}},{"$error":"#N/A"},{"$error":"#N/A"}]
[null,null,null,null,null,null,null,null,null,null,null,null,null,null,null,null,null,null,null,null,null,"",{"$f":"VLOOKUP(V4111,Minimos!$D$3:$E$26,2,FALSE)","v":{"$error":"#N/A"}},{"$error":"#N/A"},{"$error":"#N/A"}]
[null,null,null,null,null,null,null,null,null,null,null,null,null,null,null,null,null,null,null,null,null,"",{"$f":"VLOOKUP(V4123,Minimos!$D$3:$E$26,2,FALSE)","v":{"$error":"#N/A"}},{"$error":"#N/A"},{"$error":"#N/A"}]
[null,null,null,null,null,null,null,null,null,null,null,null,null,null,null,null,null,null,null,null,null,"",{"$f":"VLOOKUP(V4131,Minimos!$D$3:$E$26,2,FALSE)","v":{"$error":"#N/A"}},{"$error":"#N/A"},{"$error":"#N/A"}]
[null,null,null,null,null,null,null,null,null,null,null,null,null,null,null,null,null,null,null,null,null,"",{"$f":"VLOOKUP(V4141,Minimos!$D$3:$E$26,2,FALSE)","v":{"$error":"#N/A"}},{"$error":"#N/A"},{"$error":"#N/A"}]
[null,null,null,null,null,null,null,null,null,null,null,null,null,null,null,null,null,null,null,null,null,"",{"$f":"VLOOKUP(V4148,Minimos!$D$3:$E$26,2,FALSE)","v":{"$error":"#N/A"}},{"$error":"#N/A"},{"$error":"#N/A"}]
[null,null,null,null,null,null,null,null,null,null,null,null,null,null,null,null,null,null,null,null,null,"",{"$f":"VLOOKUP(V4151,Minimos!$D$3:$E$26,2,FALSE)","v":{"$error":"#N/A"}},{"$error":"#N/A"},{"$error":"#N/A"}]
[null,null,null,null,null,null,null,null,null,null,null,null,null,null,null,null,null,null,null,null,null,"",{"$f":"VLOOKUP(V4162,Minimos!$D$3:$E$26,2,FALSE)","v":{"$error":"#N/A"}},{"$error":"#N/A"},{"$error":"#N/A"}]
[null,null,null,null,null,null,null,null,null,null,null,null,null,null,null,null,null,null,null,null,null,"",{"$f":"VLOOKUP(V4169,Minimos!$D$3:$E$26,2,FALSE)","v":{"$error":"#N/A"}},{"$error":"#N/A"},{"$error":"#N/A"}]
[null,null,null,null,null,null,null,null,null,null,null,null,null,null,null,null,null,null,null,null,null,"",{"$f":"VLOOKUP(V4181,Minimos!$D$3:$E$26,2,FALSE)","v":{"$error":"#N/A"}},{"$error":"#N/A"},{"$error":"#N/A"}]
[null,null,null,null,null,null,null,null,null,null,null,null,null,null,null,null,null,null,null,null,null,"",{"$f":"VLOOKUP(V4188,Minimos!$D$3:$E$26,2,FALSE)","v":{"$error":"#N/A"}},{"$error":"#N/A"},{"$error":"#N/A"}]
[null,null,null,null,null,null,null,null,null,null,null,null,null,null,null,null,null,null,null,null,null,"",{"$f":"VLOOKUP(V4201,Minimos!$D$3:$E$26,2,FALSE)","v":{"$error":"#N/A"}},{"$error":"#N/A"},{"$error":"#N/A"}]
[null,null,null,null,null,null,null,null,null,null,null,null,null,null,null,null,null,null,null,null,null,"",{"$f":"VLOOKUP(V4211,Minimos!$D$3:$E$26,2,FALSE)","v":{"$error":"#N/A"}},{"$error":"#N/A"},{"$error":"#N/A"}]
[null,null,null,null,null,null,null,null,null,null,null,null,null,null,null,null,null,null,null,null,null,"",{"$f":"VLOOKUP(V4218,Minimos!$D$3:$E$26,2,FALSE)","v":{"$error":"#N/A"}},{"$error":"#N/A"},{"$error":"#N/A"}]
[null,null,null,null,null,null,null,null,null,null,null,null,null,null,null,null,null,null,null,null,null,"",{"$f":"VLOOKUP(V4221,Minimos!$D$3:$E$26,2,FALSE)","v":{"$error":"#N/A"}},{"$error":"#N/A"},{"$error":"#N/A"}]
[null,null,null,null,null,null,null,null,null,null,null,null,null,null,null,null,null,null,null,null,null,"",{"$f":"VLOOKUP(V4232,Minimos!$D$3:$E$26,2,FALSE)","v":{"$error":"#N/A"}},{"$error":"#N/A"},{"$error":"#N/A"}]
[null,null,null,null,null,null,null,null,null,null,null,null,null,null,null,null,null,null,null,null,null,"",{"$f":"VLOOKUP(V4239,Minimos!$D$3:$E$26,2,FALSE)","v":{"$error":"#N/A"}},{"$error":"#N/A"},{"$error":"#N/A"}]
[null,null,null,null,null,null,null,null,null,null,null,null,null,null,null,null,null,null,null,null,null,"",{"$f":"VLOOKUP(V4251,Minimos!$D$3:$E$26,2,FALSE)","v":{"$error":"#N/A"}},{"$error":"#N/A"},{"$error":"#N/A"}]
[null,null,null,null,null,null,null,null,null,null,null,null,null,null,null,null,null,null,null,null,null,"",{"$f":"VLOOKUP(V4258,Minimos!$D$3:$E$26,2,FALSE)","v":{"$error":"#N/A"}},{"$error":"#N/A"},{"$error":"#N/A"}]
[null,null,null,null,null,null,null,null,null,null,null,null,null,null,null,null,null,null,null,null,null,"",{"$f":"VLOOKUP(V4271,Minimos!$D$3:$E$26,2,FALSE)","v":{"$error":"#N/A"}},{"$error":"#N/A"},{"$error":"#N/A"}]
[null,null,null,null,null,null,null,null,null,null,null,null,null,null,null,null,null,null,null,null,null,"",{"$f":"VLOOKUP(V4281,Minimos!$D$3:$E$26,2,FALSE)","v":{"$error":"#N/A"}},{"$error":"#N/A"},{"$error":"#N/A"}]
[null,null,null,null,null,null,null,null,null,null,null,null,null,null,null,null,null,null,null,null,null,"",{"$f":"VLOOKUP(V4288,Minimos!$D$3:$E$26,2,FALSE)","v":{"$error":"#N/A"}},{"$error":"#N/A"},{"$error":"#N/A"}]
[null,null,null,null,null,null,null,null,null,null,null,null,null,null,null,null,null,null,null,null,null,"",{"$f":"VLOOKUP(V4291,Minimos!$D$3:$E$26,2,FALSE)","v":{"$error":"#N/A"}},{"$error":"#N/A"},{"$error":"#N/A"}]
[null,null,null,null,null,null,null,null,null,null,null,null,null,null,null,null,null,null,null,null,null,"",{"$f":"VLOOKUP(V4302,Minimos!$D$3:$E$26,2,FALSE)","v":{"$error":"#N/A"}},{"$error":"#N/A"},{"$error":"#N/A"}]
[null,null,null,null,null,null,null,null,null,null,null,null,null,null,null,null,null,null,null,null,null,"",{"$f":"VLOOKUP(V4309,Minimos!$D$3:$E$26,2,FALSE)","v":{"$error":"#N/A"}},{"$error":"#N/A"},{"$error":"#N/A"}]
[null,null,null,null,null,null,null,null,null,null,null,null,null,null,null,null,null,null,null,null,null,"",{"$f":"VLOOKUP(V4321,Minimos!$D$3:$E$26,2,FALSE)","v":{"$error":"#N/A"}},{"$error":"#N/A"},{"$error":"#N/A"}]
[null,null,null,null,null,null,null,null,null,null,null,null,null,null,null,null,null,null,null,null,null,"",{"$f":"VLOOKUP(V4328,Minimos!$D$3:$E$26,2,FALSE)","v":{"$error":"#N/A"}},{"$error":"#N/A"},{"$error":"#N/A"}]
[null,null,null,null,null,null,null,null,null,null,null,null,null,null,null,null,null,null,null,null,null,"",{"$f":"VLOOKUP(V4341,Minimos!$D$3:$E$26,2,FALSE)","v":{"$error":"#N/A"}},{"$error":"#N/A"},{"$error":"#N/A"}]
[null,null,null,null,null,null,null,null,null,null,null,null,null,null,null,null,null,null,null,null,null,"",{"$f":"VLOOKUP(V4351,Minimos!$D$3:$E$26,2,FALSE)","v":{"$error":"#N/A"}},{"$error":"#N/A"},{"$error":"#N/A"}]
[null,null,null,null,null,null,null,null,null,null,null,null,null,null,null,null,null,null,null,null,null,{"$f":"A4358&L4358&G4358","v":""},{"$f":"VLOOKUP(V4358,Minimos!$D$3:$E$26,2,FALSE)","v":{"$error":"#N/A"}},{"$error":"#N/A"},{"$error":"#N/A"}]
[null,null,null,null,null,null,null,null,null,null,null,null,null,null,null,null,null,null,null,null,null,"",{"$f":"VLOOKUP(V4361,Minimos!$D$3:$E$26,2,FALSE)","v":{"$error":"#N/A"}},{"$error":"#N/A"},{"$error":"#N/A"}]
[null,null,null,null,null,null,null,null,null,null,null,null,null,null,null,null,null,null,null,null,null,"",{"$f":"VLOOKUP(V4372,Minimos!$D$3:$E$26,2,FALSE)","v":{"$error":"#N/A"}},{"$error":"#N/A"},{"$error":"#N/A"}]
[null,null,null,null,null,null,null,null,null,null,null,null,null,null,null,null,null,null,null,null,null,"",{"$f":"VLOOKUP(V4379,Minimos!$D$3:$E$26,2,FALSE)","v":{"$error":"#N/A"}},{"$error":"#N/A"},{"$error":"#N/A"}]
[null,null,null,null,null,null,null,null,null,null,null,null,null,null,null,null,null,null,null,null,null,"",{"$f":"VLOOKUP(V4391,Minimos!$D$3:$E$26,2,FALSE)","v":{"$error":"#N/A"}},{"$error":"#N/A"},{"$error":"#N/A"}]
[null,null,null,null,null,null,null,null,null,null,null,null,null,null,null,null,null,null,null,null,null,"",{"$f":"VLOOKUP(V4398,Minimos!$D$3:$E$26,2,FALSE)","v":{"$error":"#N/A"}},{"$error":"#N/A"},{"$error":"#N/A"}]
[null,null,null,null,null,null,null,null,null,null,null,null,null,null,null,null,null,null,null,null,null,"",{"$f":"VLOOKUP(V4411,Minimos!$D$3:$E$26,2,FALSE)","v":{"$error":"#N/A"}},{"$error":"#N/A"},{"$error":"#N/A"}]
[null,null,null,null,null,null,null,null,null,null,null,null,null,null,null,null,null,null,null,null,null,"",{"$f":"VLOOKUP(V4421,Minimos!$D$3:$E$26,2,FALSE)","v":{"$error":"#N/A"}},{"$error":"#N/A"},{"$error":"#N/A"}]
[null,null,null,null,null,null,null,null,null,null,null,null,null,null,null,null,null,null,null,null,null,"",{"$f":"VLOOKUP(V4428,Minimos!$D$3:$E$26,2,FALSE)","v":{"$error":"#N/A"}},{"$error":"#N/A"},{"$error":"#N/A"}]
[null,null,null,null,null,null,null,null,null,null,null,null,null,null,null,null,null,null,null,null,null,"",{"$f":"VLOOKUP(V4431,Minimos!$D$3:$E$26,2,FALSE)","v":{"$error":"#N/A"}},{"$error":"#N/A"},{"$error":"#N/A"}]
[null,null,null,null,null,null,null,null,null,null,null,null,null,null,null,null,null,null,null,null,null,"",{"$f":"VLOOKUP(V4442,Minimos!$D$3:$E$26,2,FALSE)","v":{"$error":"#N/A"}},{"$error":"#N/A"},{"$error":"#N/A"}]
[null,null,null,null,null,null,null,null,null,null,null,null,null,null,null,null,null,null,null,null,null,"",{"$f":"VLOOKUP(V4449,Minimos!$D$3:$E$26,2,FALSE)","v":{"$error":"#N/A"}},{"$error":"#N/A"},{"$error":"#N/A"}]
[null,null,null,null,null,null,null,null,null,null,null,null,null,null,null,null,null,null,null,null,null,"",{"$f":"VLOOKUP(V4461,Minimos!$D$3:$E$26,2,FALSE)","v":{"$error":"#N/A"}},{"$error":"#N/A"},{"$error":"#N/A"}]
[null,null,null,null,null,null,null,null,null,null,null,null,null,null,null,null,null,null,null,null,null,"",{"$f":"VLOOKUP(V4468,Minimos!$D$3:$E$26,2,FALSE)","v":{"$error":"#N/A"}},{"$error":"#N/A"},{"$error":"#N/A"}]
[null,null,null,null,null,null,null,null,null,null,null,null,null,null,null,null,null,null,null,null,null,"",{"$f":"VLOOKUP(V4481,Minimos!$D$3:$E$26,2,FALSE)","v":{"$error":"#N/A"}},{"$error":"#N/A"},{"$error":"#N/A"}]
[null,null,null,null,null,null,null,null,null,null,null,null,null,null,null,null,null,null,null,null,null,{"$f":"A4486&L4486&G4486","v":""},{"$f":"VLOOKUP(V4486,Minimos!$D$3:$E$26,2,FALSE)","v":{"$error":"#N/A"}},{"$error":"#N/A"},{"$error":"#N/A"}]
[null,null,null,null,null,null,null,null,null,null,null,null,null,null,null,null,null,null,null,null,null,"",{"$f":"VLOOKUP(V4498,Minimos!$D$3:$E$26,2,FALSE)","v":{"$error":"#N/A"}},{"$error":"#N/A"},{"$error":"#N/A"}]
[null,null,null,null,null,null,null,null,null,null,null,null,null,null,null,null,null,null,null,null,null,"",{"$f":"VLOOKUP(V4501,Minimos!$D$3:$E$26,2,FALSE)","v":{"$error":"#N/A"}},{"$error":"#N/A"},{"$error":"#N/A"}]
[null,null,null,null,null,null,null,null,null,null,null,null,null,null,null,null,null,null,null,null,null,"",{"$f":"VLOOKUP(V4512,Minimos!$D$3:$E$26,2,FALSE)","v":{"$error":"#N/A"}},{"$error":"#N/A"},{"$error":"#N/A"}]
[null,null,null,null,null,null,null,null,null,null,null,null,null,null,null,null,null,null,null,null,null,"",{"$f":"VLOOKUP(V4519,Minimos!$D$3:$E$26,2,FALSE)","v":{"$error":"#N/A"}},{"$error":"#N/A"},{"$error":"#N/A"}]
[null,null,null,null,null,null,null,null,null,null,null,null,null,null,null,null,null,null,null,null,null,"",{"$f":"VLOOKUP(V4531,Minimos!$D$3:$E$26,2,FALSE)","v":{"$error":"#N/A"}},{"$error":"#N/A"},{"$error":"#N/A"}]
[null,null,null,null,null,null,null,null,null,null,null,null,null,null,null,null,null,null,null,null,null,"",{"$f":"VLOOKUP(V4538,Minimos!$D$3:$E$26,2,FALSE)","v":{"$error":"#N/A"}},{"$error":"#N/A"},{"$error":"#N/A"}]
[null,null,null,null,null,null,null,null,null,null,null,null,null,null,null,null,null,null,null,null,null,"",{"$f":"VLOOKUP(V4551,Minimos!$D$3:$E$26,2,FALSE)","v":{"$error":"#N/A"}},{"$f":"M4551-W4551","v":{"$error":"#N/A"}},{"$f":"IF(X4551>=0,\"Apurado\",\"\")","v":{"$error":"#N/A"}}]
[null,null,null,null,null,null,null,null,null,null,null,null,null,null,null,null,null,null,null,null,null,"",{"$f":"VLOOKUP(V4556,Minimos!$D$3:$E$26,2,FALSE)","v":{"$error":"#N/A"}},{"$error":"#N/A"},{"$error":"#N/A"}]
[null,null,null,null,null,null,null,null,null,null,null,null,null,null,null,null,null,null,null,null,null,"",{"$f":"VLOOKUP(V4568,Minimos!$D$3:$E$26,2,FALSE)","v":{"$error":"#N/A"}},{"$error":"#N/A"},{"$error":"#N/A"}]
[null,null,null,null,null,null,null,null,null,null,null,null,null,null,null,null,null,null,null,null,null,"",{"$f":"VLOOKUP(V4571,Minimos!$D$3:$E$26,2,FALSE)","v":{"$error":"#N/A"}},{"$error":"#N/A"},{"$error":"#N/A"}]
[null,null,null,null,null,null,null,null,null,null,null,null,null,null,null,null,null,null,null,null,null,"",{"$f":"VLOOKUP(V4582,Minimos!$D$3:$E$26,2,FALSE)","v":{"$error":"#N/A"}},{"$error":"#N/A"},{"$error":"#N/A"}]
[null,null,null,null,null,null,null,null,null,null,null,null,null,null,null,null,null,null,null,null,null,"",{"$f":"VLOOKUP(V4589,Minimos!$D$3:$E$26,2,FALSE)","v":{"$error":"#N/A"}},{"$error":"#N/A"},{"$error":"#N/A"}]
[null,null,null,null,null,null,null,null,null,null,null,null,null,null,null,null,null,null,null,null,null,"",{"$f":"VLOOKUP(V4601,Minimos!$D$3:$E$26,2,FALSE)","v":{"$error":"#N/A"}},{"$error":"#N/A"},{"$error":"#N/A"}]
[null,null,null,null,null,null,null,null,null,null,null,null,null,null,null,null,null,null,null,null,null,"",{"$f":"VLOOKUP(V4608,Minimos!$D$3:$E$26,2,FALSE)","v":{"$error":"#N/A"}},{"$error":"#N/A"},{"$error":"#N/A"}]
[null,null,null,null,null,null,null,null,null,null,null,null,null,null,null,null,null,null,null,null,null,"",{"$f":"VLOOKUP(V4621,Minimos!$D$3:$E$26,2,FALSE)","v":{"$error":"#N/A"}},{"$error":"#N/A"},{"$error":"#N/A"}]
[null,null,null,null,null,null,null,null,null,null,null,null,null,null,null,null,null,null,null,null,null,"",{"$f":"VLOOKUP(V4626,Minimos!$D$3:$E$26,2,FALSE)","v":{"$error":"#N/A"}},{"$error":"#N/A"},{"$error":"#N/A"}]
[null,null,null,null,null,null,null,null,null,null,null,null,null,null,null,null,null,null,null,null,null,"",{"$f":"VLOOKUP(V4638,Minimos!$D$3:$E$26,2,FALSE)","v":{"$error":"#N/A"}},{"$error":"#N/A"},{"$error":"#N/A"}]
[null,null,null,null,null,null,null,null,null,null,null,null,null,null,null,null,null,null,null,null,null,"",{"$f":"VLOOKUP(V4641,Minimos!$D$3:$E$26,2,FALSE)","v":{"$error":"#N/A"}},{"$error":"#N/A"},{"$error":"#N/A"}]
[null,null,null,null,null,null,null,null,null,null,null,null,null,null,null,null,null,null,null,null,null,"",{"$f":"VLOOKUP(V4652,Minimos!$D$3:$E$26,2,FALSE)","v":{"$error":"#N/A"}},{"$error":"#N/A"},{"$error":"#N/A"}]
[null,null,null,null,null,null,null,null,null,null,null,null,null,null,null,null,null,null,null,null,null,"",{"$f":"VLOOKUP(V4659,Minimos!$D$3:$E$26,2,FALSE)","v":{"$error":"#N/A"}},{"$error":"#N/A"},{"$error":"#N/A"}]
[null,null,null,null,null,null,null,null,null,null,null,null,null,null,null,null,null,null,null,null,null,"",{"$f":"VLOOKUP(V4675,Minimos!$D$3:$E$26,2,FALSE)","v":{"$error":"#N/A"}},{"$error":"#N/A"},{"$error":"#N/A"}]
[null,null,null,null,null,null,null,null,null,null,null,null,null,null,null,null,null,null,null,null,null,{"$f":"A4678&L4678&G4678","v":""},{"$f":"VLOOKUP(V4678,Minimos!$D$3:$E$26,2,FALSE)","v":{"$error":"#N/A"}},{"$error":"#N/A"},{"$error":"#N/A"}]
[null,null,null,null,null,null,null,null,null,null,null,null,null,null,null,null,null,null,null,null,null,"",{"$f":"VLOOKUP(V4691,Minimos!$D$3:$E$26,2,FALSE)","v":{"$error":"#N/A"}},{"$error":"#N/A"},{"$error":"#N/A"}]
[null,null,null,null,null,null,null,null,null,null,null,null,null,null,null,null,null,null,null,null,null,"",{"$f":"VLOOKUP(V4696,Minimos!$D$3:$E$26,2,FALSE)","v":{"$error":"#N/A"}},{"$error":"#N/A"},{"$error":"#N/A"}]
[null,null,null,null,null,null,null,null,null,null,null,null,null,null,null,null,null,null,null,null,null,"",{"$f":"VLOOKUP(V4708,Minimos!$D$3:$E$26,2,FALSE)","v":{"$error":"#N/A"}},{"$error":"#N/A"},{"$error":"#N/A"}]
[null,null,null,null,null,null,null,null,null,null,null,null,null,null,null,null,null,null,null,null,null,"",{"$f":"VLOOKUP(V4711,Minimos!$D$3:$E$26,2,FALSE)","v":{"$error":"#N/A"}},{"$error":"#N/A"},{"$error":"#N/A"}]
[null,null,null,null,null,null,null,null,null,null,null,null,null,null,null,null,null,null,null,null,null,"",{"$f":"VLOOKUP(V4722,Minimos!$D$3:$E$26,2,FALSE)","v":{"$error":"#N/A"}},{"$error":"#N/A"},{"$error":"#N/A"}]
[null,null,null,null,null,null,null,null,null,null,null,null,null,null,null,null,null,null,null,null,null,"",{"$f":"VLOOKUP(V4729,Minimos!$D$3:$E$26,2,FALSE)","v":{"$error":"#N/A"}},{"$error":"#N/A"},{"$error":"#N/A"}]
[null,null,null,null,null,null,null,null,null,null,null,null,null,null,null,null,null,null,null,null,null,"",{"$f":"VLOOKUP(V4745,Minimos!$D$3:$E$26,2,FALSE)","v":{"$error":"#N/A"}},{"$error":"#N/A"},{"$error":"#N/A"}]
[null,null,null,null,null,null,null,null,null,null,null,null,null,null,null,null,null,null,null,null,null,"",{"$f":"VLOOKUP(V4748,Minimos!$D$3:$E$26,2,FALSE)","v":{"$error":"#N/A"}},{"$error":"#N/A"},{"$error":"#N/A"}]
[null,null,null,null,null,null,null,null,null,null,null,null,null,null,null,null,null,null,null,null,null,"",{"$f":"VLOOKUP(V4761,Minimos!$D$3:$E$26,2,FALSE)","v":{"$error":"#N/A"}},{"$error":"#N/A"},{"$error":"#N/A"}]
[null,null,null,null,null,null,null,null,null,null,null,null,null,null,null,null,null,null,null,null,null,"",{"$f":"VLOOKUP(V4766,Minimos!$D$3:$E$26,2,FALSE)","v":{"$error":"#N/A"}},{"$error":"#N/A"},{"$error":"#N/A"}]
[null,null,null,null,null,null,null,null,null,null,null,null,null,null,null,null,null,null,null,null,null,"",{"$f":"VLOOKUP(V4778,Minimos!$D$3:$E$26,2,FALSE)","v":{"$error":"#N/A"}},{"$error":"#N/A"},{"$error":"#N/A"}]
[null,null,null,null,null,null,null,null,null,null,null,null,null,null,null,null,null,null,null,null,null,"",{"$f":"VLOOKUP(V4785,Minimos!$D$3:$E$26,2,FALSE)","v":{"$error":"#N/A"}},{"$error":"#N/A"},{"$error":"#N/A"}]
[null,null,null,null,null,null,null,null,null,null,null,null,null,null,null,null,null,null,null,null,null,"",{"$f":"VLOOKUP(V4792,Minimos!$D$3:$E$26,2,FALSE)","v":{"$error":"#N/A"}},{"$error":"#N/A"},{"$error":"#N/A"}]
[null,null,null,null,null,null,null,null,null,null,null,null,null,null,null,null,null,null,null,null,null,"",{"$f":"VLOOKUP(V4799,Minimos!$D$3:$E$26,2,FALSE)","v":{"$error":"#N/A"}},{"$error":"#N/A"},{"$error":"#N/A"}]
[null,null,null,null,null,null,null,null,null,null,null,null,null,null,null,null,null,null,null,null,null,"",{"$f":"VLOOKUP(V4815,Minimos!$D$3:$E$26,2,FALSE)","v":{"$error":"#N/A"}},{"$error":"#N/A"},{"$error":"#N/A"}]
[null,null,null,null,null,null,null,null,null,null,null,null,null,null,null,null,null,null,null,null,null,"",{"$f":"VLOOKUP(V4818,Minimos!$D$3:$E$26,2,FALSE)","v":{"$error":"#N/A"}},{"$error":"#N/A"},{"$error":"#N/A"}]
[null,null,null,null,null,null,null,null,null,null,null,null,null,null,null,null,null,null,null,null,null,"",{"$f":"VLOOKUP(V4831,Minimos!$D$3:$E$26,2,FALSE)","v":{"$error":"#N/A"}},{"$error":"#N/A"},{"$error":"#N/A"}]
[null,null,null,null,null,null,null,null,null,null,null,null,null,null,null,null,null,null,null,null,null,"",{"$f":"VLOOKUP(V4836,Minimos!$D$3:$E$26,2,FALSE)","v":{"$error":"#N/A"}},{"$error":"#N/A"},{"$error":"#N/A"}]
[null,null,null,null,null,null,null,null,null,null,null,null,null,null,null,null,null,null,null,null,null,"",{"$f":"VLOOKUP(V4848,Minimos!$D$3:$E$26,2,FALSE)","v":{"$error":"#N/A"}},{"$error":"#N/A"},{"$error":"#N/A"}]
[null,null,null,null,null,null,null,null,null,null,null,null,null,null,null,null,null,null,null,null,null,"",{"$f":"VLOOKUP(V4855,Minimos!$D$3:$E$26,2,FALSE)","v":{"$error":"#N/A"}},{"$error":"#N/A"},{"$error":"#N/A"}]
[null,null,null,null,null,null,null,null,null,null,null,null,null,null,null,null,null,null,null,null,null,"",{"$f":"VLOOKUP(V4862,Minimos!$D$3:$E$26,2,FALSE)","v":{"$error":"#N/A"}},{"$error":"#N/A"},{"$error":"#N/A"}]
[null,null,null,null,null,null,null,null,null,null,null,null,null,null,null,null,null,null,null,null,null,"",{"$f":"VLOOKUP(V4869,Minimos!$D$3:$E$26,2,FALSE)","v":{"$error":"#N/A"}},{"$error":"#N/A"},{"$error":"#N/A"}]
[null,null,null,null,null,null,null,null,null,null,null,null,null,null,null,null,null,null,null,null,null,"",{"$f":"VLOOKUP(V4885,Minimos!$D$3:$E$26,2,FALSE)","v":{"$error":"#N/A"}},{"$error":"#N/A"},{"$error":"#N/A"}]
[null,null,null,null,null,null,null,null,null,null,null,null,null,null,null,null,null,null,null,null,null,"",{"$f":"VLOOKUP(V4888,Minimos!$D$3:$E$26,2,FALSE)","v":{"$error":"#N/A"}},{"$error":"#N/A"},{"$error":"#N/A"}]
[null,null,null,null,null,null,null,null,null,null,null,null,null,null,null,null,null,null,null,null,null,"",{"$f":"VLOOKUP(V4901,Minimos!$D$3:$E$26,2,FALSE)","v":{"$error":"#N/A"}},{"$error":"#N/A"},{"$error":"#N/A"}]
[null,null,null,null,null,null,null,null,null,null,null,null,null,null,null,null,null,null,null,null,null,"",{"$f":"VLOOKUP(V4906,Minimos!$D$3:$E$26,2,FALSE)","v":{"$error":"#N/A"}},{"$error":"#N/A"},{"$error":"#N/A"}]
[null,null,null,null,null,null,null,null,null,null,null,null,null,null,null,null,null,null,null,null,null,"",{"$f":"VLOOKUP(V4918,Minimos!$D$3:$E$26,2,FALSE)","v":{"$error":"#N/A"}},{"$error":"#N/A"},{"$error":"#N/A"}]
[null,null,null,null,null,null,null,null,null,null,null,null,null,null,null,null,null,null,null,null,null,"",{"$f":"VLOOKUP(V4925,Minimos!$D$3:$E$26,2,FALSE)","v":{"$error":"#N/A"}},{"$error":"#N/A"},{"$error":"#N/A"}]
[null,null,null,null,null,null,null,null,null,null,null,null,null,null,null,null,null,null,null,null,null,"",{"$f":"VLOOKUP(V4932,Minimos!$D$3:$E$26,2,FALSE)","v":{"$error":"#N/A"}},{"$error":"#N/A"},{"$error":"#N/A"}]
[null,null,null,null,null,null,null,null,null,null,null,null,null,null,null,null,null,null,null,null,null,"",{"$f":"VLOOKUP(V4939,Minimos!$D$3:$E$26,2,FALSE)","v":{"$error":"#N/A"}},{"$error":"#N/A"},{"$error":"#N/A"}]
[null,null,null,null,null,null,null,null,null,null,null,null,null,null,null,null,null,null,null,null,null,"",{"$f":"VLOOKUP(V4955,Minimos!$D$3:$E$26,2,FALSE)","v":{"$error":"#N/A"}},{"$error":"#N/A"},{"$error":"#N/A"}]
[null,null,null,null,null,null,null,null,null,null,null,null,null,null,null,null,null,null,null,null,null,"",{"$f":"VLOOKUP(V4958,Minimos!$D$3:$E$26,2,FALSE)","v":{"$error":"#N/A"}},{"$error":"#N/A"},{"$error":"#N/A"}]
[null,null,null,null,null,null,null,null,null,null,null,null,null,null,null,null,null,null,null,null,null,"",{"$f":"VLOOKUP(V4971,Minimos!$D$3:$E$26,2,FALSE)","v":{"$error":"#N/A"}},{"$error":"#N/A"},{"$error":"#N/A"}]
[null,null,null,null,null,null,null,null,null,null,null,null,null,null,null,null,null,null,null,null,null,"",{"$f":"VLOOKUP(V4976,Minimos!$D$3:$E$26,2,FALSE)","v":{"$error":"#N/A"}},{"$error":"#N/A"},{"$error":"#N/A"}]
[null,null,null,null,null,null,null,null,null,null,null,null,null,null,null,null,null,null,null,null,null,"",{"$f":"VLOOKUP(V4988,Minimos!$D$3:$E$26,2,FALSE)","v":{"$error":"#N/A"}},{"$error":"#N/A"},{"$error":"#N/A"}]
[null,null,null,null,null,null,null,null,null,null,null,null,null,null,null,null,null,null,null,null,null,"",{"$f":"VLOOKUP(V4995,Minimos!$D$3:$E$26,2,FALSE)","v":{"$error":"#N/A"}},{"$error":"#N/A"},{"$error":"#N/A"}]
[null,null,null,null,null,null,null,null,null,null,null,null,null,null,null,null,null,null,null,null,null,"",{"$f":"VLOOKUP(V5002,Minimos!$D$3:$E$26,2,FALSE)","v":{"$error":"#N/A"}},{"$error":"#N/A"},{"$error":"#N/A"}]
[null,null,null,null,null,null,null,null,null,null,null,null,null,null,null,null,null,null,null,null,null,"",{"$f":"VLOOKUP(V5009,Minimos!$D$3:$E$26,2,FALSE)","v":{"$error":"#N/A"}},{"$error":"#N/A"},{"$error":"#N/A"}]
[null,null,null,null,null,null,null,null,null,null,null,null,null,null,null,null,null,null,null,null,null,"",{"$f":"VLOOKUP(V5025,Minimos!$D$3:$E$26,2,FALSE)","v":{"$error":"#N/A"}},{"$error":"#N/A"},{"$error":"#N/A"}]
[null,null,null,null,null,null,null,null,null,null,null,null,null,null,null,null,null,null,null,null,null,"",{"$f":"VLOOKUP(V5028,Minimos!$D$3:$E$26,2,FALSE)","v":{"$error":"#N/A"}},{"$error":"#N/A"},{"$error":"#N/A"}]
[null,null,null,null,null,null,null,null,null,null,null,null,null,null,null,null,null,null,null,null,null,"",{"$f":"VLOOKUP(V5041,Minimos!$D$3:$E$26,2,FALSE)","v":{"$error":"#N/A"}},{"$error":"#N/A"},{"$error":"#N/A"}]
[null,null,null,null,null,null,null,null,null,null,null,null,null,null,null,null,null,null,null,null,null,"",{"$f":"VLOOKUP(V5046,Minimos!$D$3:$E$26,2,FALSE)","v":{"$error":"#N/A"}},{"$error":"#N/A"},{"$error":"#N/A"}]
[null,null,null,null,null,null,null,null,null,null,null,null,null,null,null,null,null,null,null,null,null,"",{"$f":"VLOOKUP(V5058,Minimos!$D$3:$E$26,2,FALSE)","v":{"$error":"#N/A"}},{"$error":"#N/A"},{"$error":"#N/A"}]
[null,null,null,null,null,null,null,null,null,null,null,null,null,null,null,null,null,null,null,null,null,"",{"$f":"VLOOKUP(V5065,Minimos!$D$3:$E$26,2,FALSE)","v":{"$error":"#N/A"}},{"$error":"#N/A"},{"$error":"#N/A"}]
[null,null,null,null,null,null,null,null,null,null,null,null,null,null,null,null,null,null,null,null,null,"",{"$f":"VLOOKUP(V5072,Minimos!$D$3:$E$26,2,FALSE)","v":{"$error":"#N/A"}},{"$error":"#N/A"},{"$error":"#N/A"}]
[null,null,null,null,null,null,null,null,null,null,null,null,null,null,null,null,null,null,null,null,null,"",{"$f":"VLOOKUP(V5079,Minimos!$D$3:$E$26,2,FALSE)","v":{"$error":"#N/A"}},{"$error":"#N/A"},{"$error":"#N/A"}]
[null,null,null,null,null,null,null,null,null,null,null,null,null,null,null,null,null,null,null,null,null,"",{"$f":"VLOOKUP(V5095,Minimos!$D$3:$E$26,2,FALSE)","v":{"$error":"#N/A"}},{"$error":"#N/A"},{"$error":"#N/A"}]
[null,null,null,null,null,null,null,null,null,null,null,null,null,null,null,null,null,null,null,null,null,"",{"$f":"VLOOKUP(V5098,Minimos!$D$3:$E$26,2,FALSE)","v":{"$error":"#N/A"}},{"$error":"#N/A"},{"$error":"#N/A"}]
[null,null,null,null,null,null,null,null,null,null,null,null,null,null,null,null,null,null,null,null,null,"",{"$f":"VLOOKUP(V5111,Minimos!$D$3:$E$26,2,FALSE)","v":{"$error":"#N/A"}},{"$error":"#N/A"},{"$error":"#N/A"}]
[null,null,null,null,null,null,null,null,null,null,null,null,null,null,null,null,null,null,null,null,null,"",{"$f":"VLOOKUP(V5116,Minimos!$D$3:$E$26,2,FALSE)","v":{"$error":"#N/A"}},{"$error":"#N/A"},{"$error":"#N/A"}]
[null,null,null,null,null,null,null,null,null,null,null,null,null,null,null,null,null,null,null,null,null,"",{"$f":"VLOOKUP(V5128,Minimos!$D$3:$E$26,2,FALSE)","v":{"$error":"#N/A"}},{"$error":"#N/A"},{"$error":"#N/A"}]
[null,null,null,null,null,null,null,null,null,null,null,null,null,null,null,null,null,null,null,null,null,"",{"$f":"VLOOKUP(V5135,Minimos!$D$3:$E$26,2,FALSE)","v":{"$error":"#N/A"}},{"$error":"#N/A"},{"$error":"#N/A"}]
[null,null,null,null,null,null,null,null,null,null,null,null,null,null,null,null,null,null,null,null,null,"",{"$f":"VLOOKUP(V5142,Minimos!$D$3:$E$26,2,FALSE)","v":{"$error":"#N/A"}},{"$error":"#N/A"},{"$error":"#N/A"}]
[null,null,null,null,null,null,null,null,null,null,null,null,null,null,null,null,null,null,null,null,null,"",{"$f":"VLOOKUP(V5153,Minimos!$D$3:$E$26,2,FALSE)","v":{"$error":"#N/A"}},{"$error":"#N/A"},{"$error":"#N/A"}]
[null,null,null,null,null,null,null,null,null,null,null,null,null,null,null,null,null,null,null,null,null,"",{"$f":"VLOOKUP(V5165,Minimos!$D$3:$E$26,2,FALSE)","v":{"$error":"#N/A"}},{"$error":"#N/A"},{"$error":"#N/A"}]
[null,null,null,null,null,null,null,null,null,null,null,null,null,null,null,null,null,null,null,null,null,"",{"$f":"VLOOKUP(V5168,Minimos!$D$3:$E$26,2,FALSE)","v":{"$error":"#N/A"}},{"$error":"#N/A"},{"$error":"#N/A"}]
[null,null,null,null,null,null,null,null,null,null,null,null,null,null,null,null,null,null,null,null,null,"",{"$f":"VLOOKUP(V5181,Minimos!$D$3:$E$26,2,FALSE)","v":{"$error":"#N/A"}},{"$error":"#N/A"},{"$error":"#N/A"}]
[null,null,null,null,null,null,null,null,null,null,null,null,null,null,null,null,null,null,null,null,null,"",{"$f":"VLOOKUP(V5186,Minimos!$D$3:$E$26,2,FALSE)","v":{"$error":"#N/A"}},{"$error":"#N/A"},{"$error":"#N/A"}]
[null,null,null,null,null,null,null,null,null,null,null,null,null,null,null,null,null,null,null,null,null,"",{"$f":"VLOOKUP(V5198,Minimos!$D$3:$E$26,2,FALSE)","v":{"$error":"#N/A"}},{"$error":"#N/A"},{"$error":"#N/A"}]
[null,null,null,null,null,null,null,null,null,null,null,null,null,null,null,null,null,null,null,null,null,"",{"$f":"VLOOKUP(V5205,Minimos!$D$3:$E$26,2,FALSE)","v":{"$error":"#N/A"}},{"$error":"#N/A"},{"$error":"#N/A"}]
[null,null,null,null,null,null,null,null,null,null,null,null,null,null,null,null,null,null,null,null,null,"",{"$f":"VLOOKUP(V5212,Minimos!$D$3:$E$26,2,FALSE)","v":{"$error":"#N/A"}},{"$error":"#N/A"},{"$error":"#N/A"}]
[null,null,null,null,null,null,null,null,null,null,null,null,null,null,null,null,null,null,null,null,null,"",{"$f":"VLOOKUP(V5223,Minimos!$D$3:$E$26,2,FALSE)","v":{"$error":"#N/A"}},{"$error":"#N/A"},{"$error":"#N/A"}]
[null,null,null,null,null,null,null,null,null,null,null,null,null,null,null,null,null,null,null,null,null,"",{"$f":"VLOOKUP(V5235,Minimos!$D$3:$E$26,2,FALSE)","v":{"$error":"#N/A"}},{"$error":"#N/A"},{"$error":"#N/A"}]
[null,null,null,null,null,null,null,null,null,null,null,null,null,null,null,null,null,null,null,null,null,"",{"$f":"VLOOKUP(V5238,Minimos!$D$3:$E$26,2,FALSE)","v":{"$error":"#N/A"}},{"$error":"#N/A"},{"$error":"#N/A"}]
[null,null,null,null,null,null,null,null,null,null,null,null,null,null,null,null,null,null,null,null,null,"",{"$f":"VLOOKUP(V5251,Minimos!$D$3:$E$26,2,FALSE)","v":{"$error":"#N/A"}},{"$error":"#N/A"},{"$error":"#N/A"}]
[null,null,null,null,null,null,null,null,null,null,null,null,null,null,null,null,null,null,null,null,null,"",{"$f":"VLOOKUP(V5256,Minimos!$D$3:$E$26,2,FALSE)","v":{"$error":"#N/A"}},{"$error":"#N/A"},{"$error":"#N/A"}]
[null,null,null,null,null,null,null,null,null,null,null,null,null,null,null,null,null,null,null,null,null,"",{"$f":"VLOOKUP(V5263,Minimos!$D$3:$E$26,2,FALSE)","v":{"$error":"#N/A"}},{"$error":"#N/A"},{"$error":"#N/A"}]
[null,null,null,null,null,null,null,null,null,null,null,null,null,null,null,null,null,null,null,null,null,"",{"$f":"VLOOKUP(V5275,Minimos!$D$3:$E$26,2,FALSE)","v":{"$error":"#N/A"}},{"$error":"#N/A"},{"$error":"#N/A"}]
[null,null,null,null,null,null,null,null,null,null,null,null,null,null,null,null,null,null,null,null,null,"",{"$f":"VLOOKUP(V5282,Minimos!$D$3:$E$26,2,FALSE)","v":{"$error":"#N/A"}},{"$error":"#N/A"},{"$error":"#N/A"}]
[null,null,null,null,null,null,null,null,null,null,null,null,null,null,null,null,null,null,null,null,null,"",{"$f":"VLOOKUP(V5293,Minimos!$D$3:$E$26,2,FALSE)","v":{"$error":"#N/A"}},{"$error":"#N/A"},{"$error":"#N/A"}]
[null,null,null,null,null,null,null,null,null,null,null,null,null,null,null,null,null,null,null,null,null,"",{"$f":"VLOOKUP(V5305,Minimos!$D$3:$E$26,2,FALSE)","v":{"$error":"#N/A"}},{"$error":"#N/A"},{"$error":"#N/A"}]
[null,null,null,null,null,null,null,null,null,null,null,null,null,null,null,null,null,null,null,null,null,"",{"$f":"VLOOKUP(V5308,Minimos!$D$3:$E$26,2,FALSE)","v":{"$error":"#N/A"}},{"$error":"#N/A"},{"$error":"#N/A"}]
[null,null,null,null,null,null,null,null,null,null,null,null,null,null,null,null,null,null,null,null,null,"",{"$f":"VLOOKUP(V5321,Minimos!$D$3:$E$26,2,FALSE)","v":{"$error":"#N/A"}},{"$error":"#N/A"},{"$error":"#N/A"}]
[null,null,null,null,null,null,null,null,null,null,null,null,null,null,null,null,null,null,null,null,null,"",{"$f":"VLOOKUP(V5326,Minimos!$D$3:$E$26,2,FALSE)","v":{"$error":"#N/A"}},{"$error":"#N/A"},{"$error":"#N/A"}]
[null,null,null,null,null,null,null,null,null,null,null,null,null,null,null,null,null,null,null,null,null,"",{"$f":"VLOOKUP(V5333,Minimos!$D$3:$E$26,2,FALSE)","v":{"$error":"#N/A"}},{"$error":"#N/A"},{"$error":"#N/A"}]
[null,null,null,null,null,null,null,null,null,null,null,null,null,null,null,null,null,null,null,null,null,"",{"$f":"VLOOKUP(V5345,Minimos!$D$3:$E$26,2,FALSE)","v":{"$error":"#N/A"}},{"$error":"#N/A"},{"$error":"#N/A"}]
[null,null,null,null,null,null,null,null,null,null,null,null,null,null,null,null,null,null,null,null,null,"",{"$f":"VLOOKUP(V5352,Minimos!$D$3:$E$26,2,FALSE)","v":{"$error":"#N/A"}},{"$error":"#N/A"},{"$error":"#N/A"}]
[null,null,null,null,null,null,null,null,null,null,null,null,null,null,null,null,null,null,null,null,null,"",{"$f":"VLOOKUP(V5363,Minimos!$D$3:$E$26,2,FALSE)","v":{"$error":"#N/A"}},{"$error":"#N/A"},{"$error":"#N/A"}]
[null,null,null,null,null,null,null,null,null,null,null,null,null,null,null,null,null,null,null,null,null,"",{"$f":"VLOOKUP(V5375,Minimos!$D$3:$E$26,2,FALSE)","v":{"$error":"#N/A"}},{"$error":"#N/A"},{"$error":"#N/A"}]
[null,null,null,null,null,null,null,null,null,null,null,null,null,null,null,null,null,null,null,null,null,"",{"$f":"VLOOKUP(V5378,Minimos!$D$3:$E$26,2,FALSE)","v":{"$error":"#N/A"}},{"$error":"#N/A"},{"$error":"#N/A"}]
[null,null,null,null,null,null,null,null,null,null,null,null,null,null,null,null,null,null,null,null,null,"",{"$f":"VLOOKUP(V5385,Minimos!$D$3:$E$26,2,FALSE)","v":{"$error":"#N/A"}},{"$error":"#N/A"},{"$error":"#N/A"}]
[null,null,null,null,null,null,null,null,null,null,null,null,null,null,null,null,null,null,null,null,null,"",{"$f":"VLOOKUP(V5401,Minimos!$D$3:$E$26,2,FALSE)","v":{"$error":"#N/A"}},{"$error":"#N/A"},{"$error":"#N/A"}]
[null,null,null,null,null,null,null,null,null,null,null,null,null,null,null,null,null,null,null,null,null,"",{"$f":"VLOOKUP(V5403,Minimos!$D$3:$E$26,2,FALSE)","v":{"$error":"#N/A"}},{"$error":"#N/A"},{"$error":"#N/A"}]
[null,null,null,null,null,null,null,null,null,null,null,null,null,null,null,null,null,null,null,null,null,"",{"$f":"VLOOKUP(V5415,Minimos!$D$3:$E$26,2,FALSE)","v":{"$error":"#N/A"}},{"$error":"#N/A"},{"$error":"#N/A"}]
[null,null,null,null,null,null,null,null,null,null,null,null,null,null,null,null,null,null,null,null,null,"",{"$f":"VLOOKUP(V5427,Minimos!$D$3:$E$26,2,FALSE)","v":{"$error":"#N/A"}},{"$error":"#N/A"},{"$error":"#N/A"}]
[null,null,null,null,null,null,null,null,null,null,null,null,null,null,null,null,null,null,null,null,null,"",{"$f":"VLOOKUP(V5432,Minimos!$D$3:$E$26,2,FALSE)","v":{"$error":"#N/A"}},{"$error":"#N/A"},{"$error":"#N/A"}]
[null,null,null,null,null,null,null,null,null,null,null,null,null,null,null,null,null,null,null,null,null,"",{"$f":"VLOOKUP(V5445,Minimos!$D$3:$E$26,2,FALSE)","v":{"$error":"#N/A"}},{"$error":"#N/A"},{"$error":"#N/A"}]
[null,null,null,null,null,null,null,null,null,null,null,null,null,null,null,null,null,null,null,null,null,"",{"$f":"VLOOKUP(V5452,Minimos!$D$3:$E$26,2,FALSE)","v":{"$error":"#N/A"}},{"$error":"#N/A"},{"$error":"#N/A"}]
[null,null,null,null,null,null,null,null,null,null,null,null,null,null,null,null,null,null,null,null,null,"",{"$f":"VLOOKUP(V5455,Minimos!$D$3:$E$26,2,FALSE)","v":{"$error":"#N/A"}},{"$error":"#N/A"},{"$error":"#N/A"}]
[null,null,null,null,null,null,null,null,null,null,null,null,null,null,null,null,null,null,null,null,null,"",{"$f":"VLOOKUP(V5471,Minimos!$D$3:$E$26,2,FALSE)","v":{"$error":"#N/A"}},{"$error":"#N/A"},{"$error":"#N/A"}]
[null,null,null,null,null,null,null,null,null,null,null,null,null,null,null,null,null,null,null,null,null,"",{"$f":"VLOOKUP(V5473,Minimos!$D$3:$E$26,2,FALSE)","v":{"$error":"#N/A"}},{"$error":"#N/A"},{"$error":"#N/A"}]
[null,null,null,null,null,null,null,null,null,null,null,null,null,null,null,null,null,null,null,null,null,"",{"$f":"VLOOKUP(V5485,Minimos!$D$3:$E$26,2,FALSE)","v":{"$error":"#N/A"}},{"$error":"#N/A"},{"$error":"#N/A"}]
[null,null,null,null,null,null,null,null,null,null,null,null,null,null,null,null,null,null,null,null,null,"",{"$f":"VLOOKUP(V5497,Minimos!$D$3:$E$26,2,FALSE)","v":{"$error":"#N/A"}},{"$error":"#N/A"},{"$error":"#N/A"}]
[null,null,null,null,null,null,null,null,null,null,null,null,null,null,null,null,null,null,null,null,null,"",{"$f":"VLOOKUP(V5502,Minimos!$D$3:$E$26,2,FALSE)","v":{"$error":"#N/A"}},{"$error":"#N/A"},{"$error":"#N/A"}]
[null,null,null,null,null,null,null,null,null,null,null,null,null,null,null,null,null,null,null,null,null,"",{"$f":"VLOOKUP(V5515,Minimos!$D$3:$E$26,2,FALSE)","v":{"$error":"#N/A"}},{"$error":"#N/A"},{"$error":"#N/A"}]
[null,null,null,null,null,null,null,null,null,null,null,null,null,null,null,null,null,null,null,null,null,"",{"$f":"VLOOKUP(V5522,Minimos!$D$3:$E$26,2,FALSE)","v":{"$error":"#N/A"}},{"$error":"#N/A"},{"$error":"#N/A"}]
[null,null,null,null,null,null,null,null,null,null,null,null,null,null,null,null,null,null,null,null,null,"",{"$f":"VLOOKUP(V5525,Minimos!$D$3:$E$26,2,FALSE)","v":{"$error":"#N/A"}},{"$error":"#N/A"},{"$error":"#N/A"}]
[null,null,null,null,null,null,null,null,null,null,null,null,null,null,null,null,null,null,null,null,null,"",{"$f":"VLOOKUP(V5541,Minimos!$D$3:$E$26,2,FALSE)","v":{"$error":"#N/A"}},{"$error":"#N/A"},{"$error":"#N/A"}]
[null,null,null,null,null,null,null,null,null,null,null,null,null,null,null,null,null,null,null,null,null,"",{"$f":"VLOOKUP(V5543,Minimos!$D$3:$E$26,2,FALSE)","v":{"$error":"#N/A"}},{"$error":"#N/A"},{"$error":"#N/A"}]
[null,null,null,null,null,null,null,null,null,null,null,null,null,null,null,null,null,null,null,null,null,"",{"$f":"VLOOKUP(V5555,Minimos!$D$3:$E$26,2,FALSE)","v":{"$error":"#N/A"}},{"$error":"#N/A"},{"$error":"#N/A"}]
[null,null,null,null,null,null,null,null,null,null,null,null,null,null,null,null,null,null,null,null,null,"",{"$f":"VLOOKUP(V5562,Minimos!$D$3:$E$26,2,FALSE)","v":{"$error":"#N/A"}},{"$error":"#N/A"},{"$error":"#N/A"}]
[null,null,null,null,null,null,null,null,null,null,null,null,null,null,null,null,null,null,null,null,null,"",{"$f":"VLOOKUP(V5572,Minimos!$D$3:$E$26,2,FALSE)","v":{"$error":"#N/A"}},{"$error":"#N/A"},{"$error":"#N/A"}]
[null,null,null,null,null,null,null,null,null,null,null,null,null,null,null,null,null,null,null,null,null,"",{"$f":"VLOOKUP(V5585,Minimos!$D$3:$E$26,2,FALSE)","v":{"$error":"#N/A"}},{"$error":"#N/A"},{"$error":"#N/A"}]
[null,null,null,null,null,null,null,null,null,null,null,null,null,null,null,null,null,null,null,null,null,"",{"$f":"VLOOKUP(V5592,Minimos!$D$3:$E$26,2,FALSE)","v":{"$error":"#N/A"}},{"$error":"#N/A"},{"$error":"#N/A"}]
[null,null,null,null,null,null,null,null,null,null,null,null,null,null,null,null,null,null,null,null,null,"",{"$f":"VLOOKUP(V5595,Minimos!$D$3:$E$26,2,FALSE)","v":{"$error":"#N/A"}},{"$error":"#N/A"},{"$error":"#N/A"}]
[null,null,null,null,null,null,null,null,null,null,null,null,null,null,null,null,null,null,null,null,null,"",{"$f":"VLOOKUP(V5611,Minimos!$D$3:$E$26,2,FALSE)","v":{"$error":"#N/A"}},{"$error":"#N/A"},{"$error":"#N/A"}]
[null,null,null,null,null,null,null,null,null,null,null,null,null,null,null,null,null,null,null,null,null,"",{"$f":"VLOOKUP(V5613,Minimos!$D$3:$E$26,2,FALSE)","v":{"$error":"#N/A"}},{"$error":"#N/A"},{"$error":"#N/A"}]
[null,null,null,null,null,null,null,null,null,null,null,null,null,null,null,null,null,null,null,null,null,"",{"$f":"VLOOKUP(V5625,Minimos!$D$3:$E$26,2,FALSE)","v":{"$error":"#N/A"}},{"$error":"#N/A"},{"$error":"#N/A"}]
[null,null,null,null,null,null,null,null,null,null,null,null,null,null,null,null,null,null,null,null,null,"",{"$f":"VLOOKUP(V5632,Minimos!$D$3:$E$26,2,FALSE)","v":{"$error":"#N/A"}},{"$error":"#N/A"},{"$error":"#N/A"}]
[null,null,null,null,null,null,null,null,null,null,null,null,null,null,null,null,null,null,null,null,null,"",{"$f":"VLOOKUP(V5642,Minimos!$D$3:$E$26,2,FALSE)","v":{"$error":"#N/A"}},{"$error":"#N/A"},{"$error":"#N/A"}]
[null,null,null,null,null,null,null,null,null,null,null,null,null,null,null,null,null,null,null,null,null,"",{"$f":"VLOOKUP(V5655,Minimos!$D$3:$E$26,2,FALSE)","v":{"$error":"#N/A"}},{"$error":"#N/A"},{"$error":"#N/A"}]
[null,null,null,null,null,null,null,null,null,null,null,null,null,null,null,null,null,null,null,null,null,"",{"$f":"VLOOKUP(V5662,Minimos!$D$3:$E$26,2,FALSE)","v":{"$error":"#N/A"}},{"$error":"#N/A"},{"$error":"#N/A"}]
[null,null,null,null,null,null,null,null,null,null,null,null,null,null,null,null,null,null,null,null,null,"",{"$f":"VLOOKUP(V5665,Minimos!$D$3:$E$26,2,FALSE)","v":{"$error":"#N/A"}},{"$error":"#N/A"},{"$error":"#N/A"}]
[null,null,null,null,null,null,null,null,null,null,null,null,null,null,null,null,null,null,null,null,null,"",{"$f":"VLOOKUP(V5681,Minimos!$D$3:$E$26,2,FALSE)","v":{"$error":"#N/A"}},{"$error":"#N/A"},{"$error":"#N/A"}]
[null,null,null,null,null,null,null,null,null,null,null,null,null,null,null,null,null,null,null,null,null,"",{"$f":"VLOOKUP(V5683,Minimos!$D$3:$E$26,2,FALSE)","v":{"$error":"#N/A"}},{"$error":"#N/A"},{"$error":"#N/A"}]
[null,null,null,null,null,null,null,null,null,null,null,null,null,null,null,null,null,null,null,null,null,"",{"$f":"VLOOKUP(V5695,Minimos!$D$3:$E$26,2,FALSE)","v":{"$error":"#N/A"}},{"$error":"#N/A"},{"$error":"#N/A"}]
[null,null,null,null,null,null,null,null,null,null,null,null,null,null,null,null,null,null,null,null,null,{"$f":"A5702&L5702&G5702","v":""},{"$f":"VLOOKUP(V5702,Minimos!$D$3:$E$26,2,FALSE)","v":{"$error":"#N/A"}},{"$error":"#N/A"},{"$error":"#N/A"}]
[null,null,null,null,null,null,null,null,null,null,null,null,null,null,null,null,null,null,null,null,null,"",{"$f":"VLOOKUP(V5712,Minimos!$D$3:$E$26,2,FALSE)","v":{"$error":"#N/A"}},{"$error":"#N/A"},{"$error":"#N/A"}]
[null,null,null,null,null,null,null,null,null,null,null,null,null,null,null,null,null,null,null,null,null,"",{"$f":"VLOOKUP(V5725,Minimos!$D$3:$E$26,2,FALSE)","v":{"$error":"#N/A"}},{"$error":"#N/A"},{"$error":"#N/A"}]
[null,null,null,null,null,null,null,null,null,null,null,null,null,null,null,null,null,null,null,null,null,"",{"$f":"VLOOKUP(V5732,Minimos!$D$3:$E$26,2,FALSE)","v":{"$error":"#N/A"}},{"$error":"#N/A"},{"$error":"#N/A"}]
[null,null,null,null,null,null,null,null,null,null,null,null,null,null,null,null,null,null,null,null,null,"",{"$f":"VLOOKUP(V5735,Minimos!$D$3:$E$26,2,FALSE)","v":{"$error":"#N/A"}},{"$error":"#N/A"},{"$error":"#N/A"}]
[null,null,null,null,null,null,null,null,null,null,null,null,null,null,null,null,null,null,null,null,null,"",{"$f":"VLOOKUP(V5751,Minimos!$D$3:$E$26,2,FALSE)","v":{"$error":"#N/A"}},{"$error":"#N/A"},{"$error":"#N/A"}]
[null,null,null,null,null,null,null,null,null,null,null,null,null,null,null,null,null,null,null,null,null,"",{"$f":"VLOOKUP(V5753,Minimos!$D$3:$E$26,2,FALSE)","v":{"$error":"#N/A"}},{"$error":"#N/A"},{"$error":"#N/A"}]
[null,null,null,null,null,null,null,null,null,null,null,null,null,null,null,null,null,null,null,null,null,"",{"$f":"VLOOKUP(V5765,Minimos!$D$3:$E$26,2,FALSE)","v":{"$error":"#N/A"}},{"$error":"#N/A"},{"$error":"#N/A"}]
[null,null,null,null,null,null,null,null,null,null,null,null,null,null,null,null,null,null,null,null,null,"",{"$f":"VLOOKUP(V5772,Minimos!$D$3:$E$26,2,FALSE)","v":{"$error":"#N/A"}},{"$error":"#N/A"},{"$error":"#N/A"}]
[null,null,null,null,null,null,null,null,null,null,null,null,null,null,null,null,null,null,null,null,null,"",{"$f":"VLOOKUP(V5782,Minimos!$D$3:$E$26,2,FALSE)","v":{"$error":"#N/A"}},{"$error":"#N/A"},{"$error":"#N/A"}]
[null,null,null,null,null,null,null,null,null,null,null,null,null,null,null,null,null,null,null,null,null,"",{"$f":"VLOOKUP(V5795,Minimos!$D$3:$E$26,2,FALSE)","v":{"$error":"#N/A"}},{"$error":"#N/A"},{"$error":"#N/A"}]
[null,null,null,null,null,null,null,null,null,null,null,null,null,null,null,null,null,null,null,null,null,"",{"$f":"VLOOKUP(V5802,Minimos!$D$3:$E$26,2,FALSE)","v":{"$error":"#N/A"}},{"$error":"#N/A"},{"$error":"#N/A"}]
[null,null,null,null,null,null,null,null,null,null,null,null,null,null,null,null,null,null,null,null,null,"",{"$f":"VLOOKUP(V5805,Minimos!$D$3:$E$26,2,FALSE)","v":{"$error":"#N/A"}},{"$error":"#N/A"},{"$error":"#N/A"}]
[null,null,null,null,null,null,null,null,null,null,null,null,null,null,null,null,null,null,null,null,null,"",{"$f":"VLOOKUP(V5821,Minimos!$D$3:$E$26,2,FALSE)","v":{"$error":"#N/A"}},{"$error":"#N/A"},{"$error":"#N/A"}]
[null,null,null,null,null,null,null,null,null,null,null,null,null,null,null,null,null,null,null,null,null,"",{"$f":"VLOOKUP(V5823,Minimos!$D$3:$E$26,2,FALSE)","v":{"$error":"#N/A"}},{"$error":"#N/A"},{"$error":"#N/A"}]
[null,null,null,null,null,null,null,null,null,null,null,null,null,null,null,null,null,null,null,null,null,"",{"$f":"VLOOKUP(V5835,Minimos!$D$3:$E$26,2,FALSE)","v":{"$error":"#N/A"}},{"$error":"#N/A"},{"$error":"#N/A"}]
[null,null,null,null,null,null,null,null,null,null,null,null,null,null,null,null,null,null,null,null,null,"",{"$f":"VLOOKUP(V5842,Minimos!$D$3:$E$26,2,FALSE)","v":{"$error":"#N/A"}},{"$error":"#N/A"},{"$error":"#N/A"}]
[null,null,null,null,null,null,null,null,null,null,null,null,null,null,null,null,null,null,null,null,null,"",{"$f":"VLOOKUP(V5852,Minimos!$D$3:$E$26,2,FALSE)","v":{"$error":"#N/A"}},{"$error":"#N/A"},{"$error":"#N/A"}]
[null,null,null,null,null,null,null,null,null,null,null,null,null,null,null,null,null,null,null,null,null,"",{"$f":"VLOOKUP(V5865,Minimos!$D$3:$E$26,2,FALSE)","v":{"$error":"#N/A"}},{"$error":"#N/A"},{"$error":"#N/A"}]
[null,null,null,null,null,null,null,null,null,null,null,null,null,null,null,null,null,null,null,null,null,"",{"$f":"VLOOKUP(V5872,Minimos!$D$3:$E$26,2,FALSE)","v":{"$error":"#N/A"}},{"$error":"#N/A"},{"$error":"#N/A"}]
[null,null,null,null,null,null,null,null,null,null,null,null,null,null,null,null,null,null,null,null,null,"",{"$f":"VLOOKUP(V5875,Minimos!$D$3:$E$26,2,FALSE)","v":{"$error":"#N/A"}},{"$error":"#N/A"},{"$error":"#N/A"}]
[null,null,null,null,null,null,null,null,null,null,null,null,null,null,null,null,null,null,null,null,null,"",{"$f":"VLOOKUP(V5891,Minimos!$D$3:$E$26,2,FALSE)","v":{"$error":"#N/A"}},{"$error":"#N/A"},{"$error":"#N/A"}]
[null,null,null,null,null,null,null,null,null,null,null,null,null,null,null,null,null,null,null,null,null,"",{"$f":"VLOOKUP(V5893,Minimos!$D$3:$E$26,2,FALSE)","v":{"$error":"#N/A"}},{"$error":"#N/A"},{"$error":"#N/A"}]
[null,null,null,null,null,null,null,null,null,null,null,null,null,null,null,null,null,null,null,null,null,"",{"$f":"VLOOKUP(V5905,Minimos!$D$3:$E$26,2,FALSE)","v":{"$error":"#N/A"}},{"$error":"#N/A"},{"$error":"#N/A"}]
[null,null,null,null,null,null,null,null,null,null,null,null,null,null,null,null,null,null,null,null,null,"",{"$f":"VLOOKUP(V5912,Minimos!$D$3:$E$26,2,FALSE)","v":{"$error":"#N/A"}},{"$error":"#N/A"},{"$error":"#N/A"}]
[null,null,null,null,null,null,null,null,null,null,null,null,null,null,null,null,null,null,null,null,null,"",{"$f":"VLOOKUP(V5922,Minimos!$D$3:$E$26,2,FALSE)","v":{"$error":"#N/A"}},{"$error":"#N/A"},{"$error":"#N/A"}]
[null,null,null,null,null,null,null,null,null,null,null,null,null,null,null,null,null,null,null,null,null,"",{"$f":"VLOOKUP(V5930,Minimos!$D$3:$E$26,2,FALSE)","v":{"$error":"#N/A"}},{"$error":"#N/A"},{"$error":"#N/A"}]
[null,null,null,null,null,null,null,null,null,null,null,null,null,null,null,null,null,null,null,null,null,"",{"$f":"VLOOKUP(V5942,Minimos!$D$3:$E$26,2,FALSE)","v":{"$error":"#N/A"}},{"$error":"#N/A"},{"$error":"#N/A"}]
[null,null,null,null,null,null,null,null,null,null,null,null,null,null,null,null,null,null,null,null,null,"",{"$f":"VLOOKUP(V5945,Minimos!$D$3:$E$26,2,FALSE)","v":{"$error":"#N/A"}},{"$error":"#N/A"},{"$error":"#N/A"}]
[null,null,null,null,null,null,null,null,null,null,null,null,null,null,null,null,null,null,null,null,null,"",{"$f":"VLOOKUP(V5961,Minimos!$D$3:$E$26,2,FALSE)","v":{"$error":"#N/A"}},{"$error":"#N/A"},{"$error":"#N/A"}]
[null,null,null,null,null,null,null,null,null,null,null,null,null,null,null,null,null,null,null,null,null,"",{"$f":"VLOOKUP(V5963,Minimos!$D$3:$E$26,2,FALSE)","v":{"$error":"#N/A"}},{"$error":"#N/A"},{"$error":"#N/A"}]
[null,null,null,null,null,null,null,null,null,null,null,null,null,null,null,null,null,null,null,null,null,"",{"$f":"VLOOKUP(V5975,Minimos!$D$3:$E$26,2,FALSE)","v":{"$error":"#N/A"}},{"$error":"#N/A"},{"$error":"#N/A"}]
[null,null,null,null,null,null,null,null,null,null,null,null,null,null,null,null,null,null,null,null,null,"",{"$f":"VLOOKUP(V5982,Minimos!$D$3:$E$26,2,FALSE)","v":{"$error":"#N/A"}},{"$error":"#N/A"},{"$error":"#N/A"}]
[null,null,null,null,null,null,null,null,null,null,null,null,null,null,null,null,null,null,null,null,null,"",{"$f":"VLOOKUP(V5992,Minimos!$D$3:$E$26,2,FALSE)","v":{"$error":"#N/A"}},{"$error":"#N/A"},{"$error":"#N/A"}]
[null,null,null,null,null,null,null,null,null,null,null,null,null,null,null,null,null,null,null,null,null,"",{"$f":"VLOOKUP(V6000,Minimos!$D$3:$E$26,2,FALSE)","v":{"$error":"#N/A"}},{"$error":"#N/A"},{"$error":"#N/A"}]
[null,null,null,null,null,null,null,null,null,null,null,null,null,null,null,null,null,null,null,null,null,"",{"$f":"VLOOKUP(V6012,Minimos!$D$3:$E$26,2,FALSE)","v":{"$error":"#N/A"}},{"$error":"#N/A"},{"$error":"#N/A"}]
[null,null,null,null,null,null,null,null,null,null,null,null,null,null,null,null,null,null,null,null,null,"",{"$f":"VLOOKUP(V6015,Minimos!$D$3:$E$26,2,FALSE)","v":{"$error":"#N/A"}},{"$error":"#N/A"},{"$error":"#N/A"}]
[null,null,null,null,null,null,null,null,null,null,null,null,null,null,null,null,null,null,null,null,null,"",{"$f":"VLOOKUP(V6031,Minimos!$D$3:$E$26,2,FALSE)","v":{"$error":"#N/A"}},{"$error":"#N/A"},{"$error":"#N/A"}]
[null,null,null,null,null,null,null,null,null,null,null,null,null,null,null,null,null,null,null,null,null,"",{"$f":"VLOOKUP(V6033,Minimos!$D$3:$E$26,2,FALSE)","v":{"$error":"#N/A"}},{"$error":"#N/A"},{"$error":"#N/A"}]
[null,null,null,null,null,null,null,null,null,null,null,null,null,null,null,null,null,null,null,null,null,"",{"$f":"VLOOKUP(V6049,Minimos!$D$3:$E$26,2,FALSE)","v":{"$error":"#N/A"}},{"$error":"#N/A"},{"$error":"#N/A"}]
[null,null,null,null,null,null,null,null,null,null,null,null,null,null,null,null,null,null,null,null,null,"",{"$f":"VLOOKUP(V6052,Minimos!$D$3:$E$26,2,FALSE)","v":{"$error":"#N/A"}},{"$error":"#N/A"},{"$error":"#N/A"}]
[null,null,null,null,null,null,null,null,null,null,null,null,null,null,null,null,null,null,null,null,null,"",{"$f":"VLOOKUP(V6062,Minimos!$D$3:$E$26,2,FALSE)","v":{"$error":"#N/A"}},{"$error":"#N/A"},{"$error":"#N/A"}]
[null,null,null,null,null,null,null,null,null,null,null,null,null,null,null,null,null,null,null,null,null,"",{"$f":"VLOOKUP(V6070,Minimos!$D$3:$E$26,2,FALSE)","v":{"$error":"#N/A"}},{"$error":"#N/A"},{"$error":"#N/A"}]
[null,null,null,null,null,null,null,null,null,null,null,null,null,null,null,null,null,null,null,null,null,"",{"$f":"VLOOKUP(V6082,Minimos!$D$3:$E$26,2,FALSE)","v":{"$error":"#N/A"}},{"$error":"#N/A"},{"$error":"#N/A"}]
[null,null,null,null,null,null,null,null,null,null,null,null,null,null,null,null,null,null,null,null,null,"",{"$f":"VLOOKUP(V6085,Minimos!$D$3:$E$26,2,FALSE)","v":{"$error":"#N/A"}},{"$error":"#N/A"},{"$error":"#N/A"}]
[null,null,null,null,null,null,null,null,null,null,null,null,null,null,null,null,null,null,null,null,null,"",{"$f":"VLOOKUP(V6101,Minimos!$D$3:$E$26,2,FALSE)","v":{"$error":"#N/A"}},{"$error":"#N/A"},{"$error":"#N/A"}]
[null,null,null,null,null,null,null,null,null,null,null,null,null,null,null,null,null,null,null,null,null,"",{"$f":"VLOOKUP(V6103,Minimos!$D$3:$E$26,2,FALSE)","v":{"$error":"#N/A"}},{"$error":"#N/A"},{"$error":"#N/A"}]
[null,null,null,null,null,null,null,null,null,null,null,null,null,null,null,null,null,null,null,null,null,"",{"$f":"VLOOKUP(V6119,Minimos!$D$3:$E$26,2,FALSE)","v":{"$error":"#N/A"}},{"$error":"#N/A"},{"$error":"#N/A"}]
[null,null,null,null,null,null,null,null,null,null,null,null,null,null,null,null,null,null,null,null,null,"",{"$f":"VLOOKUP(V6122,Minimos!$D$3:$E$26,2,FALSE)","v":{"$error":"#N/A"}},{"$error":"#N/A"},{"$error":"#N/A"}]
[null,null,null,null,null,null,null,null,null,null,null,null,null,null,null,null,null,null,null,null,null,"",{"$f":"VLOOKUP(V6132,Minimos!$D$3:$E$26,2,FALSE)","v":{"$error":"#N/A"}},{"$error":"#N/A"},{"$error":"#N/A"}]
[null,null,null,null,null,null,null,null,null,null,null,null,null,null,null,null,null,null,null,null,null,"",{"$f":"VLOOKUP(V6140,Minimos!$D$3:$E$26,2,FALSE)","v":{"$error":"#N/A"}},{"$error":"#N/A"},{"$error":"#N/A"}]
[null,null,null,null,null,null,null,null,null,null,null,null,null,null,null,null,null,null,null,null,null,"",{"$f":"VLOOKUP(V6152,Minimos!$D$3:$E$26,2,FALSE)","v":{"$error":"#N/A"}},{"$error":"#N/A"},{"$error":"#N/A"}]
[null,null,null,null,null,null,null,null,null,null,null,null,null,null,null,null,null,null,null,null,null,"",{"$f":"VLOOKUP(V6155,Minimos!$D$3:$E$26,2,FALSE)","v":{"$error":"#N/A"}},{"$error":"#N/A"},{"$error":"#N/A"}]
[null,null,null,null,null,null,null,null,null,null,null,null,null,null,null,null,null,null,null,null,null,"",{"$f":"VLOOKUP(V6171,Minimos!$D$3:$E$26,2,FALSE)","v":{"$error":"#N/A"}},{"$error":"#N/A"},{"$error":"#N/A"}]
[null,null,null,null,null,null,null,null,null,null,null,null,null,null,null,null,null,null,null,null,null,"",{"$f":"VLOOKUP(V6173,Minimos!$D$3:$E$26,2,FALSE)","v":{"$error":"#N/A"}},{"$error":"#N/A"},{"$error":"#N/A"}]
[null,null,null,null,null,null,null,null,null,null,null,null,null,null,null,null,null,null,null,null,null,"",{"$f":"VLOOKUP(V6189,Minimos!$D$3:$E$26,2,FALSE)","v":{"$error":"#N/A"}},{"$error":"#N/A"},{"$error":"#N/A"}]
[null,null,null,null,null,null,null,null,null,null,null,null,null,null,null,null,null,null,null,null,null,"",{"$f":"VLOOKUP(V6192,Minimos!$D$3:$E$26,2,FALSE)","v":{"$error":"#N/A"}},{"$error":"#N/A"},{"$error":"#N/A"}]
[null,null,null,null,null,null,null,null,null,null,null,null,null,null,null,null,null,null,null,null,null,"",{"$f":"VLOOKUP(V6202,Minimos!$D$3:$E$26,2,FALSE)","v":{"$error":"#N/A"}},{"$error":"#N/A"},{"$error":"#N/A"}]
[null,null,null,null,null,null,null,null,null,null,null,null,null,null,null,null,null,null,null,null,null,"",{"$f":"VLOOKUP(V6210,Minimos!$D$3:$E$26,2,FALSE)","v":{"$error":"#N/A"}},{"$error":"#N/A"},{"$error":"#N/A"}]
[null,null,null,null,null,null,null,null,null,null,null,null,null,null,null,null,null,null,null,null,null,"",{"$f":"VLOOKUP(V6222,Minimos!$D$3:$E$26,2,FALSE)","v":{"$error":"#N/A"}},{"$error":"#N/A"},{"$error":"#N/A"}]
[null,null,null,null,null,null,null,null,null,null,null,null,null,null,null,null,null,null,null,null,null,"",{"$f":"VLOOKUP(V6229,Minimos!$D$3:$E$26,2,FALSE)","v":{"$error":"#N/A"}},{"$error":"#N/A"},{"$error":"#N/A"}]
[null,null,null,null,null,null,null,null,null,null,null,null,null,null,null,null,null,null,null,null,null,"",{"$f":"VLOOKUP(V6241,Minimos!$D$3:$E$26,2,FALSE)","v":{"$error":"#N/A"}},{"$error":"#N/A"},{"$error":"#N/A"}]
[null,null,null,null,null,null,null,null,null,null,null,null,null,null,null,null,null,null,null,null,null,"",{"$f":"VLOOKUP(V6243,Minimos!$D$3:$E$26,2,FALSE)","v":{"$error":"#N/A"}},{"$error":"#N/A"},{"$error":"#N/A"}]
[null,null,null,null,null,null,null,null,null,null,null,null,null,null,null,null,null,null,null,null,null,"",{"$f":"VLOOKUP(V6259,Minimos!$D$3:$E$26,2,FALSE)","v":{"$error":"#N/A"}},{"$error":"#N/A"},{"$error":"#N/A"}]
[null,null,null,null,null,null,null,null,null,null,null,null,null,null,null,null,null,null,null,null,null,"",{"$f":"VLOOKUP(V6262,Minimos!$D$3:$E$26,2,FALSE)","v":{"$error":"#N/A"}},{"$error":"#N/A"},{"$error":"#N/A"}]
[null,null,null,null,null,null,null,null,null,null,null,null,null,null,null,null,null,null,null,null,null,"",{"$f":"VLOOKUP(V6272,Minimos!$D$3:$E$26,2,FALSE)","v":{"$error":"#N/A"}},{"$error":"#N/A"},{"$error":"#N/A"}]
[null,null,null,null,null,null,null,null,null,null,null,null,null,null,null,null,null,null,null,null,null,"",{"$f":"VLOOKUP(V6280,Minimos!$D$3:$E$26,2,FALSE)","v":{"$error":"#N/A"}},{"$error":"#N/A"},{"$error":"#N/A"}]
[null,null,null,null,null,null,null,null,null,null,null,null,null,null,null,null,null,null,null,null,null,"",{"$f":"VLOOKUP(V6292,Minimos!$D$3:$E$26,2,FALSE)","v":{"$error":"#N/A"}},{"$error":"#N/A"},{"$error":"#N/A"}]
[null,null,null,null,null,null,null,null,null,null,null,null,null,null,null,null,null,null,null,null,null,"",{"$f":"VLOOKUP(V6299,Minimos!$D$3:$E$26,2,FALSE)","v":{"$error":"#N/A"}},{"$error":"#N/A"},{"$error":"#N/A"}]
[null,null,null,null,null,null,null,null,null,null,null,null,null,null,null,null,null,null,null,null,null,"",{"$f":"VLOOKUP(V6311,Minimos!$D$3:$E$26,2,FALSE)","v":{"$error":"#N/A"}},{"$error":"#N/A"},{"$error":"#N/A"}]
[null,null,null,null,null,null,null,null,null,null,null,null,null,null,null,null,null,null,null,null,null,"",{"$f":"VLOOKUP(V6313,Minimos!$D$3:$E$26,2,FALSE)","v":{"$error":"#N/A"}},{"$error":"#N/A"},{"$error":"#N/A"}]
[null,null,null,null,null,null,null,null,null,null,null,null,null,null,null,null,null,null,null,null,null,"",{"$f":"VLOOKUP(V6329,Minimos!$D$3:$E$26,2,FALSE)","v":{"$error":"#N/A"}},{"$error":"#N/A"},{"$error":"#N/A"}]
[null,null,null,null,null,null,null,null,null,null,null,null,null,null,null,null,null,null,null,null,null,"",{"$f":"VLOOKUP(V6332,Minimos!$D$3:$E$26,2,FALSE)","v":{"$error":"#N/A"}},{"$error":"#N/A"},{"$error":"#N/A"}]
[null,null,null,null,null,null,null,null,null,null,null,null,null,null,null,null,null,null,null,null,null,{"$f":"A6342&L6342&G6342","v":""},{"$f":"VLOOKUP(V6342,Minimos!$D$3:$E$26,2,FALSE)","v":{"$error":"#N/A"}},{"$error":"#N/A"},{"$error":"#N/A"}]
[null,null,null,null,null,null,null,null,null,null,null,null,null,null,null,null,null,null,null,null,null,"",{"$f":"VLOOKUP(V6350,Minimos!$D$3:$E$26,2,FALSE)","v":{"$error":"#N/A"}},{"$error":"#N/A"},{"$error":"#N/A"}]
[null,null,null,null,null,null,null,null,null,null,null,null,null,null,null,null,null,null,null,null,null,"",{"$f":"VLOOKUP(V6362,Minimos!$D$3:$E$26,2,FALSE)","v":{"$error":"#N/A"}},{"$error":"#N/A"},{"$error":"#N/A"}]
[null,null,null,null,null,null,null,null,null,null,null,null,null,null,null,null,null,null,null,null,null,"",{"$f":"VLOOKUP(V6369,Minimos!$D$3:$E$26,2,FALSE)","v":{"$error":"#N/A"}},{"$error":"#N/A"},{"$error":"#N/A"}]
[null,null,null,null,null,null,null,null,null,null,null,null,null,null,null,null,null,null,null,null,null,"",{"$f":"VLOOKUP(V6381,Minimos!$D$3:$E$26,2,FALSE)","v":{"$error":"#N/A"}},{"$error":"#N/A"},{"$error":"#N/A"}]
[null,null,null,null,null,null,null,null,null,null,null,null,null,null,null,null,null,null,null,null,null,"",{"$f":"VLOOKUP(V6383,Minimos!$D$3:$E$26,2,FALSE)","v":{"$error":"#N/A"}},{"$error":"#N/A"},{"$error":"#N/A"}]
[null,null,null,null,null,null,null,null,null,null,null,null,null,null,null,null,null,null,null,null,null,"",{"$f":"VLOOKUP(V6399,Minimos!$D$3:$E$26,2,FALSE)","v":{"$error":"#N/A"}},{"$error":"#N/A"},{"$error":"#N/A"}]
[null,null,null,null,null,null,null,null,null,null,null,null,null,null,null,null,null,null,null,null,null,"",{"$f":"VLOOKUP(V6402,Minimos!$D$3:$E$26,2,FALSE)","v":{"$error":"#N/A"}},{"$error":"#N/A"},{"$error":"#N/A"}]
[null,null,null,null,null,null,null,null,null,null,null,null,null,null,null,null,null,null,null,null,null,"",{"$f":"VLOOKUP(V6412,Minimos!$D$3:$E$26,2,FALSE)","v":{"$error":"#N/A"}},{"$error":"#N/A"},{"$error":"#N/A"}]
[null,null,null,null,null,null,null,null,null,null,null,null,null,null,null,null,null,null,null,null,null,"",{"$f":"VLOOKUP(V6420,Minimos!$D$3:$E$26,2,FALSE)","v":{"$error":"#N/A"}},{"$error":"#N/A"},{"$error":"#N/A"}]
[null,null,null,null,null,null,null,null,null,null,null,null,null,null,null,null,null,null,null,null,null,"",{"$f":"VLOOKUP(V6432,Minimos!$D$3:$E$26,2,FALSE)","v":{"$error":"#N/A"}},{"$error":"#N/A"},{"$error":"#N/A"}]
[null,null,null,null,null,null,null,null,null,null,null,null,null,null,null,null,null,null,null,null,null,"",{"$f":"VLOOKUP(V6439,Minimos!$D$3:$E$26,2,FALSE)","v":{"$error":"#N/A"}},{"$error":"#N/A"},{"$error":"#N/A"}]
[null,null,null,null,null,null,null,null,null,null,null,null,null,null,null,null,null,null,null,null,null,"",{"$f":"VLOOKUP(V6451,Minimos!$D$3:$E$26,2,FALSE)","v":{"$error":"#N/A"}},{"$error":"#N/A"},{"$error":"#N/A"}]
[null,null,null,null,null,null,null,null,null,null,null,null,null,null,null,null,null,null,null,null,null,"",{"$f":"VLOOKUP(V6453,Minimos!$D$3:$E$26,2,FALSE)","v":{"$error":"#N/A"}},{"$error":"#N/A"},{"$error":"#N/A"}]
[null,null,null,null,null,null,null,null,null,null,null,null,null,null,null,null,null,null,null,null,null,"",{"$f":"VLOOKUP(V6469,Minimos!$D$3:$E$26,2,FALSE)","v":{"$error":"#N/A"}},{"$error":"#N/A"},{"$error":"#N/A"}]
[null,null,null,null,null,null,null,null,null,null,null,null,null,null,null,null,null,null,null,null,null,"",{"$f":"VLOOKUP(V6472,Minimos!$D$3:$E$26,2,FALSE)","v":{"$error":"#N/A"}},{"$error":"#N/A"},{"$error":"#N/A"}]
[null,null,null,null,null,null,null,null,null,null,null,null,null,null,null,null,null,null,null,null,null,"",{"$f":"VLOOKUP(V6482,Minimos!$D$3:$E$26,2,FALSE)","v":{"$error":"#N/A"}},{"$error":"#N/A"},{"$error":"#N/A"}]
[null,null,null,null,null,null,null,null,null,null,null,null,null,null,null,null,null,null,null,null,null,"",{"$f":"VLOOKUP(V6490,Minimos!$D$3:$E$26,2,FALSE)","v":{"$error":"#N/A"}},{"$error":"#N/A"},{"$error":"#N/A"}]
[null,null,null,null,null,null,null,null,null,null,null,null,null,null,null,null,null,null,null,null,null,"",{"$f":"VLOOKUP(V6502,Minimos!$D$3:$E$26,2,FALSE)","v":{"$error":"#N/A"}},{"$error":"#N/A"},{"$error":"#N/A"}]
[null,null,null,null,null,null,null,null,null,null,null,null,null,null,null,null,null,null,null,null,null,"",{"$f":"VLOOKUP(V6509,Minimos!$D$3:$E$26,2,FALSE)","v":{"$error":"#N/A"}},{"$error":"#N/A"},{"$error":"#N/A"}]
[null,null,null,null,null,null,null,null,null,null,null,null,null,null,null,null,null,null,null,null,null,"",{"$f":"VLOOKUP(V6521,Minimos!$D$3:$E$26,2,FALSE)","v":{"$error":"#N/A"}},{"$error":"#N/A"},{"$error":"#N/A"}]
[null,null,null,null,null,null,null,null,null,null,null,null,null,null,null,null,null,null,null,null,null,"",{"$f":"VLOOKUP(V6527,Minimos!$D$3:$E$26,2,FALSE)","v":{"$error":"#N/A"}},{"$error":"#N/A"},{"$error":"#N/A"}]
[null,null,null,null,null,null,null,null,null,null,null,null,null,null,null,null,null,null,null,null,null,"",{"$f":"VLOOKUP(V6539,Minimos!$D$3:$E$26,2,FALSE)","v":{"$error":"#N/A"}},{"$error":"#N/A"},{"$error":"#N/A"}]
[null,null,null,null,null,null,null,null,null,null,null,null,null,null,null,null,null,null,null,null,null,"",{"$f":"VLOOKUP(V6542,Minimos!$D$3:$E$26,2,FALSE)","v":{"$error":"#N/A"}},{"$error":"#N/A"},{"$error":"#N/A"}]
[null,null,null,null,null,null,null,null,null,null,null,null,null,null,null,null,null,null,null,null,null,"",{"$f":"VLOOKUP(V6552,Minimos!$D$3:$E$26,2,FALSE)","v":{"$error":"#N/A"}},{"$error":"#N/A"},{"$error":"#N/A"}]
[null,null,null,null,null,null,null,null,null,null,null,null,null,null,null,null,null,null,null,null,null,"",{"$f":"VLOOKUP(V6560,Minimos!$D$3:$E$26,2,FALSE)","v":{"$error":"#N/A"}},{"$error":"#N/A"},{"$error":"#N/A"}]
[null,null,null,null,null,null,null,null,null,null,null,null,null,null,null,null,null,null,null,null,null,"",{"$f":"VLOOKUP(V6572,Minimos!$D$3:$E$26,2,FALSE)","v":{"$error":"#N/A"}},{"$error":"#N/A"},{"$error":"#N/A"}]
[null,null,null,null,null,null,null,null,null,null,null,null,null,null,null,null,null,null,null,null,null,"",{"$f":"VLOOKUP(V6579,Minimos!$D$3:$E$26,2,FALSE)","v":{"$error":"#N/A"}},{"$error":"#N/A"},{"$error":"#N/A"}]
[null,null,null,null,null,null,null,null,null,null,null,null,null,null,null,null,null,null,null,null,null,"",{"$f":"VLOOKUP(V6591,Minimos!$D$3:$E$26,2,FALSE)","v":{"$error":"#N/A"}},{"$error":"#N/A"},{"$error":"#N/A"}]
[null,null,null,null,null,null,null,null,null,null,null,null,null,null,null,null,null,null,null,null,null,"",{"$f":"VLOOKUP(V6597,Minimos!$D$3:$E$26,2,FALSE)","v":{"$error":"#N/A"}},{"$error":"#N/A"},{"$error":"#N/A"}]
[null,null,null,null,null,null,null,null,null,null,null,null,null,null,null,null,null,null,null,null,null,"",{"$f":"VLOOKUP(V6609,Minimos!$D$3:$E$26,2,FALSE)","v":{"$error":"#N/A"}},{"$error":"#N/A"},{"$error":"#N/A"}]
[null,null,null,null,null,null,null,null,null,null,null,null,null,null,null,null,null,null,null,null,null,"",{"$f":"VLOOKUP(V6612,Minimos!$D$3:$E$26,2,FALSE)","v":{"$error":"#N/A"}},{"$error":"#N/A"},{"$error":"#N/A"}]
[null,null,null,null,null,null,null,null,null,null,null,null,null,null,null,null,null,null,null,null,null,"",{"$f":"VLOOKUP(V6622,Minimos!$D$3:$E$26,2,FALSE)","v":{"$error":"#N/A"}},{"$error":"#N/A"},{"$error":"#N/A"}]
[null,null,null,null,null,null,null,null,null,null,null,null,null,null,null,null,null,null,null,null,null,"",{"$f":"VLOOKUP(V6630,Minimos!$D$3:$E$26,2,FALSE)","v":{"$error":"#N/A"}},{"$error":"#N/A"},{"$error":"#N/A"}]
[null,null,null,null,null,null,null,null,null,null,null,null,null,null,null,null,null,null,null,null,null,"",{"$f":"VLOOKUP(V6642,Minimos!$D$3:$E$26,2,FALSE)","v":{"$error":"#N/A"}},{"$error":"#N/A"},{"$error":"#N/A"}]
[null,null,null,null,null,null,null,null,null,null,null,null,null,null,null,null,null,null,null,null,null,"",{"$f":"VLOOKUP(V6649,Minimos!$D$3:$E$26,2,FALSE)","v":{"$error":"#N/A"}},{"$error":"#N/A"},{"$error":"#N/A"}]
[null,null,null,null,null,null,null,null,null,null,null,null,null,null,null,null,null,null,null,null,null,"",{"$f":"VLOOKUP(V6661,Minimos!$D$3:$E$26,2,FALSE)","v":{"$error":"#N/A"}},{"$error":"#N/A"},{"$error":"#N/A"}]
[null,null,null,null,null,null,null,null,null,null,null,null,null,null,null,null,null,null,null,null,null,"",{"$f":"VLOOKUP(V6667,Minimos!$D$3:$E$26,2,FALSE)","v":{"$error":"#N/A"}},{"$error":"#N/A"},{"$error":"#N/A"}]
[null,null,null,null,null,null,null,null,null,null,null,null,null,null,null,null,null,null,null,null,null,"",{"$f":"VLOOKUP(V6679,Minimos!$D$3:$E$26,2,FALSE)","v":{"$error":"#N/A"}},{"$error":"#N/A"},{"$error":"#N/A"}]
[null,null,null,null,null,null,null,null,null,null,null,null,null,null,null,null,null,null,null,null,null,"",{"$f":"VLOOKUP(V6682,Minimos!$D$3:$E$26,2,FALSE)","v":{"$error":"#N/A"}},{"$error":"#N/A"},{"$error":"#N/A"}]
[null,null,null,null,null,null,null,null,null,null,null,null,null,null,null,null,null,null,null,null,null,"",{"$f":"VLOOKUP(V6692,Minimos!$D$3:$E$26,2,FALSE)","v":{"$error":"#N/A"}},{"$error":"#N/A"},{"$error":"#N/A"}]
[null,null,null,null,null,null,null,null,null,null,null,null,null,null,null,null,null,null,null,null,null,"",{"$f":"VLOOKUP(V6700,Minimos!$D$3:$E$26,2,FALSE)","v":{"$error":"#N/A"}},{"$error":"#N/A"},{"$error":"#N/A"}]
[null,null,null,null,null,null,null,null,null,null,null,null,null,null,null,null,null,null,null,null,null,"",{"$f":"VLOOKUP(V6707,Minimos!$D$3:$E$26,2,FALSE)","v":{"$error":"#N/A"}},{"$error":"#N/A"},{"$error":"#N/A"}]
[null,null,null,null,null,null,null,null,null,null,null,null,null,null,null,null,null,null,null,null,null,"",{"$f":"VLOOKUP(V6719,Minimos!$D$3:$E$26,2,FALSE)","v":{"$error":"#N/A"}},{"$error":"#N/A"},{"$error":"#N/A"}]
[null,null,null,null,null,null,null,null,null,null,null,null,null,null,null,null,null,null,null,null,null,"",{"$f":"VLOOKUP(V6731,Minimos!$D$3:$E$26,2,FALSE)","v":{"$error":"#N/A"}},{"$error":"#N/A"},{"$error":"#N/A"}]
[null,null,null,null,null,null,null,null,null,null,null,null,null,null,null,null,null,null,null,null,null,"",{"$f":"VLOOKUP(V6737,Minimos!$D$3:$E$26,2,FALSE)","v":{"$error":"#N/A"}},{"$error":"#N/A"},{"$error":"#N/A"}]
[null,null,null,null,null,null,null,null,null,null,null,null,null,null,null,null,null,null,null,null,null,"",{"$f":"VLOOKUP(V6749,Minimos!$D$3:$E$26,2,FALSE)","v":{"$error":"#N/A"}},{"$error":"#N/A"},{"$error":"#N/A"}]
[null,null,null,null,null,null,null,null,null,null,null,null,null,null,null,null,null,null,null,null,null,"",{"$f":"VLOOKUP(V6752,Minimos!$D$3:$E$26,2,FALSE)","v":{"$error":"#N/A"}},{"$error":"#N/A"},{"$error":"#N/A"}]
[null,null,null,null,null,null,null,null,null,null,null,null,null,null,null,null,null,null,null,null,null,"",{"$f":"VLOOKUP(V6762,Minimos!$D$3:$E$26,2,FALSE)","v":{"$error":"#N/A"}},{"$error":"#N/A"},{"$error":"#N/A"}]
[null,null,null,null,null,null,null,null,null,null,null,null,null,null,null,null,null,null,null,null,null,"",{"$f":"VLOOKUP(V6770,Minimos!$D$3:$E$26,2,FALSE)","v":{"$error":"#N/A"}},{"$error":"#N/A"},{"$error":"#N/A"}]
[null,null,null,null,null,null,null,null,null,null,null,null,null,null,null,null,null,null,null,null,null,"",{"$f":"VLOOKUP(V6777,Minimos!$D$3:$E$26,2,FALSE)","v":{"$error":"#N/A"}},{"$error":"#N/A"},{"$error":"#N/A"}]
[null,null,null,null,null,null,null,null,null,null,null,null,null,null,null,null,null,null,null,null,null,"",{"$f":"VLOOKUP(V6789,Minimos!$D$3:$E$26,2,FALSE)","v":{"$error":"#N/A"}},{"$error":"#N/A"},{"$error":"#N/A"}]
[null,null,null,null,null,null,null,null,null,null,null,null,null,null,null,null,null,null,null,null,null,"",{"$f":"VLOOKUP(V6801,Minimos!$D$3:$E$26,2,FALSE)","v":{"$error":"#N/A"}},{"$error":"#N/A"},{"$error":"#N/A"}]
[null,null,null,null,null,null,null,null,null,null,null,null,null,null,null,null,null,null,null,null,null,"",{"$f":"VLOOKUP(V6807,Minimos!$D$3:$E$26,2,FALSE)","v":{"$error":"#N/A"}},{"$error":"#N/A"},{"$error":"#N/A"}]
[null,null,null,null,null,null,null,null,null,null,null,null,null,null,null,null,null,null,null,null,null,"",{"$f":"VLOOKUP(V6819,Minimos!$D$3:$E$26,2,FALSE)","v":{"$error":"#N/A"}},{"$error":"#N/A"},{"$error":"#N/A"}]
[null,null,null,null,null,null,null,null,null,null,null,null,null,null,null,null,null,null,null,null,null,"",{"$f":"VLOOKUP(V6826,Minimos!$D$3:$E$26,2,FALSE)","v":{"$error":"#N/A"}},{"$error":"#N/A"},{"$error":"#N/A"}]
[null,null,null,null,null,null,null,null,null,null,null,null,null,null,null,null,null,null,null,null,null,"",{"$f":"VLOOKUP(V6832,Minimos!$D$3:$E$26,2,FALSE)","v":{"$error":"#N/A"}},{"$error":"#N/A"},{"$error":"#N/A"}]
[null,null,null,null,null,null,null,null,null,null,null,null,null,null,null,null,null,null,null,null,null,"",{"$f":"VLOOKUP(V6840,Minimos!$D$3:$E$26,2,FALSE)","v":{"$error":"#N/A"}},{"$error":"#N/A"},{"$error":"#N/A"}]
[null,null,null,null,null,null,null,null,null,null,null,null,null,null,null,null,null,null,null,null,null,"",{"$f":"VLOOKUP(V6847,Minimos!$D$3:$E$26,2,FALSE)","v":{"$error":"#N/A"}},{"$error":"#N/A"},{"$error":"#N/A"}]
[null,null,null,null,null,null,null,null,null,null,null,null,null,null,null,null,null,null,null,null,null,"",{"$f":"VLOOKUP(V6859,Minimos!$D$3:$E$26,2,FALSE)","v":{"$error":"#N/A"}},{"$error":"#N/A"},{"$error":"#N/A"}]
[null,null,null,null,null,null,null,null,null,null,null,null,null,null,null,null,null,null,null,null,null,"",{"$f":"VLOOKUP(V6871,Minimos!$D$3:$E$26,2,FALSE)","v":{"$error":"#N/A"}},{"$error":"#N/A"},{"$error":"#N/A"}]
[null,null,null,null,null,null,null,null,null,null,null,null,null,null,null,null,null,null,null,null,null,"",{"$f":"VLOOKUP(V6877,Minimos!$D$3:$E$26,2,FALSE)","v":{"$error":"#N/A"}},{"$error":"#N/A"},{"$error":"#N/A"}]
[null,null,null,null,null,null,null,null,null,null,null,null,null,null,null,null,null,null,null,null,null,"",{"$f":"VLOOKUP(V6889,Minimos!$D$3:$E$26,2,FALSE)","v":{"$error":"#N/A"}},{"$error":"#N/A"},{"$error":"#N/A"}]
[null,null,null,null,null,null,null,null,null,null,null,null,null,null,null,null,null,null,null,null,null,"",{"$f":"VLOOKUP(V6896,Minimos!$D$3:$E$26,2,FALSE)","v":{"$error":"#N/A"}},{"$error":"#N/A"},{"$error":"#N/A"}]
[null,null,null,null,null,null,null,null,null,null,null,null,null,null,null,null,null,null,null,null,null,"",{"$f":"VLOOKUP(V6902,Minimos!$D$3:$E$26,2,FALSE)","v":{"$error":"#N/A"}},{"$error":"#N/A"},{"$error":"#N/A"}]
[null,null,null,null,null,null,null,null,null,null,null,null,null,null,null,null,null,null,null,null,null,"",{"$f":"VLOOKUP(V6910,Minimos!$D$3:$E$26,2,FALSE)","v":{"$error":"#N/A"}},{"$error":"#N/A"},{"$error":"#N/A"}]
[null,null,null,null,null,null,null,null,null,null,null,null,null,null,null,null,null,null,null,null,null,"",{"$f":"VLOOKUP(V6917,Minimos!$D$3:$E$26,2,FALSE)","v":{"$error":"#N/A"}},{"$error":"#N/A"},{"$error":"#N/A"}]
[null,null,null,null,null,null,null,null,null,null,null,null,null,null,null,null,null,null,null,null,null,"",{"$f":"VLOOKUP(V6929,Minimos!$D$3:$E$26,2,FALSE)","v":{"$error":"#N/A"}},{"$error":"#N/A"},{"$error":"#N/A"}]
[null,null,null,null,null,null,null,null,null,null,null,null,null,null,null,null,null,null,null,null,null,"",{"$f":"VLOOKUP(V6941,Minimos!$D$3:$E$26,2,FALSE)","v":{"$error":"#N/A"}},{"$error":"#N/A"},{"$error":"#N/A"}]
[null,null,null,null,null,null,null,null,null,null,null,null,null,null,null,null,null,null,null,null,null,"",{"$f":"VLOOKUP(V6947,Minimos!$D$3:$E$26,2,FALSE)","v":{"$error":"#N/A"}},{"$error":"#N/A"},{"$error":"#N/A"}]
[null,null,null,null,null,null,null,null,null,null,null,null,null,null,null,null,null,null,null,null,null,"",{"$f":"VLOOKUP(V6959,Minimos!$D$3:$E$26,2,FALSE)","v":{"$error":"#N/A"}},{"$error":"#N/A"},{"$error":"#N/A"}]
[null,null,null,null,null,null,null,null,null,null,null,null,null,null,null,null,null,null,null,null,null,"",{"$f":"VLOOKUP(V6966,Minimos!$D$3:$E$26,2,FALSE)","v":{"$error":"#N/A"}},{"$error":"#N/A"},{"$error":"#N/A"}]
[null,null,null,null,null,null,null,null,null,null,null,null,null,null,null,null,null,null,null,null,null,"",{"$f":"VLOOKUP(V6972,Minimos!$D$3:$E$26,2,FALSE)","v":{"$error":"#N/A"}},{"$error":"#N/A"},{"$error":"#N/A"}]
[null,null,null,null,null,null,null,null,null,null,null,null,null,null,null,null,null,null,null,null,null,"",{"$f":"VLOOKUP(V6980,Minimos!$D$3:$E$26,2,FALSE)","v":{"$error":"#N/A"}},{"$error":"#N/A"},{"$error":"#N/A"}]
[null,null,null,null,null,null,null,null,null,null,null,null,null,null,null,null,null,null,null,null,null,"",{"$f":"VLOOKUP(V6987,Minimos!$D$3:$E$26,2,FALSE)","v":{"$error":"#N/A"}},{"$error":"#N/A"},{"$error":"#N/A"}]
[null,null,null,null,null,null,null,null,null,null,null,null,null,null,null,null,null,null,null,null,null,"",{"$f":"VLOOKUP(V6999,Minimos!$D$3:$E$26,2,FALSE)","v":{"$error":"#N/A"}},{"$error":"#N/A"},{"$error":"#N/A"}]
[null,null,null,null,null,null,null,null,null,null,null,null,null,null,null,null,null,null,null,null,null,"",{"$f":"VLOOKUP(V7011,Minimos!$D$3:$E$26,2,FALSE)","v":{"$error":"#N/A"}},{"$error":"#N/A"},{"$error":"#N/A"}]
[null,null,null,null,null,null,null,null,null,null,null,null,null,null,null,null,null,null,null,null,null,"",{"$f":"VLOOKUP(V7017,Minimos!$D$3:$E$26,2,FALSE)","v":{"$error":"#N/A"}},{"$error":"#N/A"},{"$error":"#N/A"}]
[null,null,null,null,null,null,null,null,null,null,null,null,null,null,null,null,null,null,null,null,null,"",{"$f":"VLOOKUP(V7029,Minimos!$D$3:$E$26,2,FALSE)","v":{"$error":"#N/A"}},{"$error":"#N/A"},{"$error":"#N/A"}]
[null,null,null,null,null,null,null,null,null,null,null,null,null,null,null,null,null,null,null,null,null,"",{"$f":"VLOOKUP(V7036,Minimos!$D$3:$E$26,2,FALSE)","v":{"$error":"#N/A"}},{"$error":"#N/A"},{"$error":"#N/A"}]
[null,null,null,null,null,null,null,null,null,null,null,null,null,null,null,null,null,null,null,null,null,"",{"$f":"VLOOKUP(V7042,Minimos!$D$3:$E$26,2,FALSE)","v":{"$error":"#N/A"}},{"$error":"#N/A"},{"$error":"#N/A"}]
[null,null,null,null,null,null,null,null,null,null,null,null,null,null,null,null,null,null,null,null,null,"",{"$f":"VLOOKUP(V7050,Minimos!$D$3:$E$26,2,FALSE)","v":{"$error":"#N/A"}},{"$error":"#N/A"},{"$error":"#N/A"}]
[null,null,null,null,null,null,null,null,null,null,null,null,null,null,null,null,null,null,null,null,null,"",{"$f":"VLOOKUP(V7057,Minimos!$D$3:$E$26,2,FALSE)","v":{"$error":"#N/A"}},{"$error":"#N/A"},{"$error":"#N/A"}]
[null,null,null,null,null,null,null,null,null,null,null,null,null,null,null,null,null,null,null,null,null,"",{"$f":"VLOOKUP(V7069,Minimos!$D$3:$E$26,2,FALSE)","v":{"$error":"#N/A"}},{"$error":"#N/A"},{"$error":"#N/A"}]
[null,null,null,null,null,null,null,null,null,null,null,null,null,null,null,null,null,null,null,null,null,"",{"$f":"VLOOKUP(V7081,Minimos!$D$3:$E$26,2,FALSE)","v":{"$error":"#N/A"}},{"$error":"#N/A"},{"$error":"#N/A"}]
[null,null,null,null,null,null,null,null,null,null,null,null,null,null,null,null,null,null,null,null,null,"",{"$f":"VLOOKUP(V7087,Minimos!$D$3:$E$26,2,FALSE)","v":{"$error":"#N/A"}},{"$error":"#N/A"},{"$error":"#N/A"}]
[null,null,null,null,null,null,null,null,null,null,null,null,null,null,null,null,null,null,null,null,null,"",{"$f":"VLOOKUP(V7099,Minimos!$D$3:$E$26,2,FALSE)","v":{"$error":"#N/A"}},{"$error":"#N/A"},{"$error":"#N/A"}]
[null,null,null,null,null,null,null,null,null,null,null,null,null,null,null,null,null,null,null,null,null,"",{"$f":"VLOOKUP(V7106,Minimos!$D$3:$E$26,2,FALSE)","v":{"$error":"#N/A"}},{"$error":"#N/A"},{"$error":"#N/A"}]
[null,null,null,null,null,null,null,null,null,null,null,null,null,null,null,null,null,null,null,null,null,"",{"$f":"VLOOKUP(V7112,Minimos!$D$3:$E$26,2,FALSE)","v":{"$error":"#N/A"}},{"$error":"#N/A"},{"$error":"#N/A"}]
[null,null,null,null,null,null,null,null,null,null,null,null,null,null,null,null,null,null,null,null,null,"",{"$f":"VLOOKUP(V7120,Minimos!$D$3:$E$26,2,FALSE)","v":{"$error":"#N/A"}},{"$error":"#N/A"},{"$error":"#N/A"}]
[null,null,null,null,null,null,null,null,null,null,null,null,null,null,null,null,null,null,null,null,null,"",{"$f":"VLOOKUP(V7127,Minimos!$D$3:$E$26,2,FALSE)","v":{"$error":"#N/A"}},{"$error":"#N/A"},{"$error":"#N/A"}]
[null,null,null,null,null,null,null,null,null,null,null,null,null,null,null,null,null,null,null,null,null,"",{"$f":"VLOOKUP(V7139,Minimos!$D$3:$E$26,2,FALSE)","v":{"$error":"#N/A"}},{"$error":"#N/A"},{"$error":"#N/A"}]
[null,null,null,null,null,null,null,null,null,null,null,null,null,null,null,null,null,null,null,null,null,"",{"$f":"VLOOKUP(V7151,Minimos!$D$3:$E$26,2,FALSE)","v":{"$error":"#N/A"}},{"$error":"#N/A"},{"$error":"#N/A"}]
[null,null,null,null,null,null,null,null,null,null,null,null,null,null,null,null,null,null,null,null,null,"",{"$f":"VLOOKUP(V7157,Minimos!$D$3:$E$26,2,FALSE)","v":{"$error":"#N/A"}},{"$error":"#N/A"},{"$error":"#N/A"}]
[null,null,null,null,null,null,null,null,null,null,null,null,null,null,null,null,null,null,null,null,null,"",{"$f":"VLOOKUP(V7169,Minimos!$D$3:$E$26,2,FALSE)","v":{"$error":"#N/A"}},{"$error":"#N/A"},{"$error":"#N/A"}]
[null,null,null,null,null,null,null,null,null,null,null,null,null,null,null,null,null,null,null,null,null,"",{"$f":"VLOOKUP(V7176,Minimos!$D$3:$E$26,2,FALSE)","v":{"$error":"#N/A"}},{"$error":"#N/A"},{"$error":"#N/A"}]
[null,null,null,null,null,null,null,null,null,null,null,null,null,null,null,null,null,null,null,null,null,"",{"$f":"VLOOKUP(V7182,Minimos!$D$3:$E$26,2,FALSE)","v":{"$error":"#N/A"}},{"$error":"#N/A"},{"$error":"#N/A"}]
[null,null,null,null,null,null,null,null,null,null,null,null,null,null,null,null,null,null,null,null,null,"",{"$f":"VLOOKUP(V7194,Minimos!$D$3:$E$26,2,FALSE)","v":{"$error":"#N/A"}},{"$error":"#N/A"},{"$error":"#N/A"}]
[null,null,null,null,null,null,null,null,null,null,null,null,null,null,null,null,null,null,null,null,null,"",{"$f":"VLOOKUP(V7197,Minimos!$D$3:$E$26,2,FALSE)","v":{"$error":"#N/A"}},{"$error":"#N/A"},{"$error":"#N/A"}]
[null,null,null,null,null,null,null,null,null,null,null,null,null,null,null,null,null,null,null,null,null,"",{"$f":"VLOOKUP(V7209,Minimos!$D$3:$E$26,2,FALSE)","v":{"$error":"#N/A"}},{"$error":"#N/A"},{"$error":"#N/A"}]
[null,null,null,null,null,null,null,null,null,null,null,null,null,null,null,null,null,null,null,null,null,"",{"$f":"VLOOKUP(V7221,Minimos!$D$3:$E$26,2,FALSE)","v":{"$error":"#N/A"}},{"$error":"#N/A"},{"$error":"#N/A"}]
[null,null,null,null,null,null,null,null,null,null,null,null,null,null,null,null,null,null,null,null,null,"",{"$f":"VLOOKUP(V7227,Minimos!$D$3:$E$26,2,FALSE)","v":{"$error":"#N/A"}},{"$error":"#N/A"},{"$error":"#N/A"}]
[null,null,null,null,null,null,null,null,null,null,null,null,null,null,null,null,null,null,null,null,null,"",{"$f":"VLOOKUP(V7239,Minimos!$D$3:$E$26,2,FALSE)","v":{"$error":"#N/A"}},{"$f":"M7239-W7239","v":{"$error":"#N/A"}},{"$f":"IF(X7239>=0,\"Apurado\",\"\")","v":{"$error":"#N/A"}}]
[null,null,null,null,null,null,null,null,null,null,null,null,null,null,null,null,null,null,null,null,null,"",{"$f":"VLOOKUP(V7246,Minimos!$D$3:$E$26,2,FALSE)","v":{"$error":"#N/A"}},{"$error":"#N/A"},{"$error":"#N/A"}]
[null,null,null,null,null,null,null,null,null,null,null,null,null,null,null,null,null,null,null,null,null,"",{"$f":"VLOOKUP(V7252,Minimos!$D$3:$E$26,2,FALSE)","v":{"$error":"#N/A"}},{"$error":"#N/A"},{"$error":"#N/A"}]
[null,null,null,null,null,null,null,null,null,null,null,null,null,null,null,null,null,null,null,null,null,"",{"$f":"VLOOKUP(V7264,Minimos!$D$3:$E$26,2,FALSE)","v":{"$error":"#N/A"}},{"$error":"#N/A"},{"$error":"#N/A"}]
[null,null,null,null,null,null,null,null,null,null,null,null,null,null,null,null,null,null,null,null,null,"",{"$f":"VLOOKUP(V7267,Minimos!$D$3:$E$26,2,FALSE)","v":{"$error":"#N/A"}},{"$error":"#N/A"},{"$error":"#N/A"}]
[null,null,null,null,null,null,null,null,null,null,null,null,null,null,null,null,null,null,null,null,null,"",{"$f":"VLOOKUP(V7279,Minimos!$D$3:$E$26,2,FALSE)","v":{"$error":"#N/A"}},{"$error":"#N/A"},{"$error":"#N/A"}]
[null,null,null,null,null,null,null,null,null,null,null,null,null,null,null,null,null,null,null,null,null,"",{"$f":"VLOOKUP(V7291,Minimos!$D$3:$E$26,2,FALSE)","v":{"$error":"#N/A"}},{"$error":"#N/A"},{"$error":"#N/A"}]
[null,null,null,null,null,null,null,null,null,null,null,null,null,null,null,null,null,null,null,null,null,"",{"$f":"VLOOKUP(V7297,Minimos!$D$3:$E$26,2,FALSE)","v":{"$error":"#N/A"}},{"$error":"#N/A"},{"$error":"#N/A"}]
[null,null,null,null,null,null,null,null,null,null,null,null,null,null,null,null,null,null,null,null,null,"",{"$f":"VLOOKUP(V7304,Minimos!$D$3:$E$26,2,FALSE)","v":{"$error":"#N/A"}},{"$error":"#N/A"},{"$error":"#N/A"}]
[null,null,null,null,null,null,null,null,null,null,null,null,null,null,null,null,null,null,null,null,null,"",{"$f":"VLOOKUP(V7316,Minimos!$D$3:$E$26,2,FALSE)","v":{"$error":"#N/A"}},{"$error":"#N/A"},{"$error":"#N/A"}]
[null,null,null,null,null,null,null,null,null,null,null,null,null,null,null,null,null,null,null,null,null,"",{"$f":"VLOOKUP(V7322,Minimos!$D$3:$E$26,2,FALSE)","v":{"$error":"#N/A"}},{"$error":"#N/A"},{"$error":"#N/A"}]
[null,null,null,null,null,null,null,null,null,null,null,null,null,null,null,null,null,null,null,null,null,"",{"$f":"VLOOKUP(V7334,Minimos!$D$3:$E$26,2,FALSE)","v":{"$error":"#N/A"}},{"$error":"#N/A"},{"$error":"#N/A"}]
[null,null,null,null,null,null,null,null,null,null,null,null,null,null,null,null,null,null,null,null,null,"",{"$f":"VLOOKUP(V7337,Minimos!$D$3:$E$26,2,FALSE)","v":{"$error":"#N/A"}},{"$error":"#N/A"},{"$error":"#N/A"}]
[null,null,null,null,null,null,null,null,null,null,null,null,null,null,null,null,null,null,null,null,null,"",{"$f":"VLOOKUP(V7349,Minimos!$D$3:$E$26,2,FALSE)","v":{"$error":"#N/A"}},{"$error":"#N/A"},{"$error":"#N/A"}]
[null,null,null,null,null,null,null,null,null,null,null,null,null,null,null,null,null,null,null,null,null,"",{"$f":"VLOOKUP(V7361,Minimos!$D$3:$E$26,2,FALSE)","v":{"$error":"#N/A"}},{"$error":"#N/A"},{"$error":"#N/A"}]
[null,null,null,null,null,null,null,null,null,null,null,null,null,null,null,null,null,null,null,null,null,"",{"$f":"VLOOKUP(V7367,Minimos!$D$3:$E$26,2,FALSE)","v":{"$error":"#N/A"}},{"$f":"M7367-W7367","v":{"$error":"#N/A"}},{"$f":"IF(X7367>=0,\"Apurado\",\"\")","v":{"$error":"#N/A"}}]
[null,null,null,null,null,null,null,null,null,null,null,null,null,null,null,null,null,null,null,null,null,"",{"$f":"VLOOKUP(V7374,Minimos!$D$3:$E$26,2,FALSE)","v":{"$error":"#N/A"}},{"$error":"#N/A"},{"$error":"#N/A"}]
[null,null,null,null,null,null,null,null,null,null,null,null,null,null,null,null,null,null,null,null,null,"",{"$f":"VLOOKUP(V7386,Minimos!$D$3:$E$26,2,FALSE)","v":{"$error":"#N/A"}},{"$error":"#N/A"},{"$error":"#N/A"}]
[null,null,null,null,null,null,null,null,null,null,null,null,null,null,null,null,null,null,null,null,null,"",{"$f":"VLOOKUP(V7392,Minimos!$D$3:$E$26,2,FALSE)","v":{"$error":"#N/A"}},{"$error":"#N/A"},{"$error":"#N/A"}]
[null,null,null,null,null,null,null,null,null,null,null,null,null,null,null,null,null,null,null,null,null,"",{"$f":"VLOOKUP(V7404,Minimos!$D$3:$E$26,2,FALSE)","v":{"$error":"#N/A"}},{"$error":"#N/A"},{"$error":"#N/A"}]
[null,null,null,null,null,null,null,null,null,null,null,null,null,null,null,null,null,null,null,null,null,"",{"$f":"VLOOKUP(V7407,Minimos!$D$3:$E$26,2,FALSE)","v":{"$error":"#N/A"}},{"$error":"#N/A"},{"$error":"#N/A"}]
[null,null,null,null,null,null,null,null,null,null,null,null,null,null,null,null,null,null,null,null,null,"",{"$f":"VLOOKUP(V7419,Minimos!$D$3:$E$26,2,FALSE)","v":{"$error":"#N/A"}},{"$error":"#N/A"},{"$error":"#N/A"}]
[null,null,null,null,null,null,null,null,null,null,null,null,null,null,null,null,null,null,null,null,null,"",{"$f":"VLOOKUP(V7431,Minimos!$D$3:$E$26,2,FALSE)","v":{"$error":"#N/A"}},{"$f":"M7431-W7431","v":{"$error":"#N/A"}},{"$f":"IF(X7431>=0,\"Apurado\",\"\")","v":{"$error":"#N/A"}}]
[null,null,null,null,null,null,null,null,null,null,null,null,null,null,null,null,null,null,null,null,null,"",{"$f":"VLOOKUP(V7437,Minimos!$D$3:$E$26,2,FALSE)","v":{"$error":"#N/A"}},{"$error":"#N/A"},{"$error":"#N/A"}]
[null,null,null,null,null,null,null,null,null,null,null,null,null,null,null,null,null,null,null,null,null,"",{"$f":"VLOOKUP(V7444,Minimos!$D$3:$E$26,2,FALSE)","v":{"$error":"#N/A"}},{"$error":"#N/A"},{"$error":"#N/A"}]
[null,null,null,null,null,null,null,null,null,null,null,null,null,null,null,null,null,null,null,null,null,"",{"$f":"VLOOKUP(V7456,Minimos!$D$3:$E$26,2,FALSE)","v":{"$error":"#N/A"}},{"$error":"#N/A"},{"$error":"#N/A"}]
[null,null,null,null,null,null,null,null,null,null,null,null,null,null,null,null,null,null,null,null,null,"",{"$f":"VLOOKUP(V7462,Minimos!$D$3:$E$26,2,FALSE)","v":{"$error":"#N/A"}},{"$error":"#N/A"},{"$error":"#N/A"}]
[null,null,null,null,null,null,null,null,null,null,null,null,null,null,null,null,null,null,null,null,null,"",{"$f":"VLOOKUP(V7474,Minimos!$D$3:$E$26,2,FALSE)","v":{"$error":"#N/A"}},{"$error":"#N/A"},{"$error":"#N/A"}]
[null,null,null,null,null,null,null,null,null,null,null,null,null,null,null,null,null,null,null,null,null,"",{"$f":"VLOOKUP(V7477,Minimos!$D$3:$E$26,2,FALSE)","v":{"$error":"#N/A"}},{"$error":"#N/A"},{"$error":"#N/A"}]
[null,null,null,null,null,null,null,null,null,null,null,null,null,null,null,null,null,null,null,null,null,"",{"$f":"VLOOKUP(V7493,Minimos!$D$3:$E$26,2,FALSE)","v":{"$error":"#N/A"}},{"$error":"#N/A"},{"$error":"#N/A"}]
[null,null,null,null,null,null,null,null,null,null,null,null,null,null,null,null,null,null,null,null,null,"",{"$f":"VLOOKUP(V7501,Minimos!$D$3:$E$26,2,FALSE)","v":{"$error":"#N/A"}},{"$error":"#N/A"},{"$error":"#N/A"}]
[null,null,null,null,null,null,null,null,null,null,null,null,null,null,null,null,null,null,null,null,null,"",{"$f":"VLOOKUP(V7507,Minimos!$D$3:$E$26,2,FALSE)","v":{"$error":"#N/A"}},{"$error":"#N/A"},{"$error":"#N/A"}]
[null,null,null,null,null,null,null,null,null,null,null,null,null,null,null,null,null,null,null,null,null,"",{"$f":"VLOOKUP(V7514,Minimos!$D$3:$E$26,2,FALSE)","v":{"$error":"#N/A"}},{"$error":"#N/A"},{"$error":"#N/A"}]
[null,null,null,null,null,null,null,null,null,null,null,null,null,null,null,null,null,null,null,null,null,"",{"$f":"VLOOKUP(V7526,Minimos!$D$3:$E$26,2,FALSE)","v":{"$error":"#N/A"}},{"$error":"#N/A"},{"$error":"#N/A"}]
[null,null,null,null,null,null,null,null,null,null,null,null,null,null,null,null,null,null,null,null,null,"",{"$f":"VLOOKUP(V7532,Minimos!$D$3:$E$26,2,FALSE)","v":{"$error":"#N/A"}},{"$error":"#N/A"},{"$error":"#N/A"}]
[null,null,null,null,null,null,null,null,null,null,null,null,null,null,null,null,null,null,null,null,null,"",{"$f":"VLOOKUP(V7544,Minimos!$D$3:$E$26,2,FALSE)","v":{"$error":"#N/A"}},{"$error":"#N/A"},{"$error":"#N/A"}]
[null,null,null,null,null,null,null,null,null,null,null,null,null,null,null,null,null,null,null,null,null,"",{"$f":"VLOOKUP(V7547,Minimos!$D$3:$E$26,2,FALSE)","v":{"$error":"#N/A"}},{"$error":"#N/A"},{"$error":"#N/A"}]
[null,null,null,null,null,null,null,null,null,null,null,null,null,null,null,null,null,null,null,null,null,"",{"$f":"VLOOKUP(V7563,Minimos!$D$3:$E$26,2,FALSE)","v":{"$error":"#N/A"}},{"$error":"#N/A"},{"$error":"#N/A"}]
[null,null,null,null,null,null,null,null,null,null,null,null,null,null,null,null,null,null,null,null,null,"",{"$f":"VLOOKUP(V7566,Minimos!$D$3:$E$26,2,FALSE)","v":{"$error":"#N/A"}},{"$error":"#N/A"},{"$error":"#N/A"}]
[null,null,null,null,null,null,null,null,null,null,null,null,null,null,null,null,null,null,null,null,null,"",{"$f":"VLOOKUP(V7573,Minimos!$D$3:$E$26,2,FALSE)","v":{"$error":"#N/A"}},{"$error":"#N/A"},{"$error":"#N/A"}]
[null,null,null,null,null,null,null,null,null,null,null,null,null,null,null,null,null,null,null,null,null,"",{"$f":"VLOOKUP(V7584,Minimos!$D$3:$E$26,2,FALSE)","v":{"$error":"#N/A"}},{"$error":"#N/A"},{"$error":"#N/A"}]
[null,null,null,null,null,null,null,null,null,null,null,null,null,null,null,null,null,null,null,null,null,"",{"$f":"VLOOKUP(V7596,Minimos!$D$3:$E$26,2,FALSE)","v":{"$error":"#N/A"}},{"$error":"#N/A"},{"$error":"#N/A"}]
[null,null,null,null,null,null,null,null,null,null,null,null,null,null,null,null,null,null,null,null,null,"",{"$f":"VLOOKUP(V7603,Minimos!$D$3:$E$26,2,FALSE)","v":{"$error":"#N/A"}},{"$error":"#N/A"},{"$error":"#N/A"}]
[null,null,null,null,null,null,null,null,null,null,null,null,null,null,null,null,null,null,null,null,null,"",{"$f":"VLOOKUP(V7612,Minimos!$D$3:$E$26,2,FALSE)","v":{"$error":"#N/A"}},{"$error":"#N/A"},{"$error":"#N/A"}]
[null,null,null,null,null,null,null,null,null,null,null,null,null,null,null,null,null,null,null,null,null,"",{"$f":"VLOOKUP(V7617,Minimos!$D$3:$E$26,2,FALSE)","v":{"$error":"#N/A"}},{"$error":"#N/A"},{"$error":"#N/A"}]
[null,null,null,null,null,null,null,null,null,null,null,null,null,null,null,null,null,null,null,null,null,"",{"$f":"VLOOKUP(V7633,Minimos!$D$3:$E$26,2,FALSE)","v":{"$error":"#N/A"}},{"$error":"#N/A"},{"$error":"#N/A"}]
[null,null,null,null,null,null,null,null,null,null,null,null,null,null,null,null,null,null,null,null,null,"",{"$f":"VLOOKUP(V7636,Minimos!$D$3:$E$26,2,FALSE)","v":{"$error":"#N/A"}},{"$error":"#N/A"},{"$error":"#N/A"}]
[null,null,null,null,null,null,null,null,null,null,null,null,null,null,null,null,null,null,null,null,null,"",{"$f":"VLOOKUP(V7643,Minimos!$D$3:$E$26,2,FALSE)","v":{"$error":"#N/A"}},{"$error":"#N/A"},{"$error":"#N/A"}]
[null,null,null,null,null,null,null,null,null,null,null,null,null,null,null,null,null,null,null,null,null,"",{"$f":"VLOOKUP(V7654,Minimos!$D$3:$E$26,2,FALSE)","v":{"$error":"#N/A"}},{"$error":"#N/A"},{"$error":"#N/A"}]
[null,null,null,null,null,null,null,null,null,null,null,null,null,null,null,null,null,null,null,null,null,"",{"$f":"VLOOKUP(V7666,Minimos!$D$3:$E$26,2,FALSE)","v":{"$error":"#N/A"}},{"$error":"#N/A"},{"$error":"#N/A"}]
[null,null,null,null,null,null,null,null,null,null,null,null,null,null,null,null,null,null,null,null,null,"",{"$f":"VLOOKUP(V7673,Minimos!$D$3:$E$26,2,FALSE)","v":{"$error":"#N/A"}},{"$error":"#N/A"},{"$error":"#N/A"}]
[null,null,null,null,null,null,null,null,null,null,null,null,null,null,null,null,null,null,null,null,null,"",{"$f":"VLOOKUP(V7682,Minimos!$D$3:$E$26,2,FALSE)","v":{"$error":"#N/A"}},{"$error":"#N/A"},{"$error":"#N/A"}]
[null,null,null,null,null,null,null,null,null,null,null,null,null,null,null,null,null,null,null,null,null,"",{"$f":"VLOOKUP(V7687,Minimos!$D$3:$E$26,2,FALSE)","v":{"$error":"#N/A"}},{"$f":"M7687-W7687","v":{"$error":"#N/A"}},{"$f":"IF(X7687>=0,\"Apurado\",\"\")","v":{"$error":"#N/A"}}]
[null,null,null,null,null,null,null,null,null,null,null,null,null,null,null,null,null,null,null,null,null,"",{"$f":"VLOOKUP(V7703,Minimos!$D$3:$E$26,2,FALSE)","v":{"$error":"#N/A"}},{"$error":"#N/A"},{"$error":"#N/A"}]
[null,null,null,null,null,null,null,null,null,null,null,null,null,null,null,null,null,null,null,null,null,"",{"$f":"VLOOKUP(V7706,Minimos!$D$3:$E$26,2,FALSE)","v":{"$error":"#N/A"}},{"$error":"#N/A"},{"$error":"#N/A"}]
[null,null,null,null,null,null,null,null,null,null,null,null,null,null,null,null,null,null,null,null,null,"",{"$f":"VLOOKUP(V7713,Minimos!$D$3:$E$26,2,FALSE)","v":{"$error":"#N/A"}},{"$error":"#N/A"},{"$error":"#N/A"}]
[null,null,null,null,null,null,null,null,null,null,null,null,null,null,null,null,null,null,null,null,null,"",{"$f":"VLOOKUP(V7724,Minimos!$D$3:$E$26,2,FALSE)","v":{"$error":"#N/A"}},{"$error":"#N/A"},{"$error":"#N/A"}]
[null,null,null,null,null,null,null,null,null,null,null,null,null,null,null,null,null,null,null,null,null,"",{"$f":"VLOOKUP(V7736,Minimos!$D$3:$E$26,2,FALSE)","v":{"$error":"#N/A"}},{"$error":"#N/A"},{"$error":"#N/A"}]
[null,null,null,null,null,null,null,null,null,null,null,null,null,null,null,null,null,null,null,null,null,"",{"$f":"VLOOKUP(V7743,Minimos!$D$3:$E$26,2,FALSE)","v":{"$error":"#N/A"}},{"$error":"#N/A"},{"$error":"#N/A"}]
[null,null,null,null,null,null,null,null,null,null,null,null,null,null,null,null,null,null,null,null,null,"",{"$f":"VLOOKUP(V7752,Minimos!$D$3:$E$26,2,FALSE)","v":{"$error":"#N/A"}},{"$error":"#N/A"},{"$error":"#N/A"}]
[null,null,null,null,null,null,null,null,null,null,null,null,null,null,null,null,null,null,null,null,null,"",{"$f":"VLOOKUP(V7757,Minimos!$D$3:$E$26,2,FALSE)","v":{"$error":"#N/A"}},{"$error":"#N/A"},{"$error":"#N/A"}]
[null,null,null,null,null,null,null,null,null,null,null,null,null,null,null,null,null,null,null,null,null,"",{"$f":"VLOOKUP(V7773,Minimos!$D$3:$E$26,2,FALSE)","v":{"$error":"#N/A"}},{"$error":"#N/A"},{"$error":"#N/A"}]
[null,null,null,null,null,null,null,null,null,null,null,null,null,null,null,null,null,null,null,null,null,"",{"$f":"VLOOKUP(V7776,Minimos!$D$3:$E$26,2,FALSE)","v":{"$error":"#N/A"}},{"$error":"#N/A"},{"$error":"#N/A"}]
[null,null,null,null,null,null,null,null,null,null,null,null,null,null,null,null,null,null,null,null,null,"",{"$f":"VLOOKUP(V7783,Minimos!$D$3:$E$26,2,FALSE)","v":{"$error":"#N/A"}},{"$error":"#N/A"},{"$error":"#N/A"}]
[null,null,null,null,null,null,null,null,null,null,null,null,null,null,null,null,null,null,null,null,null,"",{"$f":"VLOOKUP(V7794,Minimos!$D$3:$E$26,2,FALSE)","v":{"$error":"#N/A"}},{"$error":"#N/A"},{"$error":"#N/A"}]
[null,null,null,null,null,null,null,null,null,null,null,null,null,null,null,null,null,null,null,null,null,"",{"$f":"VLOOKUP(V7806,Minimos!$D$3:$E$26,2,FALSE)","v":{"$error":"#N/A"}},{"$error":"#N/A"},{"$error":"#N/A"}]
[null,null,null,null,null,null,null,null,null,null,null,null,null,null,null,null,null,null,null,null,null,"",{"$f":"VLOOKUP(V7813,Minimos!$D$3:$E$26,2,FALSE)","v":{"$error":"#N/A"}},{"$error":"#N/A"},{"$error":"#N/A"}]
[null,null,null,null,null,null,null,null,null,null,null,null,null,null,null,null,null,null,null,null,null,"",{"$f":"VLOOKUP(V7822,Minimos!$D$3:$E$26,2,FALSE)","v":{"$error":"#N/A"}},{"$error":"#N/A"},{"$error":"#N/A"}]
[null,null,null,null,null,null,null,null,null,null,null,null,null,null,null,null,null,null,null,null,null,"",{"$f":"VLOOKUP(V7827,Minimos!$D$3:$E$26,2,FALSE)","v":{"$error":"#N/A"}},{"$error":"#N/A"},{"$error":"#N/A"}]
[null,null,null,null,null,null,null,null,null,null,null,null,null,null,null,null,null,null,null,null,null,"",{"$f":"VLOOKUP(V7843,Minimos!$D$3:$E$26,2,FALSE)","v":{"$error":"#N/A"}},{"$error":"#N/A"},{"$error":"#N/A"}]
[null,null,null,null,null,null,null,null,null,null,null,null,null,null,null,null,null,null,null,null,null,"",{"$f":"VLOOKUP(V7846,Minimos!$D$3:$E$26,2,FALSE)","v":{"$error":"#N/A"}},{"$error":"#N/A"},{"$error":"#N/A"}]
[null,null,null,null,null,null,null,null,null,null,null,null,null,null,null,null,null,null,null,null,null,"",{"$f":"VLOOKUP(V7853,Minimos!$D$3:$E$26,2,FALSE)","v":{"$error":"#N/A"}},{"$error":"#N/A"},{"$error":"#N/A"}]
[null,null,null,null,null,null,null,null,null,null,null,null,null,null,null,null,null,null,null,null,null,"",{"$f":"VLOOKUP(V7864,Minimos!$D$3:$E$26,2,FALSE)","v":{"$error":"#N/A"}},{"$error":"#N/A"},{"$error":"#N/A"}]
[null,null,null,null,null,null,null,null,null,null,null,null,null,null,null,null,null,null,null,null,null,"",{"$f":"VLOOKUP(V7876,Minimos!$D$3:$E$26,2,FALSE)","v":{"$error":"#N/A"}},{"$error":"#N/A"},{"$error":"#N/A"}]
[null,null,null,null,null,null,null,null,null,null,null,null,null,null,null,null,null,null,null,null,null,"",{"$f":"VLOOKUP(V7883,Minimos!$D$3:$E$26,2,FALSE)","v":{"$error":"#N/A"}},{"$error":"#N/A"},{"$error":"#N/A"}]
[null,null,null,null,null,null,null,null,null,null,null,null,null,null,null,null,null,null,null,null,null,"",{"$f":"VLOOKUP(V7892,Minimos!$D$3:$E$26,2,FALSE)","v":{"$error":"#N/A"}},{"$error":"#N/A"},{"$error":"#N/A"}]
[null,null,null,null,null,null,null,null,null,null,null,null,null,null,null,null,null,null,null,null,null,"",{"$f":"VLOOKUP(V7897,Minimos!$D$3:$E$26,2,FALSE)","v":{"$error":"#N/A"}},{"$error":"#N/A"},{"$error":"#N/A"}]
[null,null,null,null,null,null,null,null,null,null,null,null,null,null,null,null,null,null,null,null,null,"",{"$f":"VLOOKUP(V7913,Minimos!$D$3:$E$26,2,FALSE)","v":{"$error":"#N/A"}},{"$error":"#N/A"},{"$error":"#N/A"}]
[null,null,null,null,null,null,null,null,null,null,null,null,null,null,null,null,null,null,null,null,null,"",{"$f":"VLOOKUP(V7916,Minimos!$D$3:$E$26,2,FALSE)","v":{"$error":"#N/A"}},{"$error":"#N/A"},{"$error":"#N/A"}]
[null,null,null,null,null,null,null,null,null,null,null,null,null,null,null,null,null,null,null,null,null,"",{"$f":"VLOOKUP(V7923,Minimos!$D$3:$E$26,2,FALSE)","v":{"$error":"#N/A"}},{"$error":"#N/A"},{"$error":"#N/A"}]
[null,null,null,null,null,null,null,null,null,null,null,null,null,null,null,null,null,null,null,null,null,"",{"$f":"VLOOKUP(V7934,Minimos!$D$3:$E$26,2,FALSE)","v":{"$error":"#N/A"}},{"$error":"#N/A"},{"$error":"#N/A"}]
[null,null,null,null,null,null,null,null,null,null,null,null,null,null,null,null,null,null,null,null,null,"",{"$f":"VLOOKUP(V7946,Minimos!$D$3:$E$26,2,FALSE)","v":{"$error":"#N/A"}},{"$error":"#N/A"},{"$error":"#N/A"}]
[null,null,null,null,null,null,null,null,null,null,null,null,null,null,null,null,null,null,null,null,null,"",{"$f":"VLOOKUP(V7953,Minimos!$D$3:$E$26,2,FALSE)","v":{"$error":"#N/A"}},{"$error":"#N/A"},{"$error":"#N/A"}]
[null,null,null,null,null,null,null,null,null,null,null,null,null,null,null,null,null,null,null,null,null,"",{"$f":"VLOOKUP(V7962,Minimos!$D$3:$E$26,2,FALSE)","v":{"$error":"#N/A"}},{"$error":"#N/A"},{"$error":"#N/A"}]
[null,null,null,null,null,null,null,null,null,null,null,null,null,null,null,null,null,null,null,null,null,"",{"$f":"VLOOKUP(V7971,Minimos!$D$3:$E$26,2,FALSE)","v":{"$error":"#N/A"}},{"$error":"#N/A"},{"$error":"#N/A"}]
[null,null,null,null,null,null,null,null,null,null,null,null,null,null,null,null,null,null,null,null,null,"",{"$f":"VLOOKUP(V7983,Minimos!$D$3:$E$26,2,FALSE)","v":{"$error":"#N/A"}},{"$error":"#N/A"},{"$error":"#N/A"}]
[null,null,null,null,null,null,null,null,null,null,null,null,null,null,null,null,null,null,null,null,null,"",{"$f":"VLOOKUP(V7986,Minimos!$D$3:$E$26,2,FALSE)","v":{"$error":"#N/A"}},{"$error":"#N/A"},{"$error":"#N/A"}]
[null,null,null,null,null,null,null,null,null,null,null,null,null,null,null,null,null,null,null,null,null,"",{"$f":"VLOOKUP(V7993,Minimos!$D$3:$E$26,2,FALSE)","v":{"$error":"#N/A"}},{"$error":"#N/A"},{"$error":"#N/A"}]
[null,null,null,null,null,null,null,null,null,null,null,null,null,null,null,null,null,null,null,null,null,"",{"$f":"VLOOKUP(V8004,Minimos!$D$3:$E$26,2,FALSE)","v":{"$error":"#N/A"}},{"$error":"#N/A"},{"$error":"#N/A"}]
[null,null,null,null,null,null,null,null,null,null,null,null,null,null,null,null,null,null,null,null,null,"",{"$f":"VLOOKUP(V8016,Minimos!$D$3:$E$26,2,FALSE)","v":{"$error":"#N/A"}},{"$error":"#N/A"},{"$error":"#N/A"}]
[null,null,null,null,null,null,null,null,null,null,null,null,null,null,null,null,null,null,null,null,null,"",{"$f":"VLOOKUP(V8023,Minimos!$D$3:$E$26,2,FALSE)","v":{"$error":"#N/A"}},{"$error":"#N/A"},{"$error":"#N/A"}]
[null,null,null,null,null,null,null,null,null,null,null,null,null,null,null,null,null,null,null,null,null,"",{"$f":"VLOOKUP(V8032,Minimos!$D$3:$E$26,2,FALSE)","v":{"$error":"#N/A"}},{"$error":"#N/A"},{"$error":"#N/A"}]
[null,null,null,null,null,null,null,null,null,null,null,null,null,null,null,null,null,null,null,null,null,"",{"$f":"VLOOKUP(V8041,Minimos!$D$3:$E$26,2,FALSE)","v":{"$error":"#N/A"}},{"$error":"#N/A"},{"$error":"#N/A"}]
[null,null,null,null,null,null,null,null,null,null,null,null,null,null,null,null,null,null,null,null,null,"",{"$f":"VLOOKUP(V8053,Minimos!$D$3:$E$26,2,FALSE)","v":{"$error":"#N/A"}},{"$error":"#N/A"},{"$error":"#N/A"}]
[null,null,null,null,null,null,null,null,null,null,null,null,null,null,null,null,null,null,null,null,null,"",{"$f":"VLOOKUP(V8056,Minimos!$D$3:$E$26,2,FALSE)","v":{"$error":"#N/A"}},{"$error":"#N/A"},{"$error":"#N/A"}]
[null,null,null,null,null,null,null,null,null,null,null,null,null,null,null,null,null,null,null,null,null,"",{"$f":"VLOOKUP(V8063,Minimos!$D$3:$E$26,2,FALSE)","v":{"$error":"#N/A"}},{"$error":"#N/A"},{"$error":"#N/A"}]
[null,null,null,null,null,null,null,null,null,null,null,null,null,null,null,null,null,null,null,null,null,"",{"$f":"VLOOKUP(V8074,Minimos!$D$3:$E$26,2,FALSE)","v":{"$error":"#N/A"}},{"$error":"#N/A"},{"$error":"#N/A"}]
[null,null,null,null,null,null,null,null,null,null,null,null,null,null,null,null,null,null,null,null,null,"",{"$f":"VLOOKUP(V8081,Minimos!$D$3:$E$26,2,FALSE)","v":{"$error":"#N/A"}},{"$error":"#N/A"},{"$error":"#N/A"}]
[null,null,null,null,null,null,null,null,null,null,null,null,null,null,null,null,null,null,null,null,null,"",{"$f":"VLOOKUP(V8093,Minimos!$D$3:$E$26,2,FALSE)","v":{"$error":"#N/A"}},{"$error":"#N/A"},{"$error":"#N/A"}]
[null,null,null,null,null,null,null,null,null,null,null,null,null,null,null,null,null,null,null,null,null,"",{"$f":"VLOOKUP(V8102,Minimos!$D$3:$E$26,2,FALSE)","v":{"$error":"#N/A"}},{"$error":"#N/A"},{"$error":"#N/A"}]
[null,null,null,null,null,null,null,null,null,null,null,null,null,null,null,null,null,null,null,null,null,"",{"$f":"VLOOKUP(V8111,Minimos!$D$3:$E$26,2,FALSE)","v":{"$error":"#N/A"}},{"$error":"#N/A"},{"$error":"#N/A"}]
[null,null,null,null,null,null,null,null,null,null,null,null,null,null,null,null,null,null,null,null,null,"",{"$f":"VLOOKUP(V8123,Minimos!$D$3:$E$26,2,FALSE)","v":{"$error":"#N/A"}},{"$error":"#N/A"},{"$error":"#N/A"}]
[null,null,null,null,null,null,null,null,null,null,null,null,null,null,null,null,null,null,null,null,null,"",{"$f":"VLOOKUP(V8126,Minimos!$D$3:$E$26,2,FALSE)","v":{"$error":"#N/A"}},{"$error":"#N/A"},{"$error":"#N/A"}]
[null,null,null,null,null,null,null,null,null,null,null,null,null,null,null,null,null,null,null,null,null,"",{"$f":"VLOOKUP(V8133,Minimos!$D$3:$E$26,2,FALSE)","v":{"$error":"#N/A"}},{"$error":"#N/A"},{"$error":"#N/A"}]
[null,null,null,null,null,null,null,null,null,null,null,null,null,null,null,null,null,null,null,null,null,"",{"$f":"VLOOKUP(V8144,Minimos!$D$3:$E$26,2,FALSE)","v":{"$error":"#N/A"}},{"$error":"#N/A"},{"$error":"#N/A"}]
[null,null,null,null,null,null,null,null,null,null,null,null,null,null,null,null,null,null,null,null,null,"",{"$f":"VLOOKUP(V8151,Minimos!$D$3:$E$26,2,FALSE)","v":{"$error":"#N/A"}},{"$error":"#N/A"},{"$error":"#N/A"}]
[null,null,null,null,null,null,null,null,null,null,null,null,null,null,null,null,null,null,null,null,null,"",{"$f":"VLOOKUP(V8163,Minimos!$D$3:$E$26,2,FALSE)","v":{"$error":"#N/A"}},{"$error":"#N/A"},{"$error":"#N/A"}]
[null,null,null,null,null,null,null,null,null,null,null,null,null,null,null,null,null,null,null,null,null,"",{"$f":"VLOOKUP(V8172,Minimos!$D$3:$E$26,2,FALSE)","v":{"$error":"#N/A"}},{"$error":"#N/A"},{"$error":"#N/A"}]
[null,null,null,null,null,null,null,null,null,null,null,null,null,null,null,null,null,null,null,null,null,"",{"$f":"VLOOKUP(V8181,Minimos!$D$3:$E$26,2,FALSE)","v":{"$error":"#N/A"}},{"$error":"#N/A"},{"$error":"#N/A"}]
[null,null,null,null,null,null,null,null,null,null,null,null,null,null,null,null,null,null,null,null,null,"",{"$f":"VLOOKUP(V8193,Minimos!$D$3:$E$26,2,FALSE)","v":{"$error":"#N/A"}},{"$error":"#N/A"},{"$error":"#N/A"}]
[null,null,null,null,null,null,null,null,null,null,null,null,null,null,null,null,null,null,null,null,null,"",{"$f":"VLOOKUP(V8196,Minimos!$D$3:$E$26,2,FALSE)","v":{"$error":"#N/A"}},{"$error":"#N/A"},{"$error":"#N/A"}]
[null,null,null,null,null,null,null,null,null,null,null,null,null,null,null,null,null,null,null,null,null,"",{"$f":"VLOOKUP(V8203,Minimos!$D$3:$E$26,2,FALSE)","v":{"$error":"#N/A"}},{"$error":"#N/A"},{"$error":"#N/A"}]
[null,null,null,null,null,null,null,null,null,null,null,null,null,null,null,null,null,null,null,null,null,"",{"$f":"VLOOKUP(V8214,Minimos!$D$3:$E$26,2,FALSE)","v":{"$error":"#N/A"}},{"$error":"#N/A"},{"$error":"#N/A"}]
[null,null,null,null,null,null,null,null,null,null,null,null,null,null,null,null,null,null,null,null,null,"",{"$f":"VLOOKUP(V8221,Minimos!$D$3:$E$26,2,FALSE)","v":{"$error":"#N/A"}},{"$error":"#N/A"},{"$error":"#N/A"}]
[null,null,null,null,null,null,null,null,null,null,null,null,null,null,null,null,null,null,null,null,null,"",{"$f":"VLOOKUP(V8233,Minimos!$D$3:$E$26,2,FALSE)","v":{"$error":"#N/A"}},{"$error":"#N/A"},{"$error":"#N/A"}]
[null,null,null,null,null,null,null,null,null,null,null,null,null,null,null,null,null,null,null,null,null,"",{"$f":"VLOOKUP(V8242,Minimos!$D$3:$E$26,2,FALSE)","v":{"$error":"#N/A"}},{"$error":"#N/A"},{"$error":"#N/A"}]
[null,null,null,null,null,null,null,null,null,null,null,null,null,null,null,null,null,null,null,null,null,"",{"$f":"VLOOKUP(V8251,Minimos!$D$3:$E$26,2,FALSE)","v":{"$error":"#N/A"}},{"$error":"#N/A"},{"$error":"#N/A"}]
[null,null,null,null,null,null,null,null,null,null,null,null,null,null,null,null,null,null,null,null,null,"",{"$f":"VLOOKUP(V8263,Minimos!$D$3:$E$26,2,FALSE)","v":{"$error":"#N/A"}},{"$f":"M8263-W8263","v":{"$error":"#N/A"}},{"$f":"IF(X8263>=0,\"Apurado\",\"\")","v":{"$error":"#N/A"}}]
[null,null,null,null,null,null,null,null,null,null,null,null,null,null,null,null,null,null,null,null,null,"",{"$f":"VLOOKUP(V8270,Minimos!$D$3:$E$26,2,FALSE)","v":{"$error":"#N/A"}},{"$error":"#N/A"},{"$error":"#N/A"}]
[null,null,null,null,null,null,null,null,null,null,null,null,null,null,null,null,null,null,null,null,null,"",{"$f":"VLOOKUP(V8273,Minimos!$D$3:$E$26,2,FALSE)","v":{"$error":"#N/A"}},{"$error":"#N/A"},{"$error":"#N/A"}]
[null,null,null,null,null,null,null,null,null,null,null,null,null,null,null,null,null,null,null,null,null,"",{"$f":"VLOOKUP(V8284,Minimos!$D$3:$E$26,2,FALSE)","v":{"$error":"#N/A"}},{"$error":"#N/A"},{"$error":"#N/A"}]
[null,null,null,null,null,null,null,null,null,null,null,null,null,null,null,null,null,null,null,null,null,"",{"$f":"VLOOKUP(V8291,Minimos!$D$3:$E$26,2,FALSE)","v":{"$error":"#N/A"}},{"$error":"#N/A"},{"$error":"#N/A"}]
[null,null,null,null,null,null,null,null,null,null,null,null,null,null,null,null,null,null,null,null,null,"",{"$f":"VLOOKUP(V8303,Minimos!$D$3:$E$26,2,FALSE)","v":{"$error":"#N/A"}},{"$error":"#N/A"},{"$error":"#N/A"}]
[null,null,null,null,null,null,null,null,null,null,null,null,null,null,null,null,null,null,null,null,null,"",{"$f":"VLOOKUP(V8312,Minimos!$D$3:$E$26,2,FALSE)","v":{"$error":"#N/A"}},{"$error":"#N/A"},{"$error":"#N/A"}]
[null,null,null,null,null,null,null,null,null,null,null,null,null,null,null,null,null,null,null,null,null,"",{"$f":"VLOOKUP(V8321,Minimos!$D$3:$E$26,2,FALSE)","v":{"$error":"#N/A"}},{"$error":"#N/A"},{"$error":"#N/A"}]
[null,null,null,null,null,null,null,null,null,null,null,null,null,null,null,null,null,null,null,null,null,"",{"$f":"VLOOKUP(V8333,Minimos!$D$3:$E$26,2,FALSE)","v":{"$error":"#N/A"}},{"$error":"#N/A"},{"$error":"#N/A"}]
[null,null,null,null,null,null,null,null,null,null,null,null,null,null,null,null,null,null,null,null,null,"",{"$f":"VLOOKUP(V8340,Minimos!$D$3:$E$26,2,FALSE)","v":{"$error":"#N/A"}},{"$error":"#N/A"},{"$error":"#N/A"}]
[null,null,null,null,null,null,null,null,null,null,null,null,null,null,null,null,null,null,null,null,null,"",{"$f":"VLOOKUP(V8343,Minimos!$D$3:$E$26,2,FALSE)","v":{"$error":"#N/A"}},{"$error":"#N/A"},{"$error":"#N/A"}]
[null,null,null,null,null,null,null,null,null,null,null,null,null,null,null,null,null,null,null,null,null,"",{"$f":"VLOOKUP(V8354,Minimos!$D$3:$E$26,2,FALSE)","v":{"$error":"#N/A"}},{"$error":"#N/A"},{"$error":"#N/A"}]
[null,null,null,null,null,null,null,null,null,null,null,null,null,null,null,null,null,null,null,null,null,"",{"$f":"VLOOKUP(V8361,Minimos!$D$3:$E$26,2,FALSE)","v":{"$error":"#N/A"}},{"$error":"#N/A"},{"$error":"#N/A"}]
[null,null,null,null,null,null,null,null,null,null,null,null,null,null,null,null,null,null,null,null,null,"",{"$f":"VLOOKUP(V8373,Minimos!$D$3:$E$26,2,FALSE)","v":{"$error":"#N/A"}},{"$error":"#N/A"},{"$error":"#N/A"}]
[null,null,null,null,null,null,null,null,null,null,null,null,null,null,null,null,null,null,null,null,null,"",{"$f":"VLOOKUP(V8382,Minimos!$D$3:$E$26,2,FALSE)","v":{"$error":"#N/A"}},{"$error":"#N/A"},{"$error":"#N/A"}]
[null,null,null,null,null,null,null,null,null,null,null,null,null,null,null,null,null,null,null,null,null,"",{"$f":"VLOOKUP(V8391,Minimos!$D$3:$E$26,2,FALSE)","v":{"$error":"#N/A"}},{"$f":"M8391-W8391","v":{"$error":"#N/A"}},{"$f":"IF(X8391>=0,\"Apurado\",\"\")","v":{"$error":"#N/A"}}]
[null,null,null,null,null,null,null,null,null,null,null,null,null,null,null,null,null,null,null,null,null,"",{"$f":"VLOOKUP(V8403,Minimos!$D$3:$E$26,2,FALSE)","v":{"$error":"#N/A"}},{"$error":"#N/A"},{"$error":"#N/A"}]
[null,null,null,null,null,null,null,null,null,null,null,null,null,null,null,null,null,null,null,null,null,"",{"$f":"VLOOKUP(V8410,Minimos!$D$3:$E$26,2,FALSE)","v":{"$error":"#N/A"}},{"$error":"#N/A"},{"$error":"#N/A"}]
[null,null,null,null,null,null,null,null,null,null,null,null,null,null,null,null,null,null,null,null,null,"",{"$f":"VLOOKUP(V8413,Minimos!$D$3:$E$26,2,FALSE)","v":{"$error":"#N/A"}},{"$error":"#N/A"},{"$error":"#N/A"}]
[null,null,null,null,null,null,null,null,null,null,null,null,null,null,null,null,null,null,null,null,null,"",{"$f":"VLOOKUP(V8424,Minimos!$D$3:$E$26,2,FALSE)","v":{"$error":"#N/A"}},{"$error":"#N/A"},{"$error":"#N/A"}]
[null,null,null,null,null,null,null,null,null,null,null,null,null,null,null,null,null,null,null,null,null,"",{"$f":"VLOOKUP(V8431,Minimos!$D$3:$E$26,2,FALSE)","v":{"$error":"#N/A"}},{"$error":"#N/A"},{"$error":"#N/A"}]
[null,null,null,null,null,null,null,null,null,null,null,null,null,null,null,null,null,null,null,null,null,"",{"$f":"VLOOKUP(V8443,Minimos!$D$3:$E$26,2,FALSE)","v":{"$error":"#N/A"}},{"$error":"#N/A"},{"$error":"#N/A"}]
[null,null,null,null,null,null,null,null,null,null,null,null,null,null,null,null,null,null,null,null,null,"",{"$f":"VLOOKUP(V8452,Minimos!$D$3:$E$26,2,FALSE)","v":{"$error":"#N/A"}},{"$error":"#N/A"},{"$error":"#N/A"}]
[null,null,null,null,null,null,null,null,null,null,null,null,null,null,null,null,null,null,null,null,null,"",{"$f":"VLOOKUP(V8461,Minimos!$D$3:$E$26,2,FALSE)","v":{"$error":"#N/A"}},{"$error":"#N/A"},{"$error":"#N/A"}]
[null,null,null,null,null,null,null,null,null,null,null,null,null,null,null,null,null,null,null,null,null,"",{"$f":"VLOOKUP(V8473,Minimos!$D$3:$E$26,2,FALSE)","v":{"$error":"#N/A"}},{"$error":"#N/A"},{"$error":"#N/A"}]
[null,null,null,null,null,null,null,null,null,null,null,null,null,null,null,null,null,null,null,null,null,"",{"$f":"VLOOKUP(V8480,Minimos!$D$3:$E$26,2,FALSE)","v":{"$error":"#N/A"}},{"$error":"#N/A"},{"$error":"#N/A"}]
[null,null,null,null,null,null,null,null,null,null,null,null,null,null,null,null,null,null,null,null,null,"",{"$f":"VLOOKUP(V8483,Minimos!$D$3:$E$26,2,FALSE)","v":{"$error":"#N/A"}},{"$error":"#N/A"},{"$error":"#N/A"}]
[null,null,null,null,null,null,null,null,null,null,null,null,null,null,null,null,null,null,null,null,null,"",{"$f":"VLOOKUP(V8494,Minimos!$D$3:$E$26,2,FALSE)","v":{"$error":"#N/A"}},{"$error":"#N/A"},{"$error":"#N/A"}]
[null,null,null,null,null,null,null,null,null,null,null,null,null,null,null,null,null,null,null,null,null,"",{"$f":"VLOOKUP(V8501,Minimos!$D$3:$E$26,2,FALSE)","v":{"$error":"#N/A"}},{"$error":"#N/A"},{"$error":"#N/A"}]
[null,null,null,null,null,null,null,null,null,null,null,null,null,null,null,null,null,null,null,null,null,"",{"$f":"VLOOKUP(V8513,Minimos!$D$3:$E$26,2,FALSE)","v":{"$error":"#N/A"}},{"$error":"#N/A"},{"$error":"#N/A"}]
[null,null,null,null,null,null,null,null,null,null,null,null,null,null,null,null,null,null,null,null,null,"",{"$f":"VLOOKUP(V8522,Minimos!$D$3:$E$26,2,FALSE)","v":{"$error":"#N/A"}},{"$error":"#N/A"},{"$error":"#N/A"}]
[null,null,null,null,null,null,null,null,null,null,null,null,null,null,null,null,null,null,null,null,null,"",{"$f":"VLOOKUP(V8531,Minimos!$D$3:$E$26,2,FALSE)","v":{"$error":"#N/A"}},{"$error":"#N/A"},{"$error":"#N/A"}]
[null,null,null,null,null,null,null,null,null,null,null,null,null,null,null,null,null,null,null,null,null,"",{"$f":"VLOOKUP(V8543,Minimos!$D$3:$E$26,2,FALSE)","v":{"$error":"#N/A"}},{"$error":"#N/A"},{"$error":"#N/A"}]
[null,null,null,null,null,null,null,null,null,null,null,null,null,null,null,null,null,null,null,null,null,"",{"$f":"VLOOKUP(V8550,Minimos!$D$3:$E$26,2,FALSE)","v":{"$error":"#N/A"}},{"$error":"#N/A"},{"$error":"#N/A"}]
[null,null,null,null,null,null,null,null,null,null,null,null,null,null,null,null,null,null,null,null,null,"",{"$f":"VLOOKUP(V8553,Minimos!$D$3:$E$26,2,FALSE)","v":{"$error":"#N/A"}},{"$error":"#N/A"},{"$error":"#N/A"}]
[null,null,null,null,null,null,null,null,null,null,null,null,null,null,null,null,null,null,null,null,null,"",{"$f":"VLOOKUP(V8568,Minimos!$D$3:$E$26,2,FALSE)","v":{"$error":"#N/A"}},{"$error":"#N/A"},{"$error":"#N/A"}]
[null,null,null,null,null,null,null,null,null,null,null,null,null,null,null,null,null,null,null,null,null,"",{"$f":"VLOOKUP(V8571,Minimos!$D$3:$E$26,2,FALSE)","v":{"$error":"#N/A"}},{"$error":"#N/A"},{"$error":"#N/A"}]
[null,null,null,null,null,null,null,null,null,null,null,null,null,null,null,null,null,null,null,null,null,"",{"$f":"VLOOKUP(V8583,Minimos!$D$3:$E$26,2,FALSE)","v":{"$error":"#N/A"}},{"$f":"M8583-W8583","v":{"$error":"#N/A"}},{"$f":"IF(X8583>=0,\"Apurado\",\"\")","v":{"$error":"#N/A"}}]
[null,null,null,null,null,null,null,null,null,null,null,null,null,null,null,null,null,null,null,null,null,"",{"$f":"VLOOKUP(V8592,Minimos!$D$3:$E$26,2,FALSE)","v":{"$error":"#N/A"}},{"$error":"#N/A"},{"$error":"#N/A"}]
[null,null,null,null,null,null,null,null,null,null,null,null,null,null,null,null,null,null,null,null,null,"",{"$f":"VLOOKUP(V8601,Minimos!$D$3:$E$26,2,FALSE)","v":{"$error":"#N/A"}},{"$error":"#N/A"},{"$error":"#N/A"}]
[null,null,null,null,null,null,null,null,null,null,null,null,null,null,null,null,null,null,null,null,null,"",{"$f":"VLOOKUP(V8613,Minimos!$D$3:$E$26,2,FALSE)","v":{"$error":"#N/A"}},{"$error":"#N/A"},{"$error":"#N/A"}]
[null,null,null,null,null,null,null,null,null,null,null,null,null,null,null,null,null,null,null,null,null,"",{"$f":"VLOOKUP(V8620,Minimos!$D$3:$E$26,2,FALSE)","v":{"$error":"#N/A"}},{"$error":"#N/A"},{"$error":"#N/A"}]
[null,null,null,null,null,null,null,null,null,null,null,null,null,null,null,null,null,null,null,null,null,"",{"$f":"VLOOKUP(V8623,Minimos!$D$3:$E$26,2,FALSE)","v":{"$error":"#N/A"}},{"$error":"#N/A"},{"$error":"#N/A"}]
[null,null,null,null,null,null,null,null,null,null,null,null,null,null,null,null,null,null,null,null,null,"",{"$f":"VLOOKUP(V8638,Minimos!$D$3:$E$26,2,FALSE)","v":{"$error":"#N/A"}},{"$error":"#N/A"},{"$error":"#N/A"}]
[null,null,null,null,null,null,null,null,null,null,null,null,null,null,null,null,null,null,null,null,null,"",{"$f":"VLOOKUP(V8641,Minimos!$D$3:$E$26,2,FALSE)","v":{"$error":"#N/A"}},{"$error":"#N/A"},{"$error":"#N/A"}]
[null,null,null,null,null,null,null,null,null,null,null,null,null,null,null,null,null,null,null,null,null,"",{"$f":"VLOOKUP(V8653,Minimos!$D$3:$E$26,2,FALSE)","v":{"$error":"#N/A"}},{"$error":"#N/A"},{"$error":"#N/A"}]
[null,null,null,null,null,null,null,null,null,null,null,null,null,null,null,null,null,null,null,null,null,"",{"$f":"VLOOKUP(V8662,Minimos!$D$3:$E$26,2,FALSE)","v":{"$error":"#N/A"}},{"$error":"#N/A"},{"$error":"#N/A"}]
[null,null,null,null,null,null,null,null,null,null,null,null,null,null,null,null,null,null,null,null,null,"",{"$f":"VLOOKUP(V8671,Minimos!$D$3:$E$26,2,FALSE)","v":{"$error":"#N/A"}},{"$error":"#N/A"},{"$error":"#N/A"}]
[null,null,null,null,null,null,null,null,null,null,null,null,null,null,null,null,null,null,null,null,null,"",{"$f":"VLOOKUP(V8683,Minimos!$D$3:$E$26,2,FALSE)","v":{"$error":"#N/A"}},{"$error":"#N/A"},{"$error":"#N/A"}]
[null,null,null,null,null,null,null,null,null,null,null,null,null,null,null,null,null,null,null,null,null,"",{"$f":"VLOOKUP(V8690,Minimos!$D$3:$E$26,2,FALSE)","v":{"$error":"#N/A"}},{"$error":"#N/A"},{"$error":"#N/A"}]
[null,null,null,null,null,null,null,null,null,null,null,null,null,null,null,null,null,null,null,null,null,"",{"$f":"VLOOKUP(V8693,Minimos!$D$3:$E$26,2,FALSE)","v":{"$error":"#N/A"}},{"$error":"#N/A"},{"$error":"#N/A"}]
[null,null,null,null,null,null,null,null,null,null,null,null,null,null,null,null,null,null,null,null,null,"",{"$f":"VLOOKUP(V8708,Minimos!$D$3:$E$26,2,FALSE)","v":{"$error":"#N/A"}},{"$error":"#N/A"},{"$error":"#N/A"}]
[null,null,null,null,null,null,null,null,null,null,null,null,null,null,null,null,null,null,null,null,null,"",{"$f":"VLOOKUP(V8711,Minimos!$D$3:$E$26,2,FALSE)","v":{"$error":"#N/A"}},{"$f":"M8711-W8711","v":{"$error":"#N/A"}},{"$f":"IF(X8711>=0,\"Apurado\",\"\")","v":{"$error":"#N/A"}}]
[null,null,null,null,null,null,null,null,null,null,null,null,null,null,null,null,null,null,null,null,null,"",{"$f":"VLOOKUP(V8723,Minimos!$D$3:$E$26,2,FALSE)","v":{"$error":"#N/A"}},{"$error":"#N/A"},{"$error":"#N/A"}]
[null,null,null,null,null,null,null,null,null,null,null,null,null,null,null,null,null,null,null,null,null,"",{"$f":"VLOOKUP(V8732,Minimos!$D$3:$E$26,2,FALSE)","v":{"$error":"#N/A"}},{"$error":"#N/A"},{"$error":"#N/A"}]
[null,null,null,null,null,null,null,null,null,null,null,null,null,null,null,null,null,null,null,null,null,"",{"$f":"VLOOKUP(V8741,Minimos!$D$3:$E$26,2,FALSE)","v":{"$error":"#N/A"}},{"$error":"#N/A"},{"$error":"#N/A"}]
[null,null,null,null,null,null,null,null,null,null,null,null,null,null,null,null,null,null,null,null,null,"",{"$f":"VLOOKUP(V8748,Minimos!$D$3:$E$26,2,FALSE)","v":{"$error":"#N/A"}},{"$error":"#N/A"},{"$error":"#N/A"}]
[null,null,null,null,null,null,null,null,null,null,null,null,null,null,null,null,null,null,null,null,null,"",{"$f":"VLOOKUP(V8760,Minimos!$D$3:$E$26,2,FALSE)","v":{"$error":"#N/A"}},{"$error":"#N/A"},{"$error":"#N/A"}]
[null,null,null,null,null,null,null,null,null,null,null,null,null,null,null,null,null,null,null,null,null,"",{"$f":"VLOOKUP(V8763,Minimos!$D$3:$E$26,2,FALSE)","v":{"$error":"#N/A"}},{"$error":"#N/A"},{"$error":"#N/A"}]
[null,null,null,null,null,null,null,null,null,null,null,null,null,null,null,null,null,null,null,null,null,"",{"$f":"VLOOKUP(V8778,Minimos!$D$3:$E$26,2,FALSE)","v":{"$error":"#N/A"}},{"$error":"#N/A"},{"$error":"#N/A"}]
[null,null,null,null,null,null,null,null,null,null,null,null,null,null,null,null,null,null,null,null,null,"",{"$f":"VLOOKUP(V8781,Minimos!$D$3:$E$26,2,FALSE)","v":{"$error":"#N/A"}},{"$error":"#N/A"},{"$error":"#N/A"}]
[null,null,null,null,null,null,null,null,null,null,null,null,null,null,null,null,null,null,null,null,null,"",{"$f":"VLOOKUP(V8793,Minimos!$D$3:$E$26,2,FALSE)","v":{"$error":"#N/A"}},{"$error":"#N/A"},{"$error":"#N/A"}]
[null,null,null,null,null,null,null,null,null,null,null,null,null,null,null,null,null,null,null,null,null,"",{"$f":"VLOOKUP(V8802,Minimos!$D$3:$E$26,2,FALSE)","v":{"$error":"#N/A"}},{"$error":"#N/A"},{"$error":"#N/A"}]
[null,null,null,null,null,null,null,null,null,null,null,null,null,null,null,null,null,null,null,null,null,"",{"$f":"VLOOKUP(V8811,Minimos!$D$3:$E$26,2,FALSE)","v":{"$error":"#N/A"}},{"$error":"#N/A"},{"$error":"#N/A"}]
[null,null,null,null,null,null,null,null,null,null,null,null,null,null,null,null,null,null,null,null,null,"",{"$f":"VLOOKUP(V8818,Minimos!$D$3:$E$26,2,FALSE)","v":{"$error":"#N/A"}},{"$error":"#N/A"},{"$error":"#N/A"}]
[null,null,null,null,null,null,null,null,null,null,null,null,null,null,null,null,null,null,null,null,null,"",{"$f":"VLOOKUP(V8830,Minimos!$D$3:$E$26,2,FALSE)","v":{"$error":"#N/A"}},{"$error":"#N/A"},{"$error":"#N/A"}]
[null,null,null,null,null,null,null,null,null,null,null,null,null,null,null,null,null,null,null,null,null,"",{"$f":"VLOOKUP(V8833,Minimos!$D$3:$E$26,2,FALSE)","v":{"$error":"#N/A"}},{"$error":"#N/A"},{"$error":"#N/A"}]
[null,null,null,null,null,null,null,null,null,null,null,null,null,null,null,null,null,null,null,null,null,"",{"$f":"VLOOKUP(V8848,Minimos!$D$3:$E$26,2,FALSE)","v":{"$error":"#N/A"}},{"$error":"#N/A"},{"$error":"#N/A"}]
[null,null,null,null,null,null,null,null,null,null,null,null,null,null,null,null,null,null,null,null,null,"",{"$f":"VLOOKUP(V8851,Minimos!$D$3:$E$26,2,FALSE)","v":{"$error":"#N/A"}},{"$error":"#N/A"},{"$error":"#N/A"}]
[null,null,null,null,null,null,null,null,null,null,null,null,null,null,null,null,null,null,null,null,null,"",{"$f":"VLOOKUP(V8867,Minimos!$D$3:$E$26,2,FALSE)","v":{"$error":"#N/A"}},{"$error":"#N/A"},{"$error":"#N/A"}]
[null,null,null,null,null,null,null,null,null,null,null,null,null,null,null,null,null,null,null,null,null,"",{"$f":"VLOOKUP(V8872,Minimos!$D$3:$E$26,2,FALSE)","v":{"$error":"#N/A"}},{"$error":"#N/A"},{"$error":"#N/A"}]
[null,null,null,null,null,null,null,null,null,null,null,null,null,null,null,null,null,null,null,null,null,"",{"$f":"VLOOKUP(V8881,Minimos!$D$3:$E$26,2,FALSE)","v":{"$error":"#N/A"}},{"$error":"#N/A"},{"$error":"#N/A"}]
[null,null,null,null,null,null,null,null,null,null,null,null,null,null,null,null,null,null,null,null,null,"",{"$f":"VLOOKUP(V8888,Minimos!$D$3:$E$26,2,FALSE)","v":{"$error":"#N/A"}},{"$error":"#N/A"},{"$error":"#N/A"}]
[null,null,null,null,null,null,null,null,null,null,null,null,null,null,null,null,null,null,null,null,null,"",{"$f":"VLOOKUP(V8900,Minimos!$D$3:$E$26,2,FALSE)","v":{"$error":"#N/A"}},{"$error":"#N/A"},{"$error":"#N/A"}]
[null,null,null,null,null,null,null,null,null,null,null,null,null,null,null,null,null,null,null,null,null,"",{"$f":"VLOOKUP(V8903,Minimos!$D$3:$E$26,2,FALSE)","v":{"$error":"#N/A"}},{"$f":"M8903-W8903","v":{"$error":"#N/A"}},{"$f":"IF(X8903>=0,\"Apurado\",\"\")","v":{"$error":"#N/A"}}]
[null,null,null,null,null,null,null,null,null,null,null,null,null,null,null,null,null,null,null,null,null,"",{"$f":"VLOOKUP(V8918,Minimos!$D$3:$E$26,2,FALSE)","v":{"$error":"#N/A"}},{"$error":"#N/A"},{"$error":"#N/A"}]
[null,null,null,null,null,null,null,null,null,null,null,null,null,null,null,null,null,null,null,null,null,"",{"$f":"VLOOKUP(V8921,Minimos!$D$3:$E$26,2,FALSE)","v":{"$error":"#N/A"}},{"$error":"#N/A"},{"$error":"#N/A"}]
[null,null,null,null,null,null,null,null,null,null,null,null,null,null,null,null,null,null,null,null,null,"",{"$f":"VLOOKUP(V8937,Minimos!$D$3:$E$26,2,FALSE)","v":{"$error":"#N/A"}},{"$error":"#N/A"},{"$error":"#N/A"}]
[null,null,null,null,null,null,null,null,null,null,null,null,null,null,null,null,null,null,null,null,null,"",{"$f":"VLOOKUP(V8942,Minimos!$D$3:$E$26,2,FALSE)","v":{"$error":"#N/A"}},{"$error":"#N/A"},{"$error":"#N/A"}]
[null,null,null,null,null,null,null,null,null,null,null,null,null,null,null,null,null,null,null,null,null,"",{"$f":"VLOOKUP(V8951,Minimos!$D$3:$E$26,2,FALSE)","v":{"$error":"#N/A"}},{"$error":"#N/A"},{"$error":"#N/A"}]
[null,null,null,null,null,null,null,null,null,null,null,null,null,null,null,null,null,null,null,null,null,"",{"$f":"VLOOKUP(V8958,Minimos!$D$3:$E$26,2,FALSE)","v":{"$error":"#N/A"}},{"$error":"#N/A"},{"$error":"#N/A"}]
[null,null,null,null,null,null,null,null,null,null,null,null,null,null,null,null,null,null,null,null,null,"",{"$f":"VLOOKUP(V8970,Minimos!$D$3:$E$26,2,FALSE)","v":{"$error":"#N/A"}},{"$error":"#N/A"},{"$error":"#N/A"}]
[null,null,null,null,null,null,null,null,null,null,null,null,null,null,null,null,null,null,null,null,null,"",{"$f":"VLOOKUP(V8973,Minimos!$D$3:$E$26,2,FALSE)","v":{"$error":"#N/A"}},{"$error":"#N/A"},{"$error":"#N/A"}]
[null,null,null,null,null,null,null,null,null,null,null,null,null,null,null,null,null,null,null,null,null,"",{"$f":"VLOOKUP(V8988,Minimos!$D$3:$E$26,2,FALSE)","v":{"$error":"#N/A"}},{"$error":"#N/A"},{"$error":"#N/A"}]
[null,null,null,null,null,null,null,null,null,null,null,null,null,null,null,null,null,null,null,null,null,"",{"$f":"VLOOKUP(V8991,Minimos!$D$3:$E$26,2,FALSE)","v":{"$error":"#N/A"}},{"$error":"#N/A"},{"$error":"#N/A"}]
[null,null,null,null,null,null,null,null,null,null,null,null,null,null,null,null,null,null,null,null,null,"",{"$f":"VLOOKUP(V9007,Minimos!$D$3:$E$26,2,FALSE)","v":{"$error":"#N/A"}},{"$error":"#N/A"},{"$error":"#N/A"}]
[null,null,null,null,null,null,null,null,null,null,null,null,null,null,null,null,null,null,null,null,null,"",{"$f":"VLOOKUP(V9012,Minimos!$D$3:$E$26,2,FALSE)","v":{"$error":"#N/A"}},{"$error":"#N/A"},{"$error":"#N/A"}]
[null,null,null,null,null,null,null,null,null,null,null,null,null,null,null,null,null,null,null,null,null,"",{"$f":"VLOOKUP(V9021,Minimos!$D$3:$E$26,2,FALSE)","v":{"$error":"#N/A"}},{"$error":"#N/A"},{"$error":"#N/A"}]
[null,null,null,null,null,null,null,null,null,null,null,null,null,null,null,null,null,null,null,null,null,"",{"$f":"VLOOKUP(V9028,Minimos!$D$3:$E$26,2,FALSE)","v":{"$error":"#N/A"}},{"$error":"#N/A"},{"$error":"#N/A"}]
[null,null,null,null,null,null,null,null,null,null,null,null,null,null,null,null,null,null,null,null,null,"",{"$f":"VLOOKUP(V9040,Minimos!$D$3:$E$26,2,FALSE)","v":{"$error":"#N/A"}},{"$error":"#N/A"},{"$error":"#N/A"}]
[null,null,null,null,null,null,null,null,null,null,null,null,null,null,null,null,null,null,null,null,null,"",{"$f":"VLOOKUP(V9043,Minimos!$D$3:$E$26,2,FALSE)","v":{"$error":"#N/A"}},{"$error":"#N/A"},{"$error":"#N/A"}]
[null,null,null,null,null,null,null,null,null,null,null,null,null,null,null,null,null,null,null,null,null,"",{"$f":"VLOOKUP(V9058,Minimos!$D$3:$E$26,2,FALSE)","v":{"$error":"#N/A"}},{"$error":"#N/A"},{"$error":"#N/A"}]
[null,null,null,null,null,null,null,null,null,null,null,null,null,null,null,null,null,null,null,null,null,"",{"$f":"VLOOKUP(V9061,Minimos!$D$3:$E$26,2,FALSE)","v":{"$error":"#N/A"}},{"$error":"#N/A"},{"$error":"#N/A"}]
[null,null,null,null,null,null,null,null,null,null,null,null,null,null,null,null,null,null,null,null,null,"",{"$f":"VLOOKUP(V9077,Minimos!$D$3:$E$26,2,FALSE)","v":{"$error":"#N/A"}},{"$error":"#N/A"},{"$error":"#N/A"}]
[null,null,null,null,null,null,null,null,null,null,null,null,null,null,null,null,null,null,null,null,null,"",{"$f":"VLOOKUP(V9082,Minimos!$D$3:$E$26,2,FALSE)","v":{"$error":"#N/A"}},{"$error":"#N/A"},{"$error":"#N/A"}]
[null,null,null,null,null,null,null,null,null,null,null,null,null,null,null,null,null,null,null,null,null,"",{"$f":"VLOOKUP(V9091,Minimos!$D$3:$E$26,2,FALSE)","v":{"$error":"#N/A"}},{"$error":"#N/A"},{"$error":"#N/A"}]
[null,null,null,null,null,null,null,null,null,null,null,null,null,null,null,null,null,null,null,null,null,"",{"$f":"VLOOKUP(V9098,Minimos!$D$3:$E$26,2,FALSE)","v":{"$error":"#N/A"}},{"$error":"#N/A"},{"$error":"#N/A"}]
[null,null,null,null,null,null,null,null,null,null,null,null,null,null,null,null,null,null,null,null,null,"",{"$f":"VLOOKUP(V9110,Minimos!$D$3:$E$26,2,FALSE)","v":{"$error":"#N/A"}},{"$error":"#N/A"},{"$error":"#N/A"}]
[null,null,null,null,null,null,null,null,null,null,null,null,null,null,null,null,null,null,null,null,null,"",{"$f":"VLOOKUP(V9113,Minimos!$D$3:$E$26,2,FALSE)","v":{"$error":"#N/A"}},{"$error":"#N/A"},{"$error":"#N/A"}]
[null,null,null,null,null,null,null,null,null,null,null,null,null,null,null,null,null,null,null,null,null,"",{"$f":"VLOOKUP(V9128,Minimos!$D$3:$E$26,2,FALSE)","v":{"$error":"#N/A"}},{"$error":"#N/A"},{"$error":"#N/A"}]
[null,null,null,null,null,null,null,null,null,null,null,null,null,null,null,null,null,null,null,null,null,"",{"$f":"VLOOKUP(V9131,Minimos!$D$3:$E$26,2,FALSE)","v":{"$error":"#N/A"}},{"$error":"#N/A"},{"$error":"#N/A"}]
[null,null,null,null,null,null,null,null,null,null,null,null,null,null,null,null,null,null,null,null,null,"",{"$f":"VLOOKUP(V9147,Minimos!$D$3:$E$26,2,FALSE)","v":{"$error":"#N/A"}},{"$error":"#N/A"},{"$error":"#N/A"}]
[null,null,null,null,null,null,null,null,null,null,null,null,null,null,null,null,null,null,null,null,null,"",{"$f":"VLOOKUP(V9152,Minimos!$D$3:$E$26,2,FALSE)","v":{"$error":"#N/A"}},{"$error":"#N/A"},{"$error":"#N/A"}]
[null,null,null,null,null,null,null,null,null,null,null,null,null,null,null,null,null,null,null,null,null,"",{"$f":"VLOOKUP(V9161,Minimos!$D$3:$E$26,2,FALSE)","v":{"$error":"#N/A"}},{"$error":"#N/A"},{"$error":"#N/A"}]
[null,null,null,null,null,null,null,null,null,null,null,null,null,null,null,null,null,null,null,null,null,"",{"$f":"VLOOKUP(V9168,Minimos!$D$3:$E$26,2,FALSE)","v":{"$error":"#N/A"}},{"$error":"#N/A"},{"$error":"#N/A"}]
[null,null,null,null,null,null,null,null,null,null,null,null,null,null,null,null,null,null,null,null,null,"",{"$f":"VLOOKUP(V9180,Minimos!$D$3:$E$26,2,FALSE)","v":{"$error":"#N/A"}},{"$error":"#N/A"},{"$error":"#N/A"}]
[null,null,null,null,null,null,null,null,null,null,null,null,null,null,null,null,null,null,null,null,null,"",{"$f":"VLOOKUP(V9183,Minimos!$D$3:$E$26,2,FALSE)","v":{"$error":"#N/A"}},{"$error":"#N/A"},{"$error":"#N/A"}]
[null,null,null,null,null,null,null,null,null,null,null,null,null,null,null,null,null,null,null,null,null,"",{"$f":"VLOOKUP(V9198,Minimos!$D$3:$E$26,2,FALSE)","v":{"$error":"#N/A"}},{"$error":"#N/A"},{"$error":"#N/A"}]
[null,null,null,null,null,null,null,null,null,null,null,null,null,null,null,null,null,null,null,null,null,"",{"$f":"VLOOKUP(V9201,Minimos!$D$3:$E$26,2,FALSE)","v":{"$error":"#N/A"}},{"$error":"#N/A"},{"$error":"#N/A"}]
[null,null,null,null,null,null,null,null,null,null,null,null,null,null,null,null,null,null,null,null,null,"",{"$f":"VLOOKUP(V9217,Minimos!$D$3:$E$26,2,FALSE)","v":{"$error":"#N/A"}},{"$error":"#N/A"},{"$error":"#N/A"}]
[null,null,null,null,null,null,null,null,null,null,null,null,null,null,null,null,null,null,null,null,null,{"$f":"A9222&L9222&G9222","v":""},{"$f":"VLOOKUP(V9222,Minimos!$D$3:$E$26,2,FALSE)","v":{"$error":"#N/A"}},{"$error":"#N/A"},{"$error":"#N/A"}]
[null,null,null,null,null,null,null,null,null,null,null,null,null,null,null,null,null,null,null,null,null,"",{"$f":"VLOOKUP(V9226,Minimos!$D$3:$E$26,2,FALSE)","v":{"$error":"#N/A"}},{"$error":"#N/A"},{"$error":"#N/A"}]
[null,null,null,null,null,null,null,null,null,null,null,null,null,null,null,null,null,null,null,null,null,"",{"$f":"VLOOKUP(V9238,Minimos!$D$3:$E$26,2,FALSE)","v":{"$error":"#N/A"}},{"$error":"#N/A"},{"$error":"#N/A"}]
[null,null,null,null,null,null,null,null,null,null,null,null,null,null,null,null,null,null,null,null,null,"",{"$f":"VLOOKUP(V9250,Minimos!$D$3:$E$26,2,FALSE)","v":{"$error":"#N/A"}},{"$error":"#N/A"},{"$error":"#N/A"}]
[null,null,null,null,null,null,null,null,null,null,null,null,null,null,null,null,null,null,null,null,null,"",{"$f":"VLOOKUP(V9253,Minimos!$D$3:$E$26,2,FALSE)","v":{"$error":"#N/A"}},{"$error":"#N/A"},{"$error":"#N/A"}]
[null,null,null,null,null,null,null,null,null,null,null,null,null,null,null,null,null,null,null,null,null,"",{"$f":"VLOOKUP(V9268,Minimos!$D$3:$E$26,2,FALSE)","v":{"$error":"#N/A"}},{"$error":"#N/A"},{"$error":"#N/A"}]
[null,null,null,null,null,null,null,null,null,null,null,null,null,null,null,null,null,null,null,null,null,"",{"$f":"VLOOKUP(V9271,Minimos!$D$3:$E$26,2,FALSE)","v":{"$error":"#N/A"}},{"$error":"#N/A"},{"$error":"#N/A"}]
[null,null,null,null,null,null,null,null,null,null,null,null,null,null,null,null,null,null,null,null,null,"",{"$f":"VLOOKUP(V9287,Minimos!$D$3:$E$26,2,FALSE)","v":{"$error":"#N/A"}},{"$f":"M9287-W9287","v":{"$error":"#N/A"}},{"$f":"IF(X9287>=0,\"Apurado\",\"\")","v":{"$error":"#N/A"}}]
[null,null,null,null,null,null,null,null,null,null,null,null,null,null,null,null,null,null,null,null,null,"",{"$f":"VLOOKUP(V9292,Minimos!$D$3:$E$26,2,FALSE)","v":{"$error":"#N/A"}},{"$error":"#N/A"},{"$error":"#N/A"}]
[null,null,null,null,null,null,null,null,null,null,null,null,null,null,null,null,null,null,null,null,null,"",{"$f":"VLOOKUP(V9296,Minimos!$D$3:$E$26,2,FALSE)","v":{"$error":"#N/A"}},{"$error":"#N/A"},{"$error":"#N/A"}]
[null,null,null,null,null,null,null,null,null,null,null,null,null,null,null,null,null,null,null,null,null,"",{"$f":"VLOOKUP(V9308,Minimos!$D$3:$E$26,2,FALSE)","v":{"$error":"#N/A"}},{"$error":"#N/A"},{"$error":"#N/A"}]
[null,null,null,null,null,null,null,null,null,null,null,null,null,null,null,null,null,null,null,null,null,"",{"$f":"VLOOKUP(V9320,Minimos!$D$3:$E$26,2,FALSE)","v":{"$error":"#N/A"}},{"$error":"#N/A"},{"$error":"#N/A"}]
[null,null,null,null,null,null,null,null,null,null,null,null,null,null,null,null,null,null,null,null,null,"",{"$f":"VLOOKUP(V9323,Minimos!$D$3:$E$26,2,FALSE)","v":{"$error":"#N/A"}},{"$error":"#N/A"},{"$error":"#N/A"}]
[null,null,null,null,null,null,null,null,null,null,null,null,null,null,null,null,null,null,null,null,null,"",{"$f":"VLOOKUP(V9338,Minimos!$D$3:$E$26,2,FALSE)","v":{"$error":"#N/A"}},{"$error":"#N/A"},{"$error":"#N/A"}]
[null,null,null,null,null,null,null,null,null,null,null,null,null,null,null,null,null,null,null,null,null,"",{"$f":"VLOOKUP(V9345,Minimos!$D$3:$E$26,2,FALSE)","v":{"$error":"#N/A"}},{"$error":"#N/A"},{"$error":"#N/A"}]
[null,null,null,null,null,null,null,null,null,null,null,null,null,null,null,null,null,null,null,null,null,"",{"$f":"VLOOKUP(V9357,Minimos!$D$3:$E$26,2,FALSE)","v":{"$error":"#N/A"}},{"$error":"#N/A"},{"$error":"#N/A"}]
[null,null,null,null,null,null,null,null,null,null,null,null,null,null,null,null,null,null,null,null,null,"",{"$f":"VLOOKUP(V9362,Minimos!$D$3:$E$26,2,FALSE)","v":{"$error":"#N/A"}},{"$error":"#N/A"},{"$error":"#N/A"}]
[null,null,null,null,null,null,null,null,null,null,null,null,null,null,null,null,null,null,null,null,null,"",{"$f":"VLOOKUP(V9366,Minimos!$D$3:$E$26,2,FALSE)","v":{"$error":"#N/A"}},{"$error":"#N/A"},{"$error":"#N/A"}]
[null,null,null,null,null,null,null,null,null,null,null,null,null,null,null,null,null,null,null,null,null,"",{"$f":"VLOOKUP(V9378,Minimos!$D$3:$E$26,2,FALSE)","v":{"$error":"#N/A"}},{"$error":"#N/A"},{"$error":"#N/A"}]
[null,null,null,null,null,null,null,null,null,null,null,null,null,null,null,null,null,null,null,null,null,"",{"$f":"VLOOKUP(V9390,Minimos!$D$3:$E$26,2,FALSE)","v":{"$error":"#N/A"}},{"$error":"#N/A"},{"$error":"#N/A"}]
[null,null,null,null,null,null,null,null,null,null,null,null,null,null,null,null,null,null,null,null,null,"",{"$f":"VLOOKUP(V9393,Minimos!$D$3:$E$26,2,FALSE)","v":{"$error":"#N/A"}},{"$error":"#N/A"},{"$error":"#N/A"}]
[null,null,null,null,null,null,null,null,null,null,null,null,null,null,null,null,null,null,null,null,null,"",{"$f":"VLOOKUP(V9408,Minimos!$D$3:$E$26,2,FALSE)","v":{"$error":"#N/A"}},{"$error":"#N/A"},{"$error":"#N/A"}]
[null,null,null,null,null,null,null,null,null,null,null,null,null,null,null,null,null,null,null,null,null,"",{"$f":"VLOOKUP(V9415,Minimos!$D$3:$E$26,2,FALSE)","v":{"$error":"#N/A"}},{"$f":"M9415-W9415","v":{"$error":"#N/A"}},{"$f":"IF(X9415>=0,\"Apurado\",\"\")","v":{"$error":"#N/A"}}]
[null,null,null,null,null,null,null,null,null,null,null,null,null,null,null,null,null,null,null,null,null,"",{"$f":"VLOOKUP(V9427,Minimos!$D$3:$E$26,2,FALSE)","v":{"$error":"#N/A"}},{"$error":"#N/A"},{"$error":"#N/A"}]
[null,null,null,null,null,null,null,null,null,null,null,null,null,null,null,null,null,null,null,null,null,"",{"$f":"VLOOKUP(V9432,Minimos!$D$3:$E$26,2,FALSE)","v":{"$error":"#N/A"}},{"$error":"#N/A"},{"$error":"#N/A"}]
[null,null,null,null,null,null,null,null,null,null,null,null,null,null,null,null,null,null,null,null,null,"",{"$f":"VLOOKUP(V9436,Minimos!$D$3:$E$26,2,FALSE)","v":{"$error":"#N/A"}},{"$error":"#N/A"},{"$error":"#N/A"}]
[null,null,null,null,null,null,null,null,null,null,null,null,null,null,null,null,null,null,null,null,null,"",{"$f":"VLOOKUP(V9448,Minimos!$D$3:$E$26,2,FALSE)","v":{"$error":"#N/A"}},{"$error":"#N/A"},{"$error":"#N/A"}]
[null,null,null,null,null,null,null,null,null,null,null,null,null,null,null,null,null,null,null,null,null,"",{"$f":"VLOOKUP(V9460,Minimos!$D$3:$E$26,2,FALSE)","v":{"$error":"#N/A"}},{"$error":"#N/A"},{"$error":"#N/A"}]
[null,null,null,null,null,null,null,null,null,null,null,null,null,null,null,null,null,null,null,null,null,"",{"$f":"VLOOKUP(V9463,Minimos!$D$3:$E$26,2,FALSE)","v":{"$error":"#N/A"}},{"$error":"#N/A"},{"$error":"#N/A"}]
[null,null,null,null,null,null,null,null,null,null,null,null,null,null,null,null,null,null,null,null,null,{"$f":"A9478&L9478&G9478","v":""},{"$f":"VLOOKUP(V9478,Minimos!$D$3:$E$26,2,FALSE)","v":{"$error":"#N/A"}},{"$error":"#N/A"},{"$error":"#N/A"}]
[null,null,null,null,null,null,null,null,null,null,null,null,null,null,null,null,null,null,null,null,null,"",{"$f":"VLOOKUP(V9485,Minimos!$D$3:$E$26,2,FALSE)","v":{"$error":"#N/A"}},{"$error":"#N/A"},{"$error":"#N/A"}]
[null,null,null,null,null,null,null,null,null,null,null,null,null,null,null,null,null,null,null,null,null,"",{"$f":"VLOOKUP(V9497,Minimos!$D$3:$E$26,2,FALSE)","v":{"$error":"#N/A"}},{"$error":"#N/A"},{"$error":"#N/A"}]
[null,null,null,null,null,null,null,null,null,null,null,null,null,null,null,null,null,null,null,null,null,"",{"$f":"VLOOKUP(V9502,Minimos!$D$3:$E$26,2,FALSE)","v":{"$error":"#N/A"}},{"$error":"#N/A"},{"$error":"#N/A"}]
[null,null,null,null,null,null,null,null,null,null,null,null,null,null,null,null,null,null,null,null,null,"",{"$f":"VLOOKUP(V9506,Minimos!$D$3:$E$26,2,FALSE)","v":{"$error":"#N/A"}},{"$error":"#N/A"},{"$error":"#N/A"}]
[null,null,null,null,null,null,null,null,null,null,null,null,null,null,null,null,null,null,null,null,null,"",{"$f":"VLOOKUP(V9518,Minimos!$D$3:$E$26,2,FALSE)","v":{"$error":"#N/A"}},{"$error":"#N/A"},{"$error":"#N/A"}]
[null,null,null,null,null,null,null,null,null,null,null,null,null,null,null,null,null,null,null,null,null,"",{"$f":"VLOOKUP(V9525,Minimos!$D$3:$E$26,2,FALSE)","v":{"$error":"#N/A"}},{"$error":"#N/A"},{"$error":"#N/A"}]
[null,null,null,null,null,null,null,null,null,null,null,null,null,null,null,null,null,null,null,null,null,"",{"$f":"VLOOKUP(V9533,Minimos!$D$3:$E$26,2,FALSE)","v":{"$error":"#N/A"}},{"$error":"#N/A"},{"$error":"#N/A"}]
[null,null,null,null,null,null,null,null,null,null,null,null,null,null,null,null,null,null,null,null,null,"",{"$f":"VLOOKUP(V9548,Minimos!$D$3:$E$26,2,FALSE)","v":{"$error":"#N/A"}},{"$error":"#N/A"},{"$error":"#N/A"}]
[null,null,null,null,null,null,null,null,null,null,null,null,null,null,null,null,null,null,null,null,null,"",{"$f":"VLOOKUP(V9555,Minimos!$D$3:$E$26,2,FALSE)","v":{"$error":"#N/A"}},{"$error":"#N/A"},{"$error":"#N/A"}]
[null,null,null,null,null,null,null,null,null,null,null,null,null,null,null,null,null,null,null,null,null,"",{"$f":"VLOOKUP(V9567,Minimos!$D$3:$E$26,2,FALSE)","v":{"$error":"#N/A"}},{"$error":"#N/A"},{"$error":"#N/A"}]
[null,null,null,null,null,null,null,null,null,null,null,null,null,null,null,null,null,null,null,null,null,"",{"$f":"VLOOKUP(V9572,Minimos!$D$3:$E$26,2,FALSE)","v":{"$error":"#N/A"}},{"$error":"#N/A"},{"$error":"#N/A"}]
[null,null,null,null,null,null,null,null,null,null,null,null,null,null,null,null,null,null,null,null,null,"",{"$f":"VLOOKUP(V9576,Minimos!$D$3:$E$26,2,FALSE)","v":{"$error":"#N/A"}},{"$error":"#N/A"},{"$error":"#N/A"}]
[null,null,null,null,null,null,null,null,null,null,null,null,null,null,null,null,null,null,null,null,null,"",{"$f":"VLOOKUP(V9588,Minimos!$D$3:$E$26,2,FALSE)","v":{"$error":"#N/A"}},{"$error":"#N/A"},{"$error":"#N/A"}]
[null,null,null,null,null,null,null,null,null,null,null,null,null,null,null,null,null,null,null,null,null,"",{"$f":"VLOOKUP(V9595,Minimos!$D$3:$E$26,2,FALSE)","v":{"$error":"#N/A"}},{"$error":"#N/A"},{"$error":"#N/A"}]
[null,null,null,null,null,null,null,null,null,null,null,null,null,null,null,null,null,null,null,null,null,"",{"$f":"VLOOKUP(V9603,Minimos!$D$3:$E$26,2,FALSE)","v":{"$error":"#N/A"}},{"$error":"#N/A"},{"$error":"#N/A"}]
[null,null,null,null,null,null,null,null,null,null,null,null,null,null,null,null,null,null,null,null,null,"",{"$f":"VLOOKUP(V9618,Minimos!$D$3:$E$26,2,FALSE)","v":{"$error":"#N/A"}},{"$error":"#N/A"},{"$error":"#N/A"}]
[null,null,null,null,null,null,null,null,null,null,null,null,null,null,null,null,null,null,null,null,null,"",{"$f":"VLOOKUP(V9625,Minimos!$D$3:$E$26,2,FALSE)","v":{"$error":"#N/A"}},{"$error":"#N/A"},{"$error":"#N/A"}]
[null,null,null,null,null,null,null,null,null,null,null,null,null,null,null,null,null,null,null,null,null,"",{"$f":"VLOOKUP(V9637,Minimos!$D$3:$E$26,2,FALSE)","v":{"$error":"#N/A"}},{"$error":"#N/A"},{"$error":"#N/A"}]
[null,null,null,null,null,null,null,null,null,null,null,null,null,null,null,null,null,null,null,null,null,"",{"$f":"VLOOKUP(V9642,Minimos!$D$3:$E$26,2,FALSE)","v":{"$error":"#N/A"}},{"$error":"#N/A"},{"$error":"#N/A"}]
[null,null,null,null,null,null,null,null,null,null,null,null,null,null,null,null,null,null,null,null,null,"",{"$f":"VLOOKUP(V9646,Minimos!$D$3:$E$26,2,FALSE)","v":{"$error":"#N/A"}},{"$error":"#N/A"},{"$error":"#N/A"}]
[null,null,null,null,null,null,null,null,null,null,null,null,null,null,null,null,null,null,null,null,null,"",{"$f":"VLOOKUP(V9658,Minimos!$D$3:$E$26,2,FALSE)","v":{"$error":"#N/A"}},{"$error":"#N/A"},{"$error":"#N/A"}]
[null,null,null,null,null,null,null,null,null,null,null,null,null,null,null,null,null,null,null,null,null,"",{"$f":"VLOOKUP(V9665,Minimos!$D$3:$E$26,2,FALSE)","v":{"$error":"#N/A"}},{"$error":"#N/A"},{"$error":"#N/A"}]
[null,null,null,null,null,null,null,null,null,null,null,null,null,null,null,null,null,null,null,null,null,"",{"$f":"VLOOKUP(V9673,Minimos!$D$3:$E$26,2,FALSE)","v":{"$error":"#N/A"}},{"$error":"#N/A"},{"$error":"#N/A"}]
[null,null,null,null,null,null,null,null,null,null,null,null,null,null,null,null,null,null,null,null,null,"",{"$f":"VLOOKUP(V9688,Minimos!$D$3:$E$26,2,FALSE)","v":{"$error":"#N/A"}},{"$error":"#N/A"},{"$error":"#N/A"}]
[null,null,null,null,null,null,null,null,null,null,null,null,null,null,null,null,null,null,null,null,null,"",{"$f":"VLOOKUP(V9695,Minimos!$D$3:$E$26,2,FALSE)","v":{"$error":"#N/A"}},{"$error":"#N/A"},{"$error":"#N/A"}]
[null,null,null,null,null,null,null,null,null,null,null,null,null,null,null,null,null,null,null,null,null,"",{"$f":"VLOOKUP(V9707,Minimos!$D$3:$E$26,2,FALSE)","v":{"$error":"#N/A"}},{"$error":"#N/A"},{"$error":"#N/A"}]
[null,null,null,null,null,null,null,null,null,null,null,null,null,null,null,null,null,null,null,null,null,"",{"$f":"VLOOKUP(V9712,Minimos!$D$3:$E$26,2,FALSE)","v":{"$error":"#N/A"}},{"$error":"#N/A"},{"$error":"#N/A"}]
[null,null,null,null,null,null,null,null,null,null,null,null,null,null,null,null,null,null,null,null,null,"",{"$f":"VLOOKUP(V9716,Minimos!$D$3:$E$26,2,FALSE)","v":{"$error":"#N/A"}},{"$error":"#N/A"},{"$error":"#N/A"}]
[null,null,null,null,null,null,null,null,null,null,null,null,null,null,null,null,null,null,null,null,null,"",{"$f":"VLOOKUP(V9728,Minimos!$D$3:$E$26,2,FALSE)","v":{"$error":"#N/A"}},{"$error":"#N/A"},{"$error":"#N/A"}]
[null,null,null,null,null,null,null,null,null,null,null,null,null,null,null,null,null,null,null,null,null,"",{"$f":"VLOOKUP(V9735,Minimos!$D$3:$E$26,2,FALSE)","v":{"$error":"#N/A"}},{"$f":"M9735-W9735","v":{"$error":"#N/A"}},{"$f":"IF(X9735>=0,\"Apurado\",\"\")","v":{"$error":"#N/A"}}]
[null,null,null,null,null,null,null,null,null,null,null,null,null,null,null,null,null,null,null,null,null,"",{"$f":"VLOOKUP(V9747,Minimos!$D$3:$E$26,2,FALSE)","v":{"$error":"#N/A"}},{"$error":"#N/A"},{"$error":"#N/A"}]
[null,null,null,null,null,null,null,null,null,null,null,null,null,null,null,null,null,null,null,null,null,"",{"$f":"VLOOKUP(V9752,Minimos!$D$3:$E$26,2,FALSE)","v":{"$error":"#N/A"}},{"$error":"#N/A"},{"$error":"#N/A"}]
[null,null,null,null,null,null,null,null,null,null,null,null,null,null,null,null,null,null,null,null,null,"",{"$f":"VLOOKUP(V9753,Minimos!$D$3:$E$26,2,FALSE)","v":{"$error":"#N/A"}},{"$error":"#N/A"},{"$error":"#N/A"}]
[null,null,null,null,null,null,null,null,null,null,null,null,null,null,null,null,null,null,null,null,null,"",{"$f":"VLOOKUP(V9754,Minimos!$D$3:$E$26,2,FALSE)","v":{"$error":"#N/A"}},{"$error":"#N/A"},{"$error":"#N/A"}]
[null,null,null,null,null,null,null,null,null,null,null,null,null,null,null,null,null,null,null,null,null,"",{"$f":"VLOOKUP(V9755,Minimos!$D$3:$E$26,2,FALSE)","v":{"$error":"#N/A"}},{"$error":"#N/A"},{"$error":"#N/A"}]
[null,null,null,null,null,null,null,null,null,null,null,null,null,null,null,null,null,null,null,null,null,"",{"$f":"VLOOKUP(V9756,Minimos!$D$3:$E$26,2,FALSE)","v":{"$error":"#N/A"}},{"$error":"#N/A"},{"$error":"#N/A"}]
[null,null,null,null,null,null,null,null,null,null,null,null,null,null,null,null,null,null,null,null,null,"",{"$f":"VLOOKUP(V9757,Minimos!$D$3:$E$26,2,FALSE)","v":{"$error":"#N/A"}},{"$error":"#N/A"},{"$error":"#N/A"}]
[null,null,null,null,null,null,null,null,null,null,null,null,null,null,null,null,null,null,null,null,null,"",{"$f":"VLOOKUP(V9758,Minimos!$D$3:$E$26,2,FALSE)","v":{"$error":"#N/A"}},{"$error":"#N/A"},{"$error":"#N/A"}]
[null,null,null,null,null,null,null,null,null,null,null,null,null,null,null,null,null,null,null,null,null,"",{"$f":"VLOOKUP(V9759,Minimos!$D$3:$E$26,2,FALSE)","v":{"$error":"#N/A"}},{"$error":"#N/A"},{"$error":"#N/A"}]
[null,null,null,null,null,null,null,null,null,null,null,null,null,null,null,null,null,null,null,null,null,"",{"$f":"VLOOKUP(V9760,Minimos!$D$3:$E$26,2,FALSE)","v":{"$error":"#N/A"}},{"$error":"#N/A"},{"$error":"#N/A"}]
[null,null,null,null,null,null,null,null,null,null,null,null,null,null,null,null,null,null,null,null,null,"",{"$f":"VLOOKUP(V9761,Minimos!$D$3:$E$26,2,FALSE)","v":{"$error":"#N/A"}},{"$error":"#N/A"},{"$error":"#N/A"}]
[null,null,null,null,null,null,null,null,null,null,null,null,null,null,null,null,null,null,null,null,null,"",{"$f":"VLOOKUP(V9762,Minimos!$D$3:$E$26,2,FALSE)","v":{"$error":"#N/A"}},{"$error":"#N/A"},{"$error":"#N/A"}]
[null,null,null,null,null,null,null,null,null,null,null,null,null,null,null,null,null,null,null,null,null,"",{"$f":"VLOOKUP(V9763,Minimos!$D$3:$E$26,2,FALSE)","v":{"$error":"#N/A"}},{"$error":"#N/A"},{"$error":"#N/A"}]
[null,null,null,null,null,null,null,null,null,null,null,null,null,null,null,null,null,null,null,null,null,"",{"$f":"VLOOKUP(V9764,Minimos!$D$3:$E$26,2,FALSE)","v":{"$error":"#N/A"}},{"$error":"#N/A"},{"$error":"#N/A"}]
[null,null,null,null,null,null,null,null,null,null,null,null,null,null,null,null,null,null,null,null,null,"",{"$f":"VLOOKUP(V9765,Minimos!$D$3:$E$26,2,FALSE)","v":{"$error":"#N/A"}},{"$error":"#N/A"},{"$error":"#N/A"}]
[null,null,null,null,null,null,null,null,null,null,null,null,null,null,null,null,null,null,null,null,null,"",{"$f":"VLOOKUP(V9766,Minimos!$D$3:$E$26,2,FALSE)","v":{"$error":"#N/A"}},{"$error":"#N/A"},{"$error":"#N/A"}]
[null,null,null,null,null,null,null,null,null,null,null,null,null,null,null,null,null,null,null,null,null,"",{"$f":"VLOOKUP(V9767,Minimos!$D$3:$E$26,2,FALSE)","v":{"$error":"#N/A"}},{"$error":"#N/A"},{"$error":"#N/A"}]
[null,null,null,null,null,null,null,null,null,null,null,null,null,null,null,null,null,null,null,null,null,"",{"$f":"VLOOKUP(V9768,Minimos!$D$3:$E$26,2,FALSE)","v":{"$error":"#N/A"}},{"$error":"#N/A"},{"$error":"#N/A"}]
[null,null,null,null,null,null,null,null,null,null,null,null,null,null,null,null,null,null,null,null,null,"",{"$f":"VLOOKUP(V9769,Minimos!$D$3:$E$26,2,FALSE)","v":{"$error":"#N/A"}},{"$error":"#N/A"},{"$error":"#N/A"}]
[null,null,null,null,null,null,null,null,null,null,null,null,null,null,null,null,null,null,null,null,null,"",{"$f":"VLOOKUP(V9770,Minimos!$D$3:$E$26,2,FALSE)","v":{"$error":"#N/A"}},{"$error":"#N/A"},{"$error":"#N/A"}]
[null,null,null,null,null,null,null,null,null,null,null,null,null,null,null,null,null,null,null,null,null,"",{"$f":"VLOOKUP(V9771,Minimos!$D$3:$E$26,2,FALSE)","v":{"$error":"#N/A"}},{"$error":"#N/A"},{"$error":"#N/A"}]
[null,null,null,null,null,null,null,null,null,null,null,null,null,null,null,null,null,null,null,null,null,"",{"$f":"VLOOKUP(V9772,Minimos!$D$3:$E$26,2,FALSE)","v":{"$error":"#N/A"}},{"$error":"#N/A"},{"$error":"#N/A"}]
[null,null,null,null,null,null,null,null,null,null,null,null,null,null,null,null,null,null,null,null,null,"",{"$f":"VLOOKUP(V9773,Minimos!$D$3:$E$26,2,FALSE)","v":{"$error":"#N/A"}},{"$error":"#N/A"},{"$error":"#N/A"}]
[null,null,null,null,null,null,null,null,null,null,null,null,null,null,null,null,null,null,null,null,null,"",{"$f":"VLOOKUP(V9774,Minimos!$D$3:$E$26,2,FALSE)","v":{"$error":"#N/A"}},{"$error":"#N/A"},{"$error":"#N/A"}]
[null,null,null,null,null,null,null,null,null,null,null,null,null,null,null,null,null,null,null,null,null,"",{"$f":"VLOOKUP(V9775,Minimos!$D$3:$E$26,2,FALSE)","v":{"$error":"#N/A"}},{"$error":"#N/A"},{"$error":"#N/A"}]
[null,null,null,null,null,null,null,null,null,null,null,null,null,null,null,null,null,null,null,null,null,"",{"$f":"VLOOKUP(V9776,Minimos!$D$3:$E$26,2,FALSE)","v":{"$error":"#N/A"}},{"$error":"#N/A"},{"$error":"#N/A"}]
[null,null,null,null,null,null,null,null,null,null,null,null,null,null,null,null,null,null,null,null,null,"",{"$f":"VLOOKUP(V9777,Minimos!$D$3:$E$26,2,FALSE)","v":{"$error":"#N/A"}},{"$error":"#N/A"},{"$error":"#N/A"}]
[null,null,null,null,null,null,null,null,null,null,null,null,null,null,null,null,null,null,null,null,null,"",{"$f":"VLOOKUP(V9778,Minimos!$D$3:$E$26,2,FALSE)","v":{"$error":"#N/A"}},{"$error":"#N/A"},{"$error":"#N/A"}]
[null,null,null,null,null,null,null,null,null,null,null,null,null,null,null,null,null,null,null,null,null,"",{"$f":"VLOOKUP(V9779,Minimos!$D$3:$E$26,2,FALSE)","v":{"$error":"#N/A"}},{"$error":"#N/A"},{"$error":"#N/A"}]
[null,null,null,null,null,null,null,null,null,null,null,null,null,null,null,null,null,null,null,null,null,"",{"$f":"VLOOKUP(V9780,Minimos!$D$3:$E$26,2,FALSE)","v":{"$error":"#N/A"}},{"$error":"#N/A"},{"$error":"#N/A"}]
[null,null,null,null,null,null,null,null,null,null,null,null,null,null,null,null,null,null,null,null,null,"",{"$f":"VLOOKUP(V9781,Minimos!$D$3:$E$26,2,FALSE)","v":{"$error":"#N/A"}},{"$error":"#N/A"},{"$error":"#N/A"}]
[null,null,null,null,null,null,null,null,null,null,null,null,null,null,null,null,null,null,null,null,null,"",{"$f":"VLOOKUP(V9782,Minimos!$D$3:$E$26,2,FALSE)","v":{"$error":"#N/A"}},{"$error":"#N/A"},{"$error":"#N/A"}]
[null,null,null,null,null,null,null,null,null,null,null,null,null,null,null,null,null,null,null,null,null,"",{"$f":"VLOOKUP(V9783,Minimos!$D$3:$E$26,2,FALSE)","v":{"$error":"#N/A"}},{"$error":"#N/A"},{"$error":"#N/A"}]
[null,null,null,null,null,null,null,null,null,null,null,null,null,null,null,null,null,null,null,null,null,"",{"$f":"VLOOKUP(V9784,Minimos!$D$3:$E$26,2,FALSE)","v":{"$error":"#N/A"}},{"$error":"#N/A"},{"$error":"#N/A"}]
[null,null,null,null,null,null,null,null,null,null,null,null,null,null,null,null,null,null,null,null,null,"",{"$f":"VLOOKUP(V9785,Minimos!$D$3:$E$26,2,FALSE)","v":{"$error":"#N/A"}},{"$error":"#N/A"},{"$error":"#N/A"}]
[null,null,null,null,null,null,null,null,null,null,null,null,null,null,null,null,null,null,null,null,null,"",{"$f":"VLOOKUP(V9786,Minimos!$D$3:$E$26,2,FALSE)","v":{"$error":"#N/A"}},{"$error":"#N/A"},{"$error":"#N/A"}]
[null,null,null,null,null,null,null,null,null,null,null,null,null,null,null,null,null,null,null,null,null,"",{"$f":"VLOOKUP(V9787,Minimos!$D$3:$E$26,2,FALSE)","v":{"$error":"#N/A"}},{"$error":"#N/A"},{"$error":"#N/A"}]
[null,null,null,null,null,null,null,null,null,null,null,null,null,null,null,null,null,null,null,null,null,"",{"$f":"VLOOKUP(V9788,Minimos!$D$3:$E$26,2,FALSE)","v":{"$error":"#N/A"}},{"$error":"#N/A"},{"$error":"#N/A"}]
[null,null,null,null,null,null,null,null,null,null,null,null,null,null,null,null,null,null,null,null,null,"",{"$f":"VLOOKUP(V9789,Minimos!$D$3:$E$26,2,FALSE)","v":{"$error":"#N/A"}},{"$error":"#N/A"},{"$error":"#N/A"}]
[null,null,null,null,null,null,null,null,null,null,null,null,null,null,null,null,null,null,null,null,null,"",{"$f":"VLOOKUP(V9790,Minimos!$D$3:$E$26,2,FALSE)","v":{"$error":"#N/A"}},{"$error":"#N/A"},{"$error":"#N/A"}]
[null,null,null,null,null,null,null,null,null,null,null,null,null,null,null,null,null,null,null,null,null,"",{"$f":"VLOOKUP(V9791,Minimos!$D$3:$E$26,2,FALSE)","v":{"$error":"#N/A"}},{"$error":"#N/A"},{"$error":"#N/A"}]
[null,null,null,null,null,null,null,null,null,null,null,null,null,null,null,null,null,null,null,null,null,"",{"$f":"VLOOKUP(V9792,Minimos!$D$3:$E$26,2,FALSE)","v":{"$error":"#N/A"}},{"$error":"#N/A"},{"$error":"#N/A"}]
[null,null,null,null,null,null,null,null,null,null,null,null,null,null,null,null,null,null,null,null,null,"",{"$f":"VLOOKUP(V9793,Minimos!$D$3:$E$26,2,FALSE)","v":{"$error":"#N/A"}},{"$error":"#N/A"},{"$error":"#N/A"}]
[null,null,null,null,null,null,null,null,null,null,null,null,null,null,null,null,null,null,null,null,null,"",{"$f":"VLOOKUP(V9794,Minimos!$D$3:$E$26,2,FALSE)","v":{"$error":"#N/A"}},{"$error":"#N/A"},{"$error":"#N/A"}]
[null,null,null,null,null,null,null,null,null,null,null,null,null,null,null,null,null,null,null,null,null,"",{"$f":"VLOOKUP(V9795,Minimos!$D$3:$E$26,2,FALSE)","v":{"$error":"#N/A"}},{"$error":"#N/A"},{"$error":"#N/A"}]
[null,null,null,null,null,null,null,null,null,null,null,null,null,null,null,null,null,null,null,null,null,"",{"$f":"VLOOKUP(V9796,Minimos!$D$3:$E$26,2,FALSE)","v":{"$error":"#N/A"}},{"$error":"#N/A"},{"$error":"#N/A"}]
[null,null,null,null,null,null,null,null,null,null,null,null,null,null,null,null,null,null,null,null,null,"",{"$f":"VLOOKUP(V9797,Minimos!$D$3:$E$26,2,FALSE)","v":{"$error":"#N/A"}},{"$error":"#N/A"},{"$error":"#N/A"}]
[null,null,null,null,null,null,null,null,null,null,null,null,null,null,null,null,null,null,null,null,null,{"$f":"A9798&L9798&G9798","v":""},{"$f":"VLOOKUP(V9798,Minimos!$D$3:$E$26,2,FALSE)","v":{"$error":"#N/A"}},{"$error":"#N/A"},{"$error":"#N/A"}]
[null,null,null,null,null,null,null,null,null,null,null,null,null,null,null,null,null,null,null,null,null,"",{"$f":"VLOOKUP(V9799,Minimos!$D$3:$E$26,2,FALSE)","v":{"$error":"#N/A"}},{"$f":"M9799-W9799","v":{"$error":"#N/A"}},{"$f":"IF(X9799>=0,\"Apurado\",\"\")","v":{"$error":"#N/A"}}]
[null,null,null,null,null,null,null,null,null,null,null,null,null,null,null,null,null,null,null,null,null,"",{"$f":"VLOOKUP(V9800,Minimos!$D$3:$E$26,2,FALSE)","v":{"$error":"#N/A"}},{"$error":"#N/A"},{"$error":"#N/A"}]
[null,null,null,null,null,null,null,null,null,null,null,null,null,null,null,null,null,null,null,null,null,"",{"$f":"VLOOKUP(V9801,Minimos!$D$3:$E$26,2,FALSE)","v":{"$error":"#N/A"}},{"$error":"#N/A"},{"$error":"#N/A"}]
[null,null,null,null,null,null,null,null,null,null,null,null,null,null,null,null,null,null,null,null,null,"",{"$f":"VLOOKUP(V9802,Minimos!$D$3:$E$26,2,FALSE)","v":{"$error":"#N/A"}},{"$error":"#N/A"},{"$error":"#N/A"}]
[null,null,null,null,null,null,null,null,null,null,null,null,null,null,null,null,null,null,null,null,null,"",{"$f":"VLOOKUP(V9803,Minimos!$D$3:$E$26,2,FALSE)","v":{"$error":"#N/A"}},{"$error":"#N/A"},{"$error":"#N/A"}]
[null,null,null,null,null,null,null,null,null,null,null,null,null,null,null,null,null,null,null,null,null,"",{"$f":"VLOOKUP(V9804,Minimos!$D$3:$E$26,2,FALSE)","v":{"$error":"#N/A"}},{"$error":"#N/A"},{"$error":"#N/A"}]
[null,null,null,null,null,null,null,null,null,null,null,null,null,null,null,null,null,null,null,null,null,"",{"$f":"VLOOKUP(V9805,Minimos!$D$3:$E$26,2,FALSE)","v":{"$error":"#N/A"}},{"$error":"#N/A"},{"$error":"#N/A"}]
[null,null,null,null,null,null,null,null,null,null,null,null,null,null,null,null,null,null,null,null,null,"",{"$f":"VLOOKUP(V9806,Minimos!$D$3:$E$26,2,FALSE)","v":{"$error":"#N/A"}},{"$error":"#N/A"},{"$error":"#N/A"}]
[null,null,null,null,null,null,null,null,null,null,null,null,null,null,null,null,null,null,null,null,null,"",{"$f":"VLOOKUP(V9807,Minimos!$D$3:$E$26,2,FALSE)","v":{"$error":"#N/A"}},{"$error":"#N/A"},{"$error":"#N/A"}]
[null,null,null,null,null,null,null,null,null,null,null,null,null,null,null,null,null,null,null,null,null,"",{"$f":"VLOOKUP(V9808,Minimos!$D$3:$E$26,2,FALSE)","v":{"$error":"#N/A"}},{"$error":"#N/A"},{"$error":"#N/A"}]
[null,null,null,null,null,null,null,null,null,null,null,null,null,null,null,null,null,null,null,null,null,"",{"$f":"VLOOKUP(V9809,Minimos!$D$3:$E$26,2,FALSE)","v":{"$error":"#N/A"}},{"$error":"#N/A"},{"$error":"#N/A"}]
[null,null,null,null,null,null,null,null,null,null,null,null,null,null,null,null,null,null,null,null,null,"",{"$f":"VLOOKUP(V9810,Minimos!$D$3:$E$26,2,FALSE)","v":{"$error":"#N/A"}},{"$error":"#N/A"},{"$error":"#N/A"}]
[null,null,null,null,null,null,null,null,null,null,null,null,null,null,null,null,null,null,null,null,null,"",{"$f":"VLOOKUP(V9811,Minimos!$D$3:$E$26,2,FALSE)","v":{"$error":"#N/A"}},{"$error":"#N/A"},{"$error":"#N/A"}]
[null,null,null,null,null,null,null,null,null,null,null,null,null,null,null,null,null,null,null,null,null,"",{"$f":"VLOOKUP(V9812,Minimos!$D$3:$E$26,2,FALSE)","v":{"$error":"#N/A"}},{"$error":"#N/A"},{"$error":"#N/A"}]
[null,null,null,null,null,null,null,null,null,null,null,null,null,null,null,null,null,null,null,null,null,"",{"$f":"VLOOKUP(V9813,Minimos!$D$3:$E$26,2,FALSE)","v":{"$error":"#N/A"}},{"$error":"#N/A"},{"$error":"#N/A"}]
[null,null,null,null,null,null,null,null,null,null,null,null,null,null,null,null,null,null,null,null,null,"",{"$f":"VLOOKUP(V9814,Minimos!$D$3:$E$26,2,FALSE)","v":{"$error":"#N/A"}},{"$error":"#N/A"},{"$error":"#N/A"}]
[null,null,null,null,null,null,null,null,null,null,null,null,null,null,null,null,null,null,null,null,null,"",{"$f":"VLOOKUP(V9815,Minimos!$D$3:$E$26,2,FALSE)","v":{"$error":"#N/A"}},{"$error":"#N/A"},{"$error":"#N/A"}]
[null,null,null,null,null,null,null,null,null,null,null,null,null,null,null,null,null,null,null,null,null,"",{"$f":"VLOOKUP(V9816,Minimos!$D$3:$E$26,2,FALSE)","v":{"$error":"#N/A"}},{"$error":"#N/A"},{"$error":"#N/A"}]
[null,null,null,null,null,null,null,null,null,null,null,null,null,null,null,null,null,null,null,null,null,"",{"$f":"VLOOKUP(V9817,Minimos!$D$3:$E$26,2,FALSE)","v":{"$error":"#N/A"}},{"$error":"#N/A"},{"$error":"#N/A"}]
[null,null,null,null,null,null,null,null,null,null,null,null,null,null,null,null,null,null,null,null,null,"",{"$f":"VLOOKUP(V9818,Minimos!$D$3:$E$26,2,FALSE)","v":{"$error":"#N/A"}},{"$error":"#N/A"},{"$error":"#N/A"}]
[null,null,null,null,null,null,null,null,null,null,null,null,null,null,null,null,null,null,null,null,null,"",{"$f":"VLOOKUP(V9819,Minimos!$D$3:$E$26,2,FALSE)","v":{"$error":"#N/A"}},{"$error":"#N/A"},{"$error":"#N/A"}]
[null,null,null,null,null,null,null,null,null,null,null,null,null,null,null,null,null,null,null,null,null,"",{"$f":"VLOOKUP(V9820,Minimos!$D$3:$E$26,2,FALSE)","v":{"$error":"#N/A"}},{"$error":"#N/A"},{"$error":"#N/A"}]
[null,null,null,null,null,null,null,null,null,null,null,null,null,null,null,null,null,null,null,null,null,"",{"$f":"VLOOKUP(V9821,Minimos!$D$3:$E$26,2,FALSE)","v":{"$error":"#N/A"}},{"$error":"#N/A"},{"$error":"#N/A"}]
[null,null,null,null,null,null,null,null,null,null,null,null,null,null,null,null,null,null,null,null,null,"",{"$f":"VLOOKUP(V9822,Minimos!$D$3:$E$26,2,FALSE)","v":{"$error":"#N/A"}},{"$error":"#N/A"},{"$error":"#N/A"}]
[null,null,null,null,null,null,null,null,null,null,null,null,null,null,null,null,null,null,null,null,null,"",{"$f":"VLOOKUP(V9823,Minimos!$D$3:$E$26,2,FALSE)","v":{"$error":"#N/A"}},{"$error":"#N/A"},{"$error":"#N/A"}]
[null,null,null,null,null,null,null,null,null,null,null,null,null,null,null,null,null,null,null,null,null,"",{"$f":"VLOOKUP(V9824,Minimos!$D$3:$E$26,2,FALSE)","v":{"$error":"#N/A"}},{"$error":"#N/A"},{"$error":"#N/A"}]
[null,null,null,null,null,null,null,null,null,null,null,null,null,null,null,null,null,null,null,null,null,"",{"$f":"VLOOKUP(V9825,Minimos!$D$3:$E$26,2,FALSE)","v":{"$error":"#N/A"}},{"$error":"#N/A"},{"$error":"#N/A"}]
[null,null,null,null,null,null,null,null,null,null,null,null,null,null,null,null,null,null,null,null,null,"",{"$f":"VLOOKUP(V9826,Minimos!$D$3:$E$26,2,FALSE)","v":{"$error":"#N/A"}},{"$error":"#N/A"},{"$error":"#N/A"}]
[null,null,null,null,null,null,null,null,null,null,null,null,null,null,null,null,null,null,null,null,null,"",{"$f":"VLOOKUP(V9827,Minimos!$D$3:$E$26,2,FALSE)","v":{"$error":"#N/A"}},{"$error":"#N/A"},{"$error":"#N/A"}]
[null,null,null,null,null,null,null,null,null,null,null,null,null,null,null,null,null,null,null,null,null,"",{"$f":"VLOOKUP(V9828,Minimos!$D$3:$E$26,2,FALSE)","v":{"$error":"#N/A"}},{"$error":"#N/A"},{"$error":"#N/A"}]
[null,null,null,null,null,null,null,null,null,null,null,null,null,null,null,null,null,null,null,null,null,"",{"$f":"VLOOKUP(V9829,Minimos!$D$3:$E$26,2,FALSE)","v":{"$error":"#N/A"}},{"$error":"#N/A"},{"$error":"#N/A"}]
[null,null,null,null,null,null,null,null,null,null,null,null,null,null,null,null,null,null,null,null,null,"",{"$f":"VLOOKUP(V9830,Minimos!$D$3:$E$26,2,FALSE)","v":{"$error":"#N/A"}},{"$error":"#N/A"},{"$error":"#N/A"}]
[null,null,null,null,null,null,null,null,null,null,null,null,null,null,null,null,null,null,null,null,null,"",{"$f":"VLOOKUP(V9831,Minimos!$D$3:$E$26,2,FALSE)","v":{"$error":"#N/A"}},{"$error":"#N/A"},{"$error":"#N/A"}]
[null,null,null,null,null,null,null,null,null,null,null,null,null,null,null,null,null,null,null,null,null,"",{"$f":"VLOOKUP(V9832,Minimos!$D$3:$E$26,2,FALSE)","v":{"$error":"#N/A"}},{"$error":"#N/A"},{"$error":"#N/A"}]
[null,null,null,null,null,null,null,null,null,null,null,null,null,null,null,null,null,null,null,null,null,"",{"$f":"VLOOKUP(V9833,Minimos!$D$3:$E$26,2,FALSE)","v":{"$error":"#N/A"}},{"$error":"#N/A"},{"$error":"#N/A"}]
[null,null,null,null,null,null,null,null,null,null,null,null,null,null,null,null,null,null,null,null,null,"",{"$f":"VLOOKUP(V9834,Minimos!$D$3:$E$26,2,FALSE)","v":{"$error":"#N/A"}},{"$error":"#N/A"},{"$error":"#N/A"}]
[null,null,null,null,null,null,null,null,null,null,null,null,null,null,null,null,null,null,null,null,null,"",{"$f":"VLOOKUP(V9835,Minimos!$D$3:$E$26,2,FALSE)","v":{"$error":"#N/A"}},{"$error":"#N/A"},{"$error":"#N/A"}]
[null,null,null,null,null,null,null,null,null,null,null,null,null,null,null,null,null,null,null,null,null,"",{"$f":"VLOOKUP(V9836,Minimos!$D$3:$E$26,2,FALSE)","v":{"$error":"#N/A"}},{"$error":"#N/A"},{"$error":"#N/A"}]
[null,null,null,null,null,null,null,null,null,null,null,null,null,null,null,null,null,null,null,null,null,"",{"$f":"VLOOKUP(V9837,Minimos!$D$3:$E$26,2,FALSE)","v":{"$error":"#N/A"}},{"$error":"#N/A"},{"$error":"#N/A"}]
[null,null,null,null,null,null,null,null,null,null,null,null,null,null,null,null,null,null,null,null,null,"",{"$f":"VLOOKUP(V9838,Minimos!$D$3:$E$26,2,FALSE)","v":{"$error":"#N/A"}},{"$error":"#N/A"},{"$error":"#N/A"}]
[null,null,null,null,null,null,null,null,null,null,null,null,null,null,null,null,null,null,null,null,null,"",{"$f":"VLOOKUP(V9839,Minimos!$D$3:$E$26,2,FALSE)","v":{"$error":"#N/A"}},{"$error":"#N/A"},{"$error":"#N/A"}]
[null,null,null,null,null,null,null,null,null,null,null,null,null,null,null,null,null,null,null,null,null,"",{"$f":"VLOOKUP(V9840,Minimos!$D$3:$E$26,2,FALSE)","v":{"$error":"#N/A"}},{"$error":"#N/A"},{"$error":"#N/A"}]
[null,null,null,null,null,null,null,null,null,null,null,null,null,null,null,null,null,null,null,null,null,"",{"$f":"VLOOKUP(V9841,Minimos!$D$3:$E$26,2,FALSE)","v":{"$error":"#N/A"}},{"$error":"#N/A"},{"$error":"#N/A"}]
[null,null,null,null,null,null,null,null,null,null,null,null,null,null,null,null,null,null,null,null,null,"",{"$f":"VLOOKUP(V9842,Minimos!$D$3:$E$26,2,FALSE)","v":{"$error":"#N/A"}},{"$error":"#N/A"},{"$error":"#N/A"}]
[null,null,null,null,null,null,null,null,null,null,null,null,null,null,null,null,null,null,null,null,null,"",{"$f":"VLOOKUP(V9843,Minimos!$D$3:$E$26,2,FALSE)","v":{"$error":"#N/A"}},{"$error":"#N/A"},{"$error":"#N/A"}]
[null,null,null,null,null,null,null,null,null,null,null,null,null,null,null,null,null,null,null,null,null,"",{"$f":"VLOOKUP(V9844,Minimos!$D$3:$E$26,2,FALSE)","v":{"$error":"#N/A"}},{"$error":"#N/A"},{"$error":"#N/A"}]
[null,null,null,null,null,null,null,null,null,null,null,null,null,null,null,null,null,null,null,null,null,"",{"$f":"VLOOKUP(V9845,Minimos!$D$3:$E$26,2,FALSE)","v":{"$error":"#N/A"}},{"$error":"#N/A"},{"$error":"#N/A"}]
[null,null,null,null,null,null,null,null,null,null,null,null,null,null,null,null,null,null,null,null,null,"",{"$f":"VLOOKUP(V9846,Minimos!$D$3:$E$26,2,FALSE)","v":{"$error":"#N/A"}},{"$error":"#N/A"},{"$error":"#N/A"}]
[null,null,null,null,null,null,null,null,null,null,null,null,null,null,null,null,null,null,null,null,null,"",{"$f":"VLOOKUP(V9847,Minimos!$D$3:$E$26,2,FALSE)","v":{"$error":"#N/A"}},{"$error":"#N/A"},{"$error":"#N/A"}]
[null,null,null,null,null,null,null,null,null,null,null,null,null,null,null,null,null,null,null,null,null,"",{"$f":"VLOOKUP(V9848,Minimos!$D$3:$E$26,2,FALSE)","v":{"$error":"#N/A"}},{"$error":"#N/A"},{"$error":"#N/A"}]
[null,null,null,null,null,null,null,null,null,null,null,null,null,null,null,null,null,null,null,null,null,"",{"$f":"VLOOKUP(V9849,Minimos!$D$3:$E$26,2,FALSE)","v":{"$error":"#N/A"}},{"$error":"#N/A"},{"$error":"#N/A"}]
[null,null,null,null,null,null,null,null,null,null,null,null,null,null,null,null,null,null,null,null,null,"",{"$f":"VLOOKUP(V9850,Minimos!$D$3:$E$26,2,FALSE)","v":{"$error":"#N/A"}},{"$error":"#N/A"},{"$error":"#N/A"}]
[null,null,null,null,null,null,null,null,null,null,null,null,null,null,null,null,null,null,null,null,null,"",{"$f":"VLOOKUP(V9851,Minimos!$D$3:$E$26,2,FALSE)","v":{"$error":"#N/A"}},{"$error":"#N/A"},{"$error":"#N/A"}]
[null,null,null,null,null,null,null,null,null,null,null,null,null,null,null,null,null,null,null,null,null,"",{"$f":"VLOOKUP(V9852,Minimos!$D$3:$E$26,2,FALSE)","v":{"$error":"#N/A"}},{"$error":"#N/A"},{"$error":"#N/A"}]
[null,null,null,null,null,null,null,null,null,null,null,null,null,null,null,null,null,null,null,null,null,"",{"$f":"VLOOKUP(V9853,Minimos!$D$3:$E$26,2,FALSE)","v":{"$error":"#N/A"}},{"$error":"#N/A"},{"$error":"#N/A"}]
[null,null,null,null,null,null,null,null,null,null,null,null,null,null,null,null,null,null,null,null,null,"",{"$f":"VLOOKUP(V9854,Minimos!$D$3:$E$26,2,FALSE)","v":{"$error":"#N/A"}},{"$error":"#N/A"},{"$error":"#N/A"}]
[null,null,null,null,null,null,null,null,null,null,null,null,null,null,null,null,null,null,null,null,null,"",{"$f":"VLOOKUP(V9855,Minimos!$D$3:$E$26,2,FALSE)","v":{"$error":"#N/A"}},{"$error":"#N/A"},{"$error":"#N/A"}]
[null,null,null,null,null,null,null,null,null,null,null,null,null,null,null,null,null,null,null,null,null,"",{"$f":"VLOOKUP(V9856,Minimos!$D$3:$E$26,2,FALSE)","v":{"$error":"#N/A"}},{"$error":"#N/A"},{"$error":"#N/A"}]
[null,null,null,null,null,null,null,null,null,null,null,null,null,null,null,null,null,null,null,null,null,"",{"$f":"VLOOKUP(V9857,Minimos!$D$3:$E$26,2,FALSE)","v":{"$error":"#N/A"}},{"$error":"#N/A"},{"$error":"#N/A"}]
[null,null,null,null,null,null,null,null,null,null,null,null,null,null,null,null,null,null,null,null,null,"",{"$f":"VLOOKUP(V9858,Minimos!$D$3:$E$26,2,FALSE)","v":{"$error":"#N/A"}},{"$error":"#N/A"},{"$error":"#N/A"}]
[null,null,null,null,null,null,null,null,null,null,null,null,null,null,null,null,null,null,null,null,null,"",{"$f":"VLOOKUP(V9859,Minimos!$D$3:$E$26,2,FALSE)","v":{"$error":"#N/A"}},{"$error":"#N/A"},{"$error":"#N/A"}]
[null,null,null,null,null,null,null,null,null,null,null,null,null,null,null,null,null,null,null,null,null,"",{"$f":"VLOOKUP(V9860,Minimos!$D$3:$E$26,2,FALSE)","v":{"$error":"#N/A"}},{"$error":"#N/A"},{"$error":"#N/A"}]
[null,null,null,null,null,null,null,null,null,null,null,null,null,null,null,null,null,null,null,null,null,"",{"$f":"VLOOKUP(V9861,Minimos!$D$3:$E$26,2,FALSE)","v":{"$error":"#N/A"}},{"$error":"#N/A"},{"$error":"#N/A"}]
[null,null,null,null,null,null,null,null,null,null,null,null,null,null,null,null,null,null,null,null,null,{"$f":"A9862&L9862&G9862","v":""},{"$f":"VLOOKUP(V9862,Minimos!$D$3:$E$26,2,FALSE)","v":{"$error":"#N/A"}},{"$error":"#N/A"},{"$error":"#N/A"}]
[null,null,null,null,null,null,null,null,null,null,null,null,null,null,null,null,null,null,null,null,null,"",{"$f":"VLOOKUP(V9863,Minimos!$D$3:$E$26,2,FALSE)","v":{"$error":"#N/A"}},{"$f":"M9863-W9863","v":{"$error":"#N/A"}},{"$f":"IF(X9863>=0,\"Apurado\",\"\")","v":{"$error":"#N/A"}}]
[null,null,null,null,null,null,null,null,null,null,null,null,null,null,null,null,null,null,null,null,null,"",{"$f":"VLOOKUP(V9864,Minimos!$D$3:$E$26,2,FALSE)","v":{"$error":"#N/A"}},{"$error":"#N/A"},{"$error":"#N/A"}]
[null,null,null,null,null,null,null,null,null,null,null,null,null,null,null,null,null,null,null,null,null,"",{"$f":"VLOOKUP(V9865,Minimos!$D$3:$E$26,2,FALSE)","v":{"$error":"#N/A"}},{"$error":"#N/A"},{"$error":"#N/A"}]
[null,null,null,null,null,null,null,null,null,null,null,null,null,null,null,null,null,null,null,null,null,"",{"$f":"VLOOKUP(V9866,Minimos!$D$3:$E$26,2,FALSE)","v":{"$error":"#N/A"}},{"$error":"#N/A"},{"$error":"#N/A"}]
[null,null,null,null,null,null,null,null,null,null,null,null,null,null,null,null,null,null,null,null,null,"",{"$f":"VLOOKUP(V9867,Minimos!$D$3:$E$26,2,FALSE)","v":{"$error":"#N/A"}},{"$error":"#N/A"},{"$error":"#N/A"}]
[null,null,null,null,null,null,null,null,null,null,null,null,null,null,null,null,null,null,null,null,null,"",{"$f":"VLOOKUP(V9868,Minimos!$D$3:$E$26,2,FALSE)","v":{"$error":"#N/A"}},{"$error":"#N/A"},{"$error":"#N/A"}]
[null,null,null,null,null,null,null,null,null,null,null,null,null,null,null,null,null,null,null,null,null,"",{"$f":"VLOOKUP(V9869,Minimos!$D$3:$E$26,2,FALSE)","v":{"$error":"#N/A"}},{"$error":"#N/A"},{"$error":"#N/A"}]
[null,null,null,null,null,null,null,null,null,null,null,null,null,null,null,null,null,null,null,null,null,"",{"$f":"VLOOKUP(V9870,Minimos!$D$3:$E$26,2,FALSE)","v":{"$error":"#N/A"}},{"$error":"#N/A"},{"$error":"#N/A"}]
[null,null,null,null,null,null,null,null,null,null,null,null,null,null,null,null,null,null,null,null,null,"",{"$f":"VLOOKUP(V9871,Minimos!$D$3:$E$26,2,FALSE)","v":{"$error":"#N/A"}},{"$error":"#N/A"},{"$error":"#N/A"}]
[null,null,null,null,null,null,null,null,null,null,null,null,null,null,null,null,null,null,null,null,null,"",{"$f":"VLOOKUP(V9872,Minimos!$D$3:$E$26,2,FALSE)","v":{"$error":"#N/A"}},{"$error":"#N/A"},{"$error":"#N/A"}]
[null,null,null,null,null,null,null,null,null,null,null,null,null,null,null,null,null,null,null,null,null,"",{"$f":"VLOOKUP(V9873,Minimos!$D$3:$E$26,2,FALSE)","v":{"$error":"#N/A"}},{"$error":"#N/A"},{"$error":"#N/A"}]
[null,null,null,null,null,null,null,null,null,null,null,null,null,null,null,null,null,null,null,null,null,"",{"$f":"VLOOKUP(V9874,Minimos!$D$3:$E$26,2,FALSE)","v":{"$error":"#N/A"}},{"$error":"#N/A"},{"$error":"#N/A"}]
[null,null,null,null,null,null,null,null,null,null,null,null,null,null,null,null,null,null,null,null,null,"",{"$f":"VLOOKUP(V9875,Minimos!$D$3:$E$26,2,FALSE)","v":{"$error":"#N/A"}},{"$error":"#N/A"},{"$error":"#N/A"}]
[null,null,null,null,null,null,null,null,null,null,null,null,null,null,null,null,null,null,null,null,null,"",{"$f":"VLOOKUP(V9876,Minimos!$D$3:$E$26,2,FALSE)","v":{"$error":"#N/A"}},{"$error":"#N/A"},{"$error":"#N/A"}]
[null,null,null,null,null,null,null,null,null,null,null,null,null,null,null,null,null,null,null,null,null,"",{"$f":"VLOOKUP(V9877,Minimos!$D$3:$E$26,2,FALSE)","v":{"$error":"#N/A"}},{"$error":"#N/A"},{"$error":"#N/A"}]
[null,null,null,null,null,null,null,null,null,null,null,null,null,null,null,null,null,null,null,null,null,"",{"$f":"VLOOKUP(V9878,Minimos!$D$3:$E$26,2,FALSE)","v":{"$error":"#N/A"}},{"$error":"#N/A"},{"$error":"#N/A"}]
[null,null,null,null,null,null,null,null,null,null,null,null,null,null,null,null,null,null,null,null,null,"",{"$f":"VLOOKUP(V9879,Minimos!$D$3:$E$26,2,FALSE)","v":{"$error":"#N/A"}},{"$error":"#N/A"},{"$error":"#N/A"}]
[null,null,null,null,null,null,null,null,null,null,null,null,null,null,null,null,null,null,null,null,null,"",{"$f":"VLOOKUP(V9880,Minimos!$D$3:$E$26,2,FALSE)","v":{"$error":"#N/A"}},{"$error":"#N/A"},{"$error":"#N/A"}]
[null,null,null,null,null,null,null,null,null,null,null,null,null,null,null,null,null,null,null,null,null,"",{"$f":"VLOOKUP(V9881,Minimos!$D$3:$E$26,2,FALSE)","v":{"$error":"#N/A"}},{"$error":"#N/A"},{"$error":"#N/A"}]
[null,null,null,null,null,null,null,null,null,null,null,null,null,null,null,null,null,null,null,null,null,"",{"$f":"VLOOKUP(V9882,Minimos!$D$3:$E$26,2,FALSE)","v":{"$error":"#N/A"}},{"$error":"#N/A"},{"$error":"#N/A"}]
[null,null,null,null,null,null,null,null,null,null,null,null,null,null,null,null,null,null,null,null,null,"",{"$f":"VLOOKUP(V9883,Minimos!$D$3:$E$26,2,FALSE)","v":{"$error":"#N/A"}},{"$error":"#N/A"},{"$error":"#N/A"}]
[null,null,null,null,null,null,null,null,null,null,null,null,null,null,null,null,null,null,null,null,null,"",{"$f":"VLOOKUP(V9884,Minimos!$D$3:$E$26,2,FALSE)","v":{"$error":"#N/A"}},{"$error":"#N/A"},{"$error":"#N/A"}]
[null,null,null,null,null,null,null,null,null,null,null,null,null,null,null,null,null,null,null,null,null,"",{"$f":"VLOOKUP(V9885,Minimos!$D$3:$E$26,2,FALSE)","v":{"$error":"#N/A"}},{"$error":"#N/A"},{"$error":"#N/A"}]
[null,null,null,null,null,null,null,null,null,null,null,null,null,null,null,null,null,null,null,null,null,"",{"$f":"VLOOKUP(V9886,Minimos!$D$3:$E$26,2,FALSE)","v":{"$error":"#N/A"}},{"$error":"#N/A"},{"$error":"#N/A"}]
[null,null,null,null,null,null,null,null,null,null,null,null,null,null,null,null,null,null,null,null,null,"",{"$f":"VLOOKUP(V9887,Minimos!$D$3:$E$26,2,FALSE)","v":{"$error":"#N/A"}},{"$error":"#N/A"},{"$error":"#N/A"}]
[null,null,null,null,null,null,null,null,null,null,null,null,null,null,null,null,null,null,null,null,null,"",{"$f":"VLOOKUP(V9888,Minimos!$D$3:$E$26,2,FALSE)","v":{"$error":"#N/A"}},{"$error":"#N/A"},{"$error":"#N/A"}]
[null,null,null,null,null,null,null,null,null,null,null,null,null,null,null,null,null,null,null,null,null,"",{"$f":"VLOOKUP(V9889,Minimos!$D$3:$E$26,2,FALSE)","v":{"$error":"#N/A"}},{"$error":"#N/A"},{"$error":"#N/A"}]
[null,null,null,null,null,null,null,null,null,null,null,null,null,null,null,null,null,null,null,null,null,"",{"$f":"VLOOKUP(V9890,Minimos!$D$3:$E$26,2,FALSE)","v":{"$error":"#N/A"}},{"$error":"#N/A"},{"$error":"#N/A"}]
[null,null,null,null,null,null,null,null,null,null,null,null,null,null,null,null,null,null,null,null,null,"",{"$f":"VLOOKUP(V9891,Minimos!$D$3:$E$26,2,FALSE)","v":{"$error":"#N/A"}},{"$error":"#N/A"},{"$error":"#N/A"}]
[null,null,null,null,null,null,null,null,null,null,null,null,null,null,null,null,null,null,null,null,null,"",{"$f":"VLOOKUP(V9892,Minimos!$D$3:$E$26,2,FALSE)","v":{"$error":"#N/A"}},{"$error":"#N/A"},{"$error":"#N/A"}]
[null,null,null,null,null,null,null,null,null,null,null,null,null,null,null,null,null,null,null,null,null,"",{"$f":"VLOOKUP(V9893,Minimos!$D$3:$E$26,2,FALSE)","v":{"$error":"#N/A"}},{"$error":"#N/A"},{"$error":"#N/A"}]
[null,null,null,null,null,null,null,null,null,null,null,null,null,null,null,null,null,null,null,null,null,"",{"$f":"VLOOKUP(V9894,Minimos!$D$3:$E$26,2,FALSE)","v":{"$error":"#N/A"}},{"$error":"#N/A"},{"$error":"#N/A"}]
[null,null,null,null,null,null,null,null,null,null,null,null,null,null,null,null,null,null,null,null,null,"",{"$f":"VLOOKUP(V9895,Minimos!$D$3:$E$26,2,FALSE)","v":{"$error":"#N/A"}},{"$error":"#N/A"},{"$error":"#N/A"}]
[null,null,null,null,null,null,null,null,null,null,null,null,null,null,null,null,null,null,null,null,null,"",{"$f":"VLOOKUP(V9896,Minimos!$D$3:$E$26,2,FALSE)","v":{"$error":"#N/A"}},{"$error":"#N/A"},{"$error":"#N/A"}]
[null,null,null,null,null,null,null,null,null,null,null,null,null,null,null,null,null,null,null,null,null,"",{"$f":"VLOOKUP(V9897,Minimos!$D$3:$E$26,2,FALSE)","v":{"$error":"#N/A"}},{"$error":"#N/A"},{"$error":"#N/A"}]
[null,null,null,null,null,null,null,null,null,null,null,null,null,null,null,null,null,null,null,null,null,"",{"$f":"VLOOKUP(V9898,Minimos!$D$3:$E$26,2,FALSE)","v":{"$error":"#N/A"}},{"$error":"#N/A"},{"$error":"#N/A"}]
[null,null,null,null,null,null,null,null,null,null,null,null,null,null,null,null,null,null,null,null,null,"",{"$f":"VLOOKUP(V9899,Minimos!$D$3:$E$26,2,FALSE)","v":{"$error":"#N/A"}},{"$error":"#N/A"},{"$error":"#N/A"}]
[null,null,null,null,null,null,null,null,null,null,null,null,null,null,null,null,null,null,null,null,null,"",{"$f":"VLOOKUP(V9900,Minimos!$D$3:$E$26,2,FALSE)","v":{"$error":"#N/A"}},{"$error":"#N/A"},{"$error":"#N/A"}]
[null,null,null,null,null,null,null,null,null,null,null,null,null,null,null,null,null,null,null,null,null,"",{"$f":"VLOOKUP(V9901,Minimos!$D$3:$E$26,2,FALSE)","v":{"$error":"#N/A"}},{"$error":"#N/A"},{"$error":"#N/A"}]
[null,null,null,null,null,null,null,null,null,null,null,null,null,null,null,null,null,null,null,null,null,"",{"$f":"VLOOKUP(V9902,Minimos!$D$3:$E$26,2,FALSE)","v":{"$error":"#N/A"}},{"$error":"#N/A"},{"$error":"#N/A"}]
[null,null,null,null,null,null,null,null,null,null,null,null,null,null,null,null,null,null,null,null,null,"",{"$f":"VLOOKUP(V9903,Minimos!$D$3:$E$26,2,FALSE)","v":{"$error":"#N/A"}},{"$error":"#N/A"},{"$error":"#N/A"}]
[null,null,null,null,null,null,null,null,null,null,null,null,null,null,null,null,null,null,null,null,null,"",{"$f":"VLOOKUP(V9904,Minimos!$D$3:$E$26,2,FALSE)","v":{"$error":"#N/A"}},{"$error":"#N/A"},{"$error":"#N/A"}]
[null,null,null,null,null,null,null,null,null,null,null,null,null,null,null,null,null,null,null,null,null,"",{"$f":"VLOOKUP(V9905,Minimos!$D$3:$E$26,2,FALSE)","v":{"$error":"#N/A"}},{"$error":"#N/A"},{"$error":"#N/A"}]
[null,null,null,null,null,null,null,null,null,null,null,null,null,null,null,null,null,null,null,null,null,"",{"$f":"VLOOKUP(V9906,Minimos!$D$3:$E$26,2,FALSE)","v":{"$error":"#N/A"}},{"$error":"#N/A"},{"$error":"#N/A"}]
[null,null,null,null,null,null,null,null,null,null,null,null,null,null,null,null,null,null,null,null,null,"",{"$f":"VLOOKUP(V9907,Minimos!$D$3:$E$26,2,FALSE)","v":{"$error":"#N/A"}},{"$error":"#N/A"},{"$error":"#N/A"}]
[null,null,null,null,null,null,null,null,null,null,null,null,null,null,null,null,null,null,null,null,null,"",{"$f":"VLOOKUP(V9908,Minimos!$D$3:$E$26,2,FALSE)","v":{"$error":"#N/A"}},{"$error":"#N/A"},{"$error":"#N/A"}]
[null,null,null,null,null,null,null,null,null,null,null,null,null,null,null,null,null,null,null,null,null,"",{"$f":"VLOOKUP(V9909,Minimos!$D$3:$E$26,2,FALSE)","v":{"$error":"#N/A"}},{"$error":"#N/A"},{"$error":"#N/A"}]
[null,null,null,null,null,null,null,null,null,null,null,null,null,null,null,null,null,null,null,null,null,"",{"$f":"VLOOKUP(V9910,Minimos!$D$3:$E$26,2,FALSE)","v":{"$error":"#N/A"}},{"$error":"#N/A"},{"$error":"#N/A"}]
[null,null,null,null,null,null,null,null,null,null,null,null,null,null,null,null,null,null,null,null,null,"",{"$f":"VLOOKUP(V9911,Minimos!$D$3:$E$26,2,FALSE)","v":{"$error":"#N/A"}},{"$error":"#N/A"},{"$error":"#N/A"}]
[null,null,null,null,null,null,null,null,null,null,null,null,null,null,null,null,null,null,null,null,null,"",{"$f":"VLOOKUP(V9912,Minimos!$D$3:$E$26,2,FALSE)","v":{"$error":"#N/A"}},{"$error":"#N/A"},{"$error":"#N/A"}]
[null,null,null,null,null,null,null,null,null,null,null,null,null,null,null,null,null,null,null,null,null,"",{"$f":"VLOOKUP(V9913,Minimos!$D$3:$E$26,2,FALSE)","v":{"$error":"#N/A"}},{"$error":"#N/A"},{"$error":"#N/A"}]
[null,null,null,null,null,null,null,null,null,null,null,null,null,null,null,null,null,null,null,null,null,"",{"$f":"VLOOKUP(V9914,Minimos!$D$3:$E$26,2,FALSE)","v":{"$error":"#N/A"}},{"$error":"#N/A"},{"$error":"#N/A"}]
[null,null,null,null,null,null,null,null,null,null,null,null,null,null,null,null,null,null,null,null,null,"",{"$f":"VLOOKUP(V9915,Minimos!$D$3:$E$26,2,FALSE)","v":{"$error":"#N/A"}},{"$error":"#N/A"},{"$error":"#N/A"}]
[null,null,null,null,null,null,null,null,null,null,null,null,null,null,null,null,null,null,null,null,null,"",{"$f":"VLOOKUP(V9916,Minimos!$D$3:$E$26,2,FALSE)","v":{"$error":"#N/A"}},{"$error":"#N/A"},{"$error":"#N/A"}]
[null,null,null,null,null,null,null,null,null,null,null,null,null,null,null,null,null,null,null,null,null,"",{"$f":"VLOOKUP(V9917,Minimos!$D$3:$E$26,2,FALSE)","v":{"$error":"#N/A"}},{"$error":"#N/A"},{"$error":"#N/A"}]
[null,null,null,null,null,null,null,null,null,null,null,null,null,null,null,null,null,null,null,null,null,"",{"$f":"VLOOKUP(V9918,Minimos!$D$3:$E$26,2,FALSE)","v":{"$error":"#N/A"}},{"$error":"#N/A"},{"$error":"#N/A"}]
[null,null,null,null,null,null,null,null,null,null,null,null,null,null,null,null,null,null,null,null,null,"",{"$f":"VLOOKUP(V9919,Minimos!$D$3:$E$26,2,FALSE)","v":{"$error":"#N/A"}},{"$error":"#N/A"},{"$error":"#N/A"}]
[null,null,null,null,null,null,null,null,null,null,null,null,null,null,null,null,null,null,null,null,null,"",{"$f":"VLOOKUP(V9920,Minimos!$D$3:$E$26,2,FALSE)","v":{"$error":"#N/A"}},{"$error":"#N/A"},{"$error":"#N/A"}]
[null,null,null,null,null,null,null,null,null,null,null,null,null,null,null,null,null,null,null,null,null,"",{"$f":"VLOOKUP(V9921,Minimos!$D$3:$E$26,2,FALSE)","v":{"$error":"#N/A"}},{"$error":"#N/A"},{"$error":"#N/A"}]
[null,null,null,null,null,null,null,null,null,null,null,null,null,null,null,null,null,null,null,null,null,"",{"$f":"VLOOKUP(V9922,Minimos!$D$3:$E$26,2,FALSE)","v":{"$error":"#N/A"}},{"$error":"#N/A"},{"$error":"#N/A"}]
[null,null,null,null,null,null,null,null,null,null,null,null,null,null,null,null,null,null,null,null,null,"",{"$f":"VLOOKUP(V9923,Minimos!$D$3:$E$26,2,FALSE)","v":{"$error":"#N/A"}},{"$error":"#N/A"},{"$error":"#N/A"}]
[null,null,null,null,null,null,null,null,null,null,null,null,null,null,null,null,null,null,null,null,null,"",{"$f":"VLOOKUP(V9924,Minimos!$D$3:$E$26,2,FALSE)","v":{"$error":"#N/A"}},{"$error":"#N/A"},{"$error":"#N/A"}]
[null,null,null,null,null,null,null,null,null,null,null,null,null,null,null,null,null,null,null,null,null,"",{"$f":"VLOOKUP(V9925,Minimos!$D$3:$E$26,2,FALSE)","v":{"$error":"#N/A"}},{"$error":"#N/A"},{"$error":"#N/A"}]
[null,null,null,null,null,null,null,null,null,null,null,null,null,null,null,null,null,null,null,null,null,{"$f":"A9926&L9926&G9926","v":""},{"$f":"VLOOKUP(V9926,Minimos!$D$3:$E$26,2,FALSE)","v":{"$error":"#N/A"}},{"$error":"#N/A"},{"$error":"#N/A"}]
[null,null,null,null,null,null,null,null,null,null,null,null,null,null,null,null,null,null,null,null,null,"",{"$f":"VLOOKUP(V9927,Minimos!$D$3:$E$26,2,FALSE)","v":{"$error":"#N/A"}},{"$f":"M9927-W9927","v":{"$error":"#N/A"}},{"$f":"IF(X9927>=0,\"Apurado\",\"\")","v":{"$error":"#N/A"}}]
[null,null,null,null,null,null,null,null,null,null,null,null,null,null,null,null,null,null,null,null,null,"",{"$f":"VLOOKUP(V9928,Minimos!$D$3:$E$26,2,FALSE)","v":{"$error":"#N/A"}},{"$error":"#N/A"},{"$error":"#N/A"}]
[null,null,null,null,null,null,null,null,null,null,null,null,null,null,null,null,null,null,null,null,null,"",{"$f":"VLOOKUP(V9929,Minimos!$D$3:$E$26,2,FALSE)","v":{"$error":"#N/A"}},{"$error":"#N/A"},{"$error":"#N/A"}]
[null,null,null,null,null,null,null,null,null,null,null,null,null,null,null,null,null,null,null,null,null,"",{"$f":"VLOOKUP(V9930,Minimos!$D$3:$E$26,2,FALSE)","v":{"$error":"#N/A"}},{"$error":"#N/A"},{"$error":"#N/A"}]
[null,null,null,null,null,null,null,null,null,null,null,null,null,null,null,null,null,null,null,null,null,"",{"$f":"VLOOKUP(V9931,Minimos!$D$3:$E$26,2,FALSE)","v":{"$error":"#N/A"}},{"$error":"#N/A"},{"$error":"#N/A"}]
[null,null,null,null,null,null,null,null,null,null,null,null,null,null,null,null,null,null,null,null,null,"",{"$f":"VLOOKUP(V9932,Minimos!$D$3:$E$26,2,FALSE)","v":{"$error":"#N/A"}},{"$error":"#N/A"},{"$error":"#N/A"}]
[null,null,null,null,null,null,null,null,null,null,null,null,null,null,null,null,null,null,null,null,null,"",{"$f":"VLOOKUP(V9933,Minimos!$D$3:$E$26,2,FALSE)","v":{"$error":"#N/A"}},{"$error":"#N/A"},{"$error":"#N/A"}]
[null,null,null,null,null,null,null,null,null,null,null,null,null,null,null,null,null,null,null,null,null,"",{"$f":"VLOOKUP(V9934,Minimos!$D$3:$E$26,2,FALSE)","v":{"$error":"#N/A"}},{"$error":"#N/A"},{"$error":"#N/A"}]
[null,null,null,null,null,null,null,null,null,null,null,null,null,null,null,null,null,null,null,null,null,"",{"$f":"VLOOKUP(V9935,Minimos!$D$3:$E$26,2,FALSE)","v":{"$error":"#N/A"}},{"$error":"#N/A"},{"$error":"#N/A"}]
[null,null,null,null,null,null,null,null,null,null,null,null,null,null,null,null,null,null,null,null,null,"",{"$f":"VLOOKUP(V9936,Minimos!$D$3:$E$26,2,FALSE)","v":{"$error":"#N/A"}},{"$error":"#N/A"},{"$error":"#N/A"}]
[null,null,null,null,null,null,null,null,null,null,null,null,null,null,null,null,null,null,null,null,null,"",{"$f":"VLOOKUP(V9937,Minimos!$D$3:$E$26,2,FALSE)","v":{"$error":"#N/A"}},{"$error":"#N/A"},{"$error":"#N/A"}]
[null,null,null,null,null,null,null,null,null,null,null,null,null,null,null,null,null,null,null,null,null,"",{"$f":"VLOOKUP(V9938,Minimos!$D$3:$E$26,2,FALSE)","v":{"$error":"#N/A"}},{"$error":"#N/A"},{"$error":"#N/A"}]
[null,null,null,null,null,null,null,null,null,null,null,null,null,null,null,null,null,null,null,null,null,"",{"$f":"VLOOKUP(V9939,Minimos!$D$3:$E$26,2,FALSE)","v":{"$error":"#N/A"}},{"$error":"#N/A"},{"$error":"#N/A"}]
[null,null,null,null,null,null,null,null,null,null,null,null,null,null,null,null,null,null,null,null,null,"",{"$f":"VLOOKUP(V9940,Minimos!$D$3:$E$26,2,FALSE)","v":{"$error":"#N/A"}},{"$error":"#N/A"},{"$error":"#N/A"}]
[null,null,null,null,null,null,null,null,null,null,null,null,null,null,null,null,null,null,null,null,null,"",{"$f":"VLOOKUP(V9941,Minimos!$D$3:$E$26,2,FALSE)","v":{"$error":"#N/A"}},{"$error":"#N/A"},{"$error":"#N/A"}]
[null,null,null,null,null,null,null,null,null,null,null,null,null,null,null,null,null,null,null,null,null,"",{"$f":"VLOOKUP(V9942,Minimos!$D$3:$E$26,2,FALSE)","v":{"$error":"#N/A"}},{"$error":"#N/A"},{"$error":"#N/A"}]
[null,null,null,null,null,null,null,null,null,null,null,null,null,null,null,null,null,null,null,null,null,"",{"$f":"VLOOKUP(V9943,Minimos!$D$3:$E$26,2,FALSE)","v":{"$error":"#N/A"}},{"$error":"#N/A"},{"$error":"#N/A"}]
[null,null,null,null,null,null,null,null,null,null,null,null,null,null,null,null,null,null,null,null,null,"",{"$f":"VLOOKUP(V9944,Minimos!$D$3:$E$26,2,FALSE)","v":{"$error":"#N/A"}},{"$error":"#N/A"},{"$error":"#N/A"}]
[null,null,null,null,null,null,null,null,null,null,null,null,null,null,null,null,null,null,null,null,null,"",{"$f":"VLOOKUP(V9945,Minimos!$D$3:$E$26,2,FALSE)","v":{"$error":"#N/A"}},{"$error":"#N/A"},{"$error":"#N/A"}]
[null,null,null,null,null,null,null,null,null,null,null,null,null,null,null,null,null,null,null,null,null,"",{"$f":"VLOOKUP(V9946,Minimos!$D$3:$E$26,2,FALSE)","v":{"$error":"#N/A"}},{"$error":"#N/A"},{"$error":"#N/A"}]
[null,null,null,null,null,null,null,null,null,null,null,null,null,null,null,null,null,null,null,null,null,"",{"$f":"VLOOKUP(V9947,Minimos!$D$3:$E$26,2,FALSE)","v":{"$error":"#N/A"}},{"$error":"#N/A"},{"$error":"#N/A"}]
[null,null,null,null,null,null,null,null,null,null,null,null,null,null,null,null,null,null,null,null,null,"",{"$f":"VLOOKUP(V9948,Minimos!$D$3:$E$26,2,FALSE)","v":{"$error":"#N/A"}},{"$error":"#N/A"},{"$error":"#N/A"}]
[null,null,null,null,null,null,null,null,null,null,null,null,null,null,null,null,null,null,null,null,null,"",{"$f":"VLOOKUP(V9949,Minimos!$D$3:$E$26,2,FALSE)","v":{"$error":"#N/A"}},{"$error":"#N/A"},{"$error":"#N/A"}]
[null,null,null,null,null,null,null,null,null,null,null,null,null,null,null,null,null,null,null,null,null,"",{"$f":"VLOOKUP(V9950,Minimos!$D$3:$E$26,2,FALSE)","v":{"$error":"#N/A"}},{"$error":"#N/A"},{"$error":"#N/A"}]
[null,null,null,null,null,null,null,null,null,null,null,null,null,null,null,null,null,null,null,null,null,"",{"$f":"VLOOKUP(V9951,Minimos!$D$3:$E$26,2,FALSE)","v":{"$error":"#N/A"}},{"$error":"#N/A"},{"$error":"#N/A"}]
[null,null,null,null,null,null,null,null,null,null,null,null,null,null,null,null,null,null,null,null,null,"",{"$f":"VLOOKUP(V9952,Minimos!$D$3:$E$26,2,FALSE)","v":{"$error":"#N/A"}},{"$error":"#N/A"},{"$error":"#N/A"}]
[null,null,null,null,null,null,null,null,null,null,null,null,null,null,null,null,null,null,null,null,null,"",{"$f":"VLOOKUP(V9953,Minimos!$D$3:$E$26,2,FALSE)","v":{"$error":"#N/A"}},{"$error":"#N/A"},{"$error":"#N/A"}]
[null,null,null,null,null,null,null,null,null,null,null,null,null,null,null,null,null,null,null,null,null,"",{"$f":"VLOOKUP(V9954,Minimos!$D$3:$E$26,2,FALSE)","v":{"$error":"#N/A"}},{"$error":"#N/A"},{"$error":"#N/A"}]
[null,null,null,null,null,null,null,null,null,null,null,null,null,null,null,null,null,null,null,null,null,"",{"$f":"VLOOKUP(V9955,Minimos!$D$3:$E$26,2,FALSE)","v":{"$error":"#N/A"}},{"$error":"#N/A"},{"$error":"#N/A"}]
[null,null,null,null,null,null,null,null,null,null,null,null,null,null,null,null,null,null,null,null,null,"",{"$f":"VLOOKUP(V9956,Minimos!$D$3:$E$26,2,FALSE)","v":{"$error":"#N/A"}},{"$error":"#N/A"},{"$error":"#N/A"}]
[null,null,null,null,null,null,null,null,null,null,null,null,null,null,null,null,null,null,null,null,null,"",{"$f":"VLOOKUP(V9957,Minimos!$D$3:$E$26,2,FALSE)","v":{"$error":"#N/A"}},{"$error":"#N/A"},{"$error":"#N/A"}]
[null,null,null,null,null,null,null,null,null,null,null,null,null,null,null,null,null,null,null,null,null,"",{"$f":"VLOOKUP(V9958,Minimos!$D$3:$E$26,2,FALSE)","v":{"$error":"#N/A"}},{"$error":"#N/A"},{"$error":"#N/A"}]
[null,null,null,null,null,null,null,null,null,null,null,null,null,null,null,null,null,null,null,null,null,"",{"$f":"VLOOKUP(V9959,Minimos!$D$3:$E$26,2,FALSE)","v":{"$error":"#N/A"}},{"$error":"#N/A"},{"$error":"#N/A"}]
[null,null,null,null,null,null,null,null,null,null,null,null,null,null,null,null,null,null,null,null,null,"",{"$f":"VLOOKUP(V9960,Minimos!$D$3:$E$26,2,FALSE)","v":{"$error":"#N/A"}},{"$error":"#N/A"},{"$error":"#N/A"}]
[null,null,null,null,null,null,null,null,null,null,null,null,null,null,null,null,null,null,null,null,null,"",{"$f":"VLOOKUP(V9961,Minimos!$D$3:$E$26,2,FALSE)","v":{"$error":"#N/A"}},{"$error":"#N/A"},{"$error":"#N/A"}]
[null,null,null,null,null,null,null,null,null,null,null,null,null,null,null,null,null,null,null,null,null,"",{"$f":"VLOOKUP(V9962,Minimos!$D$3:$E$26,2,FALSE)","v":{"$error":"#N/A"}},{"$error":"#N/A"},{"$error":"#N/A"}]
[null,null,null,null,null,null,null,null,null,null,null,null,null,null,null,null,null,null,null,null,null,"",{"$f":"VLOOKUP(V9963,Minimos!$D$3:$E$26,2,FALSE)","v":{"$error":"#N/A"}},{"$error":"#N/A"},{"$error":"#N/A"}]
[null,null,null,null,null,null,null,null,null,null,null,null,null,null,null,null,null,null,null,null,null,"",{"$f":"VLOOKUP(V9964,Minimos!$D$3:$E$26,2,FALSE)","v":{"$error":"#N/A"}},{"$error":"#N/A"},{"$error":"#N/A"}]
[null,null,null,null,null,null,null,null,null,null,null,null,null,null,null,null,null,null,null,null,null,"",{"$f":"VLOOKUP(V9965,Minimos!$D$3:$E$26,2,FALSE)","v":{"$error":"#N/A"}},{"$error":"#N/A"},{"$error":"#N/A"}]
[null,null,null,null,null,null,null,null,null,null,null,null,null,null,null,null,null,null,null,null,null,"",{"$f":"VLOOKUP(V9966,Minimos!$D$3:$E$26,2,FALSE)","v":{"$error":"#N/A"}},{"$error":"#N/A"},{"$error":"#N/A"}]
[null,null,null,null,null,null,null,null,null,null,null,null,null,null,null,null,null,null,null,null,null,"",{"$f":"VLOOKUP(V9967,Minimos!$D$3:$E$26,2,FALSE)","v":{"$error":"#N/A"}},{"$error":"#N/A"},{"$error":"#N/A"}]
[null,null,null,null,null,null,null,null,null,null,null,null,null,null,null,null,null,null,null,null,null,"",{"$f":"VLOOKUP(V9968,Minimos!$D$3:$E$26,2,FALSE)","v":{"$error":"#N/A"}},{"$error":"#N/A"},{"$error":"#N/A"}]
[null,null,null,null,null,null,null,null,null,null,null,null,null,null,null,null,null,null,null,null,null,"",{"$f":"VLOOKUP(V9969,Minimos!$D$3:$E$26,2,FALSE)","v":{"$error":"#N/A"}},{"$error":"#N/A"},{"$error":"#N/A"}]
[null,null,null,null,null,null,null,null,null,null,null,null,null,null,null,null,null,null,null,null,null,"",{"$f":"VLOOKUP(V9970,Minimos!$D$3:$E$26,2,FALSE)","v":{"$error":"#N/A"}},{"$error":"#N/A"},{"$error":"#N/A"}]
[null,null,null,null,null,null,null,null,null,null,null,null,null,null,null,null,null,null,null,null,null,"",{"$f":"VLOOKUP(V9971,Minimos!$D$3:$E$26,2,FALSE)","v":{"$error":"#N/A"}},{"$error":"#N/A"},{"$error":"#N/A"}]
[null,null,null,null,null,null,null,null,null,null,null,null,null,null,null,null,null,null,null,null,null,"",{"$f":"VLOOKUP(V9972,Minimos!$D$3:$E$26,2,FALSE)","v":{"$error":"#N/A"}},{"$error":"#N/A"},{"$error":"#N/A"}]
[null,null,null,null,null,null,null,null,null,null,null,null,null,null,null,null,null,null,null,null,null,"",{"$f":"VLOOKUP(V9973,Minimos!$D$3:$E$26,2,FALSE)","v":{"$error":"#N/A"}},{"$error":"#N/A"},{"$error":"#N/A"}]
[null,null,null,null,null,null,null,null,null,null,null,null,null,null,null,null,null,null,null,null,null,"",{"$f":"VLOOKUP(V9974,Minimos!$D$3:$E$26,2,FALSE)","v":{"$error":"#N/A"}},{"$error":"#N/A"},{"$error":"#N/A"}]
[null,null,null,null,null,null,null,null,null,null,null,null,null,null,null,null,null,null,null,null,null,"",{"$f":"VLOOKUP(V9975,Minimos!$D$3:$E$26,2,FALSE)","v":{"$error":"#N/A"}},{"$error":"#N/A"},{"$error":"#N/A"}]
[null,null,null,null,null,null,null,null,null,null,null,null,null,null,null,null,null,null,null,null,null,"",{"$f":"VLOOKUP(V9976,Minimos!$D$3:$E$26,2,FALSE)","v":{"$error":"#N/A"}},{"$error":"#N/A"},{"$error":"#N/A"}]
[null,null,null,null,null,null,null,null,null,null,null,null,null,null,null,null,null,null,null,null,null,"",{"$f":"VLOOKUP(V9977,Minimos!$D$3:$E$26,2,FALSE)","v":{"$error":"#N/A"}},{"$error":"#N/A"},{"$error":"#N/A"}]
[null,null,null,null,null,null,null,null,null,null,null,null,null,null,null,null,null,null,null,null,null,"",{"$f":"VLOOKUP(V9978,Minimos!$D$3:$E$26,2,FALSE)","v":{"$error":"#N/A"}},{"$error":"#N/A"},{"$error":"#N/A"}]
[null,null,null,null,null,null,null,null,null,null,null,null,null,null,null,null,null,null,null,null,null,"",{"$f":"VLOOKUP(V9979,Minimos!$D$3:$E$26,2,FALSE)","v":{"$error":"#N/A"}},{"$error":"#N/A"},{"$error":"#N/A"}]
[null,null,null,null,null,null,null,null,null,null,null,null,null,null,null,null,null,null,null,null,null,"",{"$f":"VLOOKUP(V9980,Minimos!$D$3:$E$26,2,FALSE)","v":{"$error":"#N/A"}},{"$error":"#N/A"},{"$error":"#N/A"}]
[null,null,null,null,null,null,null,null,null,null,null,null,null,null,null,null,null,null,null,null,null,"",{"$f":"VLOOKUP(V9981,Minimos!$D$3:$E$26,2,FALSE)","v":{"$error":"#N/A"}},{"$error":"#N/A"},{"$error":"#N/A"}]
[null,null,null,null,null,null,null,null,null,null,null,null,null,null,null,null,null,null,null,null,null,"",{"$f":"VLOOKUP(V9982,Minimos!$D$3:$E$26,2,FALSE)","v":{"$error":"#N/A"}},{"$error":"#N/A"},{"$error":"#N/A"}]
[null,null,null,null,null,null,null,null,null,null,null,null,null,null,null,null,null,null,null,null,null,"",{"$f":"VLOOKUP(V9983,Minimos!$D$3:$E$26,2,FALSE)","v":{"$error":"#N/A"}},{"$error":"#N/A"},{"$error":"#N/A"}]
[null,null,null,null,null,null,null,null,null,null,null,null,null,null,null,null,null,null,null,null,null,"",{"$f":"VLOOKUP(V9984,Minimos!$D$3:$E$26,2,FALSE)","v":{"$error":"#N/A"}},{"$error":"#N/A"},{"$error":"#N/A"}]
[null,null,null,null,null,null,null,null,null,null,null,null,null,null,null,null,null,null,null,null,null,"",{"$f":"VLOOKUP(V9985,Minimos!$D$3:$E$26,2,FALSE)","v":{"$error":"#N/A"}},{"$error":"#N/A"},{"$error":"#N/A"}]
[null,null,null,null,null,null,null,null,null,null,null,null,null,null,null,null,null,null,null,null,null,"",{"$f":"VLOOKUP(V9986,Minimos!$D$3:$E$26,2,FALSE)","v":{"$error":"#N/A"}},{"$error":"#N/A"},{"$error":"#N/A"}]
[null,null,null,null,null,null,null,null,null,null,null,null,null,null,null,null,null,null,null,null,null,"",{"$f":"VLOOKUP(V9987,Minimos!$D$3:$E$26,2,FALSE)","v":{"$error":"#N/A"}},{"$error":"#N/A"},{"$error":"#N/A"}]
[null,null,null,null,null,null,null,null,null,null,null,null,null,null,null,null,null,null,null,null,null,"",{"$f":"VLOOKUP(V9988,Minimos!$D$3:$E$26,2,FALSE)","v":{"$error":"#N/A"}},{"$error":"#N/A"},{"$error":"#N/A"}]
[null,null,null,null,null,null,null,null,null,null,null,null,null,null,null,null,null,null,null,null,null,"",{"$f":"VLOOKUP(V9989,Minimos!$D$3:$E$26,2,FALSE)","v":{"$error":"#N/A"}},{"$error":"#N/A"},{"$error":"#N/A"}]
[null,null,null,null,null,null,null,null,null,null,null,null,null,null,null,null,null,null,null,null,null,{"$f":"A9990&L9990&G9990","v":""},{"$f":"VLOOKUP(V9990,Minimos!$D$3:$E$26,2,FALSE)","v":{"$error":"#N/A"}},{"$error":"#N/A"},{"$error":"#N/A"}]
[null,null,null,null,null,null,null,null,null,null,null,null,null,null,null,null,null,null,null,null,null,"",{"$f":"VLOOKUP(V9991,Minimos!$D$3:$E$26,2,FALSE)","v":{"$error":"#N/A"}},{"$f":"M9991-W9991","v":{"$error":"#N/A"}},{"$f":"IF(X9991>=0,\"Apurado\",\"\")","v":{"$error":"#N/A"}}]
[null,null,null,null,null,null,null,null,null,null,null,null,null,null,null,null,null,null,null,null,null,"",{"$f":"VLOOKUP(V9992,Minimos!$D$3:$E$26,2,FALSE)","v":{"$error":"#N/A"}},{"$error":"#N/A"},{"$error":"#N/A"}]
[null,null,null,null,null,null,null,null,null,null,null,null,null,null,null,null,null,null,null,null,null,"",{"$f":"VLOOKUP(V9993,Minimos!$D$3:$E$26,2,FALSE)","v":{"$error":"#N/A"}},{"$error":"#N/A"},{"$error":"#N/A"}]
[null,null,null,null,null,null,null,null,null,null,null,null,null,null,null,null,null,null,null,null,null,"",{"$f":"VLOOKUP(V9994,Minimos!$D$3:$E$26,2,FALSE)","v":{"$error":"#N/A"}},{"$error":"#N/A"},{"$error":"#N/A"}]
[null,null,null,null,null,null,null,null,null,null,null,null,null,null,null,null,null,null,null,null,null,"",{"$f":"VLOOKUP(V9995,Minimos!$D$3:$E$26,2,FALSE)","v":{"$error":"#N/A"}},{"$error":"#N/A"},{"$error":"#N/A"}]
[null,null,null,null,null,null,null,null,null,null,null,null,null,null,null,null,null,null,null,null,null,"",{"$f":"VLOOKUP(V9996,Minimos!$D$3:$E$26,2,FALSE)","v":{"$error":"#N/A"}},{"$error":"#N/A"},{"$error":"#N/A"}]
[null,null,null,null,null,null,null,null,null,null,null,null,null,null,null,null,null,null,null,null,null,"",{"$f":"VLOOKUP(V9997,Minimos!$D$3:$E$26,2,FALSE)","v":{"$error":"#N/A"}},{"$error":"#N/A"},{"$error":"#N/A"}]
[null,null,null,null,null,null,null,null,null,null,null,null,null,null,null,null,null,null,null,null,null,"",{"$f":"VLOOKUP(V9998,Minimos!$D$3:$E$26,2,FALSE)","v":{"$error":"#N/A"}},{"$error":"#N/A"},{"$error":"#N/A"}]
[null,null,null,null,null,null,null,null,null,null,null,null,null,null,null,null,null,null,null,null,null,"",{"$f":"VLOOKUP(V9999,Minimos!$D$3:$E$26,2,FALSE)","v":{"$error":"#N/A"}},{"$error":"#N/A"},{"$error":"#N/A"}]
[null,null,null,null,null,null,null,null,null,null,null,null,null,null,null,null,null,null,null,null,null,"",{"$f":"VLOOKUP(V10000,Minimos!$D$3:$E$26,2,FALSE)","v":{"$error":"#N/A"}},{"$error":"#N/A"},{"$error":"#N/A"}]
[null,null,null,null,null,null,null,null,null,null,null,null,null,null,null,null,null,null,null,null,null,"f","f","f","f","f"]

{"sheet":"Dados","index":1,"n_rows":5471,"n_cols":21,"rows_kept":5471,"cut":false,"hidden":true,"merged":[]}
["Prova","Setor","Competição","Data","Local","LOC","Genero","Class","Dorsal","Nome","Clube","Escalao","Marca","Ensaio1","Ensaio2","Ensaio3","Ensaio4","Ensaio5","Ensaio6"]
["150","Vel","Torneio de Abertura de Pista Prof. Mário Avelino","2021-11-06","Leiria","ADAL","M",1,933,"Pedro Marcelino","JV","INF",22.72,null,null,null,null,null,null,"1º Selecionar os dados"]
["150","Vel","Torneio de Abertura de Pista Prof. Mário Avelino","2021-11-06","Leiria","ADAL","M",2,934,"Salvador Meneses","JV","INF",24.42]
["150","Vel","Torneio de Abertura de Pista Prof. Mário Avelino","2021-11-06","Leiria","ADAL","M",3,963,"Duarte S Rodrigues","NDAP","INF",25.03]
["150","Vel","Torneio de Abertura de Pista Prof. Mário Avelino","2021-11-06","Leiria","ADAL","M",4,932,"Miguel Augusto Dias","JV","INF",31]
["150","Vel","Torneio de Abertura de Pista Prof. Mário Avelino","2021-11-06","Leiria","ADAL","F",1,928,"Maria Gomes","JV","INF",22.78]
["150","Vel","Torneio de Abertura de Pista Prof. Mário Avelino","2021-11-06","Leiria","ADAL","F",2,894,"Francisca Reis","JV","INF",22.84]
["150","Vel","Torneio de Abertura de Pista Prof. Mário Avelino","2021-11-06","Leiria","ADAL","F",3,984,"Jéssica Joaninho","NDAP","INF",23.35]
["150","Vel","Torneio de Abertura de Pista Prof. Mário Avelino","2021-11-06","Leiria","ADAL","F",4,983,"Inês Pereira","NDAP","INF",24.43]
["150","Vel","Torneio de Abertura de Pista Prof. Mário Avelino","2021-11-06","Leiria","ADAL","F",5,927,"Madalena Salgueiro","JV","INF",24.84]
["150","Vel","Torneio de Abertura de Pista Prof. Mário Avelino","2021-11-06","Leiria","ADAL","F",1,891,"Carolina Silva","JV","INF",23.31]
["150","Vel","Torneio de Abertura de Pista Prof. Mário Avelino","2021-11-06","Leiria","ADAL","F",2,497,"Alessandra Santos","JV","INF",23.76]
["60","Vel","Torneio de Abertura de Pista Prof. Mário Avelino","2021-11-06","Leiria","ADAL","M",1,893,"Eduardo Camacho","JV","INF",9.1999999999999993]
["60","Vel","Torneio de Abertura de Pista Prof. Mário Avelino","2021-11-06","Leiria","ADAL","M",2,171,"Afonso Marques","ACB-L","INF",9.2799999999999994]
["60","Vel","Torneio de Abertura de Pista Prof. Mário Avelino","2021-11-06","Leiria","ADAL","M",3,934,"Salvador Meneses","JV","INF",9.5399999999999991]
["60","Vel","Torneio de Abertura de Pista Prof. Mário Avelino","2021-11-06","Leiria","ADAL","M",4,936,"Tomás Lopes","JV","INF",9.65]
["60","Vel","Torneio de Abertura de Pista Prof. Mário Avelino","2021-11-06","Leiria","ADAL","M",5,963,"Duarte S Rodrigues","NDAP","INF",9.7799999999999994]
["60","Vel","Torneio de Abertura de Pista Prof. Mário Avelino","2021-11-06","Leiria","ADAL","M",6,890,"Benjamim Rodrigues","JV","INF",10.08]
["60","Vel","Torneio de Abertura de Pista Prof. Mário Avelino","2021-11-06","Leiria","ADAL","M",7,932,"Miguel Augusto Dias","JV","INF",12.16]
["60","Vel","Torneio de Abertura de Pista Prof. Mário Avelino","2021-11-06","Leiria","ADAL","F",1,984,"Jéssica Joaninho","NDAP","INF",9.39]
["60","Vel","Torneio de Abertura de Pista Prof. Mário Avelino","2021-11-06","Leiria","ADAL","F",2,926,"Liliana Teotónio","JV","INF",9.44]
["60","Vel","Torneio de Abertura de Pista Prof. Mário Avelino","2021-11-06","Leiria","ADAL","F",3,188,"Francisca Paulo","ACB-L","INF",9.9]
["60","Vel","Torneio de Abertura de Pista Prof. Mário Avelino","2021-11-06","Leiria","ADAL","F",4,925,"Leonor Leal","JV","INF",9.99]
["60","Vel","Torneio de Abertura de Pista Prof. Mário Avelino","2021-11-06","Leiria","ADAL","F",6,935,"Sofia Carvalho","JV","INF",10.63]
["60","Vel","Torneio de Abertura de Pista Prof. Mário Avelino","2021-11-06","Leiria","ADAL","F",1,894,"Francisca Reis","JV","INF",9.25]
["60","Vel","Torneio de Abertura de Pista Prof. Mário Avelino","2021-11-06","Leiria","ADAL","F",2,891,"Carolina Silva","JV","INF",9.5]
["60","Vel","Torneio de Abertura de Pista Prof. Mário Avelino","2021-11-06","Leiria","ADAL","F",3,497,"Alessandra Santos","JV","INF",9.5299999999999994]
["60","Vel","Torneio de Abertura de Pista Prof. Mário Avelino","2021-11-06","Leiria","ADAL","F",4,930,"Matilde Joaquim","JV","INF",9.5399999999999991]
["60","Vel","Torneio de Abertura de Pista Prof. Mário Avelino","2021-11-06","Leiria","ADAL","F",5,927,"Madalena Salgueiro","JV","INF",9.98]
["600","MF","Torneio de Abertura de Pista Prof. Mário Avelino","2021-11-06","Leiria","ADAL","M",1,498,"André Ribeiro","JV","INF","00:01:53.720"]
["600","MF","Torneio de Abertura de Pista Prof. Mário Avelino","2021-11-06","Leiria","ADAL","M",2,243,"Mateus Vinagre","CAMG","INF","00:01:53.750"]
["600","MF","Torneio de Abertura de Pista Prof. Mário Avelino","2021-11-06","Leiria","ADAL","M",3,900,"José Martins","JV","INF","00:02:00.350"]
["600","MF","Torneio de Abertura de Pista Prof. Mário Avelino","2021-11-06","Leiria","ADAL","M",4,890,"Benjamim Rodrigues","JV","INF","00:02:00.510"]
["600","MF","Torneio de Abertura de Pista Prof. Mário Avelino","2021-11-06","Leiria","ADAL","F",1,931,"Matilde Silva","JV","INF","00:01:57.790"]
["600","MF","Torneio de Abertura de Pista Prof. Mário Avelino","2021-11-06","Leiria","ADAL","F",2,930,"Matilde Joaquim","JV","INF","00:02:03.230"]
["COMPRIM","Sal","Torneio de Abertura de Pista Prof. Mário Avelino","2021-11-06","Leiria","ADAL","F",1,497,"Alessandra Santos","JV","INF",4.07,3.79,4.07,3.85,3.79,3.96,4]
["COMPRIM","Sal","Torneio de Abertura de Pista Prof. Mário Avelino","2021-11-06","Leiria","ADAL","F",2,983,"Inês Pereira","NDAP","INF",3.75,3.75,3.61,3.59,3.72,3.48,3.4]
["COMPRIM","Sal","Torneio de Abertura de Pista Prof. Mário Avelino","2021-11-06","Leiria","ADAL","F",3,925,"Leonor Leal","JV","INF",3.62,3.5,3.4,3.62,"X",3.49,3.38]
["COMPRIM","Sal","Torneio de Abertura de Pista Prof. Mário Avelino","2021-11-06","Leiria","ADAL","F",4,894,"Francisca Reis","JV","INF",3.62,3.44,3.17,3.62,3.27,2.99,3.2]
["COMPRIM","Sal","Torneio de Abertura de Pista Prof. Mário Avelino","2021-11-06","Leiria","ADAL","F",5,891,"Carolina Silva","JV","INF",3.58,3.55,3.58,3.51,3.39,3.39,3.56]
["COMPRIM","Sal","Torneio de Abertura de Pista Prof. Mário Avelino","2021-11-06","Leiria","ADAL","F",6,188,"Francisca Paulo","ACB-L","INF",3.47,2.73,3.09,2.78,3.47,3.03,3.46]
["COMPRIM","Sal","Torneio de Abertura de Pista Prof. Mário Avelino","2021-11-06","Leiria","ADAL","M",1,934,"Salvador Meneses","JV","INF",3.72,"X","X",3.72,3.28,3.5,"X"]
["COMPRIM","Sal","Torneio de Abertura de Pista Prof. Mário Avelino","2021-11-06","Leiria","ADAL","M",2,893,"Eduardo Camacho","JV","INF",3.57,3.57,3.55,3.55,3.28,3.5,3.36]
["COMPRIM","Sal","Torneio de Abertura de Pista Prof. Mário Avelino","2021-11-06","Leiria","ADAL","M",3,892,"Diogo Tavares","JV","INF",2.98,2.97,"X","X","X",2.98,"X"]
["DARDO4","Lan","Torneio de Abertura de Pista Prof. Mário Avelino","2021-11-06","Leiria","ADAL","F",1,928,"Maria Gomes","JV","INF",19.43,17.43,19.34,"X",19.43,19.18,"X"]
["DARDO4","Lan","Torneio de Abertura de Pista Prof. Mário Avelino","2021-11-06","Leiria","ADAL","F",3,931,"Matilde Silva","JV","INF",13.96,13.02,12.78,11.32,13.96,9.9,13.47]
["DARDO4","Lan","Torneio de Abertura de Pista Prof. Mário Avelino","2021-11-06","Leiria","ADAL","F",5,224,"Érica Medeiros","ACB-L","INF",11.1,9.8699999999999992,9.9,7.72,11.1,8.39,9.69]
["DARDO5","Lan","Torneio de Abertura de Pista Prof. Mário Avelino","2021-11-06","Leiria","ADAL","M",1,933,"Pedro Marcelino","JV","INF",23.24,19.36,"X",12.2,23.24,"-","-"]
["DARDO5","Lan","Torneio de Abertura de Pista Prof. Mário Avelino","2021-11-06","Leiria","ADAL","M",2,936,"Tomás Lopes","JV","INF",12.69,11.9,"X","X",12.57,12.69,9.76]
["PESO2","Lan","Torneio de Abertura de Pista Prof. Mário Avelino","2021-11-06","Leiria","ADAL","F",2,926,"Liliana Teotónio","JV","INF",8.48,7.45,7.79,8.48,7.72,7.94,7.97,null," "]
["PESO2","Lan","Torneio de Abertura de Pista Prof. Mário Avelino","2021-11-06","Leiria","ADAL","F",3,224,"Érica Medeiros","ACB-L","INF",7.5,7.27,7.5,6.93,6.85,7.12,7.2]
["PESO2","Lan","Torneio de Abertura de Pista Prof. Mário Avelino","2021-11-06","Leiria","ADAL","F",4,935,"Sofia Carvalho","JV","INF",6.48,5.0199999999999996,6.48,5.0199999999999996,5.04,5.09,4.87]
["PESO3","Lan","Torneio de Abertura de Pista Prof. Mário Avelino","2021-11-06","Leiria","ADAL","M",1,933,"Pedro Marcelino","JV","INF",6.5,5.77,6.07,5.8,6.28,6.5,5.81]
["PESO3","Lan","Torneio de Abertura de Pista Prof. Mário Avelino","2021-11-06","Leiria","ADAL","M",2,892,"Diogo Tavares","JV","INF",5.92,5.51,5.42,5.79,5.91,5.04,5.92]
["PESO3","Lan","Torneio de Abertura de Pista Prof. Mário Avelino","2021-11-06","Leiria","ADAL","M",3,900,"José Martins","JV","INF",4.96,4.3499999999999996,4.72,4.3899999999999997,4.6100000000000003,4.96,4.5599999999999996]
["PESO3","Lan","Torneio de Abertura de Pista Prof. Mário Avelino","2021-11-06","Leiria","ADAL","M",4,498,"André Ribeiro","JV","INF",4.93,4.66,4.68,4.8499999999999996,4.62,4.93,4.5999999999999996]
["10KMMX","MX","7.º Challenge de Leiria em Marcha Atlética","2021-11-07","Leiria","ADAL","M",3,1073,"David Gregório","JV","JUV",3.7384259259259263E-2]
["10KMMX","MX","7.º Challenge de Leiria em Marcha Atlética","2021-11-07","Leiria","ADAL","M",5,1069,"Edgar Simões","GACV","JUV",4.5069444444444447E-2]
["20KMMX","MX","7.º Challenge de Leiria em Marcha Atlética","2021-11-07","Leiria","ADAL","F",1,1045,"Joana Pontes","LMA-L","SUB-23",6.6747685185185188E-2]
["3KMMX","MX","7.º Challenge de Leiria em Marcha Atlética","2021-11-07","Leiria","ADAL","F",1,1030,"Matilde Bento","GACV","INF",1.298611111111111E-2]
["3KMMX","MX","7.º Challenge de Leiria em Marcha Atlética","2021-11-07","Leiria","ADAL","F",2,1043,"Joana Reis","JV","INF",1.8217592592592594E-2]
["3KMMX","MX","7.º Challenge de Leiria em Marcha Atlética","2021-11-07","Leiria","ADAL","M",1,1074,"Filipe Almeida","JV","INF",1.6446759259259262E-2]
["3KMMX","MX","7.º Challenge de Leiria em Marcha Atlética","2021-11-07","Leiria","ADAL","M",2,1075,"Francisco Gregório","JV","INF",1.7511574074074072E-2]
["4KMMX","MX","7.º Challenge de Leiria em Marcha Atlética","2021-11-07","Leiria","ADAL","F",2,1023,"Matilde Angélico","CAMG","INI",1.712962962962963E-2]
["4KMMX","MX","7.º Challenge de Leiria em Marcha Atlética","2021-11-07","Leiria","ADAL","F",3,1070,"Alice Varino","GDP-L","INI",2.0381944444444446E-2]
["5KMMX","MX","7.º Challenge de Leiria em Marcha Atlética","2021-11-07","Leiria","ADAL","F",1,1041,"Bruna Marques","JV","SUB-23",1.7210648148148149E-2]
["5KMMX","MX","7.º Challenge de Leiria em Marcha Atlética","2021-11-07","Leiria","ADAL","F",6,1072,"Isa Ferreira","GDP-L","JUV",1.9270833333333334E-2]
["5KMMX","MX","7.º Challenge de Leiria em Marcha Atlética","2021-11-07","Leiria","ADAL","F",9,1063,"Inês Belbute","ACDRA","JUV",2.1250000000000002E-2]
["5KMMX","MX","7.º Challenge de Leiria em Marcha Atlética","2021-11-07","Leiria","ADAL","M",3,1054,"Luís Silva","LMA-L","VET 50",1.7650462962962962E-2]
["5KMMX","MX","7.º Challenge de Leiria em Marcha Atlética","2021-11-07","Leiria","ADAL","M",4,1042,"Eduardo Camarate","JV","JUV",1.9837962962962963E-2]
["5KMMX","MX","7.º Challenge de Leiria em Marcha Atlética","2021-11-07","Leiria","ADAL","M",5,1025,"Francisco Lima","CDBBR","JUV",2.0636574074074075E-2]
["5KMMX","MX","7.º Challenge de Leiria em Marcha Atlética","2021-11-07","Leiria","ADAL","M",6,1035,"André Moreira","GDP-L","JUV",2.1168981481481483E-2]
["5KMMX","MX","7.º Challenge de Leiria em Marcha Atlética","2021-11-07","Leiria","ADAL","M",8,1033,"José Oliveira","GDAA","VET 60",2.1435185185185186E-2]
["PESO3","Lan","Torneio Teste","2021-11-08","Leiria","ADAL","M",1,933,"Pedro Marcelino","JV","INF",10.5,5.77,6.07,5.8,6.28,10.5,5.81]
["1000","MF","Torneio de Pista Sub16 ","2021-11-13","Pombal","ADAL","M",1,140,"Rafael Morgado","JV","INI","00:03:00.310"]
["1000","MF","Torneio de Pista Sub16 ","2021-11-13","Pombal","ADAL","M",2,253,"Francisco Mota","NDAP","INI","00:03:03.300"]
["1000","MF","Torneio de Pista Sub16 ","2021-11-13","Pombal","ADAL","M",3,185,"Leonardo Mendes","ACB-L","INI","00:03:09.710"]
["1000","MF","Torneio de Pista Sub16 ","2021-11-13","Pombal","ADAL","M",4,222,"David Dinis","CAMG","INI","00:03:11.910"]
["1000","MF","Torneio de Pista Sub16 ","2021-11-13","Pombal","ADAL","M",5,135,"Nuno Guilherme Dias","JV","INI","00:03:15.050"]
["1000","MF","Torneio de Pista Sub16 ","2021-11-13","Pombal","ADAL","M",6,466,"Miguel Ferreira","CPRAB","INI","00:03:22.200"]
["1000","MF","Torneio de Pista Sub16 ","2021-11-13","Pombal","ADAL","M",7,506,"Diogo Pereira","AAADP","INI","00:03:36.580"]
["1000","MF","Torneio de Pista Sub16 ","2021-11-13","Pombal","ADAL","M",8,322,"Eduardo Cruz","GDP-L","INI","00:03:51.090"]
["1000","MF","Torneio de Pista Sub16 ","2021-11-13","Pombal","ADAL","M",9,177,"Giuliann Gosseye","ACB-L","INI","00:04:08.010"]
["1000","MF","Torneio de Pista Sub16 ","2021-11-13","Pombal","ADAL","F",1,132,"Miriam Machado","JV","INI","00:03:20.470"]
["1000","MF","Torneio de Pista Sub16 ","2021-11-13","Pombal","ADAL","F",2,189,"Maria Jesus","ACB-L","INI","00:03:22.270"]
["1000","MF","Torneio de Pista Sub16 ","2021-11-13","Pombal","ADAL","F",3,139,"Petra Viana","JV","INI","00:03:25.810"]
["1000","MF","Torneio de Pista Sub16 ","2021-11-13","Pombal","ADAL","F",4,63,"Carolina Ferreira","JV","INI","00:03:29.320"]
["1000","MF","Torneio de Pista Sub16 ","2021-11-13","Pombal","ADAL","F",5,239,"Matilde Angélico","CAMG","INI","00:03:30.060"]
["1000","MF","Torneio de Pista Sub16 ","2021-11-13","Pombal","ADAL","F",6,314,"Alice Varino","GDP-L","INI","00:03:54.540"]
["250","Vel","Torneio de Pista Sub16 ","2021-11-13","Pombal","ADAL","M",1,248,"Afonso Rodrigues","NDAP","INI",33.92]
["250","Vel","Torneio de Pista Sub16 ","2021-11-13","Pombal","ADAL","M",2,160,"Rafael Dias","JV","INI",34.119999999999997]
["250","Vel","Torneio de Pista Sub16 ","2021-11-13","Pombal","ADAL","M",3,334,"Matias Ferreira","GDP-L","INI",38.44]
["250","Vel","Torneio de Pista Sub16 ","2021-11-13","Pombal","ADAL","M",4,50,"Afonso Nogueira","JV","INI",41.64]
["250","Vel","Torneio de Pista Sub16 ","2021-11-13","Pombal","ADAL","M",1,131,"Miguel Barros Campos","JV","INI",32.79]
["250","Vel","Torneio de Pista Sub16 ","2021-11-13","Pombal","ADAL","M",2,274,"Martim Antunes","NDAP","INI",33.1]
["250","Vel","Torneio de Pista Sub16 ","2021-11-13","Pombal","ADAL","M",3,98,"Jaime Rolla","JV","INI",39]
["250","Vel","Torneio de Pista Sub16 ","2021-11-13","Pombal","ADAL","M",4,89,"Filipe Fernandes","JV","INI",39.71]
["250","Vel","Torneio de Pista Sub16 ","2021-11-13","Pombal","ADAL","M",5,100,"João Fernandes","JV","INI",39.869999999999997]
["250","Vel","Torneio de Pista Sub16 ","2021-11-13","Pombal","ADAL","F",1,164,"Beatriz Alves","ACB-L","INI",38.56]
["250","Vel","Torneio de Pista Sub16 ","2021-11-13","Pombal","ADAL","F",2,199,"Neidiceila Tavares","ACB-L","INI",38.93]
["250","Vel","Torneio de Pista Sub16 ","2021-11-13","Pombal","ADAL","F",3,180,"Joana Seixas","ACB-L","INI",42.36]
["250","Vel","Torneio de Pista Sub16 ","2021-11-13","Pombal","ADAL","F",4,461,"Clara Filipe","CPRAB","INI",43.15]
["250","Vel","Torneio de Pista Sub16 ","2021-11-13","Pombal","ADAL","F",5,279,"Oleksandra Sliposhch","NDAP","INI",43.48]
["250","Vel","Torneio de Pista Sub16 ","2021-11-13","Pombal","ADAL","F",1,105,"Katerina Quinn","JV","INI",36.24]
["250","Vel","Torneio de Pista Sub16 ","2021-11-13","Pombal","ADAL","F",2,123,"Marta Feliciano","JV","INI",37.130000000000003]
["250","Vel","Torneio de Pista Sub16 ","2021-11-13","Pombal","ADAL","F",3,86,"Filipa Moita","JV","INI",41.3]
["250","Vel","Torneio de Pista Sub16 ","2021-11-13","Pombal","ADAL","F",4,159,"Vitória Shybayeva","JV","INI",41.52]
["250","Vel","Torneio de Pista Sub16 ","2021-11-13","Pombal","ADAL","F",5,115,"Luísa Dinis","JV","INI",41.65]
["250","Vel","Torneio de Pista Sub16 ","2021-11-13","Pombal","ADAL","F",1,149,"Sofia Santos","JV","INI",37.68]
["250","Vel","Torneio de Pista Sub16 ","2021-11-13","Pombal","ADAL","F",2,219,"Carolina D Santos","CAMG","INI",38.74]
["250","Vel","Torneio de Pista Sub16 ","2021-11-13","Pombal","ADAL","F",3,512,"Lara Santos","GDP-L","INI",39.18]
["250","Vel","Torneio de Pista Sub16 ","2021-11-13","Pombal","ADAL","F",4,318,"Carina Marto","GDP-L","INI",39.36]
["60","Vel","Torneio de Pista Sub16 ","2021-11-13","Pombal","ADAL","M",1,462,"Guilherme Sousa","CPRAB","INI",8.57]
["60","Vel","Torneio de Pista Sub16 ","2021-11-13","Pombal","ADAL","M",2,133,"Nikita Miroshnyk","JV","INI",8.59]
["60","Vel","Torneio de Pista Sub16 ","2021-11-13","Pombal","ADAL","M",3,466,"Miguel Ferreira","CPRAB","INI",8.8800000000000008]
["60","Vel","Torneio de Pista Sub16 ","2021-11-13","Pombal","ADAL","M",4,50,"Afonso Nogueira","JV","INI",9.58]
["60","Vel","Torneio de Pista Sub16 ","2021-11-13","Pombal","ADAL","M",1,135,"Nuno Guilherme Dias","JV","INI",9.02]
["60","Vel","Torneio de Pista Sub16 ","2021-11-13","Pombal","ADAL","M",2,334,"Matias Ferreira","GDP-L","INI",9.07]
["60","Vel","Torneio de Pista Sub16 ","2021-11-13","Pombal","ADAL","M",3,98,"Jaime Rolla","JV","INI",9.17]
["60","Vel","Torneio de Pista Sub16 ","2021-11-13","Pombal","ADAL","M",4,52,"Alexandre Ferreira","JV","INI",9.85]
["60","Vel","Torneio de Pista Sub16 ","2021-11-13","Pombal","ADAL","M",5,143,"Rodrigo Fidalgo","JV","INI",9.98]
["60","Vel","Torneio de Pista Sub16 ","2021-11-13","Pombal","ADAL","M",1,274,"Martim Antunes","NDAP","INI",7.8]
["60","Vel","Torneio de Pista Sub16 ","2021-11-13","Pombal","ADAL","M",2,140,"Rafael Morgado","JV","INI",7.96]
["60","Vel","Torneio de Pista Sub16 ","2021-11-13","Pombal","ADAL","M",3,157,"Tomás Monteiro","JV","INI",8.01]
["60","Vel","Torneio de Pista Sub16 ","2021-11-13","Pombal","ADAL","M",4,248,"Afonso Rodrigues","NDAP","INI",8.15]
["60","Vel","Torneio de Pista Sub16 ","2021-11-13","Pombal","ADAL","M",5,253,"Francisco Mota","NDAP","INI",8.3699999999999992]
["60","Vel","Torneio de Pista Sub16 ","2021-11-13","Pombal","ADAL","M",1,74,"Denis Hrabar","JV","INI",7.61]
["60","Vel","Torneio de Pista Sub16 ","2021-11-13","Pombal","ADAL","M",2,4,"Gabriel Cunha","GDP-L","INI",7.68]
["60","Vel","Torneio de Pista Sub16 ","2021-11-13","Pombal","ADAL","M",3,103,"João Mota","JV","INI",7.93]
["60","Vel","Torneio de Pista Sub16 ","2021-11-13","Pombal","ADAL","M",4,160,"Rafael Dias","JV","INI",8.06]
["60","Vel","Torneio de Pista Sub16 ","2021-11-13","Pombal","ADAL","M",5,56,"António Vasconcelos","JV","INI",8.19]
["60","Vel","Torneio de Pista Sub16 ","2021-11-13","Pombal","ADAL","F",1,164,"Beatriz Alves","ACB-L","INI",8.81]
["60","Vel","Torneio de Pista Sub16 ","2021-11-13","Pombal","ADAL","F",2,180,"Joana Seixas","ACB-L","INI",9.2899999999999991]
["60","Vel","Torneio de Pista Sub16 ","2021-11-13","Pombal","ADAL","F",3,461,"Clara Filipe","CPRAB","INI",9.68]
["60","Vel","Torneio de Pista Sub16 ","2021-11-13","Pombal","ADAL","F",4,279,"Oleksandra Sliposhch","NDAP","INI",9.8800000000000008]
["60","Vel","Torneio de Pista Sub16 ","2021-11-13","Pombal","ADAL","F",1,199,"Neidiceila Tavares","ACB-L","INI",8.56]
["60","Vel","Torneio de Pista Sub16 ","2021-11-13","Pombal","ADAL","F",2,190,"Mariana Carvalho","ACB-L","INI",9.34]
["60","Vel","Torneio de Pista Sub16 ","2021-11-13","Pombal","ADAL","F",3,97,"Inês Oliveira","JV","INI",9.6199999999999992]
["60","Vel","Torneio de Pista Sub16 ","2021-11-13","Pombal","ADAL","F",4,124,"Marta Mestre","JV","INI",9.69]
["60","Vel","Torneio de Pista Sub16 ","2021-11-13","Pombal","ADAL","F",5,57,"Beatriz Fernandes","JV","INI",10.49]
["60","Vel","Torneio de Pista Sub16 ","2021-11-13","Pombal","ADAL","F",1,318,"Carina Marto","GDP-L","INI",8.83]
["60","Vel","Torneio de Pista Sub16 ","2021-11-13","Pombal","ADAL","F",2,512,"Lara Santos","GDP-L","INI",9.1]
["60","Vel","Torneio de Pista Sub16 ","2021-11-13","Pombal","ADAL","F",3,316,"Benedita Matias","GDP-L","INI",9.3699999999999992]
["60","Vel","Torneio de Pista Sub16 ","2021-11-13","Pombal","ADAL","F",4,63,"Carolina Ferreira","JV","INI",9.48]
["60","Vel","Torneio de Pista Sub16 ","2021-11-13","Pombal","ADAL","F",5,239,"Matilde Angélico","CAMG","INI",9.5]
["60","Vel","Torneio de Pista Sub16 ","2021-11-13","Pombal","ADAL","F",1,105,"Katerina Quinn","JV","INI",8.32]
["60","Vel","Torneio de Pista Sub16 ","2021-11-13","Pombal","ADAL","F",2,123,"Marta Feliciano","JV","INI",8.5730000000000004]
["60","Vel","Torneio de Pista Sub16 ","2021-11-13","Pombal","ADAL","F",3,241,"Matilde Soares","CAMG","INI",8.5749999999999993]
["60","Vel","Torneio de Pista Sub16 ","2021-11-13","Pombal","ADAL","F",4,109,"Leonor Ascenso","JV","INI",8.74]
["COMPRIM","Sal","Torneio de Pista Sub16 ","2021-11-13","Pombal","ADAL","F",1,105,"Katerina Quinn","JV","INI",4.54,3.9,"X",4.54]
["COMPRIM","Sal","Torneio de Pista Sub16 ","2021-11-13","Pombal","ADAL","F",2,109,"Leonor Ascenso","JV","INI",4.3899999999999997,4.12,4.12,4.3899999999999997]
["COMPRIM","Sal","Torneio de Pista Sub16 ","2021-11-13","Pombal","ADAL","F",3,149,"Sofia Santos","JV","INI",4.3499999999999996,4.13,4.3499999999999996,4.01]
["COMPRIM","Sal","Torneio de Pista Sub16 ","2021-11-13","Pombal","ADAL","F",4,241,"Matilde Soares","CAMG","INI",4.3,4.1900000000000004,4.3,4.22]
["COMPRIM","Sal","Torneio de Pista Sub16 ","2021-11-13","Pombal","ADAL","F",5,95,"Inês Figueiredo","JV","INI",4.1500000000000004,4.1500000000000004,"X",3.82]
["COMPRIM","Sal","Torneio de Pista Sub16 ","2021-11-13","Pombal","ADAL","F",6,132,"Miriam Machado","JV","INI",4.12,4.12,4.0599999999999996,3.97]
["COMPRIM","Sal","Torneio de Pista Sub16 ","2021-11-13","Pombal","ADAL","F",7,318,"Carina Marto","GDP-L","INI",4.09,4.09,3.73,3.85]
["COMPRIM","Sal","Torneio de Pista Sub16 ","2021-11-13","Pombal","ADAL","F",8,240,"Matilde Batista","CAMG","INI",4.03,3.82,4.03,3.94]
["COMPRIM","Sal","Torneio de Pista Sub16 ","2021-11-13","Pombal","ADAL","F",9,123,"Marta Feliciano","JV","INI",3.93,3.93,3.33,3.82]
["COMPRIM","Sal","Torneio de Pista Sub16 ","2021-11-13","Pombal","ADAL","F",10,512,"Lara Santos","GDP-L","INI",3.91,3.91,3.83,"X"]
["COMPRIM","Sal","Torneio de Pista Sub16 ","2021-11-13","Pombal","ADAL","F",11,159,"Vitória Shybayeva","JV","INI",3.85,3.5,3.85,3.61]
["COMPRIM","Sal","Torneio de Pista Sub16 ","2021-11-13","Pombal","ADAL","F",12,115,"Luísa Dinis","JV","INI",3.81,3.81,3.73,3.78]
["COMPRIM","Sal","Torneio de Pista Sub16 ","2021-11-13","Pombal","ADAL","F",13,316,"Benedita Matias","GDP-L","INI",3.7,"X",3.7,3.45]
["COMPRIM","Sal","Torneio de Pista Sub16 ","2021-11-13","Pombal","ADAL","F",14,86,"Filipa Moita","JV","INI",3.66,3.61,3.66,3.39]
["COMPRIM","Sal","Torneio de Pista Sub16 ","2021-11-13","Pombal","ADAL","F",15,190,"Mariana Carvalho","ACB-L","INI",3.24,3.1,3.24,3.11]
["COMPRIM","Sal","Torneio de Pista Sub16 ","2021-11-13","Pombal","ADAL","F",16,57,"Beatriz Fernandes","JV","INI",3.12,"X",2.87,3.12]
["COMPRIM","Sal","Torneio de Pista Sub16 ","2021-11-13","Pombal","ADAL","F",17,97,"Inês Oliveira","JV","INI",2.96,2.96,2.89,2.71]
["COMPRIM","Sal","Torneio de Pista Sub16 ","2021-11-13","Pombal","ADAL","M",1,4,"Gabriel Cunha","GDP-L","INI",6.5,5.96,6.27,6.5,6.33,6.22,6.42]
["COMPRIM","Sal","Torneio de Pista Sub16 ","2021-11-13","Pombal","ADAL","M",2,74,"Denis Hrabar","JV","INI",5.68,5.33,5.49,5.68,5.49,5.61,5.46]
["COMPRIM","Sal","Torneio de Pista Sub16 ","2021-11-13","Pombal","ADAL","M",3,157,"Tomás Monteiro","JV","INI",4.87,4.84,4.8499999999999996,4.7699999999999996,4.7699999999999996,4.87,4.8499999999999996]
["COMPRIM","Sal","Torneio de Pista Sub16 ","2021-11-13","Pombal","ADAL","M",4,462,"Guilherme Sousa","CPRAB","INI",4.57,4.33,4.53,4.46,4.3899999999999997,4.57,4.49]
["COMPRIM","Sal","Torneio de Pista Sub16 ","2021-11-13","Pombal","ADAL","M",5,56,"António Vasconcelos","JV","INI",4.3899999999999997,4.1100000000000003,4.13,4.3899999999999997,"X",3.7,"X"]
["COMPRIM","Sal","Torneio de Pista Sub16 ","2021-11-13","Pombal","ADAL","M",6,133,"Nikita Miroshnyk","JV","INI",4.1900000000000004,4.1900000000000004,3.8,3.82,3.08,"X",3.55]
["COMPRIM","Sal","Torneio de Pista Sub16 ","2021-11-13","Pombal","ADAL","M",7,52,"Alexandre Ferreira","JV","INI",3.39,3.39,3.17,3.11,3.09,2.82,2.66]
["COMPRIM","Sal","Torneio de Pista Sub16 ","2021-11-13","Pombal","ADAL","M",8,143,"Rodrigo Fidalgo","JV","INI",3.3,3.11,3.22,3.3,2.5499999999999998,3.21,3.16]
["DARDO5","Lan","Torneio de Pista Sub16 ","2021-11-13","Pombal","ADAL","F",1,61,"Camila Patraboy","JV","INI",22.86,19.29,22.86,18.809999999999999,21.39,18.559999999999999,19.48]
["DARDO5","Lan","Torneio de Pista Sub16 ","2021-11-13","Pombal","ADAL","F",2,150,"Sofiia Chemyrys","JV","INI",21.55,21.42,20.37,19.57,18.09,18.88,21.55]
["DARDO5","Lan","Torneio de Pista Sub16 ","2021-11-13","Pombal","ADAL","F",3,219,"Carolina D Santos","CAMG","INI",18.989999999999998,18.989999999999998,17,16.190000000000001,"X",17.04,"X"]
["DARDO5","Lan","Torneio de Pista Sub16 ","2021-11-13","Pombal","ADAL","F",4,94,"Helena Alípio","JV","INI",15.25,14.99,11.77,12.53,11.9,"X",15.25]
["DARDO5","Lan","Torneio de Pista Sub16 ","2021-11-13","Pombal","ADAL","F",5,331,"Mariana Custódio","GDP-L","INI",14.84,11.3,11.91,"X",14.84,13.75,"X"]
["DARDO5","Lan","Torneio de Pista Sub16 ","2021-11-13","Pombal","ADAL","F",6,314,"Alice Varino","GDP-L","INI",13.52,13.27,10.34,"X",11.66,11.36,13.52]
["DARDO6","Lan","Torneio de Pista Sub16 ","2021-11-13","Pombal","ADAL","M",1,339,"Rodrigo Esteves","GDP-L","INI",34.78,26.39,26.61,32.24,32.25,34.78,31.03]
["DARDO6","Lan","Torneio de Pista Sub16 ","2021-11-13","Pombal","ADAL","M",2,136,"Pedro Almeida","JV","INI",21.59,"X",18.32,18.13,16.68,18.260000000000002,21.59]
["DARDO6","Lan","Torneio de Pista Sub16 ","2021-11-13","Pombal","ADAL","M",3,322,"Eduardo Cruz","GDP-L","INI",16.309999999999999,16.309999999999999,"X","X","X","X","X"]
["PESO3","Lan","Torneio de Pista Sub16 ","2021-11-13","Pombal","ADAL","F",1,61,"Camila Patraboy","JV","INI",8.15,6.78,7.64,"X",7.54,7,8.15]
["PESO3","Lan","Torneio de Pista Sub16 ","2021-11-13","Pombal","ADAL","F",2,95,"Inês Figueiredo","JV","INI",7.98,7.86,7.95,7.98,7.11,7.06,6.78]
["PESO3","Lan","Torneio de Pista Sub16 ","2021-11-13","Pombal","ADAL","F",3,150,"Sofiia Chemyrys","JV","INI",7.26,"X",6.45,6.33,7.26,6.88,6.96]
["PESO3","Lan","Torneio de Pista Sub16 ","2021-11-13","Pombal","ADAL","F",4,331,"Mariana Custódio","GDP-L","INI",6.74,6.14,6.11,6.74,5.95,6,"-"]
["PESO3","Lan","Torneio de Pista Sub16 ","2021-11-13","Pombal","ADAL","F",5,94,"Helena Alípio","JV","INI",6.48,5.31,6.1,6.48,6.29,5.05,6.44]
["PESO3","Lan","Torneio de Pista Sub16 ","2021-11-13","Pombal","ADAL","F",6,314,"Alice Varino","GDP-L","INI",5.97,5.68,5.7,5.9,5.71,5.97,5.3]
["PESO3","Lan","Torneio de Pista Sub16 ","2021-11-13","Pombal","ADAL","F",7,240,"Matilde Batista","CAMG","INI",5.77,5.55,5.77,5.62,5.43,5.76,5.74]
["PESO3","Lan","Torneio de Pista Sub16 ","2021-11-13","Pombal","ADAL","F",8,316,"Benedita Matias","GDP-L","INI",5.5,4.95,4.96,4.95,5.5,4.75,4.88]
["PESO4","Lan","Torneio de Pista Sub16 ","2021-11-13","Pombal","ADAL","M",1,74,"Denis Hrabar","JV","INI",12.78,12.78,12.45,"X","X","X","X"]
["PESO4","Lan","Torneio de Pista Sub16 ","2021-11-13","Pombal","ADAL","M",2,339,"Rodrigo Esteves","GDP-L","INI",9.92,9.92,9.81,"X",9.5500000000000007,"X",9.6300000000000008]
["PESO4","Lan","Torneio de Pista Sub16 ","2021-11-13","Pombal","ADAL","M",3,140,"Rafael Morgado","JV","INI",9.23,"X",9.23,9.0500000000000007,7.61,8.73,"X"]
["PESO4","Lan","Torneio de Pista Sub16 ","2021-11-13","Pombal","ADAL","M",4,157,"Tomás Monteiro","JV","INI",8.7899999999999991,8.4499999999999993,8.7899999999999991,8.2899999999999991,7.55,7.72,8.16]
["PESO4","Lan","Torneio de Pista Sub16 ","2021-11-13","Pombal","ADAL","M",5,160,"Rafael Dias","JV","INI",8.3800000000000008,7.03,7.79,7.97,7.88,7.69,8.3800000000000008]
["PESO4","Lan","Torneio de Pista Sub16 ","2021-11-13","Pombal","ADAL","M",6,89,"Filipe Fernandes","JV","INI",7.03,7.01,6.28,5.64,7.03,6.52,6.37]
["PESO4","Lan","Torneio de Pista Sub16 ","2021-11-13","Pombal","ADAL","M",7,322,"Eduardo Cruz","GDP-L","INI",6.62,6.1,6,6.19,6.62,6.39,6.32]
["PESO4","Lan","Torneio de Pista Sub16 ","2021-11-13","Pombal","ADAL","M",8,136,"Pedro Almeida","JV","INI",5.74,5.62,5.55,5.34,5.74,5.38,5.53]
["1000","MF","Torneio de Pista Sub14","2021-11-20","Leiria","ADAL","M",1,238,"Mateus Vinagre","CAMG","INF","00:03:24.150"]
["1000","MF","Torneio de Pista Sub14","2021-11-20","Leiria","ADAL","M",2,104,"José Martins","JV","INF","00:03:34.960"]
["1000","MF","Torneio de Pista Sub14","2021-11-20","Leiria","ADAL","M",3,58,"Benjamim Rodrigues","JV","INF","00:03:36.720"]
["1000","MF","Torneio de Pista Sub14","2021-11-20","Leiria","ADAL","M",4,91,"Francisco Gregório","JV","INF","00:04:37.290"]
["1000","MF","Torneio de Pista Sub14","2021-11-20","Leiria","ADAL","M",5,681,"Rafael Martins","NDAP","INF","00:05:28.050"]
["1000","MF","Torneio de Pista Sub14","2021-11-20","Leiria","ADAL","F",1,326,"Inês Marques","GDP-L","INF","00:03:41.410"]
["1000","MF","Torneio de Pista Sub14","2021-11-20","Leiria","ADAL","F",2,236,"Leonor Bonita","CAMG","INF","00:03:46.350"]
["1000","MF","Torneio de Pista Sub14","2021-11-20","Leiria","ADAL","F",3,128,"Matilde Joaquim","JV","INF","00:03:48.290"]
["1000","MF","Torneio de Pista Sub14","2021-11-20","Leiria","ADAL","F",4,255,"Inês Pereira","NDAP","INF","00:04:12.020"]
["1000","MF","Torneio de Pista Sub14","2021-11-20","Leiria","ADAL","F",5,258,"Jéssica Joaninho","NDAP","INF","00:04:16.700"]
["1000","MF","Torneio de Pista Sub14","2021-11-20","Leiria","ADAL","F",6,679,"Filipa Martins","NDAP","INF","00:05:14.780"]
["60","Vel","Torneio de Pista Sub14","2021-11-20","Leiria","ADAL","M",1,83,"Eduardo Camacho","JV","INF",9.1199999999999992]
["60","Vel","Torneio de Pista Sub14","2021-11-20","Leiria","ADAL","M",2,161,"Afonso Marques","ACB-L","INF",9.23]
["60","Vel","Torneio de Pista Sub14","2021-11-20","Leiria","ADAL","M",3,558,"António Constâncio","CAMG","INF",9.8000000000000007]
["60","Vel","Torneio de Pista Sub14","2021-11-20","Leiria","ADAL","M",4,335,"Pedro Carvalho","GDP-L","INF",9.93]
["60","Vel","Torneio de Pista Sub14","2021-11-20","Leiria","ADAL","M",1,144,"Salvador Meneses","JV","INF",9.3699999999999992]
["60","Vel","Torneio de Pista Sub14","2021-11-20","Leiria","ADAL","M",2,251,"Duarte S Rodrigues","NDAP","INF",9.67]
["60","Vel","Torneio de Pista Sub14","2021-11-20","Leiria","ADAL","M",3,337,"Rafael Pena","GDP-L","INF",9.7899999999999991]
["60","Vel","Torneio de Pista Sub14","2021-11-20","Leiria","ADAL","M",4,80,"Diogo Tavares","JV","INF",10.58]
["60","Vel","Torneio de Pista Sub14","2021-11-20","Leiria","ADAL","M",5,91,"Francisco Gregório","JV","INF",10.74]
["60","Vel","Torneio de Pista Sub14","2021-11-20","Leiria","ADAL","M",6,681,"Rafael Martins","NDAP","INF",15.39]
["60","Vel","Torneio de Pista Sub14","2021-11-20","Leiria","ADAL","M",1,238,"Mateus Vinagre","CAMG","INF",9.39]
["60","Vel","Torneio de Pista Sub14","2021-11-20","Leiria","ADAL","M",2,58,"Benjamim Rodrigues","JV","INF",9.6199999999999992]
["60","Vel","Torneio de Pista Sub14","2021-11-20","Leiria","ADAL","M",3,104,"José Martins","JV","INF",9.6199999999999992]
["60","Vel","Torneio de Pista Sub14","2021-11-20","Leiria","ADAL","M",4,561,"Edson Mendes","CAMG","INF",9.77]
["60","Vel","Torneio de Pista Sub14","2021-11-20","Leiria","ADAL","M",5,154,"Tiago Reis Domingues","JV","INF",10.49]
["60","Vel","Torneio de Pista Sub14","2021-11-20","Leiria","ADAL","F",1,120,"Maria Gomes","JV","INF",9.1300000000000008]
["60","Vel","Torneio de Pista Sub14","2021-11-20","Leiria","ADAL","F",2,326,"Inês Marques","GDP-L","INF",9.33]
["60","Vel","Torneio de Pista Sub14","2021-11-20","Leiria","ADAL","F",3,172,"Francisca Paulo","ACB-L","INF",9.7200000000000006]
["60","Vel","Torneio de Pista Sub14","2021-11-20","Leiria","ADAL","F",4,118,"Margarida Godinho","JV","INF",9.7899999999999991]
["60","Vel","Torneio de Pista Sub14","2021-11-20","Leiria","ADAL","F",5,508,"Carolina Santiago","ACB-L","INF",10.67]
["60","Vel","Torneio de Pista Sub14","2021-11-20","Leiria","ADAL","F",1,258,"Jéssica Joaninho","NDAP","INF",8.9499999999999993]
["60","Vel","Torneio de Pista Sub14","2021-11-20","Leiria","ADAL","F",2,110,"Leonor Leal","JV","INF",9.42]
["60","Vel","Torneio de Pista Sub14","2021-11-20","Leiria","ADAL","F",3,569,"Alícia Almeida","CANAZ","INF",9.8699999999999992]
["60","Vel","Torneio de Pista Sub14","2021-11-20","Leiria","ADAL","F",4,99,"Joana Reis","JV","INF",9.9]
["60","Vel","Torneio de Pista Sub14","2021-11-20","Leiria","ADAL","F",5,688,"Joana Ferreira","JV","INF",10.57]
["60","Vel","Torneio de Pista Sub14","2021-11-20","Leiria","ADAL","F",6,679,"Filipa Martins","NDAP","INF",12.01]
["60","Vel","Torneio de Pista Sub14","2021-11-20","Leiria","ADAL","F",1,107,"Lara Simões","JV","INF",8.92]
["60","Vel","Torneio de Pista Sub14","2021-11-20","Leiria","ADAL","F",2,90,"Francisca Reis","JV","INF",9.2799999999999994]
["60","Vel","Torneio de Pista Sub14","2021-11-20","Leiria","ADAL","F",3,112,"Liliana Teotónio","JV","INF",9.35]
["60","Vel","Torneio de Pista Sub14","2021-11-20","Leiria","ADAL","F",4,236,"Leonor Bonita","CAMG","INF",9.42]
["60","Vel","Torneio de Pista Sub14","2021-11-20","Leiria","ADAL","F",5,609,"Carolina Mateus","GRFB","INF",9.57]
["60","Vel","Torneio de Pista Sub14","2021-11-20","Leiria","ADAL","F",6,116,"Madalena Salgueiro","JV","INF",9.84]
["60B076","Vel","Torneio de Pista Sub14","2021-11-20","Leiria","ADAL","M",1,83,"Eduardo Camacho","JV","INF",12.28]
["60B076","Vel","Torneio de Pista Sub14","2021-11-20","Leiria","ADAL","M",2,144,"Salvador Meneses","JV","INF",13.04]
["60B076","Vel","Torneio de Pista Sub14","2021-11-20","Leiria","ADAL","M",3,561,"Edson Mendes","CAMG","INF",13.15]
["60B076","Vel","Torneio de Pista Sub14","2021-11-20","Leiria","ADAL","M",4,154,"Tiago Reis Domingues","JV","INF",14.09]
["60B076","Vel","Torneio de Pista Sub14","2021-11-20","Leiria","ADAL","F",1,120,"Maria Gomes","JV","INF",12.37]
["60B076","Vel","Torneio de Pista Sub14","2021-11-20","Leiria","ADAL","F",2,110,"Leonor Leal","JV","INF",13.23]
["60B076","Vel","Torneio de Pista Sub14","2021-11-20","Leiria","ADAL","F",3,118,"Margarida Godinho","JV","INF",14.29]
["60B076","Vel","Torneio de Pista Sub14","2021-11-20","Leiria","ADAL","F",4,99,"Joana Reis","JV","INF",14.36]
["60B076","Vel","Torneio de Pista Sub14","2021-11-20","Leiria","ADAL","F",1,128,"Matilde Joaquim","JV","INF",11.5]
["60B076","Vel","Torneio de Pista Sub14","2021-11-20","Leiria","ADAL","F",2,112,"Liliana Teotónio","JV","INF",12.13]
["60B076","Vel","Torneio de Pista Sub14","2021-11-20","Leiria","ADAL","F",3,51,"Alessandra Santos","JV","INF",12.25]
["60B076","Vel","Torneio de Pista Sub14","2021-11-20","Leiria","ADAL","F",4,236,"Leonor Bonita","CAMG","INF",13.2]
["60B076","Vel","Torneio de Pista Sub14","2021-11-20","Leiria","ADAL","F",5,569,"Alícia Almeida","CANAZ","INF",14.53]
["ALTURA","Sal","Torneio de Pista Sub14","2021-11-20","Leiria","ADAL","M",1,558,"António Constâncio","CAMG","INF",1.23]
["ALTURA","Sal","Torneio de Pista Sub14","2021-11-20","Leiria","ADAL","M",2,144,"Salvador Meneses","JV","INF",1.19]
["ALTURA","Sal","Torneio de Pista Sub14","2021-11-20","Leiria","ADAL","M",3,335,"Pedro Carvalho","GDP-L","INF",1.19]
["ALTURA","Sal","Torneio de Pista Sub14","2021-11-20","Leiria","ADAL","M",4,357,"Lourenço Nunes","CDBBR","INF",1.1499999999999999]
["ALTURA","Sal","Torneio de Pista Sub14","2021-11-20","Leiria","ADAL","M",5,337,"Rafael Pena","GDP-L","INF",1.1000000000000001]
["ALTURA","Sal","Torneio de Pista Sub14","2021-11-20","Leiria","ADAL","M",5,104,"José Martins","JV","INF",1.1000000000000001]
["ALTURA","Sal","Torneio de Pista Sub14","2021-11-20","Leiria","ADAL","F",1,51,"Alessandra Santos","JV","INF",1.3]
["ALTURA","Sal","Torneio de Pista Sub14","2021-11-20","Leiria","ADAL","F",2,128,"Matilde Joaquim","JV","INF",1.21]
["ALTURA","Sal","Torneio de Pista Sub14","2021-11-20","Leiria","ADAL","F",3,90,"Francisca Reis","JV","INF",1.18]
["ALTURA","Sal","Torneio de Pista Sub14","2021-11-20","Leiria","ADAL","F",4,110,"Leonor Leal","JV","INF",1.05]
["ALTURA","Sal","Torneio de Pista Sub14","2021-11-20","Leiria","ADAL","F",5,116,"Madalena Salgueiro","JV","INF",1]
["ALTURA","Sal","Torneio de Pista Sub14","2021-11-20","Leiria","ADAL","F",5,688,"Joana Ferreira","JV","INF",1]
["QUADINF","Sal","Torneio de Pista Sub14","2021-11-20","Leiria","ADAL","F",1,107,"Lara Simões","JV","INF",11.72,11.48,11.72,11.14,11.15,10.73,11.16]
["QUADINF","Sal","Torneio de Pista Sub14","2021-11-20","Leiria","ADAL","F",2,51,"Alessandra Santos","JV","INF",11.06,11.06,"X",10.87]
["QUADINF","Sal","Torneio de Pista Sub14","2021-11-20","Leiria","ADAL","F",3,326,"Inês Marques","GDP-L","INF",11.05,11.05,10.23,"X","X",9.91,9.94]
["QUADINF","Sal","Torneio de Pista Sub14","2021-11-20","Leiria","ADAL","F",4,172,"Francisca Paulo","ACB-L","INF",11.03,9.9499999999999993,10.49,11.03,9.8800000000000008,"X",10.39]
["QUADINF","Sal","Torneio de Pista Sub14","2021-11-20","Leiria","ADAL","F",5,120,"Maria Gomes","JV","INF",10.77,10.24,10.47,10.77,"X",10.48,10.61]
["QUADINF","Sal","Torneio de Pista Sub14","2021-11-20","Leiria","ADAL","F",6,90,"Francisca Reis","JV","INF",10.53,10.53,10.029999999999999,9.92,9.48,9.85,10.18]
["QUADINF","Sal","Torneio de Pista Sub14","2021-11-20","Leiria","ADAL","F",7,255,"Inês Pereira","NDAP","INF",10.210000000000001,10.210000000000001,9.93,9.77,9.32,9.0399999999999991,9.1]
["QUADINF","Sal","Torneio de Pista Sub14","2021-11-20","Leiria","ADAL","F",8,112,"Liliana Teotónio","JV","INF",10.08,10.08,9.84,9.74,9.77,10.039999999999999,9.64]
["QUADINF","Sal","Torneio de Pista Sub14","2021-11-20","Leiria","ADAL","M",1,335,"Pedro Carvalho","GDP-L","INF",10.82,10.35,10.31,9.91,10.82,10.15,10.199999999999999]
["QUADINF","Sal","Torneio de Pista Sub14","2021-11-20","Leiria","ADAL","M",2,251,"Duarte S Rodrigues","NDAP","INF",10.42,"X",9.82,10.1,10.42,10.28,10.29]
["QUADINF","Sal","Torneio de Pista Sub14","2021-11-20","Leiria","ADAL","M",3,83,"Eduardo Camacho","JV","INF",10.25,10.25,10.15,10.119999999999999,10.15,9.84,10.029999999999999]
["QUADINF","Sal","Torneio de Pista Sub14","2021-11-20","Leiria","ADAL","M",4,337,"Rafael Pena","GDP-L","INF",9.86,9.61,9.42,9.36,9.86,9.4,9.56]
["60","Vel","Provas de Preparação Sub16","2021-11-27","Pombal","ADAL","M",2,98,"Jaime Rolla","JV","INI",8.9]
["60","Vel","Provas de Preparação Sub16","2021-11-27","Pombal","ADAL","M",3,135,"Nuno Guilherme Dias","JV","INI",8.94]
["60","Vel","Provas de Preparação Sub16","2021-11-27","Pombal","ADAL","M",4,770,"Ricardo Santos","CAMG","INI",9.09]
["60","Vel","Provas de Preparação Sub16","2021-11-27","Pombal","ADAL","M",5,89,"Filipe Fernandes","JV","INI",9.35]
["60","Vel","Provas de Preparação Sub16","2021-11-27","Pombal","ADAL","M",6,50,"Afonso Nogueira","JV","INI",9.58]
["60","Vel","Provas de Preparação Sub16","2021-11-27","Pombal","ADAL","M",1,131,"Miguel Barros Campos","JV","INI",7.87]
["60","Vel","Provas de Preparação Sub16","2021-11-27","Pombal","ADAL","M",2,79,"Diogo Ramalho","JV","INI",8.23]
["60","Vel","Provas de Preparação Sub16","2021-11-27","Pombal","ADAL","M",3,133,"Nikita Miroshnyk","JV","INI",8.48]
["60","Vel","Provas de Preparação Sub16","2021-11-27","Pombal","ADAL","M",4,100,"João Fernandes","JV","INI",9.52]
["60","Vel","Provas de Preparação Sub16","2021-11-27","Pombal","ADAL","M",5,143,"Rodrigo Fidalgo","JV","INI",9.98]
["60","Vel","Provas de Preparação Sub16","2021-11-27","Pombal","ADAL","M",1,4,"Gabriel Cunha","GDP-L","INI",7.69]
["60","Vel","Provas de Preparação Sub16","2021-11-27","Pombal","ADAL","M",2,274,"Martim Antunes","NDAP","INI",7.74]
["60","Vel","Provas de Preparação Sub16","2021-11-27","Pombal","ADAL","M",3,160,"Rafael Dias","JV","INI",7.94]
["60","Vel","Provas de Preparação Sub16","2021-11-27","Pombal","ADAL","M",4,248,"Afonso Rodrigues","NDAP","INI",8.09]
["60","Vel","Provas de Preparação Sub16","2021-11-27","Pombal","ADAL","M",5,56,"António Vasconcelos","JV","INI",8.16]
["60","Vel","Provas de Preparação Sub16","2021-11-27","Pombal","ADAL","M",6,387,"Rodrigo Martins","ACDRA","INI",9.15]
["60","Vel","Provas de Preparação Sub16","2021-11-27","Pombal","ADAL","F",1,219,"Carolina D Santos","CAMG","INI",8.85]
["60","Vel","Provas de Preparação Sub16","2021-11-27","Pombal","ADAL","F",2,331,"Mariana Custódio","GDP-L","INI",9.26]
["60","Vel","Provas de Preparação Sub16","2021-11-27","Pombal","ADAL","F",3,150,"Sofiia Chemyrys","JV","INI",9.3000000000000007]
["60","Vel","Provas de Preparação Sub16","2021-11-27","Pombal","ADAL","F",4,769,"Diana Vatula","CAMG","INI",9.31]
["60","Vel","Provas de Preparação Sub16","2021-11-27","Pombal","ADAL","F",5,380,"Isaura Correia","ACDRA","INI",9.61]
["60","Vel","Provas de Preparação Sub16","2021-11-27","Pombal","ADAL","F",6,59,"Bruna Amaral","JV","INI",9.75]
["60","Vel","Provas de Preparação Sub16","2021-11-27","Pombal","ADAL","F",1,384,"Maria Vicente","ACDRA","INI",8.8000000000000007]
["60","Vel","Provas de Preparação Sub16","2021-11-27","Pombal","ADAL","F",2,316,"Benedita Matias","GDP-L","INI",9.31]
["60","Vel","Provas de Preparação Sub16","2021-11-27","Pombal","ADAL","F",3,63,"Carolina Ferreira","JV","INI",9.5]
["60","Vel","Provas de Preparação Sub16","2021-11-27","Pombal","ADAL","F",4,372,"Caetana Neves","ACDRA","INI",9.58]
["60","Vel","Provas de Preparação Sub16","2021-11-27","Pombal","ADAL","F",1,774,"Marta Carriço","ACDRA","INI",8.09]
["60","Vel","Provas de Preparação Sub16","2021-11-27","Pombal","ADAL","F",3,123,"Marta Feliciano","JV","INI",8.59]
["60","Vel","Provas de Preparação Sub16","2021-11-27","Pombal","ADAL","F",4,149,"Sofia Santos","JV","INI",8.61]
["60","Vel","Provas de Preparação Sub16","2021-11-27","Pombal","ADAL","F",5,109,"Leonor Ascenso","JV","INI",8.82]
["60","Vel","Provas de Preparação Sub16","2021-11-27","Pombal","ADAL","F",6,318,"Carina Marto","GDP-L","INI",8.83]
["60B076","Vel","Provas de Preparação Sub16","2021-11-27","Pombal","ADAL","F",1,318,"Carina Marto","GDP-L","INI",10.79]
["60B076","Vel","Provas de Preparação Sub16","2021-11-27","Pombal","ADAL","F",2,241,"Matilde Soares","CAMG","INI",12.08]
["60B076","Vel","Provas de Preparação Sub16","2021-11-27","Pombal","ADAL","F",4,316,"Benedita Matias","GDP-L","INI",13.83]
["60B076","Vel","Provas de Preparação Sub16","2021-11-27","Pombal","ADAL","F",1,150,"Sofiia Chemyrys","JV","INI",11.87]
["60B076","Vel","Provas de Preparação Sub16","2021-11-27","Pombal","ADAL","F",2,132,"Miriam Machado","JV","INI",11.9]
["60B076","Vel","Provas de Preparação Sub16","2021-11-27","Pombal","ADAL","F",3,95,"Inês Figueiredo","JV","INI",11.92]
["60B084","Vel","Provas de Preparação Sub16","2021-11-27","Pombal","ADAL","M",1,4,"Gabriel Cunha","GDP-L","INI",9.27]
["60B084","Vel","Provas de Preparação Sub16","2021-11-27","Pombal","ADAL","M",2,140,"Rafael Morgado","JV","INI",9.65]
["60B084","Vel","Provas de Preparação Sub16","2021-11-27","Pombal","ADAL","M",3,157,"Tomás Monteiro","JV","INI",9.92]
["60B084","Vel","Provas de Preparação Sub16","2021-11-27","Pombal","ADAL","M",5,160,"Rafael Dias","JV","INI",10.76]
["60B084","Vel","Provas de Preparação Sub16","2021-11-27","Pombal","ADAL","M",6,89,"Filipe Fernandes","JV","INI",12.69]
["800","MF","Provas de Preparação Sub16","2021-11-27","Pombal","ADAL","M",1,320,"Cristovão Monteiro","GDP-L","INI","00:02:18.070"]
["800","MF","Provas de Preparação Sub16","2021-11-27","Pombal","ADAL","M",2,140,"Rafael Morgado","JV","INI","00:02:18.080"]
["800","MF","Provas de Preparação Sub16","2021-11-27","Pombal","ADAL","M",3,253,"Francisco Mota","NDAP","INI","00:02:19.390"]
["800","MF","Provas de Preparação Sub16","2021-11-27","Pombal","ADAL","M",4,274,"Martim Antunes","NDAP","INI","00:02:32.760"]
["800","MF","Provas de Preparação Sub16","2021-11-27","Pombal","ADAL","M",5,135,"Nuno Guilherme Dias","JV","INI","00:02:34.280"]
["800","MF","Provas de Preparação Sub16","2021-11-27","Pombal","ADAL","M",6,100,"João Fernandes","JV","INI","00:02:42.700"]
["800","MF","Provas de Preparação Sub16","2021-11-27","Pombal","ADAL","M",7,98,"Jaime Rolla","JV","INI","00:02:43.630"]
["800","MF","Provas de Preparação Sub16","2021-11-27","Pombal","ADAL","M",8,50,"Afonso Nogueira","JV","INI","00:02:53.430"]
["800","MF","Provas de Preparação Sub16","2021-11-27","Pombal","ADAL","M",9,89,"Filipe Fernandes","JV","INI","00:02:56.090"]
["800","MF","Provas de Preparação Sub16","2021-11-27","Pombal","ADAL","M",10,143,"Rodrigo Fidalgo","JV","INI","00:03:03"]
["800","MF","Provas de Preparação Sub16","2021-11-27","Pombal","ADAL","F",1,372,"Caetana Neves","ACDRA","INI","00:02:34.170"]
["800","MF","Provas de Preparação Sub16","2021-11-27","Pombal","ADAL","F",2,63,"Carolina Ferreira","JV","INI","00:02:43.220"]
["800","MF","Provas de Preparação Sub16","2021-11-27","Pombal","ADAL","F",4,59,"Bruna Amaral","JV","INI","00:03:03.480"]
["800","MF","Provas de Preparação Sub16","2021-11-27","Pombal","ADAL","F",5,331,"Mariana Custódio","GDP-L","INI","00:03:15.740"]
["800","MF","Provas de Preparação Sub16","2021-11-27","Pombal","ADAL","F",6,769,"Diana Vatula","CAMG","INI","00:03:24.610"]
["ALTURA","Sal","Provas de Preparação Sub16","2021-11-27","Pombal","ADAL","M",1,4,"Gabriel Cunha","GDP-L","INI",1.71]
["ALTURA","Sal","Provas de Preparação Sub16","2021-11-27","Pombal","ADAL","M",2,157,"Tomás Monteiro","JV","INI",1.56]
["ALTURA","Sal","Provas de Preparação Sub16","2021-11-27","Pombal","ADAL","M",3,140,"Rafael Morgado","JV","INI",1.5]
["ALTURA","Sal","Provas de Preparação Sub16","2021-11-27","Pombal","ADAL","F",1,95,"Inês Figueiredo","JV","INI",1.33]
["ALTURA","Sal","Provas de Preparação Sub16","2021-11-27","Pombal","ADAL","F",3,123,"Marta Feliciano","JV","INI",1.29]
["ALTURA","Sal","Provas de Preparação Sub16","2021-11-27","Pombal","ADAL","F",4,241,"Matilde Soares","CAMG","INI",1.25]
["ALTURA","Sal","Provas de Preparação Sub16","2021-11-27","Pombal","ADAL","F",5,318,"Carina Marto","GDP-L","INI",1.25]
["ALTURA","Sal","Provas de Preparação Sub16","2021-11-27","Pombal","ADAL","F",6,109,"Leonor Ascenso","JV","INI",1.25]
["ALTURA","Sal","Provas de Preparação Sub16","2021-11-27","Pombal","ADAL","F",7,132,"Miriam Machado","JV","INI",1.2]
["ALTURA","Sal","Provas de Preparação Sub16","2021-11-27","Pombal","ADAL","F",8,279,"Oleksandra Sliposhch","NDAP","INI",1.1499999999999999]
["ALTURA","Sal","Provas de Preparação Sub16","2021-11-27","Pombal","ADAL","F",9,316,"Benedita Matias","GDP-L","INI",1.1000000000000001]
["QUADR","Sal","Provas de Preparação Sub16","2021-11-27","Pombal","ADAL","F",2,774,"Marta Carriço","ACDRA","INI",12.27,12.27,11.83,11.98]
["QUADR","Sal","Provas de Preparação Sub16","2021-11-27","Pombal","ADAL","F",4,384,"Maria Vicente","ACDRA","INI",11.86,11.75,"X",11.86]
["QUADR","Sal","Provas de Preparação Sub16","2021-11-27","Pombal","ADAL","F",5,132,"Miriam Machado","JV","INI",11.49,"X","X",11.49]
["QUADR","Sal","Provas de Preparação Sub16","2021-11-27","Pombal","ADAL","F",6,109,"Leonor Ascenso","JV","INI",11.48,11.26,11.13,11.48]
["QUADR","Sal","Provas de Preparação Sub16","2021-11-27","Pombal","ADAL","F",7,219,"Carolina D Santos","CAMG","INI",11.48,11.21,11.16,11.48]
["QUADR","Sal","Provas de Preparação Sub16","2021-11-27","Pombal","ADAL","F",8,380,"Isaura Correia","ACDRA","INI",10.72,10.5,10.25,10.72]
["QUADR","Sal","Provas de Preparação Sub16","2021-11-27","Pombal","ADAL","F",9,279,"Oleksandra Sliposhch","NDAP","INI",10.63,"X",10.63,9.67]
["QUADR","Sal","Provas de Preparação Sub16","2021-11-27","Pombal","ADAL","F",10,123,"Marta Feliciano","JV","INI",10.34,10.34,10.09,10.28]
["QUADR","Sal","Provas de Preparação Sub16","2021-11-27","Pombal","ADAL","F",11,331,"Mariana Custódio","GDP-L","INI",9.7799999999999994,9.66,9.5399999999999991,9.7799999999999994]
["QUADR","Sal","Provas de Preparação Sub16","2021-11-27","Pombal","ADAL","F",12,63,"Carolina Ferreira","JV","INI",9.56,9.56,"X",9.16]
["QUADR","Sal","Provas de Preparação Sub16","2021-11-27","Pombal","ADAL","M",1,79,"Diogo Ramalho","JV","INI",13.48,12.54,"X",12.69,12.84,12.97,13.48]
["QUADR","Sal","Provas de Preparação Sub16","2021-11-27","Pombal","ADAL","M",2,157,"Tomás Monteiro","JV","INI",12.97,"X",12.29,12.91,12.84,12.81,12.97]
["QUADR","Sal","Provas de Preparação Sub16","2021-11-27","Pombal","ADAL","M",3,248,"Afonso Rodrigues","NDAP","INI",12.28,"X",12.19,12.02,11.8,12.28,"X"]
["QUADR","Sal","Provas de Preparação Sub16","2021-11-27","Pombal","ADAL","M",4,131,"Miguel Barros Campos","JV","INI",12.11,11.77,"X","X",11.89,"X",12.11]
["QUADR","Sal","Provas de Preparação Sub16","2021-11-27","Pombal","ADAL","M",5,160,"Rafael Dias","JV","INI",11.9,"X","X",11.9,"X","X","X"]
["QUADR","Sal","Provas de Preparação Sub16","2021-11-27","Pombal","ADAL","M",6,133,"Nikita Miroshnyk","JV","INI",11.26,"X",11.26,11.2,"X","X","X"]
["ALTURA","Sal","Salto em altura em sala distrital","2021-12-04","Pombal","ADAL","M",1,558,"António Constâncio","CAMG","INF",1.29]
["ALTURA","Sal","Salto em altura em sala distrital","2021-12-04","Pombal","ADAL","M",2,335,"Pedro Carvalho","GDP-L","INF",1.1499999999999999]
["ALTURA","Sal","Salto em altura em sala distrital","2021-12-04","Pombal","ADAL","M",3,83,"Eduardo Camacho","JV","INF",1.1499999999999999]
["ALTURA","Sal","Salto em altura em sala distrital","2021-12-04","Pombal","ADAL","M",4,154,"Tiago Reis Domingues","JV","INF",1.1000000000000001]
["ALTURA","Sal","Salto em altura em sala distrital","2021-12-04","Pombal","ADAL","M",5,88,"Filipe Almeida","JV","INF",1.1000000000000001]
["ALTURA","Sal","Salto em altura em sala distrital","2021-12-04","Pombal","ADAL","M",6,80,"Diogo Tavares","JV","INF",1.05]
["ALTURA","Sal","Salto em altura em sala distrital","2021-12-04","Pombal","ADAL","M",1,4,"Gabriel Cunha","GDP-L","INI",1.85]
["ALTURA","Sal","Salto em altura em sala distrital","2021-12-04","Pombal","ADAL","M",2,74,"Denis Hrabar","JV","INI",1.71]
["ALTURA","Sal","Salto em altura em sala distrital","2021-12-04","Pombal","ADAL","M",3,157,"Tomás Monteiro","JV","INI",1.68]
["ALTURA","Sal","Salto em altura em sala distrital","2021-12-04","Pombal","ADAL","M",4,140,"Rafael Morgado","JV","INI",1.5]
["ALTURA","Sal","Salto em altura em sala distrital","2021-12-04","Pombal","ADAL","M",5,806,"Leonardo Sousa","CAMG","INI",1.3]
["ALTURA","Sal","Salto em altura em sala distrital","2021-12-04","Pombal","ADAL","M",5,770,"Ricardo Santos","CAMG","INI",1.3]
["ALTURA","Sal","Salto em altura em sala distrital","2021-12-04","Pombal","ADAL","M",1,317,"Bernardo Cunha","GDP-L","JUV",1.9]
["ALTURA","Sal","Salto em altura em sala distrital","2021-12-04","Pombal","ADAL","M",2,783,"Alexandre Babych","AAADP","JUV",1.7]
["ALTURA","Sal","Salto em altura em sala distrital","2021-12-04","Pombal","ADAL","M",3,134,"Nuno Cordeiro","JV","JUV",1.55]
["ALTURA","Sal","Salto em altura em sala distrital","2021-12-04","Pombal","ADAL","M",4,113,"Luca Cruz","JV","JUV",1.4]
["ALTURA","Sal","Salto em altura em sala distrital","2021-12-04","Pombal","ADAL","M",5,242,"Miguel Pereira","CAMG","JUV",1.4]
["ALTURA","Sal","Salto em altura em sala distrital","2021-12-04","Pombal","ADAL","F",1,51,"Alessandra Santos","JV","INF",1.39]
["ALTURA","Sal","Salto em altura em sala distrital","2021-12-04","Pombal","ADAL","F",2,236,"Leonor Bonita","CAMG","INF",1.24]
["ALTURA","Sal","Salto em altura em sala distrital","2021-12-04","Pombal","ADAL","F",3,90,"Francisca Reis","JV","INF",1.24]
["ALTURA","Sal","Salto em altura em sala distrital","2021-12-04","Pombal","ADAL","F",4,120,"Maria Gomes","JV","INF",1.18]
["ALTURA","Sal","Salto em altura em sala distrital","2021-12-04","Pombal","ADAL","F",5,326,"Inês Marques","GDP-L","INF",1.1000000000000001]
["ALTURA","Sal","Salto em altura em sala distrital","2021-12-04","Pombal","ADAL","F",1,95,"Inês Figueiredo","JV","INI",1.37]
["ALTURA","Sal","Salto em altura em sala distrital","2021-12-04","Pombal","ADAL","F",2,314,"Alice Varino","GDP-L","INI",1.33]
["ALTURA","Sal","Salto em altura em sala distrital","2021-12-04","Pombal","ADAL","F",3,318,"Carina Marto","GDP-L","INI",1.33]
["ALTURA","Sal","Salto em altura em sala distrital","2021-12-04","Pombal","ADAL","F",4,109,"Leonor Ascenso","JV","INI",1.33]
["ALTURA","Sal","Salto em altura em sala distrital","2021-12-04","Pombal","ADAL","F",5,239,"Matilde Angélico","CAMG","INI",1.25]
["ALTURA","Sal","Salto em altura em sala distrital","2021-12-04","Pombal","ADAL","F",6,219,"Carolina D Santos","CAMG","INI",1.25]
["ALTURA","Sal","Salto em altura em sala distrital","2021-12-04","Pombal","ADAL","F",6,241,"Matilde Soares","CAMG","INI",1.25]
["ALTURA","Sal","Salto em altura em sala distrital","2021-12-04","Pombal","ADAL","F",8,769,"Diana Vatula","CAMG","INI",1.1499999999999999]
["ALTURA","Sal","Salto em altura em sala distrital","2021-12-04","Pombal","ADAL","F",1,697,"Luana Figueira","JV","JUV",1.5]
["ALTURA","Sal","Salto em altura em sala distrital","2021-12-04","Pombal","ADAL","F",2,822,"Nadine Pires","JV","JUV",1.4]
["ALTURA","Sal","Salto em altura em sala distrital","2021-12-04","Pombal","ADAL","F",3,65,"Carolina Santos","JV","JUV",1.4]
["ALTURA","Sal","Salto em altura em sala distrital","2021-12-04","Pombal","ADAL","F",4,336,"Rafaela Pires","GDP-L","JUV",1.35]
["ALTURA","Sal","Salto em altura em sala distrital","2021-12-04","Pombal","ADAL","F",5,327,"Isa Ferreira","GDP-L","JUV",1.35]
["ALTURA","Sal","Salto em altura em sala distrital","2021-12-04","Pombal","ADAL","F",6,64,"Carolina Marques","JV","JUV",1.3]
["ALTURA","Sal","Salto em altura em sala distrital","2021-12-04","Pombal","ADAL","F",7,693,"Laura Baltazar","JV","JUV",1.25]
["DISCO07","Lan","Provas de preparação sub16 - lançamentos","2021-12-08","Leiria","ADAL","F",1,219,"Carolina D Santos","CAMG","INI",33.130000000000003,29.8,31.82,33.130000000000003,"X","X",28.23]
["DISCO07","Lan","Provas de preparação sub16 - lançamentos","2021-12-08","Leiria","ADAL","F",2,61,"Camila Patraboy","JV","INI",27.84,26.7,25.92,25.86,27.84,"X",21.77]
["DISCO07","Lan","Provas de preparação sub16 - lançamentos","2021-12-08","Leiria","ADAL","F",3,763,"Vanessa Castravet","CANAZ","INI",22.91,"X",20.02,22.91,22.19,"X","X"]
["DISCO07","Lan","Provas de preparação sub16 - lançamentos","2021-12-08","Leiria","ADAL","F",4,331,"Mariana Custódio","GDP-L","INI",18.690000000000001,18.48,17.11,18.5,18.690000000000001,16.47,18.21]
["DISCO07","Lan","Provas de preparação sub16 - lançamentos","2021-12-08","Leiria","ADAL","F",5,95,"Inês Figueiredo","JV","INI",18.66,18.66,14.4,"X",17.73,"X",16.670000000000002]
["DISCO07","Lan","Provas de preparação sub16 - lançamentos","2021-12-08","Leiria","ADAL","F",6,149,"Sofia Santos","JV","INI",17.78,17.190000000000001,13.65,17.78,17.05,16.809999999999999,17]
["DISCO07","Lan","Provas de preparação sub16 - lançamentos","2021-12-08","Leiria","ADAL","F",7,59,"Bruna Amaral","JV","INI",17.18,15.34,"X",17.18,13.73,15.55,14.01]
["DISCO07","Lan","Provas de preparação sub16 - lançamentos","2021-12-08","Leiria","ADAL","F",8,94,"Helena Alípio","JV","INI",16.89,"X",13.53,"X",16.89,14.66,14.41]
["DISCO10","Lan","Provas de preparação sub16 - lançamentos","2021-12-08","Leiria","ADAL","M",1,74,"Denis Hrabar","JV","INI",39.6,39.6,35.08,"X",39.090000000000003,"X",39.450000000000003]
["DISCO10","Lan","Provas de preparação sub16 - lançamentos","2021-12-08","Leiria","ADAL","M",2,339,"Rodrigo Esteves","GDP-L","INI",31.95,28.24,"X",25.87,31.95,29.84,"X"]
["DISCO10","Lan","Provas de preparação sub16 - lançamentos","2021-12-08","Leiria","ADAL","M",3,136,"Pedro Almeida","JV","INI",18.93,18.93,15.42,13.29,18.04,"X",18.48]
["DISCO10","Lan","Provas de preparação sub16 - lançamentos","2021-12-08","Leiria","ADAL","M",4,89,"Filipe Fernandes","JV","INI",15.2,14.87,"X",14.08,13.37,13.37,15.2]
["MARTEL3","Lan","Provas de preparação sub16 - lançamentos","2021-12-08","Leiria","ADAL","F",1,61,"Camila Patraboy","JV","INI",29.94,27.48,"X",29.94,"X",29.21,"X"]
["MARTEL3","Lan","Provas de preparação sub16 - lançamentos","2021-12-08","Leiria","ADAL","F",2,763,"Vanessa Castravet","CANAZ","INI",24.41,21.9,"X",24.41,21.65,"X",23.52]
["MARTEL3","Lan","Provas de preparação sub16 - lançamentos","2021-12-08","Leiria","ADAL","F",3,331,"Mariana Custódio","GDP-L","INI",22.72,19.39,16.489999999999998,16.899999999999999,21.5,22.72,21.52]
["MARTEL3","Lan","Provas de preparação sub16 - lançamentos","2021-12-08","Leiria","ADAL","F",4,94,"Helena Alípio","JV","INI",21.51,16.66,15.39,14.94,21.51,15.85,17.46]
["MARTEL3","Lan","Provas de preparação sub16 - lançamentos","2021-12-08","Leiria","ADAL","F",5,95,"Inês Figueiredo","JV","INI",19.34,18,"X",16.95,18.18,19.34,18.8]
["MARTEL3","Lan","Provas de preparação sub16 - lançamentos","2021-12-08","Leiria","ADAL","F",6,149,"Sofia Santos","JV","INI",19.260000000000002,18.399999999999999,19.260000000000002,15.35,"X",18.88,17.86]
["MARTEL3","Lan","Provas de preparação sub16 - lançamentos","2021-12-08","Leiria","ADAL","F",7,219,"Carolina D Santos","CAMG","INI",15.23,"X",15.23,"-","-","-","-"]
["MARTEL3","Lan","Provas de preparação sub16 - lançamentos","2021-12-08","Leiria","ADAL","F",8,59,"Bruna Amaral","JV","INI",13.98,13.87,12.19,12.76,13.98,13.31,13.06]
["MARTEL4","Lan","Provas de preparação sub16 - lançamentos","2021-12-08","Leiria","ADAL","M",1,339,"Rodrigo Esteves","GDP-L","INI",40.11,32.590000000000003,35.07,40.11,38.18,"X","X"]
["MARTEL4","Lan","Provas de preparação sub16 - lançamentos","2021-12-08","Leiria","ADAL","M",2,89,"Filipe Fernandes","JV","INI",15.72,"X",14.71,15.5,15.69,15.72,"X"]
["MARTEL4","Lan","Provas de preparação sub16 - lançamentos","2021-12-08","Leiria","ADAL","M",3,136,"Pedro Almeida","JV","INI",11.46,"X",9.98,"X",9.75,11.46,11.27]
["1500","MF","Provas de Preparação sub16 pc","2021-12-08","Pombal","ADAL","M",1,320,"Cristovão Monteiro","GDP-L","INI","00:04:42.070"]
["1500","MF","Provas de Preparação sub16 pc","2021-12-08","Pombal","ADAL","M",2,140,"Rafael Morgado","JV","INI","00:04:43"]
["1500","MF","Provas de Preparação sub16 pc","2021-12-08","Pombal","ADAL","M",3,135,"Nuno Guilherme Dias","JV","INI","00:05:01.890"]
["1500","MF","Provas de Preparação sub16 pc","2021-12-08","Pombal","ADAL","F",1,372,"Caetana Neves","ACDRA","INI","00:05:10.150"]
["1500","MF","Provas de Preparação sub16 pc","2021-12-08","Pombal","ADAL","F",2,63,"Carolina Ferreira","JV","INI","00:05:29.130"]
["1500","MF","Provas de Preparação sub16 pc","2021-12-08","Pombal","ADAL","F",3,132,"Miriam Machado","JV","INI","00:05:30.850"]
["1500","MF","Provas de Preparação sub16 pc","2021-12-08","Pombal","ADAL","F",4,239,"Matilde Angélico","CAMG","INI","00:05:43.420"]
["1500","MF","Provas de Preparação sub16 pc","2021-12-08","Pombal","ADAL","F",5,329,"Lara Beato","GDP-L","INI","00:06:12.940"]
["1500","MF","Provas de Preparação sub16 pc","2021-12-08","Pombal","ADAL","F",6,694,"Laura Ramos","JV","INI","00:06:44.110"]
["250","Vel","Provas de Preparação sub16 pc","2021-12-08","Pombal","ADAL","M",1,131,"Miguel Barros Campos","JV","INI",32.979999999999997]
["250","Vel","Provas de Preparação sub16 pc","2021-12-08","Pombal","ADAL","M",2,160,"Rafael Dias","JV","INI",34.01]
["250","Vel","Provas de Preparação sub16 pc","2021-12-08","Pombal","ADAL","M",3,79,"Diogo Ramalho","JV","INI",34.840000000000003]
["250","Vel","Provas de Preparação sub16 pc","2021-12-08","Pombal","ADAL","M",4,98,"Jaime Rolla","JV","INI",37.5]
["250","Vel","Provas de Preparação sub16 pc","2021-12-08","Pombal","ADAL","M",5,50,"Afonso Nogueira","JV","INI",41.43]
["250","Vel","Provas de Preparação sub16 pc","2021-12-08","Pombal","ADAL","M",2,766,"Miguel Barros","CANAZ","INI",40.25]
["250","Vel","Provas de Preparação sub16 pc","2021-12-08","Pombal","ADAL","F",5,380,"Isaura Correia","ACDRA","INI",41.38]
["250","Vel","Provas de Preparação sub16 pc","2021-12-08","Pombal","ADAL","F",1,109,"Leonor Ascenso","JV","INI",38.119999999999997]
["250","Vel","Provas de Preparação sub16 pc","2021-12-08","Pombal","ADAL","F",2,241,"Matilde Soares","CAMG","INI",39.770000000000003]
["250","Vel","Provas de Preparação sub16 pc","2021-12-08","Pombal","ADAL","F",3,124,"Marta Mestre","JV","INI",41.61]
["250","Vel","Provas de Preparação sub16 pc","2021-12-08","Pombal","ADAL","F",4,762,"Leonor Estorninho","CANAZ","INI",42.58]
["250","Vel","Provas de Preparação sub16 pc","2021-12-08","Pombal","ADAL","F",5,97,"Inês Oliveira","JV","INI",42.83]
["250","Vel","Provas de Preparação sub16 pc","2021-12-08","Pombal","ADAL","F",1,318,"Carina Marto","GDP-L","INI",39.479999999999997]
["250","Vel","Provas de Preparação sub16 pc","2021-12-08","Pombal","ADAL","F",2,769,"Diana Vatula","CAMG","INI",40.409999999999997]
["250","Vel","Provas de Preparação sub16 pc","2021-12-08","Pombal","ADAL","F",3,86,"Filipa Moita","JV","INI",40.549999999999997]
["250","Vel","Provas de Preparação sub16 pc","2021-12-08","Pombal","ADAL","F",4,512,"Lara Santos","GDP-L","INI",41.54]
["250","Vel","Provas de Preparação sub16 pc","2021-12-08","Pombal","ADAL","F",5,314,"Alice Varino","GDP-L","INI",42.02]
["250","Vel","Provas de Preparação sub16 pc","2021-12-08","Pombal","ADAL","F",1,774,"Marta Carriço","ACDRA","INI",34.29]
["250","Vel","Provas de Preparação sub16 pc","2021-12-08","Pombal","ADAL","F",3,105,"Katerina Quinn","JV","INI",37.090000000000003]
["250","Vel","Provas de Preparação sub16 pc","2021-12-08","Pombal","ADAL","F",4,123,"Marta Feliciano","JV","INI",37.76]
["250","Vel","Provas de Preparação sub16 pc","2021-12-08","Pombal","ADAL","F",5,384,"Maria Vicente","ACDRA","INI",39.69]
["60","Vel","Provas de Preparação sub16 pc","2021-12-08","Pombal","ADAL","M",1,131,"Miguel Barros Campos","JV","INI",7.88]
["60","Vel","Provas de Preparação sub16 pc","2021-12-08","Pombal","ADAL","M",2,79,"Diogo Ramalho","JV","INI",8.5]
["60","Vel","Provas de Preparação sub16 pc","2021-12-08","Pombal","ADAL","M",3,320,"Cristovão Monteiro","GDP-L","INI",8.82]
["60","Vel","Provas de Preparação sub16 pc","2021-12-08","Pombal","ADAL","M",4,135,"Nuno Guilherme Dias","JV","INI",9.02]
["60","Vel","Provas de Preparação sub16 pc","2021-12-08","Pombal","ADAL","M",5,50,"Afonso Nogueira","JV","INI",9.6999999999999993]
["60","Vel","Provas de Preparação sub16 pc","2021-12-08","Pombal","ADAL","M",1,160,"Rafael Dias","JV","INI",8.0299999999999994]
["60","Vel","Provas de Preparação sub16 pc","2021-12-08","Pombal","ADAL","M",2,140,"Rafael Morgado","JV","INI",8.2799999999999994]
["60","Vel","Provas de Preparação sub16 pc","2021-12-08","Pombal","ADAL","M",4,98,"Jaime Rolla","JV","INI",9.2200000000000006]
["60","Vel","Provas de Preparação sub16 pc","2021-12-08","Pombal","ADAL","F",1,241,"Matilde Soares","CAMG","INI",8.74]
["60","Vel","Provas de Preparação sub16 pc","2021-12-08","Pombal","ADAL","F",2,769,"Diana Vatula","CAMG","INI",9.1300000000000008]
["60","Vel","Provas de Preparação sub16 pc","2021-12-08","Pombal","ADAL","F",3,132,"Miriam Machado","JV","INI",9.35]
["60","Vel","Provas de Preparação sub16 pc","2021-12-08","Pombal","ADAL","F",4,159,"Vitória Shybayeva","JV","INI",9.4700000000000006]
["60","Vel","Provas de Preparação sub16 pc","2021-12-08","Pombal","ADAL","F",1,314,"Alice Varino","GDP-L","INI",9.43]
["60","Vel","Provas de Preparação sub16 pc","2021-12-08","Pombal","ADAL","F",2,762,"Leonor Estorninho","CANAZ","INI",9.5299999999999994]
["60","Vel","Provas de Preparação sub16 pc","2021-12-08","Pombal","ADAL","F",3,372,"Caetana Neves","ACDRA","INI",9.6]
["60","Vel","Provas de Preparação sub16 pc","2021-12-08","Pombal","ADAL","F",4,380,"Isaura Correia","ACDRA","INI",9.61]
["60","Vel","Provas de Preparação sub16 pc","2021-12-08","Pombal","ADAL","F",5,124,"Marta Mestre","JV","INI",9.6199999999999992]
["60","Vel","Provas de Preparação sub16 pc","2021-12-08","Pombal","ADAL","F",6,694,"Laura Ramos","JV","INI",9.6199999999999992]
["60","Vel","Provas de Preparação sub16 pc","2021-12-08","Pombal","ADAL","F",7,329,"Lara Beato","GDP-L","INI",10.4]
["60","Vel","Provas de Preparação sub16 pc","2021-12-08","Pombal","ADAL","F",1,318,"Carina Marto","GDP-L","INI",8.7100000000000009]
["60","Vel","Provas de Preparação sub16 pc","2021-12-08","Pombal","ADAL","F",3,384,"Maria Vicente","ACDRA","INI",8.84]
["60","Vel","Provas de Preparação sub16 pc","2021-12-08","Pombal","ADAL","F",4,512,"Lara Santos","GDP-L","INI",9.2200000000000006]
["60","Vel","Provas de Preparação sub16 pc","2021-12-08","Pombal","ADAL","F",5,86,"Filipa Moita","JV","INI",9.36]
["60","Vel","Provas de Preparação sub16 pc","2021-12-08","Pombal","ADAL","F",6,63,"Carolina Ferreira","JV","INI",9.5399999999999991]
["60","Vel","Provas de Preparação sub16 pc","2021-12-08","Pombal","ADAL","F",7,97,"Inês Oliveira","JV","INI",9.57]
["60","Vel","Provas de Preparação sub16 pc","2021-12-08","Pombal","ADAL","F",1,774,"Marta Carriço","ACDRA","INI",8.1]
["60","Vel","Provas de Preparação sub16 pc","2021-12-08","Pombal","ADAL","F",4,105,"Katerina Quinn","JV","INI",8.5299999999999994]
["60","Vel","Provas de Preparação sub16 pc","2021-12-08","Pombal","ADAL","F",6,123,"Marta Feliciano","JV","INI",8.8000000000000007]
["60","Vel","Provas de Preparação sub16 pc","2021-12-08","Pombal","ADAL","F",7,109,"Leonor Ascenso","JV","INI",8.9]
["300","Vel","1.ª jornada do CD Sub18 em Pista Coberta","2021-12-11","Pombal","ADAL","M",1,883,"Ernesto Rodrigues","JV","JUV",39.56]
["300","Vel","1.ª jornada do CD Sub18 em Pista Coberta","2021-12-11","Pombal","ADAL","M",2,519,"Edson Dias","ACB-L","JUV",40.25]
["300","Vel","1.ª jornada do CD Sub18 em Pista Coberta","2021-12-11","Pombal","ADAL","M",1,894,"Bernardo Ferreira","NDAP","JUV",40.56]
["300","Vel","1.ª jornada do CD Sub18 em Pista Coberta","2021-12-11","Pombal","ADAL","M",2,253,"Francisco Mota","NDAP","INI",41.52]
["300","Vel","1.ª jornada do CD Sub18 em Pista Coberta","2021-12-11","Pombal","ADAL","M",3,274,"Martim Antunes","NDAP","INI",42.58]
["300","Vel","1.ª jornada do CD Sub18 em Pista Coberta","2021-12-11","Pombal","ADAL","M",4,135,"Nuno Guilherme Dias","JV","INI",45.78]
["300","Vel","1.ª jornada do CD Sub18 em Pista Coberta","2021-12-11","Pombal","ADAL","M",5,850,"Diogo Reis","NDAP","JUV",46.49]
["300","Vel","1.ª jornada do CD Sub18 em Pista Coberta","2021-12-11","Pombal","ADAL","M",6,572,"Pedro Rocha","CANAZ","JUV",51.03]
["300","Vel","1.ª jornada do CD Sub18 em Pista Coberta","2021-12-11","Pombal","ADAL","M",1,369,"Tomás Casimiro","ACDRA","JUV",39.229999999999997]
["300","Vel","1.ª jornada do CD Sub18 em Pista Coberta","2021-12-11","Pombal","ADAL","M",2,74,"Denis Hrabar","JV","INI",39.51]
["300","Vel","1.ª jornada do CD Sub18 em Pista Coberta","2021-12-11","Pombal","ADAL","M",3,375,"Diogo Nogueira","ACDRA","JUV",40.68]
["300","Vel","1.ª jornada do CD Sub18 em Pista Coberta","2021-12-11","Pombal","ADAL","M",5,100,"João Fernandes","JV","INI",49.28]
["300","Vel","1.ª jornada do CD Sub18 em Pista Coberta","2021-12-11","Pombal","ADAL","M",1,808,"Miguel Marques","CAMG","JUV",37.409999999999997]
["300","Vel","1.ª jornada do CD Sub18 em Pista Coberta","2021-12-11","Pombal","ADAL","M",2,378,"Hugo Tavares","ACDRA","JUV",37.590000000000003]
["300","Vel","1.ª jornada do CD Sub18 em Pista Coberta","2021-12-11","Pombal","ADAL","M",5,134,"Nuno Cordeiro","JV","JUV",39.630000000000003]
["300","Vel","1.ª jornada do CD Sub18 em Pista Coberta","2021-12-11","Pombal","ADAL","F",1,164,"Beatriz Alves","ACB-L","INI",47.56]
["300","Vel","1.ª jornada do CD Sub18 em Pista Coberta","2021-12-11","Pombal","ADAL","F",2,189,"Maria Jesus","ACB-L","INI",48.06]
["300","Vel","1.ª jornada do CD Sub18 em Pista Coberta","2021-12-11","Pombal","ADAL","F",4,372,"Caetana Neves","ACDRA","INI",48.08]
["300","Vel","1.ª jornada do CD Sub18 em Pista Coberta","2021-12-11","Pombal","ADAL","F",1,146,"Sara Lopes","JV","JUV",46.98]
["300","Vel","1.ª jornada do CD Sub18 em Pista Coberta","2021-12-11","Pombal","ADAL","F",2,762,"Leonor Estorninho","CANAZ","INI",51.78]
["300","Vel","1.ª jornada do CD Sub18 em Pista Coberta","2021-12-11","Pombal","ADAL","F",3,787,"Constança Correia","ACDRA","JUV",52.22]
["300","Vel","1.ª jornada do CD Sub18 em Pista Coberta","2021-12-11","Pombal","ADAL","F",1,2,"Sara Brites","JV","JUV",46.68]
["300","Vel","1.ª jornada do CD Sub18 em Pista Coberta","2021-12-11","Pombal","ADAL","F",2,132,"Miriam Machado","JV","INI",47.23]
["300","Vel","1.ª jornada do CD Sub18 em Pista Coberta","2021-12-11","Pombal","ADAL","F",3,872,"Beatriz Luís","JV","JUV",48.24]
["300","Vel","1.ª jornada do CD Sub18 em Pista Coberta","2021-12-11","Pombal","ADAL","F",4,59,"Bruna Amaral","JV","INI",52.08]
["300","Vel","1.ª jornada do CD Sub18 em Pista Coberta","2021-12-11","Pombal","ADAL","F",5,277,"Nina Barreiros","NDAP","JUV",53.78]
["300","Vel","1.ª jornada do CD Sub18 em Pista Coberta","2021-12-11","Pombal","ADAL","F",6,266,"Lili Barreiro","NDAP","JUV",58.53]
["300","Vel","1.ª jornada do CD Sub18 em Pista Coberta","2021-12-11","Pombal","ADAL","F",2,336,"Rafaela Pires","GDP-L","JUV",47.38]
["300","Vel","1.ª jornada do CD Sub18 em Pista Coberta","2021-12-11","Pombal","ADAL","F",4,63,"Carolina Ferreira","JV","INI",48.24]
["300","Vel","1.ª jornada do CD Sub18 em Pista Coberta","2021-12-11","Pombal","ADAL","F",6,53,"Anabela Silva","JV","JUV",51.35]
["300","Vel","1.ª jornada do CD Sub18 em Pista Coberta","2021-12-11","Pombal","ADAL","F",1,877,"Carolina Castro","JV","JUV",42.39]
["300","Vel","1.ª jornada do CD Sub18 em Pista Coberta","2021-12-11","Pombal","ADAL","F",6,821,"Margarida Santos","JV","JUV",46.74]
["300","Vel","1.ª jornada do CD Sub18 em Pista Coberta","2021-12-11","Pombal","ADAL","F",5,5,"Beatriz Castelhano","ACDRA","JUV",44.5]
["300","Vel","1.ª jornada do CD Sub18 em Pista Coberta","2021-12-11","Pombal","ADAL","F",6,683,"Carlota Ferreira","JV","JUV",45.09]
["3000","MF","1.ª jornada do CD Sub18 em Pista Coberta","2021-12-11","Pombal","ADAL","M",4,784,"Leandro Costa","AAADP","JUN","00:09:43.040"]
["3000","MF","1.ª jornada do CD Sub18 em Pista Coberta","2021-12-11","Pombal","ADAL","M",6,108,"Leonardo Jacinto","JV","JUV","00:09:48.440"]
["3000","MF","1.ª jornada do CD Sub18 em Pista Coberta","2021-12-11","Pombal","ADAL","M",7,152,"Tiago Jorge","JV","JUV","00:09:48.480"]
["3000","MF","1.ª jornada do CD Sub18 em Pista Coberta","2021-12-11","Pombal","ADAL","M",11,698,"Marco Gameiro","JV","SUB-23","00:10:46.810"]
["3000","MF","1.ª jornada do CD Sub18 em Pista Coberta","2021-12-11","Pombal","ADAL","M",12,752,"Rodrigo Feteira","GAUB","JUN","00:11:05.190"]
["3000","MF","1.ª jornada do CD Sub18 em Pista Coberta","2021-12-11","Pombal","ADAL","M",1,311,"Tiago Silva","GAC-L","JUN","00:08:37.070"]
["3000","MF","1.ª jornada do CD Sub18 em Pista Coberta","2021-12-11","Pombal","ADAL","M",6,145,"André Antunes","JV","SUB-23","00:09:02.450"]
["3000","MF","1.ª jornada do CD Sub18 em Pista Coberta","2021-12-11","Pombal","ADAL","M",7,305,"Nuno Ferreira","GAC-L","SUB-23","00:09:04.170"]
["400","Vel","1.ª jornada do CD Sub18 em Pista Coberta","2021-12-11","Pombal","ADAL","M",2,77,"Diogo Camacho","JV","JUN",59.73]
["400","Vel","1.ª jornada do CD Sub18 em Pista Coberta","2021-12-11","Pombal","ADAL","F",1,689,"Joana Gameiro","JV","JUN",61.06]
["60","Vel","1.ª jornada do CD Sub18 em Pista Coberta","2021-12-11","Pombal","ADAL","M",1,519,"Edson Dias","ACB-L","JUV",7.87]
["60","Vel","1.ª jornada do CD Sub18 em Pista Coberta","2021-12-11","Pombal","ADAL","M",1,894,"Bernardo Ferreira","NDAP","JUV",7.91]
["60","Vel","1.ª jornada do CD Sub18 em Pista Coberta","2021-12-11","Pombal","ADAL","M",2,131,"Miguel Barros Campos","JV","INI",8.1]
["60","Vel","1.ª jornada do CD Sub18 em Pista Coberta","2021-12-11","Pombal","ADAL","M",3,133,"Nikita Miroshnyk","JV","INI",8.57]
["60","Vel","1.ª jornada do CD Sub18 em Pista Coberta","2021-12-11","Pombal","ADAL","M",4,850,"Diogo Reis","NDAP","JUV",8.67]
["60","Vel","1.ª jornada do CD Sub18 em Pista Coberta","2021-12-11","Pombal","ADAL","M",5,126,"Mateus Dias","JV","JUV",8.6999999999999993]
["60","Vel","1.ª jornada do CD Sub18 em Pista Coberta","2021-12-11","Pombal","ADAL","M",6,135,"Nuno Guilherme Dias","JV","INI",8.99]
["60","Vel","1.ª jornada do CD Sub18 em Pista Coberta","2021-12-11","Pombal","ADAL","M",7,572,"Pedro Rocha","CANAZ","JUV",9.75]
["60","Vel","1.ª jornada do CD Sub18 em Pista Coberta","2021-12-11","Pombal","ADAL","M",1,894,"Bernardo Ferreira","NDAP","JUV",7.91]
["60","Vel","1.ª jornada do CD Sub18 em Pista Coberta","2021-12-11","Pombal","ADAL","M",2,131,"Miguel Barros Campos","JV","INI",8.1]
["60","Vel","1.ª jornada do CD Sub18 em Pista Coberta","2021-12-11","Pombal","ADAL","M",3,133,"Nikita Miroshnyk","JV","INI",8.57]
["60","Vel","1.ª jornada do CD Sub18 em Pista Coberta","2021-12-11","Pombal","ADAL","M",4,850,"Diogo Reis","NDAP","JUV",8.67]
["60","Vel","1.ª jornada do CD Sub18 em Pista Coberta","2021-12-11","Pombal","ADAL","M",5,126,"Mateus Dias","JV","JUV",8.6999999999999993]
["60","Vel","1.ª jornada do CD Sub18 em Pista Coberta","2021-12-11","Pombal","ADAL","M",6,135,"Nuno Guilherme Dias","JV","INI",8.99]
["60","Vel","1.ª jornada do CD Sub18 em Pista Coberta","2021-12-11","Pombal","ADAL","M",7,572,"Pedro Rocha","CANAZ","JUV",9.75]
["60","Vel","1.ª jornada do CD Sub18 em Pista Coberta","2021-12-11","Pombal","ADAL","M",2,378,"Hugo Tavares","ACDRA","JUV",7.5]
["60","Vel","1.ª jornada do CD Sub18 em Pista Coberta","2021-12-11","Pombal","ADAL","M",3,317,"Bernardo Cunha","GDP-L","JUV",7.52]
["60","Vel","1.ª jornada do CD Sub18 em Pista Coberta","2021-12-11","Pombal","ADAL","M",5,783,"Alexandre Babych","AAADP","JUV",7.59]
["60","Vel","1.ª jornada do CD Sub18 em Pista Coberta","2021-12-11","Pombal","ADAL","M",6,374,"Diogo Chaves","ACDRA","JUV",7.62]
["60","Vel","1.ª jornada do CD Sub18 em Pista Coberta","2021-12-11","Pombal","ADAL","M",1,113,"Luca Cruz","JV","JUV",7.61]
["60","Vel","1.ª jornada do CD Sub18 em Pista Coberta","2021-12-11","Pombal","ADAL","M",2,375,"Diogo Nogueira","ACDRA","JUV",7.84]
["60","Vel","1.ª jornada do CD Sub18 em Pista Coberta","2021-12-11","Pombal","ADAL","M",3,103,"João Mota","JV","INI",7.85]
["60","Vel","1.ª jornada do CD Sub18 em Pista Coberta","2021-12-11","Pombal","ADAL","M",4,776,"Pedro Nunes","AAADP","INI",7.97]
["60","Vel","1.ª jornada do CD Sub18 em Pista Coberta","2021-12-11","Pombal","ADAL","M",5,160,"Rafael Dias","JV","INI",8.09]
["60","Vel","1.ª jornada do CD Sub18 em Pista Coberta","2021-12-11","Pombal","ADAL","M",6,369,"Tomás Casimiro","ACDRA","JUV",8.15]
["60","Vel","1.ª jornada do CD Sub18 em Pista Coberta","2021-12-11","Pombal","ADAL","M",7,56,"António Vasconcelos","JV","INI",8.64]
["60","Vel","1.ª jornada do CD Sub18 em Pista Coberta","2021-12-11","Pombal","ADAL","M",1,210,"Tomás Areias","ACB-L","JUN",7.48]
["60","Vel","1.ª jornada do CD Sub18 em Pista Coberta","2021-12-11","Pombal","ADAL","M",2,176,"Milton Martínez","ACB-L","SEN",7.49]
["60","Vel","1.ª jornada do CD Sub18 em Pista Coberta","2021-12-11","Pombal","ADAL","M",3,588,"Duarte Neves","GAUB","JUN",7.76]
["60","Vel","1.ª jornada do CD Sub18 em Pista Coberta","2021-12-11","Pombal","ADAL","M",1,875,"Bruno Coelho","JV","SEN",7.62]
["60","Vel","1.ª jornada do CD Sub18 em Pista Coberta","2021-12-11","Pombal","ADAL","M",2,520,"Edilson Martínez","ACB-L","SUB-23",7.65]
["60","Vel","1.ª jornada do CD Sub18 em Pista Coberta","2021-12-11","Pombal","ADAL","M",3,77,"Diogo Camacho","JV","JUN",7.67]
["60","Vel","1.ª jornada do CD Sub18 em Pista Coberta","2021-12-11","Pombal","ADAL","M",4,704,"Tiago Pereira","JV","JUN",8.36]
["60","Vel","1.ª jornada do CD Sub18 em Pista Coberta","2021-12-11","Pombal","ADAL","M",5,703,"Rafael Pereira","JV","JUN",8.3800000000000008]
["60","Vel","1.ª jornada do CD Sub18 em Pista Coberta","2021-12-11","Pombal","ADAL","F",1,199,"Neidiceila Tavares","ACB-L","INI",8.85]
["60","Vel","1.ª jornada do CD Sub18 em Pista Coberta","2021-12-11","Pombal","ADAL","F",2,189,"Maria Jesus","ACB-L","INI",9.16]
["60","Vel","1.ª jornada do CD Sub18 em Pista Coberta","2021-12-11","Pombal","ADAL","F",3,180,"Joana Seixas","ACB-L","INI",9.41]
["60","Vel","1.ª jornada do CD Sub18 em Pista Coberta","2021-12-11","Pombal","ADAL","F",4,190,"Mariana Carvalho","ACB-L","INI",9.59]
["60","Vel","1.ª jornada do CD Sub18 em Pista Coberta","2021-12-11","Pombal","ADAL","F",4,164,"Beatriz Alves","ACB-L","INI",8.8699999999999992]
["60","Vel","1.ª jornada do CD Sub18 em Pista Coberta","2021-12-11","Pombal","ADAL","F",7,150,"Sofiia Chemyrys","JV","INI",9.2899999999999991]
["60","Vel","1.ª jornada do CD Sub18 em Pista Coberta","2021-12-11","Pombal","ADAL","F",1,899,"Constança Abreu","AAADP","INI",8.73]
["60","Vel","1.ª jornada do CD Sub18 em Pista Coberta","2021-12-11","Pombal","ADAL","F",2,65,"Carolina Santos","JV","JUV",9.1300000000000008]
["60","Vel","1.ª jornada do CD Sub18 em Pista Coberta","2021-12-11","Pombal","ADAL","F",4,729,"Mariana Freitas","ACDRA","JUV",9.5]
["60","Vel","1.ª jornada do CD Sub18 em Pista Coberta","2021-12-11","Pombal","ADAL","F",5,700,"Marta Silva","JV","JUV",9.52]
["60","Vel","1.ª jornada do CD Sub18 em Pista Coberta","2021-12-11","Pombal","ADAL","F",6,277,"Nina Barreiros","NDAP","JUV",9.6]
["60","Vel","1.ª jornada do CD Sub18 em Pista Coberta","2021-12-11","Pombal","ADAL","F",7,687,"Íris Santos","JV","JUV",10.18]
["60","Vel","1.ª jornada do CD Sub18 em Pista Coberta","2021-12-11","Pombal","ADAL","F",8,266,"Lili Barreiro","NDAP","JUV",10.47]
["60","Vel","1.ª jornada do CD Sub18 em Pista Coberta","2021-12-11","Pombal","ADAL","F",1,872,"Beatriz Luís","JV","JUV",9]
["60","Vel","1.ª jornada do CD Sub18 em Pista Coberta","2021-12-11","Pombal","ADAL","F",2,124,"Marta Mestre","JV","INI",9.43]
["60","Vel","1.ª jornada do CD Sub18 em Pista Coberta","2021-12-11","Pombal","ADAL","F",3,380,"Isaura Correia","ACDRA","INI",9.56]
["60","Vel","1.ª jornada do CD Sub18 em Pista Coberta","2021-12-11","Pombal","ADAL","F",4,53,"Anabela Silva","JV","JUV",9.57]
["60","Vel","1.ª jornada do CD Sub18 em Pista Coberta","2021-12-11","Pombal","ADAL","F",5,59,"Bruna Amaral","JV","INI",9.61]
["60","Vel","1.ª jornada do CD Sub18 em Pista Coberta","2021-12-11","Pombal","ADAL","F",6,121,"Mariana Lopes","JV","JUV",10.029999999999999]
["60","Vel","1.ª jornada do CD Sub18 em Pista Coberta","2021-12-11","Pombal","ADAL","F",7,763,"Vanessa Castravet","CANAZ","INI",10.15]
["60","Vel","1.ª jornada do CD Sub18 em Pista Coberta","2021-12-11","Pombal","ADAL","F",3,693,"Laura Baltazar","JV","JUV",9.11]
["60","Vel","1.ª jornada do CD Sub18 em Pista Coberta","2021-12-11","Pombal","ADAL","F",4,512,"Lara Santos","GDP-L","INI",9.15]
["60","Vel","1.ª jornada do CD Sub18 em Pista Coberta","2021-12-11","Pombal","ADAL","F",6,895,"Ana Simões","AAADP","INI",9.34]
["60","Vel","1.ª jornada do CD Sub18 em Pista Coberta","2021-12-11","Pombal","ADAL","F",7,63,"Carolina Ferreira","JV","INI",9.4700000000000006]
["60","Vel","1.ª jornada do CD Sub18 em Pista Coberta","2021-12-11","Pombal","ADAL","F",8,762,"Leonor Estorninho","CANAZ","INI",9.56]
["60","Vel","1.ª jornada do CD Sub18 em Pista Coberta","2021-12-11","Pombal","ADAL","F",1,149,"Sofia Santos","JV","INI",8.57]
["60","Vel","1.ª jornada do CD Sub18 em Pista Coberta","2021-12-11","Pombal","ADAL","F",3,85,"Filipa Dinis","JV","JUV",8.6999999999999993]
["60","Vel","1.ª jornada do CD Sub18 em Pista Coberta","2021-12-11","Pombal","ADAL","F",4,123,"Marta Feliciano","JV","INI",8.76]
["60","Vel","1.ª jornada do CD Sub18 em Pista Coberta","2021-12-11","Pombal","ADAL","F",5,384,"Maria Vicente","ACDRA","INI",8.7799999999999994]
["60","Vel","1.ª jornada do CD Sub18 em Pista Coberta","2021-12-11","Pombal","ADAL","F",6,109,"Leonor Ascenso","JV","INI",8.7899999999999991]
["60","Vel","1.ª jornada do CD Sub18 em Pista Coberta","2021-12-11","Pombal","ADAL","F",7,816,"Ana Carvalho","JV","JUV",9.1999999999999993]
["60","Vel","1.ª jornada do CD Sub18 em Pista Coberta","2021-12-11","Pombal","ADAL","F",2,336,"Rafaela Pires","GDP-L","JUV",8.44]
["60","Vel","1.ª jornada do CD Sub18 em Pista Coberta","2021-12-11","Pombal","ADAL","F",6,370,"Beatriz Gonçalves","ACDRA","JUV",8.65]
["60","Vel","1.ª jornada do CD Sub18 em Pista Coberta","2021-12-11","Pombal","ADAL","F",7,849,"Sofia Quintino","ACDRA","JUV",8.66]
["60","Vel","1.ª jornada do CD Sub18 em Pista Coberta","2021-12-11","Pombal","ADAL","F",1,5,"Beatriz Castelhano","ACDRA","JUV",8.1]
["60","Vel","1.ª jornada do CD Sub18 em Pista Coberta","2021-12-11","Pombal","ADAL","F",2,774,"Marta Carriço","ACDRA","INI",8.16]
["60","Vel","1.ª jornada do CD Sub18 em Pista Coberta","2021-12-11","Pombal","ADAL","F",4,877,"Carolina Castro","JV","JUV",8.3000000000000007]
["60","Vel","1.ª jornada do CD Sub18 em Pista Coberta","2021-12-11","Pombal","ADAL","F",7,105,"Katerina Quinn","JV","INI",8.4]
["60","Vel","1.ª jornada do CD Sub18 em Pista Coberta","2021-12-11","Pombal","ADAL","F",8,2,"Sara Brites","JV","JUV",8.5]
["60","Vel","1.ª jornada do CD Sub18 em Pista Coberta","2021-12-11","Pombal","ADAL","F",3,878,"Carolina Gaspar","JV","JUN",8.2899999999999991]
["60","Vel","1.ª jornada do CD Sub18 em Pista Coberta","2021-12-11","Pombal","ADAL","F",4,689,"Joana Gameiro","JV","JUN",8.33]
["60","Vel","1.ª jornada do CD Sub18 em Pista Coberta","2021-12-11","Pombal","ADAL","M",2,378,"Hugo Tavares","ACDRA","JUV",7.49]
["60","Vel","1.ª jornada do CD Sub18 em Pista Coberta","2021-12-11","Pombal","ADAL","M",4,317,"Bernardo Cunha","GDP-L","JUV",7.53]
["60","Vel","1.ª jornada do CD Sub18 em Pista Coberta","2021-12-11","Pombal","ADAL","M",6,374,"Diogo Chaves","ACDRA","JUV",7.59]
["60","Vel","1.ª jornada do CD Sub18 em Pista Coberta","2021-12-11","Pombal","ADAL","M",7,113,"Luca Cruz","JV","JUV",7.61]
["60","Vel","1.ª jornada do CD Sub18 em Pista Coberta","2021-12-11","Pombal","ADAL","M",1,883,"Ernesto Rodrigues","JV","JUV",7.53]
["60","Vel","1.ª jornada do CD Sub18 em Pista Coberta","2021-12-11","Pombal","ADAL","M",3,103,"João Mota","JV","INI",7.68]
["60","Vel","1.ª jornada do CD Sub18 em Pista Coberta","2021-12-11","Pombal","ADAL","M",4,274,"Martim Antunes","NDAP","INI",7.81]
["60","Vel","1.ª jornada do CD Sub18 em Pista Coberta","2021-12-11","Pombal","ADAL","M",5,375,"Diogo Nogueira","ACDRA","JUV",7.81]
["60","Vel","1.ª jornada do CD Sub18 em Pista Coberta","2021-12-11","Pombal","ADAL","M",6,894,"Bernardo Ferreira","NDAP","JUV",7.85]
["60","Vel","1.ª jornada do CD Sub18 em Pista Coberta","2021-12-11","Pombal","ADAL","M",7,776,"Pedro Nunes","AAADP","INI",8]
["60","Vel","1.ª jornada do CD Sub18 em Pista Coberta","2021-12-11","Pombal","ADAL","M",8,519,"Edson Dias","ACB-L","JUV",8.31]
["60","Vel","1.ª jornada do CD Sub18 em Pista Coberta","2021-12-11","Pombal","ADAL","F",1,5,"Beatriz Castelhano","ACDRA","JUV",7.99]
["60","Vel","1.ª jornada do CD Sub18 em Pista Coberta","2021-12-11","Pombal","ADAL","F",3,774,"Marta Carriço","ACDRA","INI",8.1999999999999993]
["60","Vel","1.ª jornada do CD Sub18 em Pista Coberta","2021-12-11","Pombal","ADAL","F",4,877,"Carolina Castro","JV","JUV",8.2200000000000006]
["60","Vel","1.ª jornada do CD Sub18 em Pista Coberta","2021-12-11","Pombal","ADAL","F",5,105,"Katerina Quinn","JV","INI",8.42]
["60","Vel","1.ª jornada do CD Sub18 em Pista Coberta","2021-12-11","Pombal","ADAL","F",6,336,"Rafaela Pires","GDP-L","JUV",8.48]
["60","Vel","1.ª jornada do CD Sub18 em Pista Coberta","2021-12-11","Pombal","ADAL","F",7,2,"Sara Brites","JV","JUV",8.57]
["60","Vel","1.ª jornada do CD Sub18 em Pista Coberta","2021-12-11","Pombal","ADAL","F",8,149,"Sofia Santos","JV","INI",8.61]
["60","Vel","1.ª jornada do CD Sub18 em Pista Coberta","2021-12-11","Pombal","ADAL","F",3,370,"Beatriz Gonçalves","ACDRA","JUV",8.59]
["60","Vel","1.ª jornada do CD Sub18 em Pista Coberta","2021-12-11","Pombal","ADAL","F",4,899,"Constança Abreu","AAADP","INI",8.7100000000000009]
["60","Vel","1.ª jornada do CD Sub18 em Pista Coberta","2021-12-11","Pombal","ADAL","F",5,849,"Sofia Quintino","ACDRA","JUV",8.7200000000000006]
["60","Vel","1.ª jornada do CD Sub18 em Pista Coberta","2021-12-11","Pombal","ADAL","F",6,384,"Maria Vicente","ACDRA","INI",8.7899999999999991]
["60","Vel","1.ª jornada do CD Sub18 em Pista Coberta","2021-12-11","Pombal","ADAL","F",7,123,"Marta Feliciano","JV","INI",8.81]
["COMPRIM","Sal","1.ª jornada do CD Sub18 em Pista Coberta","2021-12-11","Pombal","ADAL","F",1,774,"Marta Carriço","ACDRA","INI",5.26,4.67,4.6500000000000004,4.84,4.6500000000000004,4.7,5.26]
["COMPRIM","Sal","1.ª jornada do CD Sub18 em Pista Coberta","2021-12-11","Pombal","ADAL","F",3,705,"Vera Goucha","JV","JUV",4.8099999999999996,"X","X",4.5599999999999996,4.5,4.3899999999999997,4.8099999999999996]
["COMPRIM","Sal","1.ª jornada do CD Sub18 em Pista Coberta","2021-12-11","Pombal","ADAL","F",5,697,"Luana Figueira","JV","JUV",4.72,4.72,4.59,4.66,"X","X",4.6399999999999997]
["COMPRIM","Sal","1.ª jornada do CD Sub18 em Pista Coberta","2021-12-11","Pombal","ADAL","F",6,816,"Ana Carvalho","JV","JUV",4.72,4.72,4.58,4.37,"X","-","-"]
["COMPRIM","Sal","1.ª jornada do CD Sub18 em Pista Coberta","2021-12-11","Pombal","ADAL","F",7,849,"Sofia Quintino","ACDRA","JUV",4.6500000000000004,"X",4.6500000000000004,"X",4.4800000000000004,4.6100000000000003,4.5999999999999996]
["COMPRIM","Sal","1.ª jornada do CD Sub18 em Pista Coberta","2021-12-11","Pombal","ADAL","F",8,384,"Maria Vicente","ACDRA","INI",4.49,4.49,4.49,"X",4.24,4.1100000000000003,4.32]
["COMPRIM","Sal","1.ª jornada do CD Sub18 em Pista Coberta","2021-12-11","Pombal","ADAL","F",9,85,"Filipa Dinis","JV","JUV",4.49,4.49,4.18,4.3600000000000003,4.1500000000000004,4.29,4.42]
["COMPRIM","Sal","1.ª jornada do CD Sub18 em Pista Coberta","2021-12-11","Pombal","ADAL","F",11,109,"Leonor Ascenso","JV","INI",4.34,4.34,4.2699999999999996,4.07]
["COMPRIM","Sal","1.ª jornada do CD Sub18 em Pista Coberta","2021-12-11","Pombal","ADAL","F",12,64,"Carolina Marques","JV","JUV",4.3099999999999996,4.2,4.3099999999999996,4.1100000000000003]
["COMPRIM","Sal","1.ª jornada do CD Sub18 em Pista Coberta","2021-12-11","Pombal","ADAL","F",13,105,"Katerina Quinn","JV","INI",4.22,4.22,4.17,4.22]
["COMPRIM","Sal","1.ª jornada do CD Sub18 em Pista Coberta","2021-12-11","Pombal","ADAL","M",1,4,"Gabriel Cunha","GDP-L","INI",6.47,6.47,"X","X",5.09,"X","-"]
["COMPRIM","Sal","1.ª jornada do CD Sub18 em Pista Coberta","2021-12-11","Pombal","ADAL","M",2,317,"Bernardo Cunha","GDP-L","JUV",6.28,4.8,"X",6.28,4.67,"-","-"]
["COMPRIM","Sal","1.ª jornada do CD Sub18 em Pista Coberta","2021-12-11","Pombal","ADAL","M",3,808,"Miguel Marques","CAMG","JUV",6.13,6.1,5.97,5.96,6.13,"-","-"]
["COMPRIM","Sal","1.ª jornada do CD Sub18 em Pista Coberta","2021-12-11","Pombal","ADAL","M",4,783,"Alexandre Babych","AAADP","JUV",5.75,5.75,5.49,5.4,5.37,5.64,"-"]
["COMPRIM","Sal","1.ª jornada do CD Sub18 em Pista Coberta","2021-12-11","Pombal","ADAL","M",6,113,"Luca Cruz","JV","JUV",5.51,5.42,"X",5.49,5.47,5.51,5.42]
["COMPRIM","Sal","1.ª jornada do CD Sub18 em Pista Coberta","2021-12-11","Pombal","ADAL","M",8,157,"Tomás Monteiro","JV","INI",5.0199999999999996,5.0199999999999996,4.6500000000000004,4.8,5.0199999999999996,4.5599999999999996,4.55]
["COMPRIM","Sal","1.ª jornada do CD Sub18 em Pista Coberta","2021-12-11","Pombal","ADAL","M",11,32,"António Vasconcelos","JV","INI",3.79,"X",3.79,3.39]
["COMPRIM","Sal","1.ª jornada do CD Sub18 em Pista Coberta","2021-12-11","Pombal","ADAL","F",1,693,"Laura Baltazar","JV","JUV",4.26,4.26,4.03,4.1399999999999997]
["COMPRIM","Sal","1.ª jornada do CD Sub18 em Pista Coberta","2021-12-11","Pombal","ADAL","F",2,65,"Carolina Santos","JV","JUV",4.12,4.12,3.92,4.0999999999999996]
["COMPRIM","Sal","1.ª jornada do CD Sub18 em Pista Coberta","2021-12-11","Pombal","ADAL","F",3,899,"Constança Abreu","AAADP","INI",4.1100000000000003,4.1100000000000003,4.0599999999999996,3.6]
["COMPRIM","Sal","1.ª jornada do CD Sub18 em Pista Coberta","2021-12-11","Pombal","ADAL","F",4,132,"Miriam Machado","JV","INI",4.0999999999999996,4.0199999999999996,4.0999999999999996,3.96]
["COMPRIM","Sal","1.ª jornada do CD Sub18 em Pista Coberta","2021-12-11","Pombal","ADAL","F",5,123,"Marta Feliciano","JV","INI",4.0199999999999996,"X",4.0199999999999996,3.88]
["COMPRIM","Sal","1.ª jornada do CD Sub18 em Pista Coberta","2021-12-11","Pombal","ADAL","F",6,512,"Lara Santos","GDP-L","INI",3.95,3.95,3.65,3.9]
["COMPRIM","Sal","1.ª jornada do CD Sub18 em Pista Coberta","2021-12-11","Pombal","ADAL","F",7,896,"Eva Marques","AAADP","INI",3.8,3.61,3.79,3.8]
["COMPRIM","Sal","1.ª jornada do CD Sub18 em Pista Coberta","2021-12-11","Pombal","ADAL","F",8,314,"Alice Varino","GDP-L","INI",3.75,3.53,3.57,3.75]
["COMPRIM","Sal","1.ª jornada do CD Sub18 em Pista Coberta","2021-12-11","Pombal","ADAL","F",9,895,"Ana Simões","AAADP","INI",3.72,3.72,"X",3.57]
["COMPRIM","Sal","1.ª jornada do CD Sub18 em Pista Coberta","2021-12-11","Pombal","ADAL","F",10,331,"Mariana Custódio","GDP-L","INI",3.71,3.44,3.71,3.6]
["COMPRIM","Sal","1.ª jornada do CD Sub18 em Pista Coberta","2021-12-11","Pombal","ADAL","F",11,180,"Joana Seixas","ACB-L","INI",3.67,3.67,3.58,3.5]
["COMPRIM","Sal","1.ª jornada do CD Sub18 em Pista Coberta","2021-12-11","Pombal","ADAL","F",12,380,"Isaura Correia","ACDRA","INI",3.67,3.67,3.39,3.55]
["COMPRIM","Sal","1.ª jornada do CD Sub18 em Pista Coberta","2021-12-11","Pombal","ADAL","F",13,700,"Marta Silva","JV","JUV",3.63,3.63,3.4,3.34]
["COMPRIM","Sal","1.ª jornada do CD Sub18 em Pista Coberta","2021-12-11","Pombal","ADAL","F",14,729,"Mariana Freitas","ACDRA","JUV",3.59,"X",3.33,3.59]
["COMPRIM","Sal","1.ª jornada do CD Sub18 em Pista Coberta","2021-12-11","Pombal","ADAL","F",15,687,"Íris Santos","JV","JUV",3.52,3.52,3.44,"X"]
["COMPRIM","Sal","1.ª jornada do CD Sub18 em Pista Coberta","2021-12-11","Pombal","ADAL","F",16,124,"Marta Mestre","JV","INI",3.39,3.39,3.2,3.36]
["COMPRIM","Sal","1.ª jornada do CD Sub18 em Pista Coberta","2021-12-11","Pombal","ADAL","F",18,190,"Mariana Carvalho","ACB-L","INI",3.28,3.23,"X",3.28]
["COMPRIM","Sal","1.ª jornada do CD Sub18 em Pista Coberta","2021-12-11","Pombal","ADAL","M",1,782,"Edgar Gonçalves","AAADP","INI",5.0999999999999996,4.9800000000000004,4.74,5.0999999999999996]
["COMPRIM","Sal","1.ª jornada do CD Sub18 em Pista Coberta","2021-12-11","Pombal","ADAL","M",2,160,"Rafael Dias","JV","INI",4.8499999999999996,"X",4.55,4.8499999999999996]
["COMPRIM","Sal","1.ª jornada do CD Sub18 em Pista Coberta","2021-12-11","Pombal","ADAL","M",3,776,"Pedro Nunes","AAADP","INI",4.74,4.74,4.5,4.2699999999999996]
["COMPRIM","Sal","1.ª jornada do CD Sub18 em Pista Coberta","2021-12-11","Pombal","ADAL","M",5,131,"Miguel Barros Campos","JV","INI",4.4800000000000004,4.4800000000000004,"X","X"]
["COMPRIM","Sal","1.ª jornada do CD Sub18 em Pista Coberta","2021-12-11","Pombal","ADAL","M",6,126,"Mateus Dias","JV","JUV",4.47,4.47,4.1900000000000004,"X"]
["COMPRIM","Sal","1.ª jornada do CD Sub18 em Pista Coberta","2021-12-11","Pombal","ADAL","M",7,133,"Nikita Miroshnyk","JV","INI",4,3.94,3.51,4]
["PESO3","Lan","1.ª jornada do CD Sub18 em Pista Coberta","2021-12-11","Pombal","ADAL","F",1,705,"Vera Goucha","JV","JUV",12.63,11.16,12.63,11.55,11.12,11.97,12.45]
["PESO3","Lan","1.ª jornada do CD Sub18 em Pista Coberta","2021-12-11","Pombal","ADAL","F",2,890,"Márcia Maketa","JV","JUV",11.48,10.64,"X","X",11.13,"X",11.48]
["PESO3","Lan","1.ª jornada do CD Sub18 em Pista Coberta","2021-12-11","Pombal","ADAL","F",3,697,"Luana Figueira","JV","JUV",10.220000000000001,9.91,9.5299999999999994,9.0299999999999994,10.14,10.220000000000001,10.199999999999999]
["PESO3","Lan","1.ª jornada do CD Sub18 em Pista Coberta","2021-12-11","Pombal","ADAL","F",4,573,"Rita Oliveira","CANAZ","JUV",9.4700000000000006,9.17,8.84,8.65,8.91,9.4700000000000006,8.8800000000000008]
["PESO3","Lan","1.ª jornada do CD Sub18 em Pista Coberta","2021-12-11","Pombal","ADAL","F",5,64,"Carolina Marques","JV","JUV",8.5299999999999994,7.8,8.16,8.5299999999999994,8.02,8.51,7.56]
["PESO3","Lan","1.ª jornada do CD Sub18 em Pista Coberta","2021-12-11","Pombal","ADAL","F",6,382,"Leonor Belchior","ACDRA","JUV",8.48,7.8,7.86,8.48,8.42,7.79,7.27]
["PESO3","Lan","1.ª jornada do CD Sub18 em Pista Coberta","2021-12-11","Pombal","ADAL","F",8,150,"Sofiia Chemyrys","JV","INI",7.57,7.06,7.49,7.57,6.96,7.43,7]
["PESO3","Lan","1.ª jornada do CD Sub18 em Pista Coberta","2021-12-11","Pombal","ADAL","F",9,763,"Vanessa Castravet","CANAZ","INI",7.3,6.92,7.3,6.98]
["PESO3","Lan","1.ª jornada do CD Sub18 em Pista Coberta","2021-12-11","Pombal","ADAL","F",10,331,"Mariana Custódio","GDP-L","INI",7.23,7.23,7.15,6.87]
["PESO3","Lan","1.ª jornada do CD Sub18 em Pista Coberta","2021-12-11","Pombal","ADAL","F",13,121,"Mariana Lopes","JV","JUV",6.96,6.94,6.96,6.75]
["PESO3","Lan","1.ª jornada do CD Sub18 em Pista Coberta","2021-12-11","Pombal","ADAL","F",14,94,"Helena Alípio","JV","INI",6.8,6.8,6.6,6.8]
["PESO3","Lan","1.ª jornada do CD Sub18 em Pista Coberta","2021-12-11","Pombal","ADAL","F",15,149,"Sofia Santos","JV","INI",6.68,6.17,6.68,6.18]
["PESO3","Lan","1.ª jornada do CD Sub18 em Pista Coberta","2021-12-11","Pombal","ADAL","F",16,314,"Alice Varino","GDP-L","INI",5.44,5.07,5.44,4.32]
["PESO5","Lan","1.ª jornada do CD Sub18 em Pista Coberta","2021-12-11","Pombal","ADAL","M",1,9,"Francisco Calhau","JV","JUV",12.82,10.96,12.1,12.44,12.23,12.82,12.07]
["PESO5","Lan","1.ª jornada do CD Sub18 em Pista Coberta","2021-12-11","Pombal","ADAL","M",2,74,"Denis Hrabar","JV","INI",12.48,12.48,"X",11.33,11.37,11.49,"X"]
["PESO5","Lan","1.ª jornada do CD Sub18 em Pista Coberta","2021-12-11","Pombal","ADAL","M",4,692,"João Santos","JV","JUV",9.82,9.82,9.2100000000000009,9.09,9.77,9.19,9.1]
["PESO5","Lan","1.ª jornada do CD Sub18 em Pista Coberta","2021-12-11","Pombal","ADAL","M",9,785,"Carlos Santos","ACDRA","JUV",6.64,6.45,6.26,6.64]
["1500","MF","1.ª jornada do CD Sub20 em Pista Coberta","2021-12-12","Pombal","ADAL","M",3,134,"Nuno Cordeiro","JV","JUV","00:04:24.190"]
["1500","MF","1.ª jornada do CD Sub20 em Pista Coberta","2021-12-12","Pombal","ADAL","M",4,784,"Leandro Costa","AAADP","JUN","00:04:26.410"]
["1500","MF","1.ª jornada do CD Sub20 em Pista Coberta","2021-12-12","Pombal","ADAL","M",8,852,"Bruno Branco","CANAZ","JUN","00:04:35.310"]
["1500","MF","1.ª jornada do CD Sub20 em Pista Coberta","2021-12-12","Pombal","ADAL","M",10,752,"Rodrigo Feteira","GAUB","JUN","00:05:06.510"]
["1500","MF","1.ª jornada do CD Sub20 em Pista Coberta","2021-12-12","Pombal","ADAL","M",11,572,"Pedro Rocha","CANAZ","JUV","00:05:43.390"]
["1500","MF","1.ª jornada do CD Sub20 em Pista Coberta","2021-12-12","Pombal","ADAL","M",10,369,"Tomás Casimiro","ACDRA","JUV","00:04:20.190"]
["1500","MF","1.ª jornada do CD Sub20 em Pista Coberta","2021-12-12","Pombal","ADAL","F",2,68,"Cátia Pereira","JV","SUB-23","00:04:45.400"]
["1500","MF","1.ª jornada do CD Sub20 em Pista Coberta","2021-12-12","Pombal","ADAL","F",4,683,"Carlota Ferreira","JV","JUV","00:05:00.510"]
["1500","MF","1.ª jornada do CD Sub20 em Pista Coberta","2021-12-12","Pombal","ADAL","F",5,82,"Eduarda Silva","JV","JUV","00:05:11.190"]
["1500","MF","1.ª jornada do CD Sub20 em Pista Coberta","2021-12-12","Pombal","ADAL","F",8,146,"Sara Lopes","JV","JUV","00:05:24.030"]
["1500","MF","1.ª jornada do CD Sub20 em Pista Coberta","2021-12-12","Pombal","ADAL","F",9,897,"Marta Araújo","AAADP","JUV","00:05:45.650"]
["1500","MF","1.ª jornada do CD Sub20 em Pista Coberta","2021-12-12","Pombal","ADAL","F",11,855,"Jennifer Carvalho","CANAZ","JUV","00:05:58.950"]
["1500","MF","1.ª jornada do CD Sub20 em Pista Coberta","2021-12-12","Pombal","ADAL","F",12,787,"Constança Correia","ACDRA","JUV","00:06:21.710"]
["200","Vel","1.ª jornada do CD Sub20 em Pista Coberta","2021-12-12","Pombal","ADAL","M",1,176,"Milton Martínez","ACB-L","SEN",24.21]
["200","Vel","1.ª jornada do CD Sub20 em Pista Coberta","2021-12-12","Pombal","ADAL","M",2,210,"Tomás Areias","ACB-L","JUN",24.63]
["200","Vel","1.ª jornada do CD Sub20 em Pista Coberta","2021-12-12","Pombal","ADAL","M",1,519,"Edson Dias","ACB-L","JUV",25.03]
["200","Vel","1.ª jornada do CD Sub20 em Pista Coberta","2021-12-12","Pombal","ADAL","M",1,588,"Duarte Neves","GAUB","JUN",24.8]
["200","Vel","1.ª jornada do CD Sub20 em Pista Coberta","2021-12-12","Pombal","ADAL","M",2,178,"Ivo Gomes","ACB-L","JUV",26.57]
["200","Vel","1.ª jornada do CD Sub20 em Pista Coberta","2021-12-12","Pombal","ADAL","M",3,162,"Afonso Mourão","ACB-L","JUN",26.98]
["200","Vel","1.ª jornada do CD Sub20 em Pista Coberta","2021-12-12","Pombal","ADAL","M",4,126,"Mateus Dias","JV","JUV",27.91]
["200","Vel","1.ª jornada do CD Sub20 em Pista Coberta","2021-12-12","Pombal","ADAL","M",3,893,"Bruno Júnior","CANAZ","JUN",28.71]
["200","Vel","1.ª jornada do CD Sub20 em Pista Coberta","2021-12-12","Pombal","ADAL","M",1,374,"Diogo Chaves","ACDRA","JUV",24.42]
["200","Vel","1.ª jornada do CD Sub20 em Pista Coberta","2021-12-12","Pombal","ADAL","M",2,113,"Luca Cruz","JV","JUV",24.55]
["200","Vel","1.ª jornada do CD Sub20 em Pista Coberta","2021-12-12","Pombal","ADAL","M",3,375,"Diogo Nogueira","ACDRA","JUV",25.15]
["200","Vel","1.ª jornada do CD Sub20 em Pista Coberta","2021-12-12","Pombal","ADAL","M",1,808,"Miguel Marques","CAMG","JUV",23.79]
["200","Vel","1.ª jornada do CD Sub20 em Pista Coberta","2021-12-12","Pombal","ADAL","M",2,783,"Alexandre Babych","AAADP","JUV",23.81]
["200","Vel","1.ª jornada do CD Sub20 em Pista Coberta","2021-12-12","Pombal","ADAL","M",3,378,"Hugo Tavares","ACDRA","JUV",24.04]
["200","Vel","1.ª jornada do CD Sub20 em Pista Coberta","2021-12-12","Pombal","ADAL","F",4,726,"Érica Morgado","ACDRA","JUN",32.950000000000003]
["200","Vel","1.ª jornada do CD Sub20 em Pista Coberta","2021-12-12","Pombal","ADAL","F",5,786,"Sofia Gaspar","ACDRA","JUN",46.3]
["200","Vel","1.ª jornada do CD Sub20 em Pista Coberta","2021-12-12","Pombal","ADAL","F",2,167,"Diana Duarte","ACB-L","JUN",28.94]
["200","Vel","1.ª jornada do CD Sub20 em Pista Coberta","2021-12-12","Pombal","ADAL","F",3,821,"Margarida Santos","JV","JUV",29.09]
["200","Vel","1.ª jornada do CD Sub20 em Pista Coberta","2021-12-12","Pombal","ADAL","F",4,811,"Inaya Yayo","CANAZ","JUV",30.62]
["200","Vel","1.ª jornada do CD Sub20 em Pista Coberta","2021-12-12","Pombal","ADAL","F",5,729,"Mariana Freitas","ACDRA","JUV",32.979999999999997]
["200","Vel","1.ª jornada do CD Sub20 em Pista Coberta","2021-12-12","Pombal","ADAL","F",2,370,"Beatriz Gonçalves","ACDRA","JUV",29.11]
["200","Vel","1.ª jornada do CD Sub20 em Pista Coberta","2021-12-12","Pombal","ADAL","F",4,5,"Beatriz Castelhano","ACDRA","JUV",27.12]
["3000MX","MX","1.ª jornada do CD Sub20 em Pista Coberta","2021-12-12","Pombal","ADAL","F",2,327,"Isa Ferreira","GDP-L","JUV",1.0456712962962961E-2]
["3000MX","MX","1.ª jornada do CD Sub20 em Pista Coberta","2021-12-12","Pombal","ADAL","F",3,379,"Inês Belbute","ACDRA","JUV",1.2191087962962964E-2]
["3000MX","MX","1.ª jornada do CD Sub20 em Pista Coberta","2021-12-12","Pombal","ADAL","F",4,319,"Constança Silva","GDP-L","JUN",1.2738541666666665E-2]
["5000MX","MX","1.ª jornada do CD Sub20 em Pista Coberta","2021-12-12","Pombal","ADAL","M",1,84,"Eduardo Camarate","JV","JUV",2.0060185185185184E-2]
["5000MX","MX","1.ª jornada do CD Sub20 em Pista Coberta","2021-12-12","Pombal","ADAL","M",2,315,"André Moreira","GDP-L","JUV",2.0373495370370368E-2]
["60B084","Vel","1.ª jornada do CD Sub20 em Pista Coberta","2021-12-12","Pombal","ADAL","F",2,166,"Constança Anunciação","ACB-L","JUV",10.96]
["60B084","Vel","1.ª jornada do CD Sub20 em Pista Coberta","2021-12-12","Pombal","ADAL","F",3,872,"Beatriz Luís","JV","JUV",11.74]
["60B084","Vel","1.ª jornada do CD Sub20 em Pista Coberta","2021-12-12","Pombal","ADAL","F",4,65,"Carolina Santos","JV","JUV",12]
["60B100","Vel","1.ª jornada do CD Sub20 em Pista Coberta","2021-12-12","Pombal","ADAL","M",1,517,"Gabriel Borges","ACB-L","JUN",8.86]
["ALTURA","Sal","1.ª jornada do CD Sub20 em Pista Coberta","2021-12-12","Pombal","ADAL","F",1,697,"Luana Figueira","JV","JUV",1.5]
["ALTURA","Sal","1.ª jornada do CD Sub20 em Pista Coberta","2021-12-12","Pombal","ADAL","F",2,705,"Vera Goucha","JV","JUV",1.46]
["ALTURA","Sal","1.ª jornada do CD Sub20 em Pista Coberta","2021-12-12","Pombal","ADAL","F",3,65,"Carolina Santos","JV","JUV",1.42]
["TRIPLO","Sal","1.ª jornada do CD Sub20 em Pista Coberta","2021-12-12","Pombal","ADAL","M",1,777,"Afonso Marques","AAADP","JUN",13.39,13.38,11.55,13.36,"X",13.39,11.86]
["TRIPLO","Sal","1.ª jornada do CD Sub20 em Pista Coberta","2021-12-12","Pombal","ADAL","M",2,214,"André Rodrigues","CAMG","JUN",13.32,"X","X",12.97,13.24,13.32,13.28]
["TRIPLO","Sal","1.ª jornada do CD Sub20 em Pista Coberta","2021-12-12","Pombal","ADAL","M",3,374,"Diogo Chaves","ACDRA","JUV",12.61,12.61,12.46,"X","X","X","X"]
["TRIPLO","Sal","1.ª jornada do CD Sub20 em Pista Coberta","2021-12-12","Pombal","ADAL","M",4,517,"Gabriel Borges","ACB-L","JUN",11.85,11.59,11.75,11.85,11.59,"X",11.73]
["TRIPLO","Sal","1.ª jornada do CD Sub20 em Pista Coberta","2021-12-12","Pombal","ADAL","F",2,849,"Sofia Quintino","ACDRA","JUV",10.82,10.65,10.82,10.6,10.53,"X","X"]
["TRIPLO","Sal","1.ª jornada do CD Sub20 em Pista Coberta","2021-12-12","Pombal","ADAL","F",3,697,"Luana Figueira","JV","JUV",10.15,9.93,9.2799999999999994,10.15,"X",10.039999999999999,9.98]
["TRIPLO","Sal","1.ª jornada do CD Sub20 em Pista Coberta","2021-12-12","Pombal","ADAL","F",6,166,"Constança Anunciação","ACB-L","JUV",9.3800000000000008,"X",9.3800000000000008,"X",9.0399999999999991,"X",9.3000000000000007]
["TRIPLO","Sal","1.ª jornada do CD Sub20 em Pista Coberta","2021-12-12","Pombal","ADAL","F",7,64,"Carolina Marques","JV","JUV",9.34,"X",9.34,"X","X","X","X"]
["150","Vel","Campeonato Distrital de Provas Combinadas PC","2021-12-18","Pombal","ADAL","M",1,83,"Eduardo Camacho","JV","INF",21.75]
["150","Vel","Campeonato Distrital de Provas Combinadas PC","2021-12-18","Pombal","ADAL","M",2,104,"José Martins","JV","INF",24.01]
["150","Vel","Campeonato Distrital de Provas Combinadas PC","2021-12-18","Pombal","ADAL","M",3,383,"Manuel Madaleno","ACDRA","INF",25.33]
["150","Vel","Campeonato Distrital de Provas Combinadas PC","2021-12-18","Pombal","ADAL","M",4,267,"Lucas Simões","NDAP","INF",26.28]
["150","Vel","Campeonato Distrital de Provas Combinadas PC","2021-12-18","Pombal","ADAL","F",2,373,"Constança Casimiro","ACDRA","INF",23.53]
["150","Vel","Campeonato Distrital de Provas Combinadas PC","2021-12-18","Pombal","ADAL","F",3,385,"Matilde Pires","ACDRA","INF",25.89]
["150","Vel","Campeonato Distrital de Provas Combinadas PC","2021-12-18","Pombal","ADAL","F",5,679,"Filipa Martins","NDAP","INF",29.16]
["150","Vel","Campeonato Distrital de Provas Combinadas PC","2021-12-18","Pombal","ADAL","F",1,120,"Maria Gomes","JV","INF",22.08]
["150","Vel","Campeonato Distrital de Provas Combinadas PC","2021-12-18","Pombal","ADAL","F",2,258,"Jéssica Joaninho","NDAP","INF",22.74]
["150","Vel","Campeonato Distrital de Provas Combinadas PC","2021-12-18","Pombal","ADAL","F",3,90,"Francisca Reis","JV","INF",22.85]
["150","Vel","Campeonato Distrital de Provas Combinadas PC","2021-12-18","Pombal","ADAL","F",4,66,"Carolina Silva","JV","INF",23.1]
["150","Vel","Campeonato Distrital de Provas Combinadas PC","2021-12-18","Pombal","ADAL","F",5,51,"Alessandra Santos","JV","INF",23.67]
["60","Vel","Campeonato Distrital de Provas Combinadas PC","2021-12-18","Pombal","ADAL","M",1,690,"João Martins","JV","JUV",7.51]
["60","Vel","Campeonato Distrital de Provas Combinadas PC","2021-12-18","Pombal","ADAL","M",2,113,"Luca Cruz","JV","JUV",7.53]
["60","Vel","Campeonato Distrital de Provas Combinadas PC","2021-12-18","Pombal","ADAL","M",3,74,"Denis Hrabar","JV","INI",7.66]
["60","Vel","Campeonato Distrital de Provas Combinadas PC","2021-12-18","Pombal","ADAL","M",4,157,"Tomás Monteiro","JV","INI",8.16]
["60","Vel","Campeonato Distrital de Provas Combinadas PC","2021-12-18","Pombal","ADAL","M",1,317,"Bernardo Cunha","GDP-L","JUV",7.49]
["60","Vel","Campeonato Distrital de Provas Combinadas PC","2021-12-18","Pombal","ADAL","M",3,808,"Miguel Marques","CAMG","JUV",7.62]
["60","Vel","Campeonato Distrital de Provas Combinadas PC","2021-12-18","Pombal","ADAL","M",5,140,"Rafael Morgado","JV","INI",8.1999999999999993]
["60","Vel","Campeonato Distrital de Provas Combinadas PC","2021-12-18","Pombal","ADAL","M",1,8,"Eduardo Oliveira","JV","JUN",7.23]
["60","Vel","Campeonato Distrital de Provas Combinadas PC","2021-12-18","Pombal","ADAL","M",2,871,"André Petriv","JV","JUN",7.47]
["60","Vel","Campeonato Distrital de Provas Combinadas PC","2021-12-18","Pombal","ADAL","M",3,214,"André Rodrigues","CAMG","JUN",7.57]
["600","MF","Campeonato Distrital de Provas Combinadas PC","2021-12-18","Pombal","ADAL","M",1,104,"José Martins","JV","INF","00:02:01.220"]
["600","MF","Campeonato Distrital de Provas Combinadas PC","2021-12-18","Pombal","ADAL","M",2,251,"Duarte S Rodrigues","NDAP","INF","00:02:02.840"]
["600","MF","Campeonato Distrital de Provas Combinadas PC","2021-12-18","Pombal","ADAL","M",3,83,"Eduardo Camacho","JV","INF","00:02:03.310"]
["600","MF","Campeonato Distrital de Provas Combinadas PC","2021-12-18","Pombal","ADAL","M",4,383,"Manuel Madaleno","ACDRA","INF","00:02:09.580"]
["600","MF","Campeonato Distrital de Provas Combinadas PC","2021-12-18","Pombal","ADAL","F",1,90,"Francisca Reis","JV","INF","00:01:59.880"]
["600","MF","Campeonato Distrital de Provas Combinadas PC","2021-12-18","Pombal","ADAL","F",3,120,"Maria Gomes","JV","INF","00:02:01.790"]
["600","MF","Campeonato Distrital de Provas Combinadas PC","2021-12-18","Pombal","ADAL","F",4,66,"Carolina Silva","JV","INF","00:02:02.430"]
["600","MF","Campeonato Distrital de Provas Combinadas PC","2021-12-18","Pombal","ADAL","F",6,255,"Inês Pereira","NDAP","INF","00:02:06.640"]
["600","MF","Campeonato Distrital de Provas Combinadas PC","2021-12-18","Pombal","ADAL","F",7,373,"Constança Casimiro","ACDRA","INF","00:02:10.290"]
["600","MF","Campeonato Distrital de Provas Combinadas PC","2021-12-18","Pombal","ADAL","F",8,385,"Matilde Pires","ACDRA","INF","00:02:15.570"]
["60B076","Vel","Campeonato Distrital de Provas Combinadas PC","2021-12-18","Pombal","ADAL","F",1,705,"Vera Goucha","JV","JUV",9.5500000000000007]
["60B076","Vel","Campeonato Distrital de Provas Combinadas PC","2021-12-18","Pombal","ADAL","F",2,693,"Laura Baltazar","JV","JUV",10.68]
["60B076","Vel","Campeonato Distrital de Provas Combinadas PC","2021-12-18","Pombal","ADAL","F",3,697,"Luana Figueira","JV","JUV",11.38]
["60B076","Vel","Campeonato Distrital de Provas Combinadas PC","2021-12-18","Pombal","ADAL","F",4,64,"Carolina Marques","JV","JUV",11.67]
["60B076","Vel","Campeonato Distrital de Provas Combinadas PC","2021-12-18","Pombal","ADAL","F",1,849,"Sofia Quintino","ACDRA","JUV",9.84]
["60B076","Vel","Campeonato Distrital de Provas Combinadas PC","2021-12-18","Pombal","ADAL","F",2,2,"Sara Brites","JV","JUV",9.9700000000000006]
["60B076","Vel","Campeonato Distrital de Provas Combinadas PC","2021-12-18","Pombal","ADAL","F",3,336,"Rafaela Pires","GDP-L","JUV",10.57]
["60B076","Vel","Campeonato Distrital de Provas Combinadas PC","2021-12-18","Pombal","ADAL","F",4,65,"Carolina Santos","JV","JUV",10.85]
["60B084","Vel","Campeonato Distrital de Provas Combinadas PC","2021-12-18","Pombal","ADAL","F",1,142,"Raquel Lourenço","JV","SEN",8.89]
["60B084","Vel","Campeonato Distrital de Provas Combinadas PC","2021-12-18","Pombal","ADAL","F",3,820,"Margarida Santos","JV","JUN",10.07]
["60B084","Vel","Campeonato Distrital de Provas Combinadas PC","2021-12-18","Pombal","ADAL","F",8,817,"Ana Reis","JV","JUN",12.33]
["800","MF","Campeonato Distrital de Provas Combinadas PC","2021-12-18","Pombal","ADAL","F",1,705,"Vera Goucha","JV","JUV","00:02:38.610"]
["800","MF","Campeonato Distrital de Provas Combinadas PC","2021-12-18","Pombal","ADAL","F",2,2,"Sara Brites","JV","JUV","00:02:51.180"]
["800","MF","Campeonato Distrital de Provas Combinadas PC","2021-12-18","Pombal","ADAL","F",3,336,"Rafaela Pires","GDP-L","JUV","00:02:52.400"]
["800","MF","Campeonato Distrital de Provas Combinadas PC","2021-12-18","Pombal","ADAL","F",4,697,"Luana Figueira","JV","JUV","00:02:58.200"]
["800","MF","Campeonato Distrital de Provas Combinadas PC","2021-12-18","Pombal","ADAL","F",5,65,"Carolina Santos","JV","JUV","00:03:00"]
["800","MF","Campeonato Distrital de Provas Combinadas PC","2021-12-18","Pombal","ADAL","F",6,64,"Carolina Marques","JV","JUV","00:03:06.850"]
["800","MF","Campeonato Distrital de Provas Combinadas PC","2021-12-18","Pombal","ADAL","F",8,693,"Laura Baltazar","JV","JUV","00:03:20.360"]
["800","MF","Campeonato Distrital de Provas Combinadas PC","2021-12-18","Pombal","ADAL","F",2,849,"Sofia Quintino","ACDRA","JUV","00:02:53.860"]
["800","MF","Campeonato Distrital de Provas Combinadas PC","2021-12-18","Pombal","ADAL","F",1,142,"Raquel Lourenço","JV","SEN","00:02:34.540"]
["800","MF","Campeonato Distrital de Provas Combinadas PC","2021-12-18","Pombal","ADAL","F",4,820,"Margarida Santos","JV","JUN","00:02:45.100"]
["800","MF","Campeonato Distrital de Provas Combinadas PC","2021-12-18","Pombal","ADAL","F",5,817,"Ana Reis","JV","JUN","00:02:52.630"]
["ALTURA","Sal","Campeonato Distrital de Provas Combinadas PC","2021-12-18","Pombal","ADAL","F",1,697,"Luana Figueira","JV","JUV",1.51]
["ALTURA","Sal","Campeonato Distrital de Provas Combinadas PC","2021-12-18","Pombal","ADAL","F",2,705,"Vera Goucha","JV","JUV",1.48]
["ALTURA","Sal","Campeonato Distrital de Provas Combinadas PC","2021-12-18","Pombal","ADAL","F",4,65,"Carolina Santos","JV","JUV",1.36]
["ALTURA","Sal","Campeonato Distrital de Provas Combinadas PC","2021-12-18","Pombal","ADAL","F",7,336,"Rafaela Pires","GDP-L","JUV",1.36]
["ALTURA","Sal","Campeonato Distrital de Provas Combinadas PC","2021-12-18","Pombal","ADAL","F",8,2,"Sara Brites","JV","JUV",1.36]
["ALTURA","Sal","Campeonato Distrital de Provas Combinadas PC","2021-12-18","Pombal","ADAL","F",9,849,"Sofia Quintino","ACDRA","JUV",1.33]
["ALTURA","Sal","Campeonato Distrital de Provas Combinadas PC","2021-12-18","Pombal","ADAL","F",12,693,"Laura Baltazar","JV","JUV",1.27]
["ALTURA","Sal","Campeonato Distrital de Provas Combinadas PC","2021-12-18","Pombal","ADAL","F",13,64,"Carolina Marques","JV","JUV",1.27]
["ALTURA","Sal","Campeonato Distrital de Provas Combinadas PC","2021-12-18","Pombal","ADAL","F",2,817,"Ana Reis","JV","JUN",1.51]
["ALTURA","Sal","Campeonato Distrital de Provas Combinadas PC","2021-12-18","Pombal","ADAL","F",3,820,"Margarida Santos","JV","JUN",1.48]
["ALTURA","Sal","Campeonato Distrital de Provas Combinadas PC","2021-12-18","Pombal","ADAL","F",4,142,"Raquel Lourenço","JV","SEN",1.45]
["ALTURA","Sal","Campeonato Distrital de Provas Combinadas PC","2021-12-18","Pombal","ADAL","M",2,317,"Bernardo Cunha","GDP-L","JUV",1.72]
["ALTURA","Sal","Campeonato Distrital de Provas Combinadas PC","2021-12-18","Pombal","ADAL","M",3,74,"Denis Hrabar","JV","INI",1.72]
["ALTURA","Sal","Campeonato Distrital de Provas Combinadas PC","2021-12-18","Pombal","ADAL","M",4,690,"João Martins","JV","JUV",1.66]
["ALTURA","Sal","Campeonato Distrital de Provas Combinadas PC","2021-12-18","Pombal","ADAL","M",7,157,"Tomás Monteiro","JV","INI",1.57]
["ALTURA","Sal","Campeonato Distrital de Provas Combinadas PC","2021-12-18","Pombal","ADAL","M",8,113,"Luca Cruz","JV","JUV",1.51]
["ALTURA","Sal","Campeonato Distrital de Provas Combinadas PC","2021-12-18","Pombal","ADAL","M",9,140,"Rafael Morgado","JV","INI",1.51]
["ALTURA","Sal","Campeonato Distrital de Provas Combinadas PC","2021-12-18","Pombal","ADAL","M",2,871,"André Petriv","JV","JUN",1.75]
["ALTURA","Sal","Campeonato Distrital de Provas Combinadas PC","2021-12-18","Pombal","ADAL","M",2,8,"Eduardo Oliveira","JV","JUN",1.75]
["COMPRIM","Sal","Campeonato Distrital de Provas Combinadas PC","2021-12-18","Pombal","ADAL","M",1,690,"João Martins","JV","JUV",6.04,6.04,"X","X"]
["COMPRIM","Sal","Campeonato Distrital de Provas Combinadas PC","2021-12-18","Pombal","ADAL","M",2,317,"Bernardo Cunha","GDP-L","JUV",5.9,5.51,"X",5.9]
["COMPRIM","Sal","Campeonato Distrital de Provas Combinadas PC","2021-12-18","Pombal","ADAL","M",3,808,"Miguel Marques","CAMG","JUV",5.85,5.85,5.77,5.85]
["COMPRIM","Sal","Campeonato Distrital de Provas Combinadas PC","2021-12-18","Pombal","ADAL","M",4,74,"Denis Hrabar","JV","INI",5.78,5.51,5.78,5.59]
["COMPRIM","Sal","Campeonato Distrital de Provas Combinadas PC","2021-12-18","Pombal","ADAL","M",6,113,"Luca Cruz","JV","JUV",5.61,5.61,5.59,5.47]
["COMPRIM","Sal","Campeonato Distrital de Provas Combinadas PC","2021-12-18","Pombal","ADAL","M",7,140,"Rafael Morgado","JV","INI",5.12,5.12,4.79,4.57]
["COMPRIM","Sal","Campeonato Distrital de Provas Combinadas PC","2021-12-18","Pombal","ADAL","M",8,157,"Tomás Monteiro","JV","INI",4.95,4.95,4.7699999999999996,4.87]
["COMPRIM","Sal","Campeonato Distrital de Provas Combinadas PC","2021-12-18","Pombal","ADAL","M",1,8,"Eduardo Oliveira","JV","JUN",6.69,6.63,6.69,"X"]
["COMPRIM","Sal","Campeonato Distrital de Provas Combinadas PC","2021-12-18","Pombal","ADAL","M",2,214,"André Rodrigues","CAMG","JUN",6.38,"X",6.38,"X"]
["COMPRIM","Sal","Campeonato Distrital de Provas Combinadas PC","2021-12-18","Pombal","ADAL","M",5,871,"André Petriv","JV","JUN",5.83,5.83,5.68,5.7]
["COMPRIM","Sal","Campeonato Distrital de Provas Combinadas PC","2021-12-18","Pombal","ADAL","F",1,705,"Vera Goucha","JV","JUV",4.8099999999999996,4.8099999999999996,"X",4.7300000000000004]
["COMPRIM","Sal","Campeonato Distrital de Provas Combinadas PC","2021-12-18","Pombal","ADAL","F",2,849,"Sofia Quintino","ACDRA","JUV",4.74,4.74,4.71,"X"]
["COMPRIM","Sal","Campeonato Distrital de Provas Combinadas PC","2021-12-18","Pombal","ADAL","F",3,697,"Luana Figueira","JV","JUV",4.6399999999999997,4.59,4.6399999999999997,4.54]
["COMPRIM","Sal","Campeonato Distrital de Provas Combinadas PC","2021-12-18","Pombal","ADAL","F",4,2,"Sara Brites","JV","JUV",4.6100000000000003,4.6100000000000003,4.5,4.3499999999999996]
["COMPRIM","Sal","Campeonato Distrital de Provas Combinadas PC","2021-12-18","Pombal","ADAL","F",8,693,"Laura Baltazar","JV","JUV",4.1500000000000004,4.1500000000000004,4.05,4]
["COMPRIM","Sal","Campeonato Distrital de Provas Combinadas PC","2021-12-18","Pombal","ADAL","F",9,64,"Carolina Marques","JV","JUV",4.1399999999999997,4.04,"X",4.1399999999999997]
["COMPRIM","Sal","Campeonato Distrital de Provas Combinadas PC","2021-12-18","Pombal","ADAL","F",15,336,"Rafaela Pires","GDP-L","JUV",3.64,"X",3.54,3.64]
["COMPRIM","Sal","Campeonato Distrital de Provas Combinadas PC","2021-12-18","Pombal","ADAL","F",1,142,"Raquel Lourenço","JV","SEN",5.21,5.19,5.21,5.21]
["COMPRIM","Sal","Campeonato Distrital de Provas Combinadas PC","2021-12-18","Pombal","ADAL","F",2,820,"Margarida Santos","JV","JUN",5.16,4.8600000000000003,4.9000000000000004,5.16]
["COMPRIM","Sal","Campeonato Distrital de Provas Combinadas PC","2021-12-18","Pombal","ADAL","F",3,817,"Ana Reis","JV","JUN",5.0999999999999996,4.62,5.0999999999999996,5.0199999999999996]
["PESO3","Lan","Campeonato Distrital de Provas Combinadas PC","2021-12-18","Pombal","ADAL","F",1,705,"Vera Goucha","JV","JUV",13.02,12.34,11.86,13.02]
["PESO3","Lan","Campeonato Distrital de Provas Combinadas PC","2021-12-18","Pombal","ADAL","F",2,697,"Luana Figueira","JV","JUV",10.59,9.7200000000000006,"X",10.59]
["PESO3","Lan","Campeonato Distrital de Provas Combinadas PC","2021-12-18","Pombal","ADAL","F",6,64,"Carolina Marques","JV","JUV",8.52,8.25,8.52,8.4]
["PESO3","Lan","Campeonato Distrital de Provas Combinadas PC","2021-12-18","Pombal","ADAL","F",8,2,"Sara Brites","JV","JUV",8.35,7.87,8.35,7.51]
["PESO3","Lan","Campeonato Distrital de Provas Combinadas PC","2021-12-18","Pombal","ADAL","F",9,693,"Laura Baltazar","JV","JUV",8.27,8.15,8.27,8.02]
["PESO3","Lan","Campeonato Distrital de Provas Combinadas PC","2021-12-18","Pombal","ADAL","F",10,849,"Sofia Quintino","ACDRA","JUV",8.1,8.1,7.37,8.06]
["PESO3","Lan","Campeonato Distrital de Provas Combinadas PC","2021-12-18","Pombal","ADAL","F",13,65,"Carolina Santos","JV","JUV",6.18,5.4,5.82,6.18]
["PESO3","Lan","Campeonato Distrital de Provas Combinadas PC","2021-12-18","Pombal","ADAL","F",15,336,"Rafaela Pires","GDP-L","JUV",5.85,"X","X",5.85]
["PESO4","Lan","Campeonato Distrital de Provas Combinadas PC","2021-12-18","Pombal","ADAL","F",1,142,"Raquel Lourenço","JV","SEN",9.02,9.02,6.54,7.19]
["PESO4","Lan","Campeonato Distrital de Provas Combinadas PC","2021-12-18","Pombal","ADAL","F",3,820,"Margarida Santos","JV","JUN",8.5,8.5,8.1300000000000008,"X"]
["PESO4","Lan","Campeonato Distrital de Provas Combinadas PC","2021-12-18","Pombal","ADAL","F",6,817,"Ana Reis","JV","JUN",6.67,6.67,6.43,"X"]
["PESO5","Lan","Campeonato Distrital de Provas Combinadas PC","2021-12-18","Pombal","ADAL","M",1,74,"Denis Hrabar","JV","INI",11.91,"X",11.42,11.91]
["PESO5","Lan","Campeonato Distrital de Provas Combinadas PC","2021-12-18","Pombal","ADAL","M",2,317,"Bernardo Cunha","GDP-L","JUV",11.83,11.83,11.51,10.39]
["PESO5","Lan","Campeonato Distrital de Provas Combinadas PC","2021-12-18","Pombal","ADAL","M",4,113,"Luca Cruz","JV","JUV",10.33,8.8000000000000007,8.85,10.33]
["PESO5","Lan","Campeonato Distrital de Provas Combinadas PC","2021-12-18","Pombal","ADAL","M",6,690,"João Martins","JV","JUV",8.9600000000000009,8.49,8.81,8.9600000000000009]
["PESO5","Lan","Campeonato Distrital de Provas Combinadas PC","2021-12-18","Pombal","ADAL","M",9,140,"Rafael Morgado","JV","INI",7.61,7.61,6.86,6.52]
["PESO5","Lan","Campeonato Distrital de Provas Combinadas PC","2021-12-18","Pombal","ADAL","M",10,157,"Tomás Monteiro","JV","INI",7.4,"X",7,7.4]
["PESO6","Lan","Campeonato Distrital de Provas Combinadas PC","2021-12-18","Pombal","ADAL","M",2,871,"André Petriv","JV","JUN",10.32,10.32,"X",9.6999999999999993]
["PESO6","Lan","Campeonato Distrital de Provas Combinadas PC","2021-12-18","Pombal","ADAL","M",4,8,"Eduardo Oliveira","JV","JUN",9.09,8.65,7.98,9.09]
["1000","MF","Campeonato Distrital de Provas Combinadas PC","2021-12-19","Pombal","ADAL","M",1,317,"Bernardo Cunha","GDP-L","JUV","00:03:00.680"]
["1000","MF","Campeonato Distrital de Provas Combinadas PC","2021-12-19","Pombal","ADAL","M",2,140,"Rafael Morgado","JV","INI","00:03:00.890"]
["1000","MF","Campeonato Distrital de Provas Combinadas PC","2021-12-19","Pombal","ADAL","M",3,74,"Denis Hrabar","JV","INI","00:03:05.030"]
["1000","MF","Campeonato Distrital de Provas Combinadas PC","2021-12-19","Pombal","ADAL","M",4,690,"João Martins","JV","JUV","00:03:26.100"]
["1000","MF","Campeonato Distrital de Provas Combinadas PC","2021-12-19","Pombal","ADAL","M",6,113,"Luca Cruz","JV","JUV","00:03:36.590"]
["1000","MF","Campeonato Distrital de Provas Combinadas PC","2021-12-19","Pombal","ADAL","M",1,871,"André Petriv","JV","JUN","00:02:51.220"]
["1000","MF","Campeonato Distrital de Provas Combinadas PC","2021-12-19","Pombal","ADAL","M",4,8,"Eduardo Oliveira","JV","JUN","00:03:05.010"]
["2000MX","MX","Campeonato Distrital de Provas Combinadas PC","2021-12-19","Pombal","ADAL","M",1,104,"José Martins","JV","INF",1.3858912037037036E-2]
["2000MX","MX","Campeonato Distrital de Provas Combinadas PC","2021-12-19","Pombal","ADAL","F",1,99,"Joana Reis","JV","INF",1.0771180555555556E-2]
["2000MX","MX","Campeonato Distrital de Provas Combinadas PC","2021-12-19","Pombal","ADAL","F",2,51,"Alessandra Santos","JV","INF",1.0906712962962964E-2]
["2000MX","MX","Campeonato Distrital de Provas Combinadas PC","2021-12-19","Pombal","ADAL","F",3,385,"Matilde Pires","ACDRA","INF",1.1166435185185187E-2]
["2000MX","MX","Campeonato Distrital de Provas Combinadas PC","2021-12-19","Pombal","ADAL","F",4,373,"Constança Casimiro","ACDRA","INF",1.1172569444444445E-2]
["2000MX","MX","Campeonato Distrital de Provas Combinadas PC","2021-12-19","Pombal","ADAL","F",5,112,"Liliana Teotónio","JV","INF",1.148252314814815E-2]
["3000MX","MX","Campeonato Distrital de Provas Combinadas PC","2021-12-19","Pombal","ADAL","M",1,387,"Rodrigo Martins","ACDRA","INI",1.3973842592592593E-2]
["3000MX","MX","Campeonato Distrital de Provas Combinadas PC","2021-12-19","Pombal","ADAL","F",1,329,"Lara Beato","GDP-L","INI",1.1686226851851854E-2]
["3000MX","MX","Campeonato Distrital de Provas Combinadas PC","2021-12-19","Pombal","ADAL","F",2,239,"Matilde Angélico","CAMG","INI",1.1788425925925924E-2]
["3000MX","MX","Campeonato Distrital de Provas Combinadas PC","2021-12-19","Pombal","ADAL","F",3,502,"Filipa Nunes","GACV","INI",1.3142708333333334E-2]
["3000MX","MX","Campeonato Distrital de Provas Combinadas PC","2021-12-19","Pombal","ADAL","F",4,380,"Isaura Correia","ACDRA","INI",1.3517824074074076E-2]
["60B091","Vel","Campeonato Distrital de Provas Combinadas PC","2021-12-19","Pombal","ADAL","M",1,690,"João Martins","JV","JUV",9.56]
["60B091","Vel","Campeonato Distrital de Provas Combinadas PC","2021-12-19","Pombal","ADAL","M",1,113,"Luca Cruz","JV","JUV",10.15]
["60B091","Vel","Campeonato Distrital de Provas Combinadas PC","2021-12-19","Pombal","ADAL","M",1,317,"Bernardo Cunha","GDP-L","JUV",8.8800000000000008]
["60B091","Vel","Campeonato Distrital de Provas Combinadas PC","2021-12-19","Pombal","ADAL","M",2,74,"Denis Hrabar","JV","INI",9.2200000000000006]
["60B091","Vel","Campeonato Distrital de Provas Combinadas PC","2021-12-19","Pombal","ADAL","M",3,140,"Rafael Morgado","JV","INI",10.74]
["60B100","Vel","Campeonato Distrital de Provas Combinadas PC","2021-12-19","Pombal","ADAL","M",1,871,"André Petriv","JV","JUN",9.67]
["60B100","Vel","Campeonato Distrital de Provas Combinadas PC","2021-12-19","Pombal","ADAL","M",3,8,"Eduardo Oliveira","JV","JUN",10]
["HEP-Jun","Comb","Campeonato Distrital de Provas Combinadas PC","2021-12-19","Pombal","ADAL","M",1,871,"André Petriv","JV","JUN",4078]
["HEP-Jun","Comb","Campeonato Distrital de Provas Combinadas PC","2021-12-19","Pombal","ADAL","M",2,8,"Eduardo Oliveira","JV","JUN",4049]
["Hep-Juv","Comb","Campeonato Distrital de Provas Combinadas PC","2021-12-19","Pombal","ADAL","M",1,74,"Denis Hrabar","JV","INI",4134]
["Hep-Juv","Comb","Campeonato Distrital de Provas Combinadas PC","2021-12-19","Pombal","ADAL","M",2,317,"Bernardo Cunha","GDP-L","JUV",4087]
["Hep-Juv","Comb","Campeonato Distrital de Provas Combinadas PC","2021-12-19","Pombal","ADAL","M",3,690,"João Martins","JV","JUV",3584]
["Hep-Juv","Comb","Campeonato Distrital de Provas Combinadas PC","2021-12-19","Pombal","ADAL","M",4,113,"Luca Cruz","JV","JUV",3403]
["Hep-Juv","Comb","Campeonato Distrital de Provas Combinadas PC","2021-12-19","Pombal","ADAL","M",5,140,"Rafael Morgado","JV","INI",2933]
["PEN-Jun","Comb","Campeonato Distrital de Provas Combinadas PC","2021-12-19","Pombal","ADAL","F",1,820,"Margarida Santos","JV","JUV",2849]
["PEN-Jun","Comb","Campeonato Distrital de Provas Combinadas PC","2021-12-19","Pombal","ADAL","F",2,817,"Ana Reis","JV","JUN",2309]
["PEN-Jun","Comb","Campeonato Distrital de Provas Combinadas PC","2021-12-19","Pombal","ADAL","F",1,705,"Vera Goucha","JV","JUV",3223]
["PEN-Jun","Comb","Campeonato Distrital de Provas Combinadas PC","2021-12-19","Pombal","ADAL","F",2,697,"Luana Figueira","JV","JUV",2522]
["PEN-Jun","Comb","Campeonato Distrital de Provas Combinadas PC","2021-12-19","Pombal","ADAL","F",3,2,"Sara Brites","JV","JUV",2517]
["PEN-Jun","Comb","Campeonato Distrital de Provas Combinadas PC","2021-12-19","Pombal","ADAL","F",4,849,"Sofia Quintino","ACDRA","JUV",2501]
["PEN-Jun","Comb","Campeonato Distrital de Provas Combinadas PC","2021-12-19","Pombal","ADAL","F",7,336,"Rafaela Pires","GDP-L","JUV",2009]
["PEN-Jun","Comb","Campeonato Distrital de Provas Combinadas PC","2021-12-19","Pombal","ADAL","F",8,65,"Carolina Santos","JV","JUV",1962]
["PEN-Jun","Comb","Campeonato Distrital de Provas Combinadas PC","2021-12-19","Pombal","ADAL","F",9,693,"Laura Baltazar","JV","JUV",1928]
["PEN-Jun","Comb","Campeonato Distrital de Provas Combinadas PC","2021-12-19","Pombal","ADAL","F",11,64,"Carolina Marques","JV","JUV",1888]
["PEN-Sen","Comb","Campeonato Distrital de Provas Combinadas PC","2021-12-19","Pombal","ADAL","F",1,142,"Raquel Lourenço","JV","SEN",3218]
["VARA","Sal","Campeonato Distrital de Provas Combinadas PC","2021-12-19","Pombal","ADAL","M",1,74,"Denis Hrabar","JV","INI",3.4]
["VARA","Sal","Campeonato Distrital de Provas Combinadas PC","2021-12-19","Pombal","ADAL","M",2,113,"Luca Cruz","JV","JUV",3.3]
["VARA","Sal","Campeonato Distrital de Provas Combinadas PC","2021-12-19","Pombal","ADAL","M",3,690,"João Martins","JV","JUV",2.7]
["VARA","Sal","Campeonato Distrital de Provas Combinadas PC","2021-12-19","Pombal","ADAL","M",4,317,"Bernardo Cunha","GDP-L","JUV",2.4]
["VARA","Sal","Campeonato Distrital de Provas Combinadas PC","2021-12-19","Pombal","ADAL","M",5,140,"Rafael Morgado","JV","INI",2.4]
["VARA","Sal","Campeonato Distrital de Provas Combinadas PC","2021-12-19","Pombal","ADAL","M",2,871,"André Petriv","JV","JUN",3]
["VARA","Sal","Campeonato Distrital de Provas Combinadas PC","2021-12-19","Pombal","ADAL","M",4,8,"Eduardo Oliveira","JV","JUN",2.9]
["1000","MF","2.ª jornada do CD Sub20 em Pista Coberta","2022-01-15","Pombal","ADAL","F",2,90,"Francisca Reis","JV","INF","00:03:49.600"]
["1000","MF","2.ª jornada do CD Sub20 em Pista Coberta","2022-01-15","Pombal","ADAL","F",4,51,"Alessandra Santos","JV","INF","00:03:50.540"]
["1000","MF","2.ª jornada do CD Sub20 em Pista Coberta","2022-01-15","Pombal","ADAL","F",5,120,"Maria Gomes","JV","INF","00:03:50.960"]
["1000","MF","2.ª jornada do CD Sub20 em Pista Coberta","2022-01-15","Pombal","ADAL","F",8,842,"Eva Nunes","AAADP","INF","00:04:04.170"]
["1000","MF","2.ª jornada do CD Sub20 em Pista Coberta","2022-01-15","Pombal","ADAL","F",9,107,"Lara Simões","JV","INF","00:04:04.200"]
["1000","MF","2.ª jornada do CD Sub20 em Pista Coberta","2022-01-15","Pombal","ADAL","F",10,385,"Matilde Pires","ACDRA","INF","00:04:10.330"]
["1000","MF","2.ª jornada do CD Sub20 em Pista Coberta","2022-01-15","Pombal","ADAL","F",2,129,"Matilde Silva","JV","INF","00:03:44.830"]
["1000","MF","2.ª jornada do CD Sub20 em Pista Coberta","2022-01-15","Pombal","ADAL","F",3,128,"Matilde Joaquim","JV","INF","00:03:46.740"]
["1000","MF","2.ª jornada do CD Sub20 em Pista Coberta","2022-01-15","Pombal","ADAL","F",7,112,"Liliana Teotónio","JV","INF","00:04:10.520"]
["1000","MF","2.ª jornada do CD Sub20 em Pista Coberta","2022-01-15","Pombal","ADAL","F",9,255,"Inês Pereira","NDAP","INF","00:04:15.640"]
["1000","MF","2.ª jornada do CD Sub20 em Pista Coberta","2022-01-15","Pombal","ADAL","F",10,258,"Jéssica Joaninho","NDAP","INF","00:04:34.120"]
["4x200","Vel","2.ª jornada do CD Sub20 em Pista Coberta","2022-01-15","Pombal","ADAL","F",1,10878,"JUV VIDIGALENSE","JV","JUN",118.46]
["4x200","Vel","2.ª jornada do CD Sub20 em Pista Coberta","2022-01-15","Pombal","ADAL","F",2,10786,"A C D R ARNEIRENSE","ACDRA","JUN",132.74]
["4x200","Vel","2.ª jornada do CD Sub20 em Pista Coberta","2022-01-15","Pombal","ADAL","M",1,10519,"ATLÉTICO C BATALHA","ACB-L","JUN",103.20000000000002]
["4x200","Vel","2.ª jornada do CD Sub20 em Pista Coberta","2022-01-15","Pombal","ADAL","M",2,10943,"A C D R ARNEIRENSE","ACDRA","JUN",104.00999999999998]
["60","Vel","2.ª jornada do CD Sub20 em Pista Coberta","2022-01-15","Pombal","ADAL","F",2,282,"Vitoria Chornohor","NDAP","JUV",8.75]
["60","Vel","2.ª jornada do CD Sub20 em Pista Coberta","2022-01-15","Pombal","ADAL","F",6,786,"Sofia Gaspar","ACDRA","JUN",10.08]
["60","Vel","2.ª jornada do CD Sub20 em Pista Coberta","2022-01-15","Pombal","ADAL","F",2,821,"Margarida Santos","JV","JUV",8.85]
["60","Vel","2.ª jornada do CD Sub20 em Pista Coberta","2022-01-15","Pombal","ADAL","F",3,196,"M. João Bartolomeu","ACB-L","JUN",8.9700000000000006]
["60","Vel","2.ª jornada do CD Sub20 em Pista Coberta","2022-01-15","Pombal","ADAL","F",6,64,"Carolina Marques","JV","JUV",9.26]
["60","Vel","2.ª jornada do CD Sub20 em Pista Coberta","2022-01-15","Pombal","ADAL","F",7,726,"Érica Morgado","ACDRA","JUN",9.6199999999999992]
["60","Vel","2.ª jornada do CD Sub20 em Pista Coberta","2022-01-15","Pombal","ADAL","F",1,872,"Beatriz Luís","JV","JUV",8.92]
["60","Vel","2.ª jornada do CD Sub20 em Pista Coberta","2022-01-15","Pombal","ADAL","F",3,693,"Laura Baltazar","JV","JUV",9.02]
["60","Vel","2.ª jornada do CD Sub20 em Pista Coberta","2022-01-15","Pombal","ADAL","F",6,53,"Anabela Silva","JV","JUV",9.42]
["60","Vel","2.ª jornada do CD Sub20 em Pista Coberta","2022-01-15","Pombal","ADAL","F",7,729,"Mariana Freitas","ACDRA","JUV",9.51]
["60","Vel","2.ª jornada do CD Sub20 em Pista Coberta","2022-01-15","Pombal","ADAL","F",2,167,"Diana Duarte","ACB-L","JUN",8.4499999999999993]
["60","Vel","2.ª jornada do CD Sub20 em Pista Coberta","2022-01-15","Pombal","ADAL","F",4,370,"Beatriz Gonçalves","ACDRA","JUV",8.5500000000000007]
["60","Vel","2.ª jornada do CD Sub20 em Pista Coberta","2022-01-15","Pombal","ADAL","F",6,684,"Catarina Silva","JV","JUV",8.66]
["60","Vel","2.ª jornada do CD Sub20 em Pista Coberta","2022-01-15","Pombal","ADAL","F",7,211,"Vera Duque","ACB-L","JUN",8.7100000000000009]
["60","Vel","2.ª jornada do CD Sub20 em Pista Coberta","2022-01-15","Pombal","ADAL","F",2,699,"Mariana Videira","JV","JUN",7.96]
["60","Vel","2.ª jornada do CD Sub20 em Pista Coberta","2022-01-15","Pombal","ADAL","F",4,5,"Beatriz Castelhano","ACDRA","JUV",8.1]
["60","Vel","2.ª jornada do CD Sub20 em Pista Coberta","2022-01-15","Pombal","ADAL","F",5,877,"Carolina Castro","JV","JUV",8.14]
["60","Vel","2.ª jornada do CD Sub20 em Pista Coberta","2022-01-15","Pombal","ADAL","F",7,878,"Carolina Gaspar","JV","JUN",8.3000000000000007]
["60","Vel","2.ª jornada do CD Sub20 em Pista Coberta","2022-01-15","Pombal","ADAL","F",8,336,"Rafaela Pires","GDP-L","JUV",8.51]
["60","Vel","2.ª jornada do CD Sub20 em Pista Coberta","2022-01-15","Pombal","ADAL","M",1,210,"Tomás Areias","ACB-L","JUN",7.34]
["60","Vel","2.ª jornada do CD Sub20 em Pista Coberta","2022-01-15","Pombal","ADAL","M",4,943,"Rodrigo Almeida","ACDRA","JUV",7.83]
["60","Vel","2.ª jornada do CD Sub20 em Pista Coberta","2022-01-15","Pombal","ADAL","M",8,848,"Francisco Figueirôa","ACDRA","JUV",9.11]
["60","Vel","2.ª jornada do CD Sub20 em Pista Coberta","2022-01-15","Pombal","ADAL","M",1,176,"Milton Martínez","ACB-L","SEN",7.41]
["60","Vel","2.ª jornada do CD Sub20 em Pista Coberta","2022-01-15","Pombal","ADAL","M",5,685,"Dinis Santos","JV","JUV",8.19]
["60","Vel","2.ª jornada do CD Sub20 em Pista Coberta","2022-01-15","Pombal","ADAL","M",1,1010,"Miguel Calado","BA","SEN",8.08]
["60","Vel","2.ª jornada do CD Sub20 em Pista Coberta","2022-01-15","Pombal","ADAL","M",6,850,"Diogo Reis","NDAP","JUV",8.59]
["60","Vel","2.ª jornada do CD Sub20 em Pista Coberta","2022-01-15","Pombal","ADAL","M",1,783,"Alexandre Babych","AAADP","JUV",7.4969999999999999]
["60","Vel","2.ª jornada do CD Sub20 em Pista Coberta","2022-01-15","Pombal","ADAL","M",3,517,"Gabriel Borges","ACB-L","JUN",7.54]
["60","Vel","2.ª jornada do CD Sub20 em Pista Coberta","2022-01-15","Pombal","ADAL","M",4,77,"Diogo Camacho","JV","JUN",7.65]
["60","Vel","2.ª jornada do CD Sub20 em Pista Coberta","2022-01-15","Pombal","ADAL","M",7,894,"Bernardo Ferreira","NDAP","JUV",8]
["60","Vel","2.ª jornada do CD Sub20 em Pista Coberta","2022-01-15","Pombal","ADAL","M",8,178,"Ivo Gomes","ACB-L","JUV",8.02]
["60","Vel","2.ª jornada do CD Sub20 em Pista Coberta","2022-01-15","Pombal","ADAL","M",1,691,"João Pinto","JV","SEN",7.12]
["60","Vel","2.ª jornada do CD Sub20 em Pista Coberta","2022-01-15","Pombal","ADAL","M",4,378,"Hugo Tavares","ACDRA","JUV",7.41]
["60","Vel","2.ª jornada do CD Sub20 em Pista Coberta","2022-01-15","Pombal","ADAL","M",5,1007,"Floriano Brujan","ACDRA","JUN",7.44]
["60","Vel","2.ª jornada do CD Sub20 em Pista Coberta","2022-01-15","Pombal","ADAL","M",7,883,"Ernesto Rodrigues","JV","JUV",7.62]
["60","Vel","2.ª jornada do CD Sub20 em Pista Coberta","2022-01-15","Pombal","ADAL","F",1,172,"Francisca Paulo","ACB-L","INF",9.5399999999999991]
["60","Vel","2.ª jornada do CD Sub20 em Pista Coberta","2022-01-15","Pombal","ADAL","F",2,255,"Inês Pereira","NDAP","INF",9.57]
["60","Vel","2.ª jornada do CD Sub20 em Pista Coberta","2022-01-15","Pombal","ADAL","F",3,129,"Matilde Silva","JV","INF",9.64]
["60","Vel","2.ª jornada do CD Sub20 em Pista Coberta","2022-01-15","Pombal","ADAL","F",4,385,"Matilde Pires","ACDRA","INF",10.76]
["60","Vel","2.ª jornada do CD Sub20 em Pista Coberta","2022-01-15","Pombal","ADAL","F",6,679,"Filipa Martins","NDAP","INF",11.55]
["60","Vel","2.ª jornada do CD Sub20 em Pista Coberta","2022-01-15","Pombal","ADAL","F",1,842,"Eva Nunes","AAADP","INF",9.56]
["60","Vel","2.ª jornada do CD Sub20 em Pista Coberta","2022-01-15","Pombal","ADAL","F",2,107,"Lara Simões","JV","INF",8.91]
["60","Vel","2.ª jornada do CD Sub20 em Pista Coberta","2022-01-15","Pombal","ADAL","F",3,258,"Jéssica Joaninho","NDAP","INF",8.99]
["60","Vel","2.ª jornada do CD Sub20 em Pista Coberta","2022-01-15","Pombal","ADAL","F",4,120,"Maria Gomes","JV","INF",9.1199999999999992]
["60","Vel","2.ª jornada do CD Sub20 em Pista Coberta","2022-01-15","Pombal","ADAL","F",5,90,"Francisca Reis","JV","INF",9.2799999999999994]
["60","Vel","2.ª jornada do CD Sub20 em Pista Coberta","2022-01-15","Pombal","ADAL","F",6,51,"Alessandra Santos","JV","INF",9.34]
["60","Vel","2.ª jornada do CD Sub20 em Pista Coberta","2022-01-15","Pombal","ADAL","F",7,112,"Liliana Teotónio","JV","INF",9.39]
["60","Vel","2.ª jornada do CD Sub20 em Pista Coberta","2022-01-15","Pombal","ADAL","F",8,128,"Matilde Joaquim","JV","INF",9.59]
["60","Vel","2.ª jornada do CD Sub20 em Pista Coberta","2022-01-15","Pombal","ADAL","M",1,203,"Rafael Alves","ACB-L","INF",8.52]
["60","Vel","2.ª jornada do CD Sub20 em Pista Coberta","2022-01-15","Pombal","ADAL","M",2,910,"Tiago Beja","NDAP","INF",8.9]
["60","Vel","2.ª jornada do CD Sub20 em Pista Coberta","2022-01-15","Pombal","ADAL","M",5,55,"André Ribeiro","JV","INF",9.3879999999999999]
["60","Vel","2.ª jornada do CD Sub20 em Pista Coberta","2022-01-15","Pombal","ADAL","M",6,383,"Manuel Madaleno","ACDRA","INF",10.08]
["60","Vel","2.ª jornada do CD Sub20 em Pista Coberta","2022-01-15","Pombal","ADAL","M",1,83,"Eduardo Camacho","JV","INF",8.81]
["60","Vel","2.ª jornada do CD Sub20 em Pista Coberta","2022-01-15","Pombal","ADAL","M",3,161,"Afonso Marques","ACB-L","INF",9.17]
["60","Vel","2.ª jornada do CD Sub20 em Pista Coberta","2022-01-15","Pombal","ADAL","M",4,251,"Duarte S Rodrigues","NDAP","INF",9.57]
["60","Vel","2.ª jornada do CD Sub20 em Pista Coberta","2022-01-15","Pombal","ADAL","M",5,104,"José Martins","JV","INF",9.7100000000000009]
["60","Vel","2.ª jornada do CD Sub20 em Pista Coberta","2022-01-15","Pombal","ADAL","M",6,681,"Rafael Martins","NDAP","INF",11.74]
["60","Vel","2.ª jornada do CD Sub20 em Pista Coberta","2022-01-15","Pombal","ADAL","F",2,5,"Beatriz Castelhano","ACDRA","JUV",7.98]
["60","Vel","2.ª jornada do CD Sub20 em Pista Coberta","2022-01-15","Pombal","ADAL","F",3,699,"Mariana Videira","JV","JUN",8.0399999999999991]
["60","Vel","2.ª jornada do CD Sub20 em Pista Coberta","2022-01-15","Pombal","ADAL","F",4,877,"Carolina Castro","JV","JUV",8.19]
["60","Vel","2.ª jornada do CD Sub20 em Pista Coberta","2022-01-15","Pombal","ADAL","F",6,878,"Carolina Gaspar","JV","JUN",8.35]
["60","Vel","2.ª jornada do CD Sub20 em Pista Coberta","2022-01-15","Pombal","ADAL","F",7,167,"Diana Duarte","ACB-L","JUN",8.3800000000000008]
["60","Vel","2.ª jornada do CD Sub20 em Pista Coberta","2022-01-15","Pombal","ADAL","F",8,336,"Rafaela Pires","GDP-L","JUV",8.61]
["60","Vel","2.ª jornada do CD Sub20 em Pista Coberta","2022-01-15","Pombal","ADAL","F",1,370,"Beatriz Gonçalves","ACDRA","JUV",8.5500000000000007]
["60","Vel","2.ª jornada do CD Sub20 em Pista Coberta","2022-01-15","Pombal","ADAL","F",4,684,"Catarina Silva","JV","JUV",8.6050000000000004]
["60","Vel","2.ª jornada do CD Sub20 em Pista Coberta","2022-01-15","Pombal","ADAL","F",5,282,"Vitoria Chornohor","NDAP","JUV",8.73]
["60","Vel","2.ª jornada do CD Sub20 em Pista Coberta","2022-01-15","Pombal","ADAL","F",6,211,"Vera Duque","ACB-L","JUN",8.75]
["60","Vel","2.ª jornada do CD Sub20 em Pista Coberta","2022-01-15","Pombal","ADAL","F",7,821,"Margarida Santos","JV","JUV",8.86]
["60","Vel","2.ª jornada do CD Sub20 em Pista Coberta","2022-01-15","Pombal","ADAL","F",8,872,"Beatriz Luís","JV","JUV",8.99]
["60","Vel","2.ª jornada do CD Sub20 em Pista Coberta","2022-01-15","Pombal","ADAL","M",1,77,"Diogo Camacho","JV","JUN",7.6159999999999997]
["60","Vel","2.ª jornada do CD Sub20 em Pista Coberta","2022-01-15","Pombal","ADAL","M",3,883,"Ernesto Rodrigues","JV","JUV",7.68]
["60","Vel","2.ª jornada do CD Sub20 em Pista Coberta","2022-01-15","Pombal","ADAL","M",5,943,"Rodrigo Almeida","ACDRA","JUV",7.76]
["60","Vel","2.ª jornada do CD Sub20 em Pista Coberta","2022-01-15","Pombal","ADAL","M",7,178,"Ivo Gomes","ACB-L","JUV",8.07]
["60","Vel","2.ª jornada do CD Sub20 em Pista Coberta","2022-01-15","Pombal","ADAL","M",1,210,"Tomás Areias","ACB-L","JUN",7.3]
["60","Vel","2.ª jornada do CD Sub20 em Pista Coberta","2022-01-15","Pombal","ADAL","M",3,378,"Hugo Tavares","ACDRA","JUV",7.39]
["60","Vel","2.ª jornada do CD Sub20 em Pista Coberta","2022-01-15","Pombal","ADAL","M",4,1007,"Floriano Brujan","ACDRA","JUN",7.41]
["60","Vel","2.ª jornada do CD Sub20 em Pista Coberta","2022-01-15","Pombal","ADAL","M",7,783,"Alexandre Babych","AAADP","JUV",7.5]
["60","Vel","2.ª jornada do CD Sub20 em Pista Coberta","2022-01-15","Pombal","ADAL","M",8,517,"Gabriel Borges","ACB-L","JUN",7.54]
["800","MF","2.ª jornada do CD Sub20 em Pista Coberta","2022-01-15","Pombal","ADAL","F",1,122,"Mariana Vidinha","JV","JUN","00:02:21.600"]
["800","MF","2.ª jornada do CD Sub20 em Pista Coberta","2022-01-15","Pombal","ADAL","F",2,683,"Carlota Ferreira","JV","JUV","00:02:24.100"]
["800","MF","2.ª jornada do CD Sub20 em Pista Coberta","2022-01-15","Pombal","ADAL","F",6,146,"Sara Lopes","JV","JUV","00:02:33.720"]
["800","MF","2.ª jornada do CD Sub20 em Pista Coberta","2022-01-15","Pombal","ADAL","F",8,787,"Constança Correia","ACDRA","JUV","00:02:56.300"]
["800","MF","2.ª jornada do CD Sub20 em Pista Coberta","2022-01-15","Pombal","ADAL","M",5,914,"Pedro Rodrigues","NDAP","JUV","00:02:12.860"]
["800","MF","2.ª jornada do CD Sub20 em Pista Coberta","2022-01-15","Pombal","ADAL","M",6,916,"Luís Campos","CPRAB","JUV","00:02:24.300"]
["800","MF","2.ª jornada do CD Sub20 em Pista Coberta","2022-01-15","Pombal","ADAL","M",1,291,"Fábio Francisco","GAC-L","SUB-23","00:02:09.840"]
["800","MF","2.ª jornada do CD Sub20 em Pista Coberta","2022-01-15","Pombal","ADAL","M",1,369,"Tomás Casimiro","ACDRA","JUV","00:02:05.150"]
["800","MF","2.ª jornada do CD Sub20 em Pista Coberta","2022-01-15","Pombal","ADAL","M",3,375,"Diogo Nogueira","ACDRA","JUV","00:02:09.410"]
["800","MF","2.ª jornada do CD Sub20 em Pista Coberta","2022-01-15","Pombal","ADAL","M",5,292,"Guilherme Ferreira","GAC-L","JUN","00:02:11.760"]
["800","MF","2.ª jornada do CD Sub20 em Pista Coberta","2022-01-15","Pombal","ADAL","M",6,141,"Rafael Vieira","JV","JUV","00:02:12.080"]
["800","MF","2.ª jornada do CD Sub20 em Pista Coberta","2022-01-15","Pombal","ADAL","M",5,134,"Nuno Cordeiro","JV","JUV","00:02:01.860"]
["PESO4","Lan","2.ª jornada do CD Sub20 em Pista Coberta","2022-01-15","Pombal","ADAL","F",1,7,"Carolina Caseiro","JV","JUN",10.67,10.07,10.5,10.67,9.4700000000000006,10.199999999999999,10.14]
["PESO4","Lan","2.ª jornada do CD Sub20 em Pista Coberta","2022-01-15","Pombal","ADAL","F",4,382,"Leonor Belchior","ACDRA","JUV",7.05,7.05,6.45,6.67,6.62,6.66,5.83]
["PESO4","Lan","2.ª jornada do CD Sub20 em Pista Coberta","2022-01-15","Pombal","ADAL","F",6,874,"Beatriz Silva","JV","JUN",6.48,6.48,6.3,5.76,6.44,5.92,6.32]
["PESO6","Lan","2.ª jornada do CD Sub20 em Pista Coberta","2022-01-15","Pombal","ADAL","M",1,560,"David Pereira","CAMG","JUN",12.47,12.04,12.02,12.47,12.09,11.67,"X"]
["PESO6","Lan","2.ª jornada do CD Sub20 em Pista Coberta","2022-01-15","Pombal","ADAL","M",2,887,"Guilherme Pereira","JV","JUN",11.11,11.11,10.38,"-","-","X","X"]
["PESO6","Lan","2.ª jornada do CD Sub20 em Pista Coberta","2022-01-15","Pombal","ADAL","M",6,374,"Diogo Chaves","ACDRA","JUV",8.14,8.14,7.88,7.8,7.4,8.0299999999999994,7.53]
["PESO6","Lan","2.ª jornada do CD Sub20 em Pista Coberta","2022-01-15","Pombal","ADAL","M",8,785,"Carlos Santos","ACDRA","JUV",6.79,6.61,6.31,"X",5.94,6.12,6.79]
["VARA","Sal","2.ª jornada do CD Sub20 em Pista Coberta","2022-01-15","Pombal","ADAL","M",1,887,"Guilherme Pereira","JV","JUN",3.8]
["VARA","Sal","2.ª jornada do CD Sub20 em Pista Coberta","2022-01-15","Pombal","ADAL","M",1,244,"Pedro Fernandes","CAMG","SUB-23",4.0999999999999996]
["DISCO10","Lan","Prova de Preparação - Lançamento do Disco","2022-01-15","Leiria","ADAL","F",1,989,"Raquel Gomes","JV","JUN",41.04,"X",39.369999999999997,"X","X","X",41.04]
["DISCO10","Lan","Prova de Preparação - Lançamento do Disco","2022-01-15","Leiria","ADAL","F",2,218,"Camélia Terentiy","CAMG","JUN",31.68,31.68,29.12,30.5,29.91,29.92,27.22]
["DISCO10","Lan","Prova de Preparação - Lançamento do Disco","2022-01-15","Leiria","ADAL","F",1,890,"Márcia Maketa","JV","JUV",38.270000000000003,"X",34.729999999999997,33.36,38.270000000000003,"X","X"]
["DISCO10","Lan","Prova de Preparação - Lançamento do Disco","2022-01-15","Leiria","ADAL","F",2,219,"Carolina D Santos","CAMG","INI",29.39,25.64,27.94,29.39,27.8,"X",26.98]
["DISCO10","Lan","Prova de Preparação - Lançamento do Disco","2022-01-15","Leiria","ADAL","F",3,738,"Beatriz Cordeiro","JV","JUV",25.18,21.52,25.18,22.96,24.81,24.6,22.12]
["DISCO10","Lan","Prova de Preparação - Lançamento do Disco","2022-01-15","Leiria","ADAL","F",4,61,"Camila Patraboy","JV","INI",22.95,21.29,22.95,"X",22.28,"X","X"]
["DISCO10","Lan","Prova de Preparação - Lançamento do Disco","2022-01-15","Leiria","ADAL","F",5,59,"Bruna Amaral","JV","INI",15.72,13.61,14.88,15.72,14.98,14.78,15.09]
["DISCO15","Lan","Prova de Preparação - Lançamento do Disco","2022-01-15","Leiria","ADAL","M",1,9,"Francisco Calhau","JV","JUV",39.630000000000003,37.46,39.630000000000003,"X",36.82,"X","X"]
["DISCO15","Lan","Prova de Preparação - Lançamento do Disco","2022-01-15","Leiria","ADAL","M",2,74,"Denis Hrabar","JV","INI",31.79,"X",30.6,31.79,"X",29.86,29.44]
["DISCO15","Lan","Prova de Preparação - Lançamento do Disco","2022-01-15","Leiria","ADAL","M",3,325,"Guilherme Santos","GDP-L","JUV",28.77,26.76,28.77,"X",27.5,"X",28.74]
["DISCO15","Lan","Prova de Preparação - Lançamento do Disco","2022-01-15","Leiria","ADAL","M",4,339,"Rodrigo Esteves","GDP-L","INI",23.41,"X","X","X",22.77,23.41,23.41]
["DISCO15","Lan","Prova de Preparação - Lançamento do Disco","2022-01-15","Leiria","ADAL","M",5,140,"Rafael Morgado","JV","INI",21.08,"X",21.08,"X",16.66,18.8,20.29]
["DISCO15","Lan","Prova de Preparação - Lançamento do Disco","2022-01-15","Leiria","ADAL","M",6,157,"Tomás Monteiro","JV","INI",19.12,16.25,"X",19.100000000000001,16.829999999999998,15.38,19.12]
["DISCO17","Lan","Prova de Preparação - Lançamento do Disco","2022-01-15","Leiria","ADAL","M",1,69,"Daniel Rizzi","JV","JUN",23.8,21.35,23.8,"X",21.72,23.74,"X"]
["DISCO20","Lan","Prova de Preparação - Lançamento do Disco","2022-01-15","Leiria","ADAL","M",2,228,"Ernesto Santos","CAMG","VET 35",27.88,"X","X",22.64,27.44,27.88,"X"]
["1500","MF","2.ª jornada do CD Sub18 em Pista Coberta ","2022-01-16","Pombal","ADAL","F",1,82,"Eduarda Silva","JV","JUV","00:04:59.140"]
["1500","MF","2.ª jornada do CD Sub18 em Pista Coberta ","2022-01-16","Pombal","ADAL","F",2,372,"Caetana Neves","ACDRA","INI","00:05:04.280"]
["1500","MF","2.ª jornada do CD Sub18 em Pista Coberta ","2022-01-16","Pombal","ADAL","F",3,683,"Carlota Ferreira","JV","JUV","00:05:04.670"]
["1500","MF","2.ª jornada do CD Sub18 em Pista Coberta ","2022-01-16","Pombal","ADAL","F",4,189,"Maria Jesus","ACB-L","INI","00:05:17.490"]
["1500","MF","2.ª jornada do CD Sub18 em Pista Coberta ","2022-01-16","Pombal","ADAL","F",6,132,"Miriam Machado","JV","INI","00:05:34.060"]
["1500","MF","2.ª jornada do CD Sub18 em Pista Coberta ","2022-01-16","Pombal","ADAL","F",7,63,"Carolina Ferreira","JV","INI","00:05:34.670"]
["1500","MF","2.ª jornada do CD Sub18 em Pista Coberta ","2022-01-16","Pombal","ADAL","F",8,897,"Marta Araújo","AAADP","JUV","00:05:58.750"]
["1500","MF","2.ª jornada do CD Sub18 em Pista Coberta ","2022-01-16","Pombal","ADAL","F",9,895,"Ana Simões","AAADP","INI","00:06:02.310"]
["1500","MF","2.ª jornada do CD Sub18 em Pista Coberta ","2022-01-16","Pombal","ADAL","F",11,855,"Jennifer Carvalho","CANAZ","JUV","00:06:23.070"]
["1500","MF","2.ª jornada do CD Sub18 em Pista Coberta ","2022-01-16","Pombal","ADAL","M",1,595,"Licínio Silva","GAUB","SEN","00:04:16.840"]
["1500","MF","2.ª jornada do CD Sub18 em Pista Coberta ","2022-01-16","Pombal","ADAL","M",2,585,"Daniel Cabecinhas","GAUB","SUB-23","00:04:18.430"]
["1500","MF","2.ª jornada do CD Sub18 em Pista Coberta ","2022-01-16","Pombal","ADAL","M",3,227,"Emamuel Cardoso","CAMG","SEN","00:04:24.180"]
["1500","MF","2.ª jornada do CD Sub18 em Pista Coberta ","2022-01-16","Pombal","ADAL","M",5,504,"Rodrigo Ribeiro","NDA","JUN","00:04:26"]
["1500","MF","2.ª jornada do CD Sub18 em Pista Coberta ","2022-01-16","Pombal","ADAL","M",8,752,"Rodrigo Feteira","GAUB","JUN","00:05:04.360"]
["1500","MF","2.ª jornada do CD Sub18 em Pista Coberta ","2022-01-16","Pombal","ADAL","M",9,81,"Duarte J Rodrigues","JV","JUN","00:05:09.330"]
["1500","MF","2.ª jornada do CD Sub18 em Pista Coberta ","2022-01-16","Pombal","ADAL","M",6,305,"Nuno Ferreira","GAC-L","SUB-23","00:04:24.300"]
["400","Vel","2.ª jornada do CD Sub18 em Pista Coberta ","2022-01-16","Pombal","ADAL","F",1,310,"Tatiana Francisco","GAC-L","SUB-23",63.73]
["400","Vel","2.ª jornada do CD Sub18 em Pista Coberta ","2022-01-16","Pombal","ADAL","F",4,901,"Inês Vieira","BA","JUN",65.34]
["400","Vel","2.ª jornada do CD Sub18 em Pista Coberta ","2022-01-16","Pombal","ADAL","M",1,691,"João Pinto","JV","SEN",51.11]
["400","Vel","2.ª jornada do CD Sub18 em Pista Coberta ","2022-01-16","Pombal","ADAL","M",3,852,"Bruno Branco","CANAZ","JUN",59.27]
["400","Vel","2.ª jornada do CD Sub18 em Pista Coberta ","2022-01-16","Pombal","ADAL","M",1,891,"Paulo Soares","JV","SUB-23",50.34]
["4x200","Vel","2.ª jornada do CD Sub18 em Pista Coberta ","2022-01-16","Pombal","ADAL","F",1,10005,"A C D R ARNEIRENSE","ACDRA","JUV",110.61000000000001]
["4x200","Vel","2.ª jornada do CD Sub18 em Pista Coberta ","2022-01-16","Pombal","ADAL","F",2,10164,"ATLÉTICO C BATALHA","ACB-L","JUV",124.05000000000001]
["4x200","Vel","2.ª jornada do CD Sub18 em Pista Coberta ","2022-01-16","Pombal","ADAL","F",1,10872,"JUV VIDIGALENSE","JV","JUV",113.11]
["4x200","Vel","2.ª jornada do CD Sub18 em Pista Coberta ","2022-01-16","Pombal","ADAL","F",3,10010,"JV - B","JV","JUV",117.82999999999998]
["4x200","Vel","2.ª jornada do CD Sub18 em Pista Coberta ","2022-01-16","Pombal","ADAL","M",1,10943,"A C D R ARNEIRENSE","ACDRA","JUV",98.600000000000009]
["4x200","Vel","2.ª jornada do CD Sub18 em Pista Coberta ","2022-01-16","Pombal","ADAL","M",3,10231,"JV - B","JV","JUV",107.64999999999999]
["60B076","Vel","2.ª jornada do CD Sub18 em Pista Coberta ","2022-01-16","Pombal","ADAL","F",4,250,"Carolina Neves","NDAP","INI",11.93]
["60B076","Vel","2.ª jornada do CD Sub18 em Pista Coberta ","2022-01-16","Pombal","ADAL","F",1,684,"Catarina Silva","JV","JUV",10.49]
["60B076","Vel","2.ª jornada do CD Sub18 em Pista Coberta ","2022-01-16","Pombal","ADAL","F",2,166,"Constança Anunciação","ACB-L","JUV",10.77]
["60B076","Vel","2.ª jornada do CD Sub18 em Pista Coberta ","2022-01-16","Pombal","ADAL","F",3,872,"Beatriz Luís","JV","JUV",11.2]
["60B076","Vel","2.ª jornada do CD Sub18 em Pista Coberta ","2022-01-16","Pombal","ADAL","F",4,159,"Vitória Shybayeva","JV","INI",12.33]
["60B076","Vel","2.ª jornada do CD Sub18 em Pista Coberta ","2022-01-16","Pombal","ADAL","F",5,277,"Nina Barreiros","NDAP","JUV",12.61]
["60B076","Vel","2.ª jornada do CD Sub18 em Pista Coberta ","2022-01-16","Pombal","ADAL","F",6,279,"Oleksandra Sliposhch","NDAP","INI",12.84]
["60B076","Vel","2.ª jornada do CD Sub18 em Pista Coberta ","2022-01-16","Pombal","ADAL","F",7,86,"Filipa Moita","JV","INI",13.52]
["60B076","Vel","2.ª jornada do CD Sub18 em Pista Coberta ","2022-01-16","Pombal","ADAL","F",2,849,"Sofia Quintino","ACDRA","JUV",9.9700000000000006]
["60B076","Vel","2.ª jornada do CD Sub18 em Pista Coberta ","2022-01-16","Pombal","ADAL","F",3,821,"Margarida Santos","JV","JUV",10.51]
["60B076","Vel","2.ª jornada do CD Sub18 em Pista Coberta ","2022-01-16","Pombal","ADAL","F",4,105,"Katerina Quinn","JV","INI",10.55]
["60B076","Vel","2.ª jornada do CD Sub18 em Pista Coberta ","2022-01-16","Pombal","ADAL","F",6,762,"Leonor Estorninho","CANAZ","INI",12.01]
["60B076","Vel","2.ª jornada do CD Sub18 em Pista Coberta ","2022-01-16","Pombal","ADAL","F",7,64,"Carolina Marques","JV","JUV",12.11]
["60B076","Vel","2.ª jornada do CD Sub18 em Pista Coberta ","2022-01-16","Pombal","ADAL","F",1,849,"Sofia Quintino","ACDRA","JUV",9.91]
["60B076","Vel","2.ª jornada do CD Sub18 em Pista Coberta ","2022-01-16","Pombal","ADAL","F",3,821,"Margarida Santos","JV","JUV",10.220000000000001]
["60B076","Vel","2.ª jornada do CD Sub18 em Pista Coberta ","2022-01-16","Pombal","ADAL","F",4,105,"Katerina Quinn","JV","INI",10.25]
["60B076","Vel","2.ª jornada do CD Sub18 em Pista Coberta ","2022-01-16","Pombal","ADAL","F",6,684,"Catarina Silva","JV","JUV",10.74]
["60B076","Vel","2.ª jornada do CD Sub18 em Pista Coberta ","2022-01-16","Pombal","ADAL","F",7,166,"Constança Anunciação","ACB-L","JUV",10.78]
["60B091","Vel","2.ª jornada do CD Sub18 em Pista Coberta ","2022-01-16","Pombal","ADAL","M",1,808,"Miguel Marques","CAMG","JUV",9.01]
["60B091","Vel","2.ª jornada do CD Sub18 em Pista Coberta ","2022-01-16","Pombal","ADAL","M",3,519,"Edson Dias","ACB-L","JUV",9.4499999999999993]
["60B091","Vel","2.ª jornada do CD Sub18 em Pista Coberta ","2022-01-16","Pombal","ADAL","M",4,274,"Martim Antunes","NDAP","INI",11.81]
["60B091","Vel","2.ª jornada do CD Sub18 em Pista Coberta ","2022-01-16","Pombal","ADAL","M",5,178,"Ivo Gomes","ACB-L","JUV",11.82]
["60B091","Vel","2.ª jornada do CD Sub18 em Pista Coberta ","2022-01-16","Pombal","ADAL","M",1,140,"Rafael Morgado","JV","INI",10.8]
["60B091","Vel","2.ª jornada do CD Sub18 em Pista Coberta ","2022-01-16","Pombal","ADAL","M",2,131,"Miguel Barros Campos","JV","INI",10.92]
["60B091","Vel","2.ª jornada do CD Sub18 em Pista Coberta ","2022-01-16","Pombal","ADAL","M",3,685,"Dinis Santos","JV","JUV",12.6]
["60B100","Vel","2.ª jornada do CD Sub18 em Pista Coberta ","2022-01-16","Pombal","ADAL","M",1,517,"Gabriel Borges","ACB-L","JUN",9.25]
["60B100","Vel","2.ª jornada do CD Sub18 em Pista Coberta ","2022-01-16","Pombal","ADAL","M",2,887,"Guilherme Pereira","JV","JUN",9.34]
["60B106","Vel","2.ª jornada do CD Sub18 em Pista Coberta ","2022-01-16","Pombal","ADAL","M",1,892,"Rafael Correia","JV","SEN",8.36]
["ALTURA","Sal","2.ª jornada do CD Sub18 em Pista Coberta ","2022-01-16","Pombal","ADAL","M",1,992,"Simão Pereira","JV","SUB-23",1.95]
["ALTURA","Sal","2.ª jornada do CD Sub18 em Pista Coberta ","2022-01-16","Pombal","ADAL","M",2,775,"Tiago Gama","AAADP","JUN",1.87]
["ALTURA","Sal","2.ª jornada do CD Sub18 em Pista Coberta ","2022-01-16","Pombal","ADAL","M",2,74,"Denis Hrabar","JV","INI",1.74]
["ALTURA","Sal","2.ª jornada do CD Sub18 em Pista Coberta ","2022-01-16","Pombal","ADAL","M",4,157,"Tomás Monteiro","JV","INI",1.62]
["ALTURA","Sal","2.ª jornada do CD Sub18 em Pista Coberta ","2022-01-16","Pombal","ADAL","M",6,248,"Afonso Rodrigues","NDAP","INI",1.47]
["ALTURA","Sal","2.ª jornada do CD Sub18 em Pista Coberta ","2022-01-16","Pombal","ADAL","M",8,850,"Diogo Reis","NDAP","JUV",1.42]
["VARA","Sal","2.ª jornada do CD Sub18 em Pista Coberta ","2022-01-16","Pombal","ADAL","F",1,211,"Vera Duque","ACB-L","JUN",1.8]
["VARA","Sal","2.ª jornada do CD Sub18 em Pista Coberta ","2022-01-16","Pombal","ADAL","F",1,684,"Catarina Silva","JV","JUV",2.35]
["10KMMX","MX","Campeonatos Nacionais de Marcha em Estrada","2022-01-16","Porto de Mós","FPA","M",3,85,"Eduardo Camarate","JV","JUV",3.7928240740740742E-2]
["10KMMX","MX","Campeonatos Nacionais de Marcha em Estrada","2022-01-16","Porto de Mós","FPA","M",4,84,"David Gregório","JV","JUV",3.8946759259259257E-2]
["10KMMX","MX","Campeonatos Nacionais de Marcha em Estrada","2022-01-16","Porto de Mós","FPA","M",5,78,"André Moreira","GDP-L","JUV",3.953703703703703E-2]
["10KMMX","MX","Campeonatos Nacionais de Marcha em Estrada","2022-01-16","Porto de Mós","FPA","M",6,36,"Francisco Lima","CDBBR","JUV",4.3009259259259254E-2]
["10KMMX","MX","Campeonatos Nacionais de Marcha em Estrada","2022-01-16","Porto de Mós","FPA","M",7,69,"Edgar Simões","GACV","JUV",4.4224537037037041E-2]
["20KMMX","MX","Campeonatos Nacionais de Marcha em Estrada","2022-01-16","Porto de Mós","FPA","M",3,88,"Luís Silva","LMA-L","VET 50",7.4189814814814806E-2]
["20KMMX","MX","Campeonatos Nacionais de Marcha em Estrada","2022-01-16","Porto de Mós","FPA","M",16,72,"José Oliveira","GDAA","VET 60",9.7534722222222217E-2]
["35KMMX","MX","Campeonatos Nacionais de Marcha em Estrada","2022-01-16","Porto de Mós","FPA","M",5,88,"Luís Silva","LMA-L","VET 50",0.13365740740740742]
["3KMMX","MX","Campeonatos Nacionais de Marcha em Estrada","2022-01-16","Porto de Mós","FPA","M",1,86,"Francisco Gregório","JV","INF",1.6655092592592593E-2]
["4KMMX","MX","Campeonatos Nacionais de Marcha em Estrada","2022-01-16","Porto de Mós","FPA","F",2,75,"Lara Beato","GDP-L","INI",1.6701388888888887E-2]
["4KMMX","MX","Campeonatos Nacionais de Marcha em Estrada","2022-01-16","Porto de Mós","FPA","F",3,29,"Matilde Angélico","CAMG","INI",1.7141203703703704E-2]
["4KMMX","MX","Campeonatos Nacionais de Marcha em Estrada","2022-01-16","Porto de Mós","FPA","F",4,67,"Filipa Nunes","GACV","INI",1.758101851851852E-2]
["4KMMX","MX","Campeonatos Nacionais de Marcha em Estrada","2022-01-16","Porto de Mós","FPA","F",5,76,"Alice Varino","GDP-L","INI",1.8240740740740741E-2]
["5KMMX","MX","Campeonatos Nacionais de Marcha em Estrada","2022-01-16","Porto de Mós","FPA","F",1,77,"Isa Ferreira","GDP-L","JUV",1.834490740740741E-2]
["5KMMX","MX","Campeonatos Nacionais de Marcha em Estrada","2022-01-16","Porto de Mós","FPA","F",3,15,"Inês Belbute","ACDRA","JUV",2.0625000000000001E-2]
["Hep-Juv","Comb","Campeonatos Nacionais de Sub-18 PC","2022-01-16","Braga","FPA","M",1,167,"Bernardo Cunha","GDP-L","JUV",4600]
["Hep-Juv","Comb","Campeonatos Nacionais de Sub-18 PC","2022-01-16","Braga","FPA","M",6,197,"João Martins","JV","JUV",3684]
["Hep-Juv","Comb","Campeonatos Nacionais de Sub-18 PC","2022-01-16","Braga","FPA","M",7,196,"Luca Cruz","JV","JUV",3580]
["PEN-Juv","Comb","Campeonatos Nacionais de Sub-18 PC","2022-01-16","Braga","FPA","F",2,216,"Vera Goucha","JV","JUV",3140]
["PEN-Juv","Comb","Campeonatos Nacionais de Sub-18 PC","2022-01-16","Braga","FPA","F",4,19,"Sofia Quintino","ACDRA","JUV",2860]
["PEN-Juv","Comb","Campeonatos Nacionais de Sub-18 PC","2022-01-16","Braga","FPA","F",6,193,"Luana Figueira","JV","JUV",2668]
["PEN-Juv","Comb","Campeonatos Nacionais de Sub-18 PC","2022-01-16","Braga","FPA","F",8,208,"Sara Brites","JV","JUV",2577]
["200","Vel","3.ª jornada do CD Sub18 em Pista Coberta","2022-01-19","Pombal","ADAL","F",2,164,"Beatriz Alves","ACB-L","INI",29.64]
["200","Vel","3.ª jornada do CD Sub18 em Pista Coberta","2022-01-19","Pombal","ADAL","F",3,199,"Neidiceila Tavares","ACB-L","INI",29.69]
["200","Vel","3.ª jornada do CD Sub18 em Pista Coberta","2022-01-19","Pombal","ADAL","F",4,180,"Joana Seixas","ACB-L","INI",31.63]
["200","Vel","3.ª jornada do CD Sub18 em Pista Coberta","2022-01-19","Pombal","ADAL","F",5,190,"Mariana Carvalho","ACB-L","INI",32.64]
["200","Vel","3.ª jornada do CD Sub18 em Pista Coberta","2022-01-19","Pombal","ADAL","F",1,2,"Sara Brites","JV","JUV",28.03]
["200","Vel","3.ª jornada do CD Sub18 em Pista Coberta","2022-01-19","Pombal","ADAL","F",2,123,"Marta Feliciano","JV","INI",28.28]
["200","Vel","3.ª jornada do CD Sub18 em Pista Coberta","2022-01-19","Pombal","ADAL","F",3,896,"Eva Marques","AAADP","INI",29.49]
["200","Vel","3.ª jornada do CD Sub18 em Pista Coberta","2022-01-19","Pombal","ADAL","F",4,693,"Laura Baltazar","JV","JUV",30.53]
["200","Vel","3.ª jornada do CD Sub18 em Pista Coberta","2022-01-19","Pombal","ADAL","F",1,105,"Katerina Quinn","JV","INI",27.8]
["200","Vel","3.ª jornada do CD Sub18 em Pista Coberta","2022-01-19","Pombal","ADAL","F",2,282,"Vitoria Chornohor","NDAP","JUV",30.68]
["200","Vel","3.ª jornada do CD Sub18 em Pista Coberta","2022-01-19","Pombal","ADAL","F",3,95,"Inês Figueiredo","JV","INI",31.44]
["200","Vel","3.ª jornada do CD Sub18 em Pista Coberta","2022-01-19","Pombal","ADAL","F",4,53,"Anabela Silva","JV","JUV",31.82]
["200","Vel","3.ª jornada do CD Sub18 em Pista Coberta","2022-01-19","Pombal","ADAL","F",1,821,"Margarida Santos","JV","JUV",28.79]
["200","Vel","3.ª jornada do CD Sub18 em Pista Coberta","2022-01-19","Pombal","ADAL","F",2,384,"Maria Vicente","ACDRA","INI",29.35]
["200","Vel","3.ª jornada do CD Sub18 em Pista Coberta","2022-01-19","Pombal","ADAL","F",3,872,"Beatriz Luís","JV","JUV",29.43]
["200","Vel","3.ª jornada do CD Sub18 em Pista Coberta","2022-01-19","Pombal","ADAL","F",4,64,"Carolina Marques","JV","JUV",30.48]
["200","Vel","3.ª jornada do CD Sub18 em Pista Coberta","2022-01-19","Pombal","ADAL","F",1,774,"Marta Carriço","ACDRA","INI",26.44]
["200","Vel","3.ª jornada do CD Sub18 em Pista Coberta","2022-01-19","Pombal","ADAL","F",3,877,"Carolina Castro","JV","JUV",26.9]
["200","Vel","3.ª jornada do CD Sub18 em Pista Coberta","2022-01-19","Pombal","ADAL","F",4,370,"Beatriz Gonçalves","ACDRA","JUV",28.88]
["200","Vel","3.ª jornada do CD Sub18 em Pista Coberta","2022-01-19","Pombal","ADAL","F",1,310,"Tatiana Francisco","GAC-L","SUB-23",27.56]
["200","Vel","3.ª jornada do CD Sub18 em Pista Coberta","2022-01-19","Pombal","ADAL","F",2,878,"Carolina Gaspar","JV","JUN",27.65]
["200","Vel","3.ª jornada do CD Sub18 em Pista Coberta","2022-01-19","Pombal","ADAL","F",4,167,"Diana Duarte","ACB-L","JUN",29.21]
["200","Vel","3.ª jornada do CD Sub18 em Pista Coberta","2022-01-19","Pombal","ADAL","M",1,943,"Rodrigo Almeida","ACDRA","JUV",25.38]
["200","Vel","3.ª jornada do CD Sub18 em Pista Coberta","2022-01-19","Pombal","ADAL","M",2,776,"Pedro Nunes","AAADP","INI",26.57]
["200","Vel","3.ª jornada do CD Sub18 em Pista Coberta","2022-01-19","Pombal","ADAL","M",1,103,"João Mota","JV","INI",24.95]
["200","Vel","3.ª jornada do CD Sub18 em Pista Coberta","2022-01-19","Pombal","ADAL","M",2,701,"Pedro Pires","JV","JUV",26.03]
["200","Vel","3.ª jornada do CD Sub18 em Pista Coberta","2022-01-19","Pombal","ADAL","M",3,157,"Tomás Monteiro","JV","INI",26.32]
["200","Vel","3.ª jornada do CD Sub18 em Pista Coberta","2022-01-19","Pombal","ADAL","M",1,783,"Alexandre Babych","AAADP","JUV",23.78]
["200","Vel","3.ª jornada do CD Sub18 em Pista Coberta","2022-01-19","Pombal","ADAL","M",3,519,"Edson Dias","ACB-L","JUV",25.27]
["200","Vel","3.ª jornada do CD Sub18 em Pista Coberta","2022-01-19","Pombal","ADAL","M",2,588,"Duarte Neves","GAUB","JUN",24.91]
["200","Vel","3.ª jornada do CD Sub18 em Pista Coberta","2022-01-19","Pombal","ADAL","M",1,176,"Milton Martínez","ACB-L","SEN",24.1]
["200","Vel","3.ª jornada do CD Sub18 em Pista Coberta","2022-01-19","Pombal","ADAL","M",2,77,"Diogo Camacho","JV","JUN",25.4]
["3000MX","MX","3.ª jornada do CD Sub18 em Pista Coberta","2022-01-19","Pombal","ADAL","F",1,239,"Matilde Angélico","CAMG","INI",1.226226851851852E-2]
["3000MX","MX","3.ª jornada do CD Sub18 em Pista Coberta","2022-01-19","Pombal","ADAL","F",2,380,"Isaura Correia","ACDRA","INI",1.4427083333333333E-2]
["5000MX","MX","3.ª jornada do CD Sub18 em Pista Coberta","2022-01-19","Pombal","ADAL","M",1,84,"Eduardo Camarate","JV","JUV",1.9176041666666668E-2]
["5000MX","MX","3.ª jornada do CD Sub18 em Pista Coberta","2022-01-19","Pombal","ADAL","M",2,72,"David Gregório","JV","JUV",1.9340393518518521E-2]
["800","MF","3.ª jornada do CD Sub18 em Pista Coberta","2022-01-19","Pombal","ADAL","F",1,189,"Maria Jesus","ACB-L","INI","00:02:31.600"]
["800","MF","3.ª jornada do CD Sub18 em Pista Coberta","2022-01-19","Pombal","ADAL","F",4,780,"Maria Caleiras","JV","JUV","00:02:55.600"]
["800","MF","3.ª jornada do CD Sub18 em Pista Coberta","2022-01-19","Pombal","ADAL","F",5,604,"Sofia Mota","GAUB","JUV","00:03:19.600"]
["800","MF","3.ª jornada do CD Sub18 em Pista Coberta","2022-01-19","Pombal","ADAL","F",6,582,"Ângela Alberto","GAUB","JUV","00:03:39.920"]
["800","MF","3.ª jornada do CD Sub18 em Pista Coberta","2022-01-19","Pombal","ADAL","F",1,683,"Carlota Ferreira","JV","JUV","00:02:23.690"]
["800","MF","3.ª jornada do CD Sub18 em Pista Coberta","2022-01-19","Pombal","ADAL","F",3,82,"Eduarda Silva","JV","JUV","00:02:24.880"]
["800","MF","3.ª jornada do CD Sub18 em Pista Coberta","2022-01-19","Pombal","ADAL","F",4,372,"Caetana Neves","ACDRA","INI","00:02:31.570"]
["800","MF","3.ª jornada do CD Sub18 em Pista Coberta","2022-01-19","Pombal","ADAL","F",6,146,"Sara Lopes","JV","JUV","00:02:39.470"]
["800","MF","3.ª jornada do CD Sub18 em Pista Coberta","2022-01-19","Pombal","ADAL","F",2,392,"Daniela Cordeiro","GAUB","SEN","00:02:35.700"]
["800","MF","3.ª jornada do CD Sub18 em Pista Coberta","2022-01-19","Pombal","ADAL","F",5,755,"Maria Cabecinhas","GAUB","JUN","00:02:56.710"]
["800","MF","3.ª jornada do CD Sub18 em Pista Coberta","2022-01-19","Pombal","ADAL","M",1,152,"Tiago Jorge","JV","JUV","00:02:10.260"]
["800","MF","3.ª jornada do CD Sub18 em Pista Coberta","2022-01-19","Pombal","ADAL","M",2,995,"Martim Mendes","NDA","INI","00:02:17.620"]
["800","MF","3.ª jornada do CD Sub18 em Pista Coberta","2022-01-19","Pombal","ADAL","M",4,185,"Leonardo Mendes","ACB-L","INI","00:02:23.370"]
["800","MF","3.ª jornada do CD Sub18 em Pista Coberta","2022-01-19","Pombal","ADAL","M",6,100,"João Fernandes","JV","INI","00:02:26.790"]
["800","MF","3.ª jornada do CD Sub18 em Pista Coberta","2022-01-19","Pombal","ADAL","M",2,108,"Leonardo Jacinto","JV","JUV","00:02:13.690"]
["800","MF","3.ª jornada do CD Sub18 em Pista Coberta","2022-01-19","Pombal","ADAL","M",6,253,"Francisco Mota","NDAP","INI","00:02:15.950"]
["800","MF","3.ª jornada do CD Sub18 em Pista Coberta","2022-01-19","Pombal","ADAL","M",1,134,"Nuno Cordeiro","JV","JUV","00:02:02.490"]
["800","MF","3.ª jornada do CD Sub18 em Pista Coberta","2022-01-19","Pombal","ADAL","M",2,369,"Tomás Casimiro","ACDRA","JUV","00:02:06.010"]
["800","MF","3.ª jornada do CD Sub18 em Pista Coberta","2022-01-19","Pombal","ADAL","M",4,375,"Diogo Nogueira","ACDRA","JUV","00:02:08.840"]
["800","MF","3.ª jornada do CD Sub18 em Pista Coberta","2022-01-19","Pombal","ADAL","M",6,141,"Rafael Vieira","JV","JUV","00:02:10.900"]
["800","MF","3.ª jornada do CD Sub18 em Pista Coberta","2022-01-19","Pombal","ADAL","M",2,585,"Daniel Cabecinhas","GAUB","SUB-23","00:02:01.690"]
["800","MF","3.ª jornada do CD Sub18 em Pista Coberta","2022-01-19","Pombal","ADAL","M",4,595,"Licínio Silva","GAUB","SEN","00:02:04.910"]
["800","MF","3.ª jornada do CD Sub18 em Pista Coberta","2022-01-19","Pombal","ADAL","M",5,752,"Rodrigo Feteira","GAUB","JUN","00:02:29.810"]
["800","MF","3.ª jornada do CD Sub18 em Pista Coberta","2022-01-19","Pombal","ADAL","M",3,504,"Rodrigo Ribeiro","NDA","JUN","00:02:09.510"]
["TRIPLO","Sal","3.ª jornada do CD Sub18 em Pista Coberta","2022-01-19","Pombal","ADAL","M",1,374,"Diogo Chaves","ACDRA","JUV",12.8,"X",11.91,12.8,12.57,"X",12.51]
["TRIPLO","Sal","3.ª jornada do CD Sub18 em Pista Coberta","2022-01-19","Pombal","ADAL","M",2,690,"João Martins","JV","JUV",12.3,12.28,"X",12.16,"X","X",12.3]
["TRIPLO","Sal","3.ª jornada do CD Sub18 em Pista Coberta","2022-01-19","Pombal","ADAL","M",4,157,"Tomás Monteiro","JV","INI",11.22,11.22,10.99,11.04,11.19,"X",11.17]
["TRIPLO","Sal","3.ª jornada do CD Sub18 em Pista Coberta","2022-01-19","Pombal","ADAL","M",5,701,"Pedro Pires","JV","JUV",11.09,11.05,11.09,10.08,10.6,"X",10.84]
["TRIPLO","Sal","3.ª jornada do CD Sub18 em Pista Coberta","2022-01-19","Pombal","ADAL","M",6,1042,"Vadym Skafaryk","JV","JUV",10.9,10.59,10.59,10.9,10.71,"X","X"]
["TRIPLO","Sal","3.ª jornada do CD Sub18 em Pista Coberta","2022-01-19","Pombal","ADAL","M",1,777,"Afonso Marques","AAADP","JUN",13.56,13.4,13.22,13.56]
["TRIPLO","Sal","3.ª jornada do CD Sub18 em Pista Coberta","2022-01-19","Pombal","ADAL","M",2,214,"André Rodrigues","CAMG","JUN",13.12,13.05,12.78,13.12]
["TRIPLO","Sal","3.ª jornada do CD Sub18 em Pista Coberta","2022-01-19","Pombal","ADAL","F",1,849,"Sofia Quintino","ACDRA","JUV",10.93,10.93,10.39,"-","X","-","-"]
["TRIPLO","Sal","3.ª jornada do CD Sub18 em Pista Coberta","2022-01-19","Pombal","ADAL","F",2,384,"Maria Vicente","ACDRA","INI",10.74,10.47,10.38,10.74,10.27,10.48,10.68]
["TRIPLO","Sal","3.ª jornada do CD Sub18 em Pista Coberta","2022-01-19","Pombal","ADAL","F",3,697,"Luana Figueira","JV","JUV",10.36,9.89,10.14,10.119999999999999,10.1,9.94,10.36]
["TRIPLO","Sal","3.ª jornada do CD Sub18 em Pista Coberta","2022-01-19","Pombal","ADAL","F",4,105,"Katerina Quinn","JV","INI",10.36,9.93,9.99,9.7100000000000009,9.93,10,10.36]
["TRIPLO","Sal","3.ª jornada do CD Sub18 em Pista Coberta","2022-01-19","Pombal","ADAL","F",6,2,"Sara Brites","JV","JUV",10.06,10.06,"X","X","-","-","-"]
["TRIPLO","Sal","3.ª jornada do CD Sub18 em Pista Coberta","2022-01-19","Pombal","ADAL","F",9,282,"Vitoria Chornohor","NDAP","JUV",9.5500000000000007,9.5299999999999994,9.5500000000000007,9.24]
["TRIPLO","Sal","3.ª jornada do CD Sub18 em Pista Coberta","2022-01-19","Pombal","ADAL","F",10,64,"Carolina Marques","JV","JUV",9.48,"X",9.48,"X"]
["TRIPLO","Sal","3.ª jornada do CD Sub18 em Pista Coberta","2022-01-19","Pombal","ADAL","F",11,693,"Laura Baltazar","JV","JUV",9.26,9.26,"X",9.06]
["TRIPLO","Sal","3.ª jornada do CD Sub18 em Pista Coberta","2022-01-19","Pombal","ADAL","F",12,899,"Constança Abreu","AAADP","INI",9.18,9.0399999999999991,9.18,9.0299999999999994]
["TRIPLO","Sal","3.ª jornada do CD Sub18 em Pista Coberta","2022-01-19","Pombal","ADAL","F",1,818,"Eduarda Ferreira","JV","SUB-23",11.47,11.13,"X",11.47]
["TRIPLO","Sal","3.ª jornada do CD Sub18 em Pista Coberta","2022-01-19","Pombal","ADAL","F",2,820,"Margarida Santos","JV","JUN",11.44,11.44,11.41,11.34]
["TRIPLO","Sal","3.ª jornada do CD Sub18 em Pista Coberta","2022-01-19","Pombal","ADAL","F",3,888,"Juliana Brites","JV","SUB-23",11.33,"X","X",11.33]
["TRIPLO","Sal","3.ª jornada do CD Sub18 em Pista Coberta","2022-01-19","Pombal","ADAL","F",5,817,"Ana Reis","JV","JUN",10.83,10.81,10.83,10.66]
["VARA","Sal","3.ª jornada do CD Sub18 em Pista Coberta","2022-01-19","Pombal","ADAL","M",1,74,"Denis Hrabar","JV","INI",3.6]
["VARA","Sal","3.ª jornada do CD Sub18 em Pista Coberta","2022-01-19","Pombal","ADAL","M",2,113,"Luca Cruz","JV","JUV",3.05]
["VARA","Sal","3.ª jornada do CD Sub18 em Pista Coberta","2022-01-19","Pombal","ADAL","M",1,887,"Guilherme Pereira","JV","JUN",4.3]
["VARA","Sal","3.ª jornada do CD Sub18 em Pista Coberta","2022-01-19","Pombal","ADAL","M",2,244,"Pedro Fernandes","CAMG","SUB-23",4.2]
["1500","MF","Campeonatos Nacionais de Clubes em PC - Apur","2022-01-23","Pombal","FPA","M",2,103,"Tomás Casimiro","ACDRA","JUV","00:04:12.320"]
["1500","MF","Campeonatos Nacionais de Clubes em PC - Apur","2022-01-23","Pombal","FPA","M",4,356,"Bruno Gonçalves","CAMG","VET 35","00:04:17.270"]
["1500","MF","Campeonatos Nacionais de Clubes em PC - Apur","2022-01-23","Pombal","FPA","M",3,1150,"David Azevedo","JV","SUB-23","00:04:04.200"]
["1500","MF","Campeonatos Nacionais de Clubes em PC - Apur","2022-01-23","Pombal","FPA","M",8,77,"Duarte F Rodrigues","ACB-L","JUN","00:04:32.170"]
["1500","MF","Campeonatos Nacionais de Clubes em PC - Apur","2022-01-23","Pombal","FPA","F",1,1159,"Lília Martins","JV","SEN","00:04:38.610"]
["3000","MF","Campeonatos Nacionais de Clubes em PC - Apur","2022-01-23","Pombal","FPA","M",3,98,"António Barros","ACDRA","SEN","00:09:22.350"]
["3000","MF","Campeonatos Nacionais de Clubes em PC - Apur","2022-01-23","Pombal","FPA","M",4,361,"Emamuel Cardoso","CAMG","SEN","00:09:25.440"]
["3000","MF","Campeonatos Nacionais de Clubes em PC - Apur","2022-01-23","Pombal","FPA","M",4,1161,"André Antunes","JV","SUB-23","00:09:06.360"]
["3000","MF","Campeonatos Nacionais de Clubes em PC - Apur","2022-01-23","Pombal","FPA","M",8,60,"Nuno Serrada","ACB-L","VET 40","00:09:48.190"]
["3000","MF","Campeonatos Nacionais de Clubes em PC - Apur","2022-01-23","Pombal","FPA","F",1,1167,"Cátia Pereira","JV","SUB-23","00:10:13.660"]
["3000","MF","Campeonatos Nacionais de Clubes em PC - Apur","2022-01-23","Pombal","FPA","F",2,370,"Catarina Ferreira","CAMG","JUN","00:11:05.680"]
["3000MX","MX","Campeonatos Nacionais de Clubes em PC - Apur","2022-01-23","Pombal","FPA","F",3,111,"Érica Morgado","ACDRA","JUN",1.7251041666666665E-2]
["3000MX","MX","Campeonatos Nacionais de Clubes em PC - Apur","2022-01-23","Pombal","FPA","F",1,1186,"Bruna Marques","JV","SUB-23",9.8579861111111108E-3]
["400","Vel","Campeonatos Nacionais de Clubes em PC - Apur","2022-01-23","Pombal","FPA","M",4,372,"Miguel Marques","CAMG","JUV",53.26]
["400","Vel","Campeonatos Nacionais de Clubes em PC - Apur","2022-01-23","Pombal","FPA","M",5,112,"Hugo Tavares","ACDRA","JUV",53.45]
["400","Vel","Campeonatos Nacionais de Clubes em PC - Apur","2022-01-23","Pombal","FPA","F",3,102,"Beatriz Gonçalves","ACDRA","JUV",67.84]
["400","Vel","Campeonatos Nacionais de Clubes em PC - Apur","2022-01-23","Pombal","FPA","M",3,56,"Edson Dias","ACB-L","JUV",55.04]
["400","Vel","Campeonatos Nacionais de Clubes em PC - Apur","2022-01-23","Pombal","FPA","M",1,1181,"Paulo Soares","JV","SUB-23",49.18]
["400","Vel","Campeonatos Nacionais de Clubes em PC - Apur","2022-01-23","Pombal","FPA","F",1,1172,"Mariana Vidinha","JV","JUN",60.17]
["400","Vel","Campeonatos Nacionais de Clubes em PC - Apur","2022-01-23","Pombal","FPA","F",4,71,"M. João Bartolomeu","ACB-L","JUN",70.53]
["4X400","Vel","Campeonatos Nacionais de Clubes em PC - Apur","2022-01-23","Pombal","FPA","M",3,10097,"A C D R ARNEIRENSE","ACDRA","SEN","03:47,40"]
["4X400","Vel","Campeonatos Nacionais de Clubes em PC - Apur","2022-01-23","Pombal","FPA","M",1,10079,"ATLÉTICO C BATALHA","ACB-L","SEN","03:43,36"]
["4X400","Vel","Campeonatos Nacionais de Clubes em PC - Apur","2022-01-23","Pombal","FPA","M",1,11181,"JUV VIDIGALENSE","JV","SEN","03:24,61"]
["4X400","Vel","Campeonatos Nacionais de Clubes em PC - Apur","2022-01-23","Pombal","FPA","F",2,11172,"JUV VIDIGALENSE","JV","SEN","04:07,33"]
["5000MX","MX","Campeonatos Nacionais de Clubes em PC - Apur","2022-01-23","Pombal","FPA","M",5,1165,"Eduardo Camarate","JV","JUV",1.8516666666666667E-2]
["5000MX","MX","Campeonatos Nacionais de Clubes em PC - Apur","2022-01-23","Pombal","FPA","M",6,63,"Rui Duarte","ACB-L","VET 35",1.9309143518518521E-2]
["60","Vel","Campeonatos Nacionais de Clubes em PC - Apur","2022-01-23","Pombal","FPA","M",3,113,"Floriano Brujan","ACDRA","JUN",7.42]
["60","Vel","Campeonatos Nacionais de Clubes em PC - Apur","2022-01-23","Pombal","FPA","M",4,366,"Francisco Vilhena","CAMG","SUB-23",7.74]
["60","Vel","Campeonatos Nacionais de Clubes em PC - Apur","2022-01-23","Pombal","FPA","F",1,115,"Beatriz Castelhano","ACDRA","JUV",8.01]
["60","Vel","Campeonatos Nacionais de Clubes em PC - Apur","2022-01-23","Pombal","FPA","M",2,80,"Tomás Areias","ACB-L","JUN",7.31]
["60","Vel","Campeonatos Nacionais de Clubes em PC - Apur","2022-01-23","Pombal","FPA","M",1,1156,"João Pinto","JV","SEN",7.14]
["60","Vel","Campeonatos Nacionais de Clubes em PC - Apur","2022-01-23","Pombal","FPA","F",1,1182,"Mariana Videira","JV","JUN",7.88]
["60","Vel","Campeonatos Nacionais de Clubes em PC - Apur","2022-01-23","Pombal","FPA","F",5,81,"Diana Duarte","ACB-L","JUN",8.32]
["60B084","Vel","Campeonatos Nacionais de Clubes em PC - Apur","2022-01-23","Pombal","FPA","F",1,1149,"Raquel Lourenço","JV","SEN",8.85]
["60B106","Vel","Campeonatos Nacionais de Clubes em PC - Apur","2022-01-23","Pombal","FPA","M",1,1145,"Rafael Correia","JV","SEN",8.26]
["60B106","Vel","Campeonatos Nacionais de Clubes em PC - Apur","2022-01-23","Pombal","FPA","M",6,79,"Gabriel Borges","ACB-L","JUN",9.15]
["800","MF","Campeonatos Nacionais de Clubes em PC - Apur","2022-01-23","Pombal","FPA","M",5,105,"Francisco Figueirôa","ACDRA","JUV","00:03:01.940"]
["800","MF","Campeonatos Nacionais de Clubes em PC - Apur","2022-01-23","Pombal","FPA","F",3,106,"Constança Correia","ACDRA","JUV","00:02:58.800"]
["800","MF","Campeonatos Nacionais de Clubes em PC - Apur","2022-01-23","Pombal","FPA","M",2,1179,"Jorge Pereira","JV","SUB-23","00:01:52.540"]
["800","MF","Campeonatos Nacionais de Clubes em PC - Apur","2022-01-23","Pombal","FPA","M",8,67,"Rafael Anunciação","ACB-L","SUB-23","00:02:12.690"]
["800","MF","Campeonatos Nacionais de Clubes em PC - Apur","2022-01-23","Pombal","FPA","F",3,1151,"Andreia Pingueiro","JV","SEN","00:02:18.950"]
["ALTURA","Sal","Campeonatos Nacionais de Clubes em PC - Apur","2022-01-23","Pombal","FPA","M",1,365,"Alexandre Lucas","CAMG","SEN",1.84]
["ALTURA","Sal","Campeonatos Nacionais de Clubes em PC - Apur","2022-01-23","Pombal","FPA","M",2,1170,"Simão Pereira","JV","SUB-23",1.92]
["ALTURA","Sal","Campeonatos Nacionais de Clubes em PC - Apur","2022-01-23","Pombal","FPA","M",4,72,"Tiago Gomes","ACB-L","JUV",1.75]
["ALTURA","Sal","Campeonatos Nacionais de Clubes em PC - Apur","2022-01-23","Pombal","FPA","F",2,1153,"Luana Figueira","JV","JUV",1.58]
["COMPRIM","Sal","Campeonatos Nacionais de Clubes em PC - Apur","2022-01-23","Pombal","FPA","F",3,108,"Mariana Freitas","ACDRA","JUV",4.17,3.86,4.05,4.17,"X"]
["COMPRIM","Sal","Campeonatos Nacionais de Clubes em PC - Apur","2022-01-23","Pombal","FPA","M",1,371,"André Rodrigues","CAMG","JUN",6.35]
["COMPRIM","Sal","Campeonatos Nacionais de Clubes em PC - Apur","2022-01-23","Pombal","FPA","M",4,100,"Alexandre Cardeira","ACDRA","SEN",5.92]
["COMPRIM","Sal","Campeonatos Nacionais de Clubes em PC - Apur","2022-01-23","Pombal","FPA","F",2,1149,"Raquel Lourenço","JV","SEN",5.4,5.4,5.39,5.32,5.19]
["COMPRIM","Sal","Campeonatos Nacionais de Clubes em PC - Apur","2022-01-23","Pombal","FPA","M",1,1169,"André Pimenta","JV","SUB-23",6.93,"X","X",6.92,6.93]
["COMPRIM","Sal","Campeonatos Nacionais de Clubes em PC - Apur","2022-01-23","Pombal","FPA","M",6,83,"Edilson Martínez","ACB-L","SUB-23",5.95,5.95,5.65,"-","-"]
["PESO4","Lan","Campeonatos Nacionais de Clubes em PC - Apur","2022-01-23","Pombal","FPA","F",2,101,"Leonor Belchior","ACDRA","JUV",7.48,7.48,"X",6.56,7.25]
["PESO4","Lan","Campeonatos Nacionais de Clubes em PC - Apur","2022-01-23","Pombal","FPA","F",1,1152,"Inês Carreira","JV","SUB-23",12.43,"X",12.43,"X","X"]
["PESO7","Lan","Campeonatos Nacionais de Clubes em PC - Apur","2022-01-23","Pombal","FPA","M",1,363,"Miguel Carreira","CAMG","SEN",12.96,12.26,12.64,12.48,12.96]
["PESO7","Lan","Campeonatos Nacionais de Clubes em PC - Apur","2022-01-23","Pombal","FPA","M",3,1154,"Tomás Rodrigues","JV","SUB-23",12.91,"X","X",12.91,"X"]
["PESO7","Lan","Campeonatos Nacionais de Clubes em PC - Apur","2022-01-23","Pombal","FPA","M",5,64,"Steve Patrício","ACB-L","SEN",11.84,"X",10.78,"X",11.84]
["TRIPLO","Sal","Campeonatos Nacionais de Clubes em PC - Apur","2022-01-23","Pombal","FPA","F",1,110,"Sofia Quintino","ACDRA","JUV",10.84,10.74,10.84,9.36,10.68]
["TRIPLO","Sal","Campeonatos Nacionais de Clubes em PC - Apur","2022-01-23","Pombal","FPA","M",1,371,"André Rodrigues","CAMG","JUN",12.95,12.91,"X","X",12.95]
["TRIPLO","Sal","Campeonatos Nacionais de Clubes em PC - Apur","2022-01-23","Pombal","FPA","M",2,116,"Diogo Chaves","ACDRA","JUV",12.45,12.29,"X",12.45,"X"]
["TRIPLO","Sal","Campeonatos Nacionais de Clubes em PC - Apur","2022-01-23","Pombal","FPA","F",2,1174,"Margarida Santos","JV","JUN",11.74,11.54,11.55,"X",11.74]
["TRIPLO","Sal","Campeonatos Nacionais de Clubes em PC - Apur","2022-01-23","Pombal","FPA","M",5,1176,"Eduardo Oliveira","JV","JUN",13.39,"X",13.39,13.21,"X"]
["TRIPLO","Sal","Campeonatos Nacionais de Clubes em PC - Apur","2022-01-23","Pombal","FPA","M",6,83,"Edilson Martínez","ACB-L","SUB-23",12.95,12.29,12.55,12.95,"-"]
["VARA","Sal","Campeonatos Nacionais de Clubes em PC - Apur","2022-01-23","Pombal","FPA","M",1,360,"Pedro Fernandes","CAMG","SUB-23",3.82]
["VARA","Sal","Campeonatos Nacionais de Clubes em PC - Apur","2022-01-23","Pombal","FPA","F",2,1188,"Filipa Dinis","JV","JUV",2.69]
["VARA","Sal","Campeonatos Nacionais de Clubes em PC - Apur","2022-01-23","Pombal","FPA","F",5,76,"Vera Duque","ACB-L","JUN",2]
["VARA","Sal","Campeonatos Nacionais de Clubes em PC - Apur","2022-01-23","Pombal","FPA","M",2,1180,"Diogo Meneses","JV","SUB-23",4.4000000000000004]
["VARA","Sal","Campeonatos Nacionais de Clubes em PC - Apur","2022-01-23","Pombal","FPA","M",6,70,"George Silva","ACB-L","VET 45",3.4]
["250","Vel","3.ª Jornada CD Sub20 em Pista Coberta","2022-01-29","Pombal","ADAL","F",1,164,"Beatriz Alves","ACB-L","INI",37.590000000000003]
["250","Vel","3.ª Jornada CD Sub20 em Pista Coberta","2022-01-29","Pombal","ADAL","F",2,199,"Neidiceila Tavares","ACB-L","INI",38.92]
["250","Vel","3.ª Jornada CD Sub20 em Pista Coberta","2022-01-29","Pombal","ADAL","F",3,180,"Joana Seixas","ACB-L","INI",40.96]
["250","Vel","3.ª Jornada CD Sub20 em Pista Coberta","2022-01-29","Pombal","ADAL","F",4,150,"Sofiia Chemyrys","JV","INI",42.53]
["250","Vel","3.ª Jornada CD Sub20 em Pista Coberta","2022-01-29","Pombal","ADAL","F",1,149,"Sofia Santos","JV","INI",37.67]
["250","Vel","3.ª Jornada CD Sub20 em Pista Coberta","2022-01-29","Pombal","ADAL","F",2,109,"Leonor Ascenso","JV","INI",39.119999999999997]
["250","Vel","3.ª Jornada CD Sub20 em Pista Coberta","2022-01-29","Pombal","ADAL","F",3,124,"Marta Mestre","JV","INI",41.57]
["250","Vel","3.ª Jornada CD Sub20 em Pista Coberta","2022-01-29","Pombal","ADAL","F",4,59,"Bruna Amaral","JV","INI",42.07]
["250","Vel","3.ª Jornada CD Sub20 em Pista Coberta","2022-01-29","Pombal","ADAL","F",1,774,"Marta Carriço","ACDRA","INI",34.520000000000003]
["250","Vel","3.ª Jornada CD Sub20 em Pista Coberta","2022-01-29","Pombal","ADAL","F",2,105,"Katerina Quinn","JV","INI",35.81]
["250","Vel","3.ª Jornada CD Sub20 em Pista Coberta","2022-01-29","Pombal","ADAL","F",4,123,"Marta Feliciano","JV","INI",36.299999999999997]
["250","Vel","3.ª Jornada CD Sub20 em Pista Coberta","2022-01-29","Pombal","ADAL","M",2,776,"Pedro Nunes","AAADP","INI",34.659999999999997]
["250","Vel","3.ª Jornada CD Sub20 em Pista Coberta","2022-01-29","Pombal","ADAL","M",3,1047,"Brody Miller","ACDRA","INI",37.75]
["250","Vel","3.ª Jornada CD Sub20 em Pista Coberta","2022-01-29","Pombal","ADAL","M",5,387,"Rodrigo Martins","ACDRA","INI",39.97]
["250","Vel","3.ª Jornada CD Sub20 em Pista Coberta","2022-01-29","Pombal","ADAL","M",1,4,"Gabriel Cunha","GDP-L","INI",32.200000000000003]
["250","Vel","3.ª Jornada CD Sub20 em Pista Coberta","2022-01-29","Pombal","ADAL","M",2,995,"Martim Mendes","NDA","INI",33.28]
["250","Vel","3.ª Jornada CD Sub20 em Pista Coberta","2022-01-29","Pombal","ADAL","M",3,133,"Nikita Miroshnyk","JV","INI",36.369999999999997]
["250","Vel","3.ª Jornada CD Sub20 em Pista Coberta","2022-01-29","Pombal","ADAL","M",4,334,"Matias Ferreira","GDP-L","INI",37]
["250","Vel","3.ª Jornada CD Sub20 em Pista Coberta","2022-01-29","Pombal","ADAL","M",1,74,"Denis Hrabar","JV","INI",31.88]
["250","Vel","3.ª Jornada CD Sub20 em Pista Coberta","2022-01-29","Pombal","ADAL","M",2,103,"João Mota","JV","INI",32.549999999999997]
["250","Vel","3.ª Jornada CD Sub20 em Pista Coberta","2022-01-29","Pombal","ADAL","M",3,131,"Miguel Barros Campos","JV","INI",32.85]
["250","Vel","3.ª Jornada CD Sub20 em Pista Coberta","2022-01-29","Pombal","ADAL","M",4,160,"Rafael Dias","JV","INI",33.29]
["250","Vel","3.ª Jornada CD Sub20 em Pista Coberta","2022-01-29","Pombal","ADAL","M",5,157,"Tomás Monteiro","JV","INI",33.6]
["3000","MF","3.ª Jornada CD Sub20 em Pista Coberta","2022-01-29","Pombal","ADAL","F",5,379,"Inês Belbute","ACDRA","JUV","00:12:41.090"]
["3000","MF","3.ª Jornada CD Sub20 em Pista Coberta","2022-01-29","Pombal","ADAL","F",6,780,"Maria Caleiras","JV","JUV","00:13:51.670"]
["3000","MF","3.ª Jornada CD Sub20 em Pista Coberta","2022-01-29","Pombal","ADAL","F",1,82,"Eduarda Silva","JV","JUV","00:10:43.980"]
["3000","MF","3.ª Jornada CD Sub20 em Pista Coberta","2022-01-29","Pombal","ADAL","F",2,220,"Catarina Ferreira","CAMG","JUN","00:11:01.360"]
["3000","MF","3.ª Jornada CD Sub20 em Pista Coberta","2022-01-29","Pombal","ADAL","M",11,572,"Pedro Rocha","CANAZ","JUV","00:12:49.320"]
["3000","MF","3.ª Jornada CD Sub20 em Pista Coberta","2022-01-29","Pombal","ADAL","M",8,152,"Tiago Jorge","JV","JUV","00:09:33"]
["3000","MF","3.ª Jornada CD Sub20 em Pista Coberta","2022-01-29","Pombal","ADAL","M",9,108,"Leonardo Jacinto","JV","JUV","00:09:33.640"]
["400","Vel","3.ª Jornada CD Sub20 em Pista Coberta","2022-01-29","Pombal","ADAL","F",1,689,"Joana Gameiro","JV","JUN",61.7]
["400","Vel","3.ª Jornada CD Sub20 em Pista Coberta","2022-01-29","Pombal","ADAL","F",3,336,"Rafaela Pires","GDP-L","JUV",63.57]
["400","Vel","3.ª Jornada CD Sub20 em Pista Coberta","2022-01-29","Pombal","ADAL","F",4,146,"Sara Lopes","JV","JUV",66.88]
["400","Vel","3.ª Jornada CD Sub20 em Pista Coberta","2022-01-29","Pombal","ADAL","M",3,588,"Duarte Neves","GAUB","JUN",56.07]
["400","Vel","3.ª Jornada CD Sub20 em Pista Coberta","2022-01-29","Pombal","ADAL","M",1,317,"Bernardo Cunha","GDP-L","JUV",54.55]
["400","Vel","3.ª Jornada CD Sub20 em Pista Coberta","2022-01-29","Pombal","ADAL","M",2,701,"Pedro Pires","JV","JUV",57.7]
["400","Vel","3.ª Jornada CD Sub20 em Pista Coberta","2022-01-29","Pombal","ADAL","M",3,685,"Dinis Santos","JV","JUV",58.01]
["400","Vel","3.ª Jornada CD Sub20 em Pista Coberta","2022-01-29","Pombal","ADAL","M",4,853,"Eduardo Agualusa","CANAZ","JUN",59.93]
["400","Vel","3.ª Jornada CD Sub20 em Pista Coberta","2022-01-29","Pombal","ADAL","M",5,947,"José Alves","ADRM","VET 55",70.489999999999995]
["400","Vel","3.ª Jornada CD Sub20 em Pista Coberta","2022-01-29","Pombal","ADAL","M",2,852,"Bruno Branco","CANAZ","JUN",59.27]
["400","Vel","3.ª Jornada CD Sub20 em Pista Coberta","2022-01-29","Pombal","ADAL","M",2,808,"Miguel Marques","CAMG","JUV",53.63]
["60","Vel","3.ª Jornada CD Sub20 em Pista Coberta","2022-01-29","Pombal","ADAL","F",1,164,"Beatriz Alves","ACB-L","INI",8.76]
["60","Vel","3.ª Jornada CD Sub20 em Pista Coberta","2022-01-29","Pombal","ADAL","F",2,199,"Neidiceila Tavares","ACB-L","INI",8.86]
["60","Vel","3.ª Jornada CD Sub20 em Pista Coberta","2022-01-29","Pombal","ADAL","F",3,180,"Joana Seixas","ACB-L","INI",9.2799999999999994]
["60","Vel","3.ª Jornada CD Sub20 em Pista Coberta","2022-01-29","Pombal","ADAL","F",4,190,"Mariana Carvalho","ACB-L","INI",9.49]
["60","Vel","3.ª Jornada CD Sub20 em Pista Coberta","2022-01-29","Pombal","ADAL","F",1,123,"Marta Feliciano","JV","INI",8.5299999999999994]
["60","Vel","3.ª Jornada CD Sub20 em Pista Coberta","2022-01-29","Pombal","ADAL","F",2,63,"Carolina Ferreira","JV","INI",9.3699999999999992]
["60","Vel","3.ª Jornada CD Sub20 em Pista Coberta","2022-01-29","Pombal","ADAL","F",3,97,"Inês Oliveira","JV","INI",9.4]
["60","Vel","3.ª Jornada CD Sub20 em Pista Coberta","2022-01-29","Pombal","ADAL","F",4,150,"Sofiia Chemyrys","JV","INI",9.49]
["60","Vel","3.ª Jornada CD Sub20 em Pista Coberta","2022-01-29","Pombal","ADAL","F",5,124,"Marta Mestre","JV","INI",9.5399999999999991]
["60","Vel","3.ª Jornada CD Sub20 em Pista Coberta","2022-01-29","Pombal","ADAL","F",6,59,"Bruna Amaral","JV","INI",9.6999999999999993]
["60","Vel","3.ª Jornada CD Sub20 em Pista Coberta","2022-01-29","Pombal","ADAL","F",1,774,"Marta Carriço","ACDRA","INI",8.18]
["60","Vel","3.ª Jornada CD Sub20 em Pista Coberta","2022-01-29","Pombal","ADAL","F",2,105,"Katerina Quinn","JV","INI",8.26]
["60","Vel","3.ª Jornada CD Sub20 em Pista Coberta","2022-01-29","Pombal","ADAL","F",4,149,"Sofia Santos","JV","INI",8.65]
["60","Vel","3.ª Jornada CD Sub20 em Pista Coberta","2022-01-29","Pombal","ADAL","F",5,899,"Constança Abreu","AAADP","INI",8.67]
["60","Vel","3.ª Jornada CD Sub20 em Pista Coberta","2022-01-29","Pombal","ADAL","F",6,109,"Leonor Ascenso","JV","INI",8.82]
["60","Vel","3.ª Jornada CD Sub20 em Pista Coberta","2022-01-29","Pombal","ADAL","M",1,4,"Gabriel Cunha","GDP-L","INI",7.75]
["60","Vel","3.ª Jornada CD Sub20 em Pista Coberta","2022-01-29","Pombal","ADAL","M",4,133,"Nikita Miroshnyk","JV","INI",8.4600000000000009]
["60","Vel","3.ª Jornada CD Sub20 em Pista Coberta","2022-01-29","Pombal","ADAL","M",6,1047,"Brody Miller","ACDRA","INI",8.76]
["60","Vel","3.ª Jornada CD Sub20 em Pista Coberta","2022-01-29","Pombal","ADAL","M",7,334,"Matias Ferreira","GDP-L","INI",8.76]
["60","Vel","3.ª Jornada CD Sub20 em Pista Coberta","2022-01-29","Pombal","ADAL","M",8,387,"Rodrigo Martins","ACDRA","INI",9.31]
["60","Vel","3.ª Jornada CD Sub20 em Pista Coberta","2022-01-29","Pombal","ADAL","M",1,103,"João Mota","JV","INI",7.64]
["60","Vel","3.ª Jornada CD Sub20 em Pista Coberta","2022-01-29","Pombal","ADAL","M",2,74,"Denis Hrabar","JV","INI",7.67]
["60","Vel","3.ª Jornada CD Sub20 em Pista Coberta","2022-01-29","Pombal","ADAL","M",3,131,"Miguel Barros Campos","JV","INI",7.74]
["60","Vel","3.ª Jornada CD Sub20 em Pista Coberta","2022-01-29","Pombal","ADAL","M",4,160,"Rafael Dias","JV","INI",7.87]
["60","Vel","3.ª Jornada CD Sub20 em Pista Coberta","2022-01-29","Pombal","ADAL","M",5,776,"Pedro Nunes","AAADP","INI",8.0500000000000007]
["60","Vel","3.ª Jornada CD Sub20 em Pista Coberta","2022-01-29","Pombal","ADAL","M",6,140,"Rafael Morgado","JV","INI",8.08]
["60","Vel","3.ª Jornada CD Sub20 em Pista Coberta","2022-01-29","Pombal","ADAL","M",7,157,"Tomás Monteiro","JV","INI",8.14]
["800","MF","3.ª Jornada CD Sub20 em Pista Coberta","2022-01-29","Pombal","ADAL","F",1,189,"Maria Jesus","ACB-L","INI","00:02:31.370"]
["800","MF","3.ª Jornada CD Sub20 em Pista Coberta","2022-01-29","Pombal","ADAL","F",5,63,"Carolina Ferreira","JV","INI","00:02:37.390"]
["800","MF","3.ª Jornada CD Sub20 em Pista Coberta","2022-01-29","Pombal","ADAL","F",6,239,"Matilde Angélico","CAMG","INI","00:02:37.570"]
["COMPRIM","Sal","3.ª Jornada CD Sub20 em Pista Coberta","2022-01-29","Pombal","ADAL","M",1,8,"Eduardo Oliveira","JV","JUN",6.97,6.81,"X",6.97,"X",6.97,"X"]
["COMPRIM","Sal","3.ª Jornada CD Sub20 em Pista Coberta","2022-01-29","Pombal","ADAL","M",2,214,"André Rodrigues","CAMG","JUN",6.48,6.48,6.35,6.29,6.22,6.37,6.31]
["COMPRIM","Sal","3.ª Jornada CD Sub20 em Pista Coberta","2022-01-29","Pombal","ADAL","M",3,808,"Miguel Marques","CAMG","JUV",6.27,6.06,6.2,6.2,6.16,6.27,6.03]
["COMPRIM","Sal","3.ª Jornada CD Sub20 em Pista Coberta","2022-01-29","Pombal","ADAL","M",4,690,"João Martins","JV","JUV",6.2,6.2,5.97,6.08,4.45,"X",5.84]
["COMPRIM","Sal","3.ª Jornada CD Sub20 em Pista Coberta","2022-01-29","Pombal","ADAL","M",5,378,"Hugo Tavares","ACDRA","JUV",5.77,5.59,5.52,"X",5.75,5.77,5.46]
["COMPRIM","Sal","3.ª Jornada CD Sub20 em Pista Coberta","2022-01-29","Pombal","ADAL","M",7,1042,"Vadym Skafaryk","JV","JUV",5.66,"X",5.59,5.61,"X",5.66,"X"]
["COMPRIM","Sal","3.ª Jornada CD Sub20 em Pista Coberta","2022-01-29","Pombal","ADAL","M",10,701,"Pedro Pires","JV","JUV",5.09,4.95,4.8499999999999996,5.09,"-","-","-"]
["COMPRIM","Sal","3.ª Jornada CD Sub20 em Pista Coberta","2022-01-29","Pombal","ADAL","M",11,685,"Dinis Santos","JV","JUV",4.5999999999999996,4.5999999999999996,4.49,4.51,"-","-","-"]
["COMPRIM","Sal","3.ª Jornada CD Sub20 em Pista Coberta","2022-01-29","Pombal","ADAL","F",1,820,"Margarida Santos","JV","JUN",5.18,5.1100000000000003,"X",5.15,"X","X",5.18]
["COMPRIM","Sal","3.ª Jornada CD Sub20 em Pista Coberta","2022-01-29","Pombal","ADAL","F",2,817,"Ana Reis","JV","JUN",4.99,4.84,4.8600000000000003,"X",4.99,4.9800000000000004,4.8899999999999997]
["COMPRIM","Sal","3.ª Jornada CD Sub20 em Pista Coberta","2022-01-29","Pombal","ADAL","F",3,849,"Vera Goucha","JV","JUV",4.97,4.84,4.97,4.82,4.93,4.93,"X"]
["COMPRIM","Sal","3.ª Jornada CD Sub20 em Pista Coberta","2022-01-29","Pombal","ADAL","F",4,817,"Sofia Quintino","ACDRA","JUN",4.92,4.91,4.92,4.87,4.74,"X","X"]
["COMPRIM","Sal","3.ª Jornada CD Sub20 em Pista Coberta","2022-01-29","Pombal","ADAL","F",5,697,"Luana Figueira","JV","JUV",4.63,4.62,"X","X",4.63,4.59,"X"]
["COMPRIM","Sal","3.ª Jornada CD Sub20 em Pista Coberta","2022-01-29","Pombal","ADAL","F",7,2,"Sara Brites","JV","JUV",4.51,4.51,"-","-","-","-","-"]
["COMPRIM","Sal","3.ª Jornada CD Sub20 em Pista Coberta","2022-01-29","Pombal","ADAL","F",9,693,"Laura Baltazar","JV","JUV",4.41,4.41,4.21,4.18]
["COMPRIM","Sal","3.ª Jornada CD Sub20 em Pista Coberta","2022-01-29","Pombal","ADAL","F",10,64,"Carolina Marques","JV","JUV",4.07,"X",4.07,"X"]
["VARA","Sal","3.ª Jornada CD Sub20 em Pista Coberta","2022-01-29","Pombal","ADAL","F",1,705,"Vera Goucha","JV","JUV",2.4500000000000002]
["VARA","Sal","3.ª Jornada CD Sub20 em Pista Coberta","2022-01-29","Pombal","ADAL","F",2,684,"Catarina Silva","JV","JUV",2.25]
["VARA","Sal","3.ª Jornada CD Sub20 em Pista Coberta","2022-01-29","Pombal","ADAL","F",3,693,"Laura Baltazar","JV","JUV",1.95]
["MARTEL3","Lan","Prova de Preparação - Lançamento do Martelo","2022-01-29","Leiria","ADAL","F",1,890,"Márcia Maketa","JV","JUV",51.93,51.93,"X",50.87,"X","X",51.07]
["MARTEL3","Lan","Prova de Preparação - Lançamento do Martelo","2022-01-29","Leiria","ADAL","F",2,382,"Leonor Belchior","ACDRA","JUV",44.01,42.05,44.01,40.53,"X",41.51,40.26]
["MARTEL3","Lan","Prova de Preparação - Lançamento do Martelo","2022-01-29","Leiria","ADAL","F",3,811,"Inaya Yayo","CANAZ","JUV",42.08,42.05,"X","X",40.92,42.08,"X"]
["MARTEL3","Lan","Prova de Preparação - Lançamento do Martelo","2022-01-29","Leiria","ADAL","F",4,738,"Beatriz Cordeiro","JV","JUV",34.49,29.95,"X",29.94,34.49,"X","X"]
["MARTEL3","Lan","Prova de Preparação - Lançamento do Martelo","2022-01-29","Leiria","ADAL","F",5,61,"Camila Patraboy","JV","INI",33,30.57,32.93,33,"X",28.82,"X"]
["MARTEL3","Lan","Prova de Preparação - Lançamento do Martelo","2022-01-29","Leiria","ADAL","F",6,331,"Mariana Custódio","GDP-L","INI",24.46,"X",23.39,"X",22.66,24.46,"X"]
["MARTEL3","Lan","Prova de Preparação - Lançamento do Martelo","2022-01-29","Leiria","ADAL","F",7,219,"Carolina D Santos","CAMG","INI",21.73,19.940000000000001,20.93,21.36,21.1,21.1,21.73]
["MARTEL3","Lan","Prova de Preparação - Lançamento do Martelo","2022-01-29","Leiria","ADAL","F",8,94,"Helena Alípio","JV","INI",20.21,"X",17.45,"X",20.21,18.61,18.52]
["MARTEL4","Lan","Prova de Preparação - Lançamento do Martelo","2022-01-29","Leiria","ADAL","F",2,874,"Beatriz Silva","JV","JUN",36.729999999999997,28.23,24.84,34,36.729999999999997,"X","X"]
["MARTEL5","Lan","Prova de Preparação - Lançamento do Martelo","2022-01-29","Leiria","ADAL","M",1,9,"Francisco Calhau","JV","JUV",62.72,"X","X","X",62.72,"X","X"]
["MARTEL5","Lan","Prova de Preparação - Lançamento do Martelo","2022-01-29","Leiria","ADAL","M",3,339,"Rodrigo Esteves","GDP-L","INI",35.78,35.78,"X",32.92,34.270000000000003,"X","X"]
["MARTEL5","Lan","Prova de Preparação - Lançamento do Martelo","2022-01-29","Leiria","ADAL","M",4,507,"José Oliveira","GDAA","VET 60",19.39,"X",18.27,19.34,17.37,18.18,19.39]
["MARTEL6","Lan","Prova de Preparação - Lançamento do Martelo","2022-01-29","Leiria","ADAL","M",1,321,"Daniel Raposo","GDP-L","JUN",40.299999999999997,"X",34.79,38.65,"X",38.36,40.299999999999997]
["MARTEL6","Lan","Prova de Preparação - Lançamento do Martelo","2022-01-29","Leiria","ADAL","M",2,69,"Daniel Rizzi","JV","JUN",28.09,26.79,26.92,26.85,28.09,"X",25]
["MARTEL7","Lan","Prova de Preparação - Lançamento do Martelo","2022-01-29","Leiria","ADAL","M",1,807,"Miguel Carreira","CAMG","SEN",65.95,64.89,65.930000000000007,"X",64.930000000000007,65.37,65.95]
["MARTEL7","Lan","Prova de Preparação - Lançamento do Martelo","2022-01-29","Leiria","ADAL","M",2,1040,"Michael Fonseca","JV","SEN",54.98,53.02,54,52.02,53.29,54.98,54.82]
["MARTEL7","Lan","Prova de Preparação - Lançamento do Martelo","2022-01-29","Leiria","ADAL","M",3,876,"Carlos Malaquias","JV","SUB-23",53.62,53.62,"X",52.11,"X","X","X"]
["150","Vel","1.ª Jornada CD Absoluto Pista Coberta","2022-01-30","Pombal","ADAL","F",1,842,"Eva Nunes","AAADP","INF",23.5]
["150","Vel","1.ª Jornada CD Absoluto Pista Coberta","2022-01-30","Pombal","ADAL","F",1,90,"Francisca Reis","JV","INF",22.78]
["150","Vel","1.ª Jornada CD Absoluto Pista Coberta","2022-01-30","Pombal","ADAL","F",2,66,"Carolina Silva","JV","INF",23.36]
["150","Vel","1.ª Jornada CD Absoluto Pista Coberta","2022-01-30","Pombal","ADAL","F",3,51,"Alessandra Santos","JV","INF",23.4]
["150","Vel","1.ª Jornada CD Absoluto Pista Coberta","2022-01-30","Pombal","ADAL","F",4,129,"Matilde Silva","JV","INF",23.64]
["150","Vel","1.ª Jornada CD Absoluto Pista Coberta","2022-01-30","Pombal","ADAL","M",1,83,"Eduardo Camacho","JV","INF",22.18]
["150","Vel","1.ª Jornada CD Absoluto Pista Coberta","2022-01-30","Pombal","ADAL","M",3,55,"André Ribeiro","JV","INF",23.58]
["150","Vel","1.ª Jornada CD Absoluto Pista Coberta","2022-01-30","Pombal","ADAL","M",4,104,"José Martins","JV","INF",24.52]
["150","Vel","1.ª Jornada CD Absoluto Pista Coberta","2022-01-30","Pombal","ADAL","M",6,91,"Francisco Gregório","JV","INF",27.52]
["200","Vel","1.ª Jornada CD Absoluto Pista Coberta","2022-01-30","Pombal","ADAL","F",1,872,"Beatriz Luís","JV","JUV",28.91]
["200","Vel","1.ª Jornada CD Absoluto Pista Coberta","2022-01-30","Pombal","ADAL","F",2,693,"Laura Baltazar","JV","JUV",29.92]
["200","Vel","1.ª Jornada CD Absoluto Pista Coberta","2022-01-30","Pombal","ADAL","F",3,811,"Inaya Yayo","CANAZ","JUV",30.76]
["200","Vel","1.ª Jornada CD Absoluto Pista Coberta","2022-01-30","Pombal","ADAL","F",4,53,"Anabela Silva","JV","JUV",32.22]
["200","Vel","1.ª Jornada CD Absoluto Pista Coberta","2022-01-30","Pombal","ADAL","F",2,878,"Carolina Gaspar","JV","JUN",27.64]
["200","Vel","1.ª Jornada CD Absoluto Pista Coberta","2022-01-30","Pombal","ADAL","F",5,167,"Diana Duarte","ACB-L","JUN",28.87]
["200","Vel","1.ª Jornada CD Absoluto Pista Coberta","2022-01-30","Pombal","ADAL","M",2,588,"Duarte Neves","GAUB","JUN",24.53]
["200","Vel","1.ª Jornada CD Absoluto Pista Coberta","2022-01-30","Pombal","ADAL","M",3,517,"Gabriel Borges","ACB-L","JUN",25.08]
["200","Vel","1.ª Jornada CD Absoluto Pista Coberta","2022-01-30","Pombal","ADAL","M",4,853,"Eduardo Agualusa","CANAZ","JUN",25.22]
["200","Vel","1.ª Jornada CD Absoluto Pista Coberta","2022-01-30","Pombal","ADAL","M",2,893,"Bruno Júnior","CANAZ","JUN",29.2]
["200","Vel","1.ª Jornada CD Absoluto Pista Coberta","2022-01-30","Pombal","ADAL","M",2,176,"Milton Martínez","ACB-L","SEN",23.93]
["200","Vel","1.ª Jornada CD Absoluto Pista Coberta","2022-01-30","Pombal","ADAL","M",4,77,"Diogo Camacho","JV","JUN",25.58]
["200","Vel","1.ª Jornada CD Absoluto Pista Coberta","2022-01-30","Pombal","ADAL","M",1,8,"Eduardo Oliveira","JV","JUN",22.68]
["200","Vel","1.ª Jornada CD Absoluto Pista Coberta","2022-01-30","Pombal","ADAL","M",3,783,"Alexandre Babych","AAADP","JUV",23.25]
["200","Vel","1.ª Jornada CD Absoluto Pista Coberta","2022-01-30","Pombal","ADAL","M",4,210,"Tomás Areias","ACB-L","JUN",23.93]
["300","Vel","1.ª Jornada CD Absoluto Pista Coberta","2022-01-30","Pombal","ADAL","M",1,113,"Luca Cruz","JV","JUV",39.43]
["300","Vel","1.ª Jornada CD Absoluto Pista Coberta","2022-01-30","Pombal","ADAL","M",3,1042,"Vadym Skafaryk","JV","JUV",40.549999999999997]
["300","Vel","1.ª Jornada CD Absoluto Pista Coberta","2022-01-30","Pombal","ADAL","M",4,701,"Pedro Pires","JV","JUV",41.09]
["300","Vel","1.ª Jornada CD Absoluto Pista Coberta","2022-01-30","Pombal","ADAL","M",5,178,"Ivo Gomes","ACB-L","JUV",41.19]
["300","Vel","1.ª Jornada CD Absoluto Pista Coberta","2022-01-30","Pombal","ADAL","M",2,519,"Edson Dias","ACB-L","JUV",39.72]
["300","Vel","1.ª Jornada CD Absoluto Pista Coberta","2022-01-30","Pombal","ADAL","M",3,883,"Ernesto Rodrigues","JV","JUV",40.130000000000003]
["300","Vel","1.ª Jornada CD Absoluto Pista Coberta","2022-01-30","Pombal","ADAL","M",5,572,"Pedro Rocha","CANAZ","JUV",50.54]
["60B076","Vel","1.ª Jornada CD Absoluto Pista Coberta","2022-01-30","Pombal","ADAL","F",1,51,"Alessandra Santos","JV","INF",11.51]
["60B076","Vel","1.ª Jornada CD Absoluto Pista Coberta","2022-01-30","Pombal","ADAL","F",2,66,"Carolina Silva","JV","INF",12.78]
["60B076","Vel","1.ª Jornada CD Absoluto Pista Coberta","2022-01-30","Pombal","ADAL","F",2,90,"Francisca Reis","JV","INF",13.63]
["60B076","Vel","1.ª Jornada CD Absoluto Pista Coberta","2022-01-30","Pombal","ADAL","F",3,129,"Matilde Silva","JV","INF",14.06]
["60B076","Vel","1.ª Jornada CD Absoluto Pista Coberta","2022-01-30","Pombal","ADAL","M",1,83,"Eduardo Camacho","JV","INF",12.35]
["60B076","Vel","1.ª Jornada CD Absoluto Pista Coberta","2022-01-30","Pombal","ADAL","M",2,55,"André Ribeiro","JV","INF",13.39]
["60B076","Vel","1.ª Jornada CD Absoluto Pista Coberta","2022-01-30","Pombal","ADAL","M",5,104,"José Martins","JV","INF",13.89]
["60B084","Vel","1.ª Jornada CD Absoluto Pista Coberta","2022-01-30","Pombal","ADAL","F",1,820,"Margarida Santos","JV","JUN",9.69]
["60B084","Vel","1.ª Jornada CD Absoluto Pista Coberta","2022-01-30","Pombal","ADAL","F",3,818,"Eduarda Ferreira","JV","SUB-23",10.08]
["60B084","Vel","1.ª Jornada CD Absoluto Pista Coberta","2022-01-30","Pombal","ADAL","F",4,689,"Joana Gameiro","JV","JUN",10.08]
["60B084","Vel","1.ª Jornada CD Absoluto Pista Coberta","2022-01-30","Pombal","ADAL","F",5,817,"Ana Reis","JV","JUN",12.67]
["60B106","Vel","1.ª Jornada CD Absoluto Pista Coberta","2022-01-30","Pombal","ADAL","M",1,517,"Gabriel Borges","ACB-L","JUN",9.3800000000000008]
["60B106","Vel","1.ª Jornada CD Absoluto Pista Coberta","2022-01-30","Pombal","ADAL","M",2,893,"Bruno Júnior","CANAZ","JUN",13.03]
["800","MF","1.ª Jornada CD Absoluto Pista Coberta","2022-01-30","Pombal","ADAL","F",1,392,"Daniela Cordeiro","GAUB","SEN","00:02:31.300"]
["800","MF","1.ª Jornada CD Absoluto Pista Coberta","2022-01-30","Pombal","ADAL","F",3,755,"Maria Cabecinhas","GAUB","JUN","00:03:00.680"]
["800","MF","1.ª Jornada CD Absoluto Pista Coberta","2022-01-30","Pombal","ADAL","F",4,583,"Benedita Ferreira","GAUB","JUV","00:03:06.270"]
["800","MF","1.ª Jornada CD Absoluto Pista Coberta","2022-01-30","Pombal","ADAL","F",5,604,"Sofia Mota","GAUB","JUV","00:03:11.130"]
["800","MF","1.ª Jornada CD Absoluto Pista Coberta","2022-01-30","Pombal","ADAL","F",1,122,"Mariana Vidinha","JV","JUN","00:02:20.780"]
["800","MF","1.ª Jornada CD Absoluto Pista Coberta","2022-01-30","Pombal","ADAL","F",2,683,"Carlota Ferreira","JV","JUV","00:02:21.870"]
["800","MF","1.ª Jornada CD Absoluto Pista Coberta","2022-01-30","Pombal","ADAL","M",1,585,"Daniel Cabecinhas","GAUB","SUB-23","00:02:00.180"]
["800","MF","1.ª Jornada CD Absoluto Pista Coberta","2022-01-30","Pombal","ADAL","M",2,595,"Licínio Silva","GAUB","SEN","00:02:06.120"]
["800","MF","1.ª Jornada CD Absoluto Pista Coberta","2022-01-30","Pombal","ADAL","M",7,947,"José Alves","ADRM","VET 55","00:02:45.160"]
["800","MF","1.ª Jornada CD Absoluto Pista Coberta","2022-01-30","Pombal","ADAL","M",2,291,"Fábio Francisco","GAC-L","SUB-23","00:02:10.160"]
["800","MF","1.ª Jornada CD Absoluto Pista Coberta","2022-01-30","Pombal","ADAL","M",3,292,"Guilherme Ferreira","GAC-L","JUN","00:02:12.050"]
["800","MF","1.ª Jornada CD Absoluto Pista Coberta","2022-01-30","Pombal","ADAL","M",4,141,"Rafael Vieira","JV","JUV","00:02:12.950"]
["800","MF","1.ª Jornada CD Absoluto Pista Coberta","2022-01-30","Pombal","ADAL","M",5,852,"Bruno Branco","CANAZ","JUN","00:02:13.120"]
["800","MF","1.ª Jornada CD Absoluto Pista Coberta","2022-01-30","Pombal","ADAL","M",7,574,"Rúben Pereira","CANAZ","SUB-23","00:02:17.330"]
["800","MF","1.ª Jornada CD Absoluto Pista Coberta","2022-01-30","Pombal","ADAL","M",1,134,"Nuno Cordeiro","JV","JUV","00:02:00.940"]
["800","MF","1.ª Jornada CD Absoluto Pista Coberta","2022-01-30","Pombal","ADAL","M",2,145,"André Antunes","JV","SUB-23","00:02:02.460"]
["TRIPLO","Sal","1.ª Jornada CD Absoluto Pista Coberta","2022-01-30","Pombal","ADAL","M",1,777,"Afonso Marques","AAADP","JUN",13.28,13.2,12.97,13.05,13.28,13.23,13.24]
["TRIPLO","Sal","1.ª Jornada CD Absoluto Pista Coberta","2022-01-30","Pombal","ADAL","M",2,10,"André Pimenta","JV","SUB-23",13.23,"X",13.01,13.23,13.14,13.2,"X"]
["TRIPLO","Sal","1.ª Jornada CD Absoluto Pista Coberta","2022-01-30","Pombal","ADAL","M",3,214,"André Rodrigues","CAMG","JUN",12.8,"X","X","X","X",12.6,12.8]
["TRIPLO","Sal","1.ª Jornada CD Absoluto Pista Coberta","2022-01-30","Pombal","ADAL","M",4,690,"João Martins","JV","JUV",12.22,"X",11.93,12.14,"X",12.2,12.22]
["TRIPLO","Sal","1.ª Jornada CD Absoluto Pista Coberta","2022-01-30","Pombal","ADAL","F",1,820,"Margarida Santos","JV","JUN",11.71,11.44,"X","X",10.08,11.71,"X"]
["TRIPLO","Sal","1.ª Jornada CD Absoluto Pista Coberta","2022-01-30","Pombal","ADAL","F",2,888,"Juliana Brites","JV","SUB-23",11.58,"X",11.58,"X",11.24,11.2,11.55]
["TRIPLO","Sal","1.ª Jornada CD Absoluto Pista Coberta","2022-01-30","Pombal","ADAL","F",3,818,"Eduarda Ferreira","JV","SUB-23",11.56,11.46,11.56,11.27,"X",10.91,"X"]
["TRIPLO","Sal","1.ª Jornada CD Absoluto Pista Coberta","2022-01-30","Pombal","ADAL","F",4,817,"Ana Reis","JV","JUN",11.38,11.01,11.38,11.21,9.75,"X",11.27]
["TRIPLO","Sal","1.ª Jornada CD Absoluto Pista Coberta","2022-01-30","Pombal","ADAL","F",6,64,"Carolina Marques","JV","JUV",9.58,"X","X",9.5299999999999994,"X",9.58,"X"]
["VARA","Sal","1.ª Jornada CD Absoluto Pista Coberta","2022-01-30","Pombal","ADAL","M",1,317,"Bernardo Cunha","GDP-L","JUV",3.75]
["VARA","Sal","1.ª Jornada CD Absoluto Pista Coberta","2022-01-30","Pombal","ADAL","M",2,113,"Luca Cruz","JV","JUV",3.4]
["VARA","Sal","1.ª Jornada CD Absoluto Pista Coberta","2022-01-30","Pombal","ADAL","M",3,783,"Alexandre Babych","AAADP","JUV",2.5]
["DARDO5","Lan","Prova de Preparação - Lançamento do Dardo","2022-01-30","Leiria","ADAL","F",1,6,"Sara Conceição","CANAZ","JUV",38.880000000000003,36.67,37.340000000000003,38.880000000000003,38.36,37.71,37.69]
["DARDO5","Lan","Prova de Preparação - Lançamento do Dardo","2022-01-30","Leiria","ADAL","F",2,854,"Eva Varela","CANAZ","JUV",28.09,"X",28.09,"X",27.59,"X",26.68]
["DARDO5","Lan","Prova de Preparação - Lançamento do Dardo","2022-01-30","Leiria","ADAL","F",3,738,"Beatriz Cordeiro","JV","JUV",25.89,"X",25.28,25.89,23.32,"X",23.02]
["DARDO5","Lan","Prova de Preparação - Lançamento do Dardo","2022-01-30","Leiria","ADAL","F",4,61,"Camila Patraboy","JV","INI",22.73,21.97,22.73,18.04,18.79,18.68,19.86]
["DARDO5","Lan","Prova de Preparação - Lançamento do Dardo","2022-01-30","Leiria","ADAL","F",5,219,"Carolina D Santos","CAMG","INI",17.510000000000002,"X",15.56,16.25,16.190000000000001,"X",17.510000000000002]
["DARDO5","Lan","Prova de Preparação - Lançamento do Dardo","2022-01-30","Leiria","ADAL","F",6,59,"Bruna Amaral","JV","INI",15.12,13.58,13.29,13.59,15.12,"X",13.3]
["DARDO6","Lan","Prova de Preparação - Lançamento do Dardo","2022-01-30","Leiria","ADAL","F",1,7,"Carolina Caseiro","JV","JUN",31.83,31.83,"X","X","X",29.9,"X"]
["DARDO6","Lan","Prova de Preparação - Lançamento do Dardo","2022-01-30","Leiria","ADAL","F",2,1078,"Raquel Gonçalves","JV","SUB-23",24.19,22.05,"X",24.19,21.63,23.26,21.38]
["DARDO7","Lan","Prova de Preparação - Lançamento do Dardo","2022-01-30","Leiria","ADAL","M",1,692,"João Santos","JV","JUV",41.88,41.2,41.21,41.83,40.46,"X",41.88]
["DARDO7","Lan","Prova de Preparação - Lançamento do Dardo","2022-01-30","Leiria","ADAL","M",2,1079,"Rúben Santos","JV","JUV",41.42,40.33,"X","X",41.42,35.46,"X"]
["DARDO7","Lan","Prova de Preparação - Lançamento do Dardo","2022-01-30","Leiria","ADAL","M",3,1060,"Duarte Santos","CANAZ","JUV",39.56,36.22,38.46,35.270000000000003,34.07,"X",39.56]
["DARDO7","Lan","Prova de Preparação - Lançamento do Dardo","2022-01-30","Leiria","ADAL","M",4,74,"Denis Hrabar","JV","INI",31.38,31.38,"X","X",30.26,"X","X"]
["DARDO7","Lan","Prova de Preparação - Lançamento do Dardo","2022-01-30","Leiria","ADAL","M",5,140,"Rafael Morgado","JV","INI",23.47,23.47,22.09,22.92]
["DARDO7","Lan","Prova de Preparação - Lançamento do Dardo","2022-01-30","Leiria","ADAL","M",6,160,"Rafael Dias","JV","INI",21.99,21.99,"X","X"]
["DARDO7","Lan","Prova de Preparação - Lançamento do Dardo","2022-01-30","Leiria","ADAL","M",7,157,"Tomás Monteiro","JV","INI",19.79,19.79,18.53,18.71]
["DARDO7","Lan","Prova de Preparação - Lançamento do Dardo","2022-01-30","Leiria","ADAL","M",8,136,"Pedro Almeida","JV","INI",18.87,"X",18.87,"X"]
["DARDO7","Lan","Prova de Preparação - Lançamento do Dardo","2022-01-30","Leiria","ADAL","M",9,89,"Filipe Fernandes","JV","INI",12.75,12.75,"X",12.7]
["DARDO8","Lan","Prova de Preparação - Lançamento do Dardo","2022-01-30","Leiria","ADAL","M",2,1057,"Bernardo Temudo","CAMG","SEN",42.5,42.5,38.950000000000003,40.42,41.41,41.54,"X"]
["DARDO8","Lan","Prova de Preparação - Lançamento do Dardo","2022-01-30","Leiria","ADAL","M",3,228,"Ernesto Santos","CAMG","VET 35",40.869999999999997,38.72,37.380000000000003,38.880000000000003,40.19,40.869999999999997,39.97]
["DARDO8","Lan","Prova de Preparação - Lançamento do Dardo","2022-01-30","Leiria","ADAL","M",5,69,"Daniel Rizzi","JV","JUN",30.63,"X",26.86,28.47,"X",27.65,30.63]
["DARDO8","Lan","Prova de Preparação - Lançamento do Dardo","2022-01-30","Leiria","ADAL","M",6,245,"Pedro Silva","CAMG","SEN",25.6,24.88,25.6,"X","X",23.19,"X"]
["1500","MF","Campeonatos Nacionais de Sub-18 PC","2022-02-05","Braga","FPA","F",6,198,"Eduarda Silva","JV","JUV",3.4126157407407408E-3]
["1500","MF","Campeonatos Nacionais de Sub-18 PC","2022-02-05","Braga","FPA","M",7,16,"Tomás Casimiro","ACDRA","JUV",3.0475694444444443E-3]
["3000MX","MX","Campeonatos Nacionais de Sub-18 PC","2022-02-05","Braga","FPA","F",3,165,"Isa Ferreira","GDP-L","JUV",1.090486111111111E-2]
["3000MX","MX","Campeonatos Nacionais de Sub-18 PC","2022-02-05","Braga","FPA","F",5,23,"Inês Belbute","ACDRA","JUV",1.1843402777777777E-2]
["4x300","Vel","Campeonatos Nacionais de Sub-18 PC","2022-02-05","Braga","FPA","F",2,10199,"JUV VIDIGALENSE","JV","ND","02:58,80 "]
["4x300","Vel","Campeonatos Nacionais de Sub-18 PC","2022-02-05","Braga","FPA","M",3,10020,"A C D R ARNEIRENSE","ACDRA","ND","02:38,27"]
["4x300","Vel","Campeonatos Nacionais de Sub-18 PC","2022-02-05","Braga","FPA","M",5,10200,"JUV VIDIGALENSE","JV","ND","02:40,45"]
["5000MX","MX","Campeonatos Nacionais de Sub-18 PC","2022-02-05","Braga","FPA","M",1,201,"Eduardo Camarate","JV","JUV",1.7892013888888888E-2]
["5000MX","MX","Campeonatos Nacionais de Sub-18 PC","2022-02-05","Braga","FPA","M",3,166,"André Moreira","GDP-L","JUV",1.8927199074074075E-2]
["5000MX","MX","Campeonatos Nacionais de Sub-18 PC","2022-02-05","Braga","FPA","M",5,98,"Francisco Lima","CDBBR","JUV",2.1355439814814817E-2]
["60","Vel","Campeonatos Nacionais de Sub-18 PC","2022-02-05","Braga","FPA","F",4,199,"Carolina Castro","JV","JUV",8.18]
["60","Vel","Campeonatos Nacionais de Sub-18 PC","2022-02-05","Braga","FPA","M",1,20,"Hugo Tavares","ACDRA","JUV",7.33]
["60","Vel","Campeonatos Nacionais de Sub-18 PC","2022-02-05","Braga","FPA","F",1,21,"Beatriz Castelhano","ACDRA","JUV",7.97]
["60","Vel","Campeonatos Nacionais de Sub-18 PC","2022-02-05","Braga","FPA","F",2,21,"Beatriz Castelhano","ACDRA","JUV",7.95]
["ALTURA","Sal","Campeonatos Nacionais de Sub-18 PC","2022-02-05","Braga","FPA","F",7,193,"Luana Figueira","JV","JUV",1.48]
["COMPRIM","Sal","Campeonatos Nacionais de Sub-18 PC","2022-02-05","Braga","FPA","M",3,197,"João Martins","JV","JUV",6.44,6.2,6.44,6.35,6.36,6.37,"X"]
["COMPRIM","Sal","Campeonatos Nacionais de Sub-18 PC","2022-02-05","Braga","FPA","M",6,81,"Miguel Marques","CAMG","JUV",6.3,6.04,6.3,6.14,5.9,5.86,6.18]
["PESO5","Lan","Campeonatos Nacionais de Sub-18 PC","2022-02-05","Braga","FPA","M",2,210,"Francisco Calhau","JV","JUV",13.98,12.54,"X",13.79,13.98,"X",13.61]
["PESO5","Lan","Campeonatos Nacionais de Sub-18 PC","2022-02-05","Braga","FPA","M",9,214,"Rúben Santos","JV","JUV",12.02,10.91,10.99,12.02]
["VARA","Sal","Campeonatos Nacionais de Sub-18 PC","2022-02-05","Braga","FPA","M",5,196,"Luca Cruz","JV","JUV",3.65]
["1500","MF","Meeting Cidade de Pombal","2022-02-05","Pombal","ADAL","F",2,392,"Daniela Cordeiro","GAUB","SEN","00:05:10.850"]
["1500","MF","Meeting Cidade de Pombal","2022-02-05","Pombal","ADAL","F",4,626,"Adriana Coelho","IDV","SEN","00:05:25.620"]
["1500","MF","Meeting Cidade de Pombal","2022-02-05","Pombal","ADAL","F",5,870,"Carla Cantante","CAB-L","VET 35","00:05:32.790"]
["1500","MF","Meeting Cidade de Pombal","2022-02-05","Pombal","ADAL","F",6,658,"Sandra Simões","IDV","VET 45","00:06:13.950"]
["1500","MF","Meeting Cidade de Pombal","2022-02-05","Pombal","ADAL","F",7,640,"Helena Henriques","IDV","VET 50","00:06:39.970"]
["1500","MF","Meeting Cidade de Pombal","2022-02-05","Pombal","ADAL","F",8,604,"Sofia Mota","GAUB","JUV","00:07:06.980"]
["1500","MF","Meeting Cidade de Pombal","2022-02-05","Pombal","ADAL","F",9,582,"Ângela Alberto","GAUB","JUV","00:07:35.080"]
["1500","MF","Meeting Cidade de Pombal","2022-02-05","Pombal","ADAL","M",10,71,"David Azevedo","JV","SUB-23","00:04:02.410"]
["1500","MF","Meeting Cidade de Pombal","2022-02-05","Pombal","ADAL","M",3,311,"Tiago Silva","GAC-L","JUN","00:04:02"]
["1500","MF","Meeting Cidade de Pombal","2022-02-05","Pombal","ADAL","M",6,595,"Licínio Silva","GAUB","SEN","00:04:09.440"]
["1500","MF","Meeting Cidade de Pombal","2022-02-05","Pombal","ADAL","M",8,451,"João Gonçalves","ACV","SEN","00:04:30.500"]
["1500","MF","Meeting Cidade de Pombal","2022-02-05","Pombal","ADAL","M",1,646,"Jorge Marcelino","IDV","VET 45","00:04:43.700"]
["1500","MF","Meeting Cidade de Pombal","2022-02-05","Pombal","ADAL","M",2,455,"Licínio Carreira","ACV","VET 45","00:04:55.590"]
["1500","MF","Meeting Cidade de Pombal","2022-02-05","Pombal","ADAL","M",2,627,"Aléxis Rocha","IDV","SEN","00:04:55.590"]
["1500","MF","Meeting Cidade de Pombal","2022-02-05","Pombal","ADAL","M",4,752,"Rodrigo Feteira","GAUB","JUN","00:05:02.240"]
["1500","MF","Meeting Cidade de Pombal","2022-02-05","Pombal","ADAL","M",5,599,"Martinho Pedrosa","GAUB","VET 55","00:05:02.510"]
["1500","MF","Meeting Cidade de Pombal","2022-02-05","Pombal","ADAL","M",6,405,"Sérgio Cabecinhas","GAUB","VET 40","00:05:23.110"]
["1500","MF","Meeting Cidade de Pombal","2022-02-05","Pombal","ADAL","M",7,395,"Fernando Domingues","GAUB","VET 35","00:05:28.420"]
["1500","MF","Meeting Cidade de Pombal","2022-02-05","Pombal","ADAL","M",8,554,"António Alves","CAB-L","VET 60","00:05:29.940"]
["1500","MF","Meeting Cidade de Pombal","2022-02-05","Pombal","ADAL","M",9,463,"Jucelino Monteiro","CPRAB","VET 55","00:05:40.070"]
["1500","MF","Meeting Cidade de Pombal","2022-02-05","Pombal","ADAL","M",10,468,"Paulo Monteiro","CPRAB","VET 50","00:05:41.960"]
["1500","MF","Meeting Cidade de Pombal","2022-02-05","Pombal","ADAL","M",1,576,"Alexandre Sousa","CPRAB","VET 35","00:04:56.440"]
["1500","MF","Meeting Cidade de Pombal","2022-02-05","Pombal","ADAL","M",2,744,"Hugo Horta","CVLIS","VET 40","00:05:00.020"]
["1500","MF","Meeting Cidade de Pombal","2022-02-05","Pombal","ADAL","M",3,916,"Luís Campos","CPRAB","JUV","00:05:18"]
["1500","MF","Meeting Cidade de Pombal","2022-02-05","Pombal","ADAL","M",4,633,"Carlos Simões","IDV","VET 55","00:05:18.240"]
["1500","MF","Meeting Cidade de Pombal","2022-02-05","Pombal","ADAL","M",5,656,"Rui Dinis","IDV","VET 55","00:05:23.840"]
["1500","MF","Meeting Cidade de Pombal","2022-02-05","Pombal","ADAL","M",6,644,"João Marcelino","IDV","VET 50","00:05:25.810"]
["1500","MF","Meeting Cidade de Pombal","2022-02-05","Pombal","ADAL","M",7,467,"Nuno Ferreira","CPRAB","VET 40","00:05:36.580"]
["1500","MF","Meeting Cidade de Pombal","2022-02-05","Pombal","ADAL","M",8,625,"Acácio Campos","IDV","VET 60","00:05:40.370"]
["1500","MF","Meeting Cidade de Pombal","2022-02-05","Pombal","ADAL","M",9,947,"José Alves","ADRM","VET 55","00:05:45.060"]
["1500","MF","Meeting Cidade de Pombal","2022-02-05","Pombal","ADAL","M",10,579,"Joaquim Gomes","CPRAB","VET 70","00:06:21.330"]
["1500","MF","Meeting Cidade de Pombal","2022-02-05","Pombal","ADAL","M",11,449,"Eugénio Mendes","ACV","VET 60","00:06:36.180"]
["1500","MF","Meeting Cidade de Pombal","2022-02-05","Pombal","ADAL","M",12,442,"Alfredo Santos","ACV","VET 65","00:07:41.610"]
["400","Vel","Meeting Cidade de Pombal","2022-02-05","Pombal","ADAL","F",1,310,"Tatiana Francisco","GAC-L","SUB-23",63.65]
["400","Vel","Meeting Cidade de Pombal","2022-02-05","Pombal","ADAL","F",2,901,"Inês Vieira","BA","JUN",65.180000000000007]
["400","Vel","Meeting Cidade de Pombal","2022-02-05","Pombal","ADAL","M",1,691,"João Pinto","JV","SEN",49.9]
["60","Vel","Meeting Cidade de Pombal","2022-02-05","Pombal","ADAL","F",2,211,"Vera Duque","ACB-L","JUN",8.6999999999999993]
["60","Vel","Meeting Cidade de Pombal","2022-02-05","Pombal","ADAL","F",3,872,"Beatriz Luís","JV","JUV",8.85]
["60","Vel","Meeting Cidade de Pombal","2022-02-05","Pombal","ADAL","F",5,167,"Diana Duarte","ACB-L","JUN",8.2799999999999994]
["60","Vel","Meeting Cidade de Pombal","2022-02-05","Pombal","ADAL","F",6,878,"Carolina Gaspar","JV","JUN",8.2899999999999991]
["60","Vel","Meeting Cidade de Pombal","2022-02-05","Pombal","ADAL","M",2,210,"Tomás Areias","ACB-L","JUN",7.28]
["60","Vel","Meeting Cidade de Pombal","2022-02-05","Pombal","ADAL","M",3,1007,"Floriano Brujan","ACDRA","JUN",7.36]
["60","Vel","Meeting Cidade de Pombal","2022-02-05","Pombal","ADAL","M",6,176,"Milton Martínez","ACB-L","SEN",7.46]
["800","MF","Meeting Cidade de Pombal","2022-02-05","Pombal","ADAL","M",4,291,"Fábio Francisco","GAC-L","SUB-23","00:02:05.720"]
["800","MF","Meeting Cidade de Pombal","2022-02-05","Pombal","ADAL","M",5,292,"Guilherme Ferreira","GAC-L","JUN","00:02:12.490"]
["ALTURA","Sal","Meeting Cidade de Pombal","2022-02-05","Pombal","ADAL","F",2,817,"Ana Reis","JV","JUN",1.51]
["COMPRIM","Sal","Meeting Cidade de Pombal","2022-02-05","Pombal","ADAL","M",1,10,"André Pimenta","JV","SUB-23",7.39,"X",7.39,"X","X","X","X"]
["COMPRIM","Sal","Meeting Cidade de Pombal","2022-02-05","Pombal","ADAL","M",5,214,"André Rodrigues","CAMG","JUN",6.82,6.45,6.66,6.46,6.45,6.32,6.82]
["COMPRIM","Sal","Meeting Cidade de Pombal","2022-02-05","Pombal","ADAL","F",5,818,"Eduarda Ferreira","JV","SUB-23",5.15,"X",4.99,5.15,5.0199999999999996,5.09,"X"]
["COMPRIM","Sal","Meeting Cidade de Pombal","2022-02-05","Pombal","ADAL","F",7,888,"Juliana Brites","JV","SUB-23",5.08,5.04,5.08,5.0599999999999996,"X",4.8,4.8499999999999996]
["COMPRIM","Sal","Meeting Cidade de Pombal","2022-02-05","Pombal","ADAL","F",8,817,"Ana Reis","JV","JUN",4.91,"X","X",4.88,4.91,"X","X"]
["PESO4","Lan","Meeting Cidade de Pombal","2022-02-05","Pombal","ADAL","F",3,905,"Inês Carreira","JV","SUB-23",12.45,12.34,"X","X",12.45,12.39,"X"]
["VARA","Sal","Meeting Cidade de Pombal","2022-02-05","Pombal","ADAL","M",4,13,"Diogo Meneses","JV","SUB-23",4.4000000000000004]
["VARA","Sal","Meeting Cidade de Pombal","2022-02-05","Pombal","ADAL","M",5,887,"Guilherme Pereira","JV","JUN",3.85]
["60B076","Vel","Triatlo Técnico Distrital Sub16","2022-02-05","Pombal","ADAL","F",2,219,"Carolina D Santos","CAMG","INI",11.46]
["60B076","Vel","Triatlo Técnico Distrital Sub16","2022-02-05","Pombal","ADAL","F",3,384,"Maria Vicente","ACDRA","INI",11.61]
["60B076","Vel","Triatlo Técnico Distrital Sub16","2022-02-05","Pombal","ADAL","F",4,95,"Inês Figueiredo","JV","INI",11.87]
["60B076","Vel","Triatlo Técnico Distrital Sub16","2022-02-05","Pombal","ADAL","F",5,149,"Sofia Santos","JV","INI",14.15]
["60B076","Vel","Triatlo Técnico Distrital Sub16","2022-02-05","Pombal","ADAL","F",2,105,"Katerina Quinn","JV","INI",10.56]
["60B076","Vel","Triatlo Técnico Distrital Sub16","2022-02-05","Pombal","ADAL","F",3,241,"Matilde Soares","CAMG","INI",11.95]
["60B076","Vel","Triatlo Técnico Distrital Sub16","2022-02-05","Pombal","ADAL","F",4,150,"Sofiia Chemyrys","JV","INI",12.2]
["60B076","Vel","Triatlo Técnico Distrital Sub16","2022-02-05","Pombal","ADAL","F",2,774,"Marta Carriço","ACDRA","INI",10.59]
["60B076","Vel","Triatlo Técnico Distrital Sub16","2022-02-05","Pombal","ADAL","F",3,314,"Alice Varino","GDP-L","INI",12.09]
["60B076","Vel","Triatlo Técnico Distrital Sub16","2022-02-05","Pombal","ADAL","F",4,123,"Marta Feliciano","JV","INI",12.43]
["60B076","Vel","Triatlo Técnico Distrital Sub16","2022-02-05","Pombal","ADAL","F",5,769,"Diana Vatula","CAMG","INI",13.29]
["60B084","Vel","Triatlo Técnico Distrital Sub16","2022-02-05","Pombal","ADAL","M",1,74,"Denis Hrabar","JV","INI",8.8800000000000008]
["60B084","Vel","Triatlo Técnico Distrital Sub16","2022-02-05","Pombal","ADAL","M",2,160,"Rafael Dias","JV","INI",11.09]
["60B084","Vel","Triatlo Técnico Distrital Sub16","2022-02-05","Pombal","ADAL","M",1,4,"Gabriel Cunha","GDP-L","INI",9.15]
["60B084","Vel","Triatlo Técnico Distrital Sub16","2022-02-05","Pombal","ADAL","M",2,157,"Tomás Monteiro","JV","INI",9.94]
["60B084","Vel","Triatlo Técnico Distrital Sub16","2022-02-05","Pombal","ADAL","M",3,140,"Rafael Morgado","JV","INI",10.119999999999999]
["60B084","Vel","Triatlo Técnico Distrital Sub16","2022-02-05","Pombal","ADAL","M",5,334,"Matias Ferreira","GDP-L","INI",10.89]
["COMPRIM","Sal","Triatlo Técnico Distrital Sub16","2022-02-05","Pombal","ADAL","F",1,774,"Marta Carriço","ACDRA","INI",4.9800000000000004,4.9800000000000004,4.6100000000000003,4.28]
["COMPRIM","Sal","Triatlo Técnico Distrital Sub16","2022-02-05","Pombal","ADAL","F",2,241,"Matilde Soares","CAMG","INI",4.67,4.25,4.33,4.67]
["COMPRIM","Sal","Triatlo Técnico Distrital Sub16","2022-02-05","Pombal","ADAL","F",6,384,"Maria Vicente","ACDRA","INI",4.4400000000000004,4.37,"X",4.4400000000000004]
["COMPRIM","Sal","Triatlo Técnico Distrital Sub16","2022-02-05","Pombal","ADAL","F",7,149,"Sofia Santos","JV","INI",4.4000000000000004,4.4000000000000004,4.26,4.24]
["COMPRIM","Sal","Triatlo Técnico Distrital Sub16","2022-02-05","Pombal","ADAL","F",8,95,"Inês Figueiredo","JV","INI",4.3600000000000003,4.07,3.95,4.3600000000000003]
["COMPRIM","Sal","Triatlo Técnico Distrital Sub16","2022-02-05","Pombal","ADAL","F",10,123,"Marta Feliciano","JV","INI",4.34,"X",3.83,4.34]
["COMPRIM","Sal","Triatlo Técnico Distrital Sub16","2022-02-05","Pombal","ADAL","F",11,105,"Katerina Quinn","JV","INI",4.2300000000000004,4.2300000000000004,4.1900000000000004,4.13]
["COMPRIM","Sal","Triatlo Técnico Distrital Sub16","2022-02-05","Pombal","ADAL","F",12,769,"Diana Vatula","CAMG","INI",4.12,"X",4.12,3.89]
["COMPRIM","Sal","Triatlo Técnico Distrital Sub16","2022-02-05","Pombal","ADAL","F",13,219,"Carolina D Santos","CAMG","INI",4.07,4.07,4.0599999999999996,3.9]
["COMPRIM","Sal","Triatlo Técnico Distrital Sub16","2022-02-05","Pombal","ADAL","F",14,314,"Alice Varino","GDP-L","INI",3.97,3.93,3.97,3.97]
["COMPRIM","Sal","Triatlo Técnico Distrital Sub16","2022-02-05","Pombal","ADAL","F",15,150,"Sofiia Chemyrys","JV","INI",3.97,"X",3.97,3.88]
["COMPRIM","Sal","Triatlo Técnico Distrital Sub16","2022-02-05","Pombal","ADAL","M",1,74,"Denis Hrabar","JV","INI",5.82,5.82,5.67,5.59]
["COMPRIM","Sal","Triatlo Técnico Distrital Sub16","2022-02-05","Pombal","ADAL","M",2,157,"Tomás Monteiro","JV","INI",5.09,5.09,4.8600000000000003,4.82]
["COMPRIM","Sal","Triatlo Técnico Distrital Sub16","2022-02-05","Pombal","ADAL","M",3,140,"Rafael Morgado","JV","INI",5.05,4.6500000000000004,4.7300000000000004,5.05]
["COMPRIM","Sal","Triatlo Técnico Distrital Sub16","2022-02-05","Pombal","ADAL","M",5,160,"Rafael Dias","JV","INI",4.42,4.42,4.0199999999999996,"X"]
["COMPRIM","Sal","Triatlo Técnico Distrital Sub16","2022-02-05","Pombal","ADAL","M",7,334,"Matias Ferreira","GDP-L","INI",4.17,4.17,4.13,4.0199999999999996]
["COMPRIM","Sal","Triatlo Técnico Distrital Sub16","2022-02-05","Pombal","ADAL","M",8,133,"Nikita Miroshnyk","JV","INI",4.09,4.09,3.78,3.81]
["PESO3","Lan","Triatlo Técnico Distrital Sub16","2022-02-05","Pombal","ADAL","F",1,150,"Sofiia Chemyrys","JV","INI",8.36,8.36,8.1999999999999993,7.7]
["PESO3","Lan","Triatlo Técnico Distrital Sub16","2022-02-05","Pombal","ADAL","F",2,774,"Marta Carriço","ACDRA","INI",7.81,7.61,7.35,7.81]
["PESO3","Lan","Triatlo Técnico Distrital Sub16","2022-02-05","Pombal","ADAL","F",3,95,"Inês Figueiredo","JV","INI",7.4,7.4,6.77,7.28]
["PESO3","Lan","Triatlo Técnico Distrital Sub16","2022-02-05","Pombal","ADAL","F",4,219,"Carolina D Santos","CAMG","INI",7.32,7.32,"X","X"]
["PESO3","Lan","Triatlo Técnico Distrital Sub16","2022-02-05","Pombal","ADAL","F",5,769,"Diana Vatula","CAMG","INI",7.22,7.22,7.11,6.76]
["PESO3","Lan","Triatlo Técnico Distrital Sub16","2022-02-05","Pombal","ADAL","F",7,149,"Sofia Santos","JV","INI",7.06,7.06,6.78,"X"]
["PESO3","Lan","Triatlo Técnico Distrital Sub16","2022-02-05","Pombal","ADAL","F",8,384,"Maria Vicente","ACDRA","INI",6.9,6.39,"X",6.9]
["PESO3","Lan","Triatlo Técnico Distrital Sub16","2022-02-05","Pombal","ADAL","F",12,105,"Katerina Quinn","JV","INI",6.16,5.44,6.16,5.79]
["PESO3","Lan","Triatlo Técnico Distrital Sub16","2022-02-05","Pombal","ADAL","F",14,123,"Marta Feliciano","JV","INI",5.96,5.78,5.71,5.96]
["PESO3","Lan","Triatlo Técnico Distrital Sub16","2022-02-05","Pombal","ADAL","F",15,314,"Alice Varino","GDP-L","INI",5.9,5.9,5.33,5.67]
["PESO3","Lan","Triatlo Técnico Distrital Sub16","2022-02-05","Pombal","ADAL","F",16,241,"Matilde Soares","CAMG","INI",5.55,4.99,5.55,4.75]
["PESO4","Lan","Triatlo Técnico Distrital Sub16","2022-02-05","Pombal","ADAL","M",1,74,"Denis Hrabar","JV","INI",14.07,14.07,"X",13.71]
["PESO4","Lan","Triatlo Técnico Distrital Sub16","2022-02-05","Pombal","ADAL","M",2,4,"Gabriel Cunha","GDP-L","INI",13.75,13.75,12.9,"X"]
["PESO4","Lan","Triatlo Técnico Distrital Sub16","2022-02-05","Pombal","ADAL","M",5,140,"Rafael Morgado","JV","INI",8.74,8.74,"X",8.39]
["PESO4","Lan","Triatlo Técnico Distrital Sub16","2022-02-05","Pombal","ADAL","M",6,160,"Rafael Dias","JV","INI",8.61,8.61,8.01,6.92]
["PESO4","Lan","Triatlo Técnico Distrital Sub16","2022-02-05","Pombal","ADAL","M",7,157,"Tomás Monteiro","JV","INI",8.2799999999999994,7.77,6.92,8.2799999999999994]
["PESO4","Lan","Triatlo Técnico Distrital Sub16","2022-02-05","Pombal","ADAL","M",8,334,"Matias Ferreira","GDP-L","INI",7.22,7.22,6.98,"X"]
["PESO4","Lan","Triatlo Técnico Distrital Sub16","2022-02-05","Pombal","ADAL","M",10,133,"Nikita Miroshnyk","JV","INI",6.37,6.37,6.23,5.86]
["TRI-INI","Comb","Triatlo Técnico Distrital Sub16","2022-02-05","Pombal","ADAL","F",1,774,"Marta Carriço","ACDRA","INI",1547]
["TRI-INI","Comb","Triatlo Técnico Distrital Sub16","2022-02-05","Pombal","ADAL","F",2,105,"Katerina Quinn","JV","INI",1254]
["TRI-INI","Comb","Triatlo Técnico Distrital Sub16","2022-02-05","Pombal","ADAL","F",3,384,"Maria Vicente","ACDRA","INI",1183]
["TRI-INI","Comb","Triatlo Técnico Distrital Sub16","2022-02-05","Pombal","ADAL","F",4,95,"Inês Figueiredo","JV","INI",1156]
["TRI-INI","Comb","Triatlo Técnico Distrital Sub16","2022-02-05","Pombal","ADAL","F",5,219,"Carolina D Santos","CAMG","INI",1143]
["TRI-INI","Comb","Triatlo Técnico Distrital Sub16","2022-02-05","Pombal","ADAL","F",6,241,"Matilde Soares","CAMG","INI",1106]
["TRI-INI","Comb","Triatlo Técnico Distrital Sub16","2022-02-05","Pombal","ADAL","F",7,150,"Sofiia Chemyrys","JV","INI",1080]
["TRI-INI","Comb","Triatlo Técnico Distrital Sub16","2022-02-05","Pombal","ADAL","F",8,123,"Marta Feliciano","JV","INI",982]
["TRI-INI","Comb","Triatlo Técnico Distrital Sub16","2022-02-05","Pombal","ADAL","F",9,314,"Alice Varino","GDP-L","INI",937]
["TRI-INI","Comb","Triatlo Técnico Distrital Sub16","2022-02-05","Pombal","ADAL","F",10,769,"Diana Vatula","CAMG","INI",907]
["TRI-INI","Comb","Triatlo Técnico Distrital Sub16","2022-02-05","Pombal","ADAL","F",12,149,"Sofia Santos","JV","INI",878]
["TRI-INI","Comb","Triatlo Técnico Distrital Sub16","2022-02-05","Pombal","ADAL","M",1,74,"Denis Hrabar","JV","INI",2053]
["TRI-INI","Comb","Triatlo Técnico Distrital Sub16","2022-02-05","Pombal","ADAL","M",2,157,"Tomás Monteiro","JV","INI",1335]
["TRI-INI","Comb","Triatlo Técnico Distrital Sub16","2022-02-05","Pombal","ADAL","M",3,140,"Rafael Morgado","JV","INI",1321]
["TRI-INI","Comb","Triatlo Técnico Distrital Sub16","2022-02-05","Pombal","ADAL","M",4,160,"Rafael Dias","JV","INI",1033]
["TRI-INI","Comb","Triatlo Técnico Distrital Sub16","2022-02-05","Pombal","ADAL","M",5,334,"Matias Ferreira","GDP-L","INI",939]
["TRI-INI","Comb","Triatlo Técnico Distrital Sub16","2022-02-05","Pombal","ADAL","M",6,133,"Nikita Miroshnyk","JV","INI",490]
["1500","MF","2.ª Jornada do CD Absoluto em Pista Coberta","2022-02-06","Pombal","ADAL","F",1,392,"Daniela Cordeiro","GAUB","SEN","00:05:10.550"]
["1500","MF","2.ª Jornada do CD Absoluto em Pista Coberta","2022-02-06","Pombal","ADAL","F",3,604,"Sofia Mota","GAUB","JUV","00:06:54.060"]
["1500","MF","2.ª Jornada do CD Absoluto em Pista Coberta","2022-02-06","Pombal","ADAL","F",4,582,"Ângela Alberto","GAUB","JUV","00:07:29.600"]
["1500","MF","2.ª Jornada do CD Absoluto em Pista Coberta","2022-02-06","Pombal","ADAL","M",2,585,"Daniel Cabecinhas","GAUB","SUB-23","00:04:17.710"]
["1500","MF","2.ª Jornada do CD Absoluto em Pista Coberta","2022-02-06","Pombal","ADAL","M",3,852,"Bruno Branco","CANAZ","JUN","00:04:40.730"]
["1500","MF","2.ª Jornada do CD Absoluto em Pista Coberta","2022-02-06","Pombal","ADAL","M",5,574,"Rúben Pereira","CANAZ","SUB-23","00:04:55.420"]
["1500","MF","2.ª Jornada do CD Absoluto em Pista Coberta","2022-02-06","Pombal","ADAL","M",6,698,"Marco Gameiro","JV","SUB-23","00:04:59.440"]
["1500","MF","2.ª Jornada do CD Absoluto em Pista Coberta","2022-02-06","Pombal","ADAL","M",8,289,"Diogo Pereira","GAC-L","JUV","00:05:10.260"]
["1500","MF","2.ª Jornada do CD Absoluto em Pista Coberta","2022-02-06","Pombal","ADAL","M",1,145,"André Antunes","JV","SUB-23","00:04:10.070"]
["1500","MF","2.ª Jornada do CD Absoluto em Pista Coberta","2022-02-06","Pombal","ADAL","M",2,595,"Licínio Silva","GAUB","SEN","00:04:12.370"]
["1500","MF","2.ª Jornada do CD Absoluto em Pista Coberta","2022-02-06","Pombal","ADAL","M",4,667,"Bruno Gonçalves","CAMG","VET 35","00:04:18.590"]
["1500","MF","2.ª Jornada do CD Absoluto em Pista Coberta","2022-02-06","Pombal","ADAL","M",5,504,"Rodrigo Ribeiro","NDA","JUN","00:04:19.820"]
["1500","MF","2.ª Jornada do CD Absoluto em Pista Coberta","2022-02-06","Pombal","ADAL","M",7,312,"Valter Costa","GAC-L","SEN","00:04:22.370"]
["1500","MF","2.ª Jornada do CD Absoluto em Pista Coberta","2022-02-06","Pombal","ADAL","M",8,227,"Emamuel Cardoso","CAMG","SEN","00:04:28.130"]
["1500","MF","2.ª Jornada do CD Absoluto em Pista Coberta","2022-02-06","Pombal","ADAL","M",9,168,"Duarte F Rodrigues","ACB-L","JUN","00:04:36.030"]
["4X400","Vel","2.ª Jornada do CD Absoluto em Pista Coberta","2022-02-06","Pombal","ADAL","M",2,10519,"ATLÉTICO C BATALHA","ACB-L","ND","03:59,97"]
["4X400","Vel","2.ª Jornada do CD Absoluto em Pista Coberta","2022-02-06","Pombal","ADAL","M",3,10853,"C ATLETISMO NAZARÉ","CANAZ","ND","04:27,36"]
["4X400","Vel","2.ª Jornada do CD Absoluto em Pista Coberta","2022-02-06","Pombal","ADAL","M",1,10585,"G A U BAJOUCA","GAUB","ND","03:52,35 "]
["4X400","Vel","2.ª Jornada do CD Absoluto em Pista Coberta","2022-02-06","Pombal","ADAL","M",3,11046,"A C D R ARNEIRENSE","ACDRA","ND","03:58,09 "]
["4X400","Vel","2.ª Jornada do CD Absoluto em Pista Coberta","2022-02-06","Pombal","ADAL","M",4,10698,"JUV VIDIGALENSE","JV","ND","03:59,78 "]
["60","Vel","2.ª Jornada do CD Absoluto em Pista Coberta","2022-02-06","Pombal","ADAL","F",2,53,"Anabela Silva","JV","JUV",9.4600000000000009]
["60","Vel","2.ª Jornada do CD Absoluto em Pista Coberta","2022-02-06","Pombal","ADAL","F",3,729,"Mariana Freitas","ACDRA","JUV",9.4700000000000006]
["60","Vel","2.ª Jornada do CD Absoluto em Pista Coberta","2022-02-06","Pombal","ADAL","F",4,726,"Érica Morgado","ACDRA","JUN",9.73]
["60","Vel","2.ª Jornada do CD Absoluto em Pista Coberta","2022-02-06","Pombal","ADAL","F",2,211,"Vera Duque","ACB-L","JUN",8.86]
["60","Vel","2.ª Jornada do CD Absoluto em Pista Coberta","2022-02-06","Pombal","ADAL","F",6,811,"Inaya Yayo","CANAZ","JUV",9.3699999999999992]
["60","Vel","2.ª Jornada do CD Absoluto em Pista Coberta","2022-02-06","Pombal","ADAL","F",3,878,"Carolina Gaspar","JV","JUN",8.32]
["60","Vel","2.ª Jornada do CD Absoluto em Pista Coberta","2022-02-06","Pombal","ADAL","F",5,167,"Diana Duarte","ACB-L","JUN",8.5500000000000007]
["60","Vel","2.ª Jornada do CD Absoluto em Pista Coberta","2022-02-06","Pombal","ADAL","F",6,370,"Beatriz Gonçalves","ACDRA","JUV",8.67]
["60","Vel","2.ª Jornada do CD Absoluto em Pista Coberta","2022-02-06","Pombal","ADAL","M",1,853,"Eduardo Agualusa","CANAZ","JUN",7.72]
["60","Vel","2.ª Jornada do CD Absoluto em Pista Coberta","2022-02-06","Pombal","ADAL","M",3,178,"Ivo Gomes","ACB-L","JUV",7.98]
["60","Vel","2.ª Jornada do CD Absoluto em Pista Coberta","2022-02-06","Pombal","ADAL","M",4,701,"Pedro Pires","JV","JUV",8.11]
["60","Vel","2.ª Jornada do CD Absoluto em Pista Coberta","2022-02-06","Pombal","ADAL","M",5,848,"Francisco Figueirôa","ACDRA","JUV",8.65]
["60","Vel","2.ª Jornada do CD Absoluto em Pista Coberta","2022-02-06","Pombal","ADAL","M",2,703,"Rafael Pereira","JV","JUN",8.3800000000000008]
["60","Vel","2.ª Jornada do CD Absoluto em Pista Coberta","2022-02-06","Pombal","ADAL","M",4,704,"Tiago Pereira","JV","JUN",8.4499999999999993]
["60","Vel","2.ª Jornada do CD Absoluto em Pista Coberta","2022-02-06","Pombal","ADAL","M",5,1087,"José Pedro Francisco","CANAZ","JUN",8.75]
["60","Vel","2.ª Jornada do CD Absoluto em Pista Coberta","2022-02-06","Pombal","ADAL","M",6,893,"Bruno Júnior","CANAZ","JUN",8.89]
["60","Vel","2.ª Jornada do CD Absoluto em Pista Coberta","2022-02-06","Pombal","ADAL","M",7,572,"Pedro Rocha","CANAZ","JUV",9.7200000000000006]
["60","Vel","2.ª Jornada do CD Absoluto em Pista Coberta","2022-02-06","Pombal","ADAL","M",1,176,"Milton Martínez","ACB-L","SEN",7.47]
["60","Vel","2.ª Jornada do CD Absoluto em Pista Coberta","2022-02-06","Pombal","ADAL","M",2,517,"Gabriel Borges","ACB-L","JUN",7.59]
["60","Vel","2.ª Jornada do CD Absoluto em Pista Coberta","2022-02-06","Pombal","ADAL","F",2,878,"Carolina Gaspar","JV","JUN",8.24]
["60","Vel","2.ª Jornada do CD Absoluto em Pista Coberta","2022-02-06","Pombal","ADAL","F",4,167,"Diana Duarte","ACB-L","JUN",8.49]
["60","Vel","2.ª Jornada do CD Absoluto em Pista Coberta","2022-02-06","Pombal","ADAL","F",7,370,"Beatriz Gonçalves","ACDRA","JUV",8.61]
["60","Vel","2.ª Jornada do CD Absoluto em Pista Coberta","2022-02-06","Pombal","ADAL","F",8,211,"Vera Duque","ACB-L","JUN",8.82]
["60","Vel","2.ª Jornada do CD Absoluto em Pista Coberta","2022-02-06","Pombal","ADAL","F",4,811,"Inaya Yayo","CANAZ","JUV",9.2799999999999994]
["60","Vel","2.ª Jornada do CD Absoluto em Pista Coberta","2022-02-06","Pombal","ADAL","F",5,53,"Anabela Silva","JV","JUV",9.4]
["60","Vel","2.ª Jornada do CD Absoluto em Pista Coberta","2022-02-06","Pombal","ADAL","F",6,729,"Mariana Freitas","ACDRA","JUV",9.42]
["60","Vel","2.ª Jornada do CD Absoluto em Pista Coberta","2022-02-06","Pombal","ADAL","F",7,726,"Érica Morgado","ACDRA","JUN",9.8000000000000007]
["60","Vel","2.ª Jornada do CD Absoluto em Pista Coberta","2022-02-06","Pombal","ADAL","M",1,11,"João Calhau","JV","SUB-23",7.13]
["60","Vel","2.ª Jornada do CD Absoluto em Pista Coberta","2022-02-06","Pombal","ADAL","M",2,176,"Milton Martínez","ACB-L","SEN",7.39]
["60","Vel","2.ª Jornada do CD Absoluto em Pista Coberta","2022-02-06","Pombal","ADAL","M",5,1007,"Floriano Brujan","ACDRA","JUN",7.53]
["60","Vel","2.ª Jornada do CD Absoluto em Pista Coberta","2022-02-06","Pombal","ADAL","M",6,12,"Francisco Silva","JV","JUN",7.56]
["60","Vel","2.ª Jornada do CD Absoluto em Pista Coberta","2022-02-06","Pombal","ADAL","M",1,517,"Gabriel Borges","ACB-L","JUN",7.54]
["60","Vel","2.ª Jornada do CD Absoluto em Pista Coberta","2022-02-06","Pombal","ADAL","M",5,853,"Eduardo Agualusa","CANAZ","JUN",7.75]
["60","Vel","2.ª Jornada do CD Absoluto em Pista Coberta","2022-02-06","Pombal","ADAL","M",7,178,"Ivo Gomes","ACB-L","JUV",7.93]
["60","Vel","2.ª Jornada do CD Absoluto em Pista Coberta","2022-02-06","Pombal","ADAL","M",8,701,"Pedro Pires","JV","JUV",8.07]
["COMPRIM","Sal","2.ª Jornada do CD Absoluto em Pista Coberta","2022-02-06","Pombal","ADAL","M",3,13,"Diogo Meneses","JV","SUB-23",6.38,5.79,6.18,"X",6.38,"-","-"]
["COMPRIM","Sal","2.ª Jornada do CD Absoluto em Pista Coberta","2022-02-06","Pombal","ADAL","M",6,1046,"Alexandre Cardeira","ACDRA","SEN",6.01,"X",5.68,"X",5.57,5.66,6.01]
["COMPRIM","Sal","2.ª Jornada do CD Absoluto em Pista Coberta","2022-02-06","Pombal","ADAL","M",7,517,"Gabriel Borges","ACB-L","JUN",5.83,5.7,5.83,5.52,5.63,5.67,"X"]
["COMPRIM","Sal","2.ª Jornada do CD Absoluto em Pista Coberta","2022-02-06","Pombal","ADAL","M",12,810,"Dorin Repesciuc","CANAZ","SUB-23",5.44,"X",5.31,5.44,"-","-","-"]
["COMPRIM","Sal","2.ª Jornada do CD Absoluto em Pista Coberta","2022-02-06","Pombal","ADAL","M",14,509,"George Silva","ACB-L","VET 45",5.18,5.18,"X","-","-"]
["COMPRIM","Sal","2.ª Jornada do CD Absoluto em Pista Coberta","2022-02-06","Pombal","ADAL","F",2,689,"Joana Gameiro","JV","JUN",5.03,3.61,5.03,4.99,4.87,4.9400000000000004,"X"]
["COMPRIM","Sal","2.ª Jornada do CD Absoluto em Pista Coberta","2022-02-06","Pombal","ADAL","F",4,166,"Constança Anunciação","ACB-L","JUV",4.3,4.05,"X","X",4.24,3.73,4.3]
["COMPRIM","Sal","2.ª Jornada do CD Absoluto em Pista Coberta","2022-02-06","Pombal","ADAL","F",6,526,"Erica Guedes","ACB-L","JUN",4.1399999999999997,"X",4.05,4.08,4.1399999999999997,3.98,4.07]
["COMPRIM","Sal","2.ª Jornada do CD Absoluto em Pista Coberta","2022-02-06","Pombal","ADAL","F",8,729,"Mariana Freitas","ACDRA","JUV",4.03,3.88,3.68,3.61,3.5,4,4.03]
["PESO4","Lan","2.ª Jornada do CD Absoluto em Pista Coberta","2022-02-06","Pombal","ADAL","F",1,905,"Inês Carreira","JV","SUB-23",12.66,12.38,12.35,12.5,12.66,12.49,12.6]
["PESO4","Lan","2.ª Jornada do CD Absoluto em Pista Coberta","2022-02-06","Pombal","ADAL","F",3,536,"Mariana Macedo","ACB-L","JUN",7.19,6.74,7.19,7.08,7.12,7.07,7.1]
["PESO7","Lan","2.ª Jornada do CD Absoluto em Pista Coberta","2022-02-06","Pombal","ADAL","M",5,810,"Dorin Repesciuc","CANAZ","SUB-23",9.8000000000000007,9.23,9.6300000000000008,8.94,9.32,9.8000000000000007,9.68]
["DISCO10","Lan","Camp. Distrital de Lançamentos Longos - Disco","2022-02-06","Leiria","ADAL","M",1,507,"José Oliveira","GDAA","VET 60",19.899999999999999,16.05,17.27,18.190000000000001,18.45,"X",19.899999999999999]
["DISCO10","Lan","Camp. Distrital de Lançamentos Longos - Disco","2022-02-06","Leiria","ADAL","F",1,573,"Rita Oliveira","CANAZ","JUV",30.76,"X","X",24.17,29.9,"X",30.76]
["DISCO10","Lan","Camp. Distrital de Lançamentos Longos - Disco","2022-02-06","Leiria","ADAL","F",2,219,"Carolina D Santos","CAMG","INI",29.11,25.97,26.68,"X",28.02,29.11,"X"]
["DISCO10","Lan","Camp. Distrital de Lançamentos Longos - Disco","2022-02-06","Leiria","ADAL","F",3,854,"Eva Varela","CANAZ","JUV",26.69,23.61,25.26,23.99,"X",26.69,"X"]
["DISCO10","Lan","Camp. Distrital de Lançamentos Longos - Disco","2022-02-06","Leiria","ADAL","F",4,693,"Laura Baltazar","JV","JUV",24.11,"X",17.96,18.100000000000001,"X","X",24.11]
["DISCO10","Lan","Camp. Distrital de Lançamentos Longos - Disco","2022-02-06","Leiria","ADAL","F",5,763,"Vanessa Castravet","CANAZ","INI",23.06,17.850000000000001,22.43,"X","X",21,23.06]
["DISCO10","Lan","Camp. Distrital de Lançamentos Longos - Disco","2022-02-06","Leiria","ADAL","F",6,95,"Inês Figueiredo","JV","INI",16.8,16.8,11.13,"X","X",10.07,14.75]
["DISCO10","Lan","Camp. Distrital de Lançamentos Longos - Disco","2022-02-06","Leiria","ADAL","F",1,989,"Raquel Gomes","JV","JUN",40.92,36.6,40.83,38.6,38.07,"X",40.92]
["DISCO10","Lan","Camp. Distrital de Lançamentos Longos - Disco","2022-02-06","Leiria","ADAL","F",1,905,"Inês Carreira","JV","SUB-23",35.340000000000003,35.340000000000003,34.5,33.69,"X","X","X"]
["DISCO10","Lan","Camp. Distrital de Lançamentos Longos - Disco","2022-02-06","Leiria","ADAL","F",2,218,"Camélia Terentiy","CAMG","JUN",31.74,31.74,"X","X",29.05,29.95,29.1]
["DISCO15","Lan","Camp. Distrital de Lançamentos Longos - Disco","2022-02-06","Leiria","ADAL","M",1,361,"Rodrigo Silva","CDBBR","JUV",33.07,27.5,32.65,33.07,"X",24.88,26.87]
["DISCO15","Lan","Camp. Distrital de Lançamentos Longos - Disco","2022-02-06","Leiria","ADAL","M",2,1060,"Duarte Santos","CANAZ","JUV",30.03,"X",25.76,27.79,30.03,26.27,26.44]
["DISCO15","Lan","Camp. Distrital de Lançamentos Longos - Disco","2022-02-06","Leiria","ADAL","M",3,325,"Guilherme Santos","GDP-L","JUV",29.73,24.28,27.81,27.92,"X","X",29.73]
["DISCO15","Lan","Camp. Distrital de Lançamentos Longos - Disco","2022-02-06","Leiria","ADAL","M",4,340,"Tomás Esteves","GDP-L","JUV",27.34,22.83,24.82,"X",27.34,"X","X"]
["DISCO15","Lan","Camp. Distrital de Lançamentos Longos - Disco","2022-02-06","Leiria","ADAL","M",5,339,"Rodrigo Esteves","GDP-L","INI",25.26,23.09,24.32,25.26,"X",25.04,"X"]
["DISCO15","Lan","Camp. Distrital de Lançamentos Longos - Disco","2022-02-06","Leiria","ADAL","M",6,692,"João Santos","JV","JUV",23.78,18.670000000000002,20.13,19.29,21.93,22.01,23.78]
["DISCO15","Lan","Camp. Distrital de Lançamentos Longos - Disco","2022-02-06","Leiria","ADAL","M",7,136,"Pedro Almeida","JV","INI",15.48,12.57,14.39,14.25,12.49,"X",15.48]
["DISCO17","Lan","Camp. Distrital de Lançamentos Longos - Disco","2022-02-06","Leiria","ADAL","M",1,69,"Daniel Rizzi","JV","JUN",28.55,27.75,21.22,28.55,27.25,25.86,26.65]
["DISCO20","Lan","Camp. Distrital de Lançamentos Longos - Disco","2022-02-06","Leiria","ADAL","M",1,1077,"João Domingues","JV","SEN",42.2,38.83,"X",40.549999999999997,40.9,42.12,42.2]
["DISCO20","Lan","Camp. Distrital de Lançamentos Longos - Disco","2022-02-06","Leiria","ADAL","M",2,1057,"Bernardo Temudo","CAMG","SEN",40.72,37.24,"X",40.72,39.53,"X","X"]
["DISCO20","Lan","Camp. Distrital de Lançamentos Longos - Disco","2022-02-06","Leiria","ADAL","M",3,228,"Ernesto Santos","CAMG","VET 35",29.83,"X",24.72,"X","X",26.36,29.83]
["20KMMX","MX","Campeonato Nacional de Marcha em Estrada","2022-02-06","Olhão","FPA","F",2,87,"Joana Pontes","LMA-L","SUB-23",6.7581018518518512E-2]
["20KMMX","MX","Campeonato Nacional de Marcha em Estrada","2022-02-06","Olhão","FPA","F",5,84,"Bruna Marques","JV","SUB-23",7.3020833333333326E-2]
["50KMMX","MX","Campeonato Nacional de Marcha em Estrada","2022-02-06","Olhão","FPA","M",4,86,"Hélder Santos","LMA-L","SEN",6.2696759259259258E-2]
["50KMMX","MX","Campeonato Nacional de Marcha em Estrada","2022-02-06","Olhão","FPA","M",9,85,"Luís Silva","LMA-L","VET 50",7.2546296296296289E-2]
["300","Vel","Campeonatos Nacionais de Sub-18 PC","2022-02-06","Braga","FPA","F",4,199,"Carolina Castro","JV","JUV",43.19]
["300","Vel","Campeonatos Nacionais de Sub-18 PC","2022-02-06","Braga","FPA","M",1,81,"Miguel Marques","CAMG","JUV",36.83]
["300","Vel","Campeonatos Nacionais de Sub-18 PC","2022-02-06","Braga","FPA","M",3,20,"Hugo Tavares","ACDRA","JUV",37.03]
["3000","MF","Campeonatos Nacionais de Sub-18 PC","2022-02-06","Braga","FPA","F",4,198,"Eduarda Silva","JV","JUV",7.4437499999999998E-3]
["3000","MF","Campeonatos Nacionais de Sub-18 PC","2022-02-06","Braga","FPA","M",5,205,"Tiago Jorge","JV","JUV",6.562731481481481E-3]
["3000","MF","Campeonatos Nacionais de Sub-18 PC","2022-02-06","Braga","FPA","M",8,202,"Leonardo Jacinto","JV","JUV",6.8771990740740746E-3]
["60B076","Vel","Campeonatos Nacionais de Sub-18 PC","2022-02-06","Braga","FPA","F",4,208,"Sara Brites","JV","JUV",10.06]
["60B076","Vel","Campeonatos Nacionais de Sub-18 PC","2022-02-06","Braga","FPA","F",3,19,"Sofia Quintino","ACDRA","JUV",9.7799999999999994]
["60B076","Vel","Campeonatos Nacionais de Sub-18 PC","2022-02-06","Braga","FPA","F",3,216,"Vera Goucha","JV","JUV",9.48]
["60B076","Vel","Campeonatos Nacionais de Sub-18 PC","2022-02-06","Braga","FPA","F",6,216,"Vera Goucha","JV","JUV",9.4600000000000009]
["800","MF","Campeonatos Nacionais de Sub-18 PC","2022-02-06","Braga","FPA","F",6,209,"Carlota Ferreira","JV","JUV",1.6910879629629628E-3]
["800","MF","Campeonatos Nacionais de Sub-18 PC","2022-02-06","Braga","FPA","M",4,16,"Tomás Casimiro","ACDRA","JUV",1.4193287037037037E-3]
["800","MF","Campeonatos Nacionais de Sub-18 PC","2022-02-06","Braga","FPA","M",2,200,"Nuno Cordeiro","JV","JUV",1.3717592592592592E-3]
["PESO3","Lan","Campeonatos Nacionais de Sub-18 PC","2022-02-06","Braga","FPA","F",1,216,"Vera Goucha","JV","JUV",12.91,12.24,12.17,12.08,12.62,12.55,12.91]
["PESO3","Lan","Campeonatos Nacionais de Sub-18 PC","2022-02-06","Braga","FPA","F",3,213,"Márcia Maketa","JV","JUV",12.24,12.24,"X","X","X",12.17,"X"]
["PESO3","Lan","Campeonatos Nacionais de Sub-18 PC","2022-02-06","Braga","FPA","F",8,193,"Luana Figueira","JV","JUV",9.89,"X",9.6999999999999993,9.89,"X","X","X"]
["TRIPLO","Sal","Campeonatos Nacionais de Sub-18 PC","2022-02-06","Braga","FPA","F",3,19,"Sofia Quintino","ACDRA","JUV",11.12,10.98,"X",10.92,11.12,"-","X"]
["TRIPLO","Sal","Campeonatos Nacionais de Sub-18 PC","2022-02-06","Braga","FPA","M",4,22,"Diogo Chaves","ACDRA","JUV",12.85,"X",12.45,12.26,12.85,12.6,12.7]
["TRIPLO","Sal","Campeonatos Nacionais de Sub-18 PC","2022-02-06","Braga","FPA","M",5,197,"João Martins","JV","JUV",12.53,12.52,"X",12.44,"X",12.53,12.31]
["VARA","Sal","Campeonatos Nacionais de Sub-18 PC","2022-02-06","Braga","FPA","F",2,211,"Filipa Dinis","JV","JUV",2.9]
["VARA","Sal","Campeonatos Nacionais de Sub-18 PC","2022-02-06","Braga","FPA","F",4,194,"Catarina Silva","JV","JUV",2.35]
["VARA","Sal","Campeonatos Nacionais de Sub-18 PC","2022-02-06","Braga","FPA","F",7,204,"Ana Carvalho","JV","JUV",2.2000000000000002]
["MARTEL3","Lan","Camp. Distrital de Lançamentos Longos - Martelo","2022-02-12","Leiria","ADAL","F",1,890,"Márcia Maketa","JV","JUV",51.7,"X",51.7,"X","X",49.46,51.7]
["MARTEL3","Lan","Camp. Distrital de Lançamentos Longos - Martelo","2022-02-12","Leiria","ADAL","F",2,573,"Rita Oliveira","CANAZ","JUV",36.75,27.27,31.99,30.9,35.86,35.799999999999997,36.75]
["MARTEL3","Lan","Camp. Distrital de Lançamentos Longos - Martelo","2022-02-12","Leiria","ADAL","F",3,738,"Beatriz Cordeiro","JV","JUV",31.97,"X","X",30.99,31.97,25.55,26.86]
["MARTEL3","Lan","Camp. Distrital de Lançamentos Longos - Martelo","2022-02-12","Leiria","ADAL","F",4,693,"Laura Baltazar","JV","JUV",29.83,29.83,23.12,23.46,23.88,22.06,"X"]
["MARTEL3","Lan","Camp. Distrital de Lançamentos Longos - Martelo","2022-02-12","Leiria","ADAL","F",5,763,"Vanessa Castravet","CANAZ","INI",23.69,22.64,22.53,23.69,22.33,22.2,"X"]
["MARTEL3","Lan","Camp. Distrital de Lançamentos Longos - Martelo","2022-02-12","Leiria","ADAL","F",6,219,"Carolina D Santos","CAMG","INI",23.67,22.24,21.87,23.67,"X",22.63,23.52]
["MARTEL3","Lan","Camp. Distrital de Lançamentos Longos - Martelo","2022-02-12","Leiria","ADAL","F",7,331,"Mariana Custódio","GDP-L","INI",22.31,"X",18.260000000000002,22.31,"X","X","X"]
["MARTEL4","Lan","Camp. Distrital de Lançamentos Longos - Martelo","2022-02-12","Leiria","ADAL","F",3,874,"Beatriz Silva","JV","JUN",37.619999999999997,35.74,37.14,36.020000000000003,37.299999999999997,37.14,37.619999999999997]
["MARTEL5","Lan","Camp. Distrital de Lançamentos Longos - Martelo","2022-02-12","Leiria","ADAL","M",1,325,"Guilherme Santos","GDP-L","JUV",24.76,"X","X",18.82,24.76,"X",24.49]
["MARTEL5","Lan","Camp. Distrital de Lançamentos Longos - Martelo","2022-02-12","Leiria","ADAL","M",2,74,"Denis Hrabar","JV","INI",23.78,"X",19.829999999999998,23.78,"-","-","-"]
["MARTEL5","Lan","Camp. Distrital de Lançamentos Longos - Martelo","2022-02-12","Leiria","ADAL","M",3,339,"Rodrigo Esteves","GDP-L","INI",18.87,"X","X",18.87,"X","X","X"]
["MARTEL5","Lan","Camp. Distrital de Lançamentos Longos - Martelo","2022-02-12","Leiria","ADAL","M",1,507,"José Oliveira","GDAA","VET 60",19.46,"X",18.510000000000002,18.510000000000002,19.46,17.82,"X"]
["MARTEL6","Lan","Camp. Distrital de Lançamentos Longos - Martelo","2022-02-12","Leiria","ADAL","M",1,321,"Daniel Raposo","GDP-L","JUN",37.68,37.68,"X",36.47,"X","X","X"]
["MARTEL7","Lan","Camp. Distrital de Lançamentos Longos - Martelo","2022-02-12","Leiria","ADAL","M",2,807,"Miguel Carreira","CAMG","SEN",65.709999999999994,"X","X","X","X","X",65.709999999999994]
["MARTEL7","Lan","Camp. Distrital de Lançamentos Longos - Martelo","2022-02-12","Leiria","ADAL","M",3,876,"Carlos Malaquias","JV","SUB-23",52.97,50.4,52.97,"X","X",52.28,52.74]
["400","Vel","Campeonatos Nacionais de Sub-20 em PC","2022-02-12","Braga","FPA","F",2,227,"Mariana Vidinha","JV","JUN",60.47]
["400","Vel","Campeonatos Nacionais de Sub-20 em PC","2022-02-12","Braga","FPA","M",3,225,"Francisco Silva","JV","JUN",52.75]
["5000MX","MX","Campeonatos Nacionais de Sub-20 em PC","2022-02-12","Braga","FPA","M",5,218,"David Gregório","JV","JUV",2.0149305555555556E-2]
["60","Vel","Campeonatos Nacionais de Sub-20 em PC","2022-02-12","Braga","FPA","F",4,222,"Carolina Castro","JV","JUV",8.24]
["60","Vel","Campeonatos Nacionais de Sub-20 em PC","2022-02-12","Braga","FPA","F",2,234,"Mariana Videira","JV","JUN",7.97]
["60","Vel","Campeonatos Nacionais de Sub-20 em PC","2022-02-12","Braga","FPA","M",5,24,"Tomás Areias","ACB-L","JUN",7.33]
["ALTURA","Sal","Campeonatos Nacionais de Sub-20 em PC","2022-02-12","Braga","FPA","F",4,217,"Luana Figueira","JV","JUV",1.53]
["ALTURA","Sal","Campeonatos Nacionais de Sub-20 em PC","2022-02-12","Braga","FPA","F",7,228,"Ana Reis","JV","JUN",1.49]
["COMPRIM","Sal","Campeonatos Nacionais de Sub-20 em PC","2022-02-12","Braga","FPA","M",1,230,"Eduardo Oliveira","JV","JUN",7.2,6.85,7.08,6.92,6.77,7.2,7.18]
["COMPRIM","Sal","Campeonatos Nacionais de Sub-20 em PC","2022-02-12","Braga","FPA","M",6,98,"André Rodrigues","CAMG","JUN",6.71,6.71,6.54,6.52,6.6,4.91,6.47]
["COMPRIM","Sal","Campeonatos Nacionais de Sub-20 em PC","2022-02-12","Braga","FPA","F",6,235,"Joana Gameiro","JV","JUN",5.43,"X",5.17,5.43,"-","-","-"]
["Hep-Juv","Comb","Campeonatos Nacionais de Sub-20 em PC","2022-02-12","Braga","FPA","M",2,241,"André Petriv","JV","JUN",4345]
["PEN-Jun","Comb","Campeonatos Nacionais de Sub-20 em PC","2022-02-12","Braga","FPA","F",2,229,"Margarida Santos","JV","JUN",3094]
["PESO6","Lan","Campeonatos Nacionais de Sub-20 em PC","2022-02-12","Braga","FPA","M",2,96,"David Pereira","CAMG","JUN",14.41,13.89,13.26,"X",12.98,"X",14.41]
["VARA","Sal","Campeonatos Nacionais de Sub-20 em PC","2022-02-12","Braga","FPA","M",4,236,"Guilherme Pereira","JV","JUN",3.97]
["VARA","Sal","Campeonatos Nacionais de Sub-20 em PC","2022-02-12","Braga","FPA","M",7,219,"Luca Cruz","JV","JUV",3.25]
["DARDO5","Lan","Jornadas de Lançamentos - Etapa 1","2022-02-12","Leiria","JV","F",1,150,"Sofiia Chemyrys","JV","INI",22.49,"X","X",22.49,20.079999999999998,"X","X"]
["DARDO5","Lan","Jornadas de Lançamentos - Etapa 1","2022-02-12","Leiria","JV","F",2,59,"Bruna Amaral","JV","INI",16.87,16.87,"X","X","X",15.33,14.44]
["DARDO6","Lan","Jornadas de Lançamentos - Etapa 1","2022-02-12","Leiria","JV","F",1,7,"Carolina Caseiro","JV","JUN",35.31,35.31,32.450000000000003,"X","X",35.229999999999997,33.57]
["DARDO6","Lan","Jornadas de Lançamentos - Etapa 1","2022-02-12","Leiria","JV","M",1,140,"Rafael Morgado","JV","INI",31.64,24.06,"X",25.23,31.64,29.56,29.01]
["DARDO6","Lan","Jornadas de Lançamentos - Etapa 1","2022-02-12","Leiria","JV","M",2,160,"Rafael Dias","JV","INI",28.85,28.77,26.88,27.01,28.85,25.19,"X"]
["DARDO6","Lan","Jornadas de Lançamentos - Etapa 1","2022-02-12","Leiria","JV","M",3,133,"Nikita Miroshnyk","JV","INI",16.149999999999999,15.06,16.149999999999999,12.38,12.72,12.23,12.11]
["DARDO7","Lan","Jornadas de Lançamentos - Etapa 1","2022-02-12","Leiria","JV","M",1,1079,"Rúben Santos","JV","JUV",43.21,41.67,43.21,"X","X","X","-"]
["DARDO7","Lan","Jornadas de Lançamentos - Etapa 1","2022-02-12","Leiria","JV","M",2,692,"João Santos","JV","JUV",41.53,41.53,40.71,"X","X","X","X"]
["DARDO8","Lan","Jornadas de Lançamentos - Etapa 1","2022-02-12","Leiria","JV","M",2,245,"Pedro Silva","CAMG","SEN",28.11,25.38,"X",26,"X",28.11,"X"]
["DISCO07","Lan","Jornadas de Lançamentos - Etapa 1","2022-02-12","Leiria","JV","F",2,219,"Carolina D Santos","CAMG","INI",30.59,"X",29.59,"X",30.59,"X",29.65]
["DISCO07","Lan","Jornadas de Lançamentos - Etapa 1","2022-02-12","Leiria","JV","F",4,59,"Bruna Amaral","JV","INI",20.57,20.57,16.03,"X",16.59,19.989999999999998,19.989999999999998]
["DISCO07","Lan","Jornadas de Lançamentos - Etapa 1","2022-02-12","Leiria","JV","F",5,123,"Marta Feliciano","JV","INI",16.47,16.47,13.84,14.61,14.68,12.64,12.01]
["DISCO07","Lan","Jornadas de Lançamentos - Etapa 1","2022-02-12","Leiria","JV","F",6,150,"Sofiia Chemyrys","JV","INI",15.98,15.83,15.98,11.58,13.09,"X",15.42]
["DISCO10","Lan","Jornadas de Lançamentos - Etapa 1","2022-02-12","Leiria","JV","M",1,74,"Denis Hrabar","JV","INI",40.44,38.090000000000003,"X",38.200000000000003,"X","X",40.44]
["DISCO10","Lan","Jornadas de Lançamentos - Etapa 1","2022-02-12","Leiria","JV","M",2,339,"Rodrigo Esteves","GDP-L","INI",30.44,28.23,"X","X",29.33,26.7,30.44]
["DISCO10","Lan","Jornadas de Lançamentos - Etapa 1","2022-02-12","Leiria","JV","M",3,140,"Rafael Morgado","JV","INI",29.36,29.36,"X",26.46,24.18,27.15,28.44]
["DISCO10","Lan","Jornadas de Lançamentos - Etapa 1","2022-02-12","Leiria","JV","M",4,160,"Rafael Dias","JV","INI",21.19,"X",20.65,21.19,20.59,21.08,21.01]
["DISCO10","Lan","Jornadas de Lançamentos - Etapa 1","2022-02-12","Leiria","JV","M",5,133,"Nikita Miroshnyk","JV","INI",15.32,"X",15.01,15,"X",15.32,14.19]
["DISCO10","Lan","Jornadas de Lançamentos - Etapa 1","2022-02-12","Leiria","JV","F",3,989,"Raquel Gomes","JV","JUN",42.57,38.130000000000003,"X",40.549999999999997,40.26,40.39,42.5]
["DISCO10","Lan","Jornadas de Lançamentos - Etapa 1","2022-02-12","Leiria","JV","F",5,218,"Camélia Terentiy","CAMG","JUN",32.369999999999997,32.369999999999997,31.54,28.23,"X",29.4,"X"]
["DISCO10","Lan","Jornadas de Lançamentos - Etapa 1","2022-02-12","Leiria","JV","F",1,738,"Beatriz Cordeiro","JV","JUV",25.11,"X",23.01,24.74,"X","X",25.11]
["DISCO15","Lan","Jornadas de Lançamentos - Etapa 1","2022-02-12","Leiria","JV","M",2,361,"Rodrigo Silva","CDBBR","JUV",32.97,31.07,27.7,27.79,32.97,32.93,29.93]
["DISCO15","Lan","Jornadas de Lançamentos - Etapa 1","2022-02-12","Leiria","JV","M",3,325,"Guilherme Santos","GDP-L","JUV",29.72,24.96,29.09,29.72,"X","X",28.96]
["DISCO17","Lan","Jornadas de Lançamentos - Etapa 1","2022-02-12","Leiria","JV","M",2,321,"Daniel Raposo","GDP-L","JUN",29.36,29.36,28.06,"X","X",29.32,"X"]
["DISCO20","Lan","Jornadas de Lançamentos - Etapa 1","2022-02-12","Leiria","JV","M",3,1077,"João Domingues","JV","SEN",43.84,43.84,"X",42.44,"X","X","X"]
["3000","MF","Meeting António Monteiro","2022-02-12","Pombal","ADAL","M",2,145,"André Antunes","JV","SUB-23",6.1901620370370366E-3]
["400","Vel","Meeting António Monteiro","2022-02-12","Pombal","ADAL","F",1,310,"Tatiana Francisco","GAC-L","SUB-23",63.35]
["60","Vel","Meeting António Monteiro","2022-02-12","Pombal","ADAL","F",2,878,"Carolina Gaspar","JV","JUN",8.2200000000000006]
["60","Vel","Meeting António Monteiro","2022-02-12","Pombal","ADAL","F",7,872,"Beatriz Luís","JV","JUV",8.93]
["60","Vel","Meeting António Monteiro","2022-02-12","Pombal","ADAL","M",2,883,"Ernesto Rodrigues","JV","JUV",7.44]
["60","Vel","Meeting António Monteiro","2022-02-12","Pombal","ADAL","M",3,691,"João Pinto","JV","SEN",7.14]
["60","Vel","Meeting António Monteiro","2022-02-12","Pombal","ADAL","M",4,11,"João Calhau","JV","SUB-23",7.16]
["60B106","Vel","Meeting António Monteiro","2022-02-12","Pombal","ADAL","M",5,892,"Rafael Correia","JV","SEN",8.4]
["60B106","Vel","Meeting António Monteiro","2022-02-12","Pombal","ADAL","M",5,892,"Rafael Correia","JV","SEN",8.31]
["800","MF","Meeting António Monteiro","2022-02-12","Pombal","ADAL","F",6,392,"Daniela Cordeiro","GAUB","SEN",1.7355324074074072E-3]
["800","MF","Meeting António Monteiro","2022-02-12","Pombal","ADAL","F",3,755,"Maria Cabecinhas","GAUB","JUN",2.2303240740740738E-3]
["800","MF","Meeting António Monteiro","2022-02-12","Pombal","ADAL","F",4,604,"Sofia Mota","GAUB","JUV",2.295023148148148E-3]
["800","MF","Meeting António Monteiro","2022-02-12","Pombal","ADAL","F",5,388,"Anabela Fernandes","GAUB","VET 50",2.3749999999999999E-3]
["800","MF","Meeting António Monteiro","2022-02-12","Pombal","ADAL","F",6,582,"Ângela Alberto","GAUB","JUV",2.5325231481481479E-3]
["800","MF","Meeting António Monteiro","2022-02-12","Pombal","ADAL","F",2,626,"Adriana Coelho","IDV","SEN",1.8258101851851849E-3]
["800","MF","Meeting António Monteiro","2022-02-12","Pombal","ADAL","F",3,658,"Sandra Simões","IDV","VET 45",2.1327546296296298E-3]
["800","MF","Meeting António Monteiro","2022-02-12","Pombal","ADAL","F",4,659,"Sónia Farto","IDV","VET 45",2.1861111111111113E-3]
["800","MF","Meeting António Monteiro","2022-02-12","Pombal","ADAL","F",5,640,"Helena Henriques","IDV","VET 50",2.3194444444444443E-3]
["800","MF","Meeting António Monteiro","2022-02-12","Pombal","ADAL","M",2,595,"Licínio Silva","GAUB","SEN",1.4379629629629632E-3]
["800","MF","Meeting António Monteiro","2022-02-12","Pombal","ADAL","M",4,291,"Fábio Francisco","GAC-L","SUB-23",1.4737268518518519E-3]
["800","MF","Meeting António Monteiro","2022-02-12","Pombal","ADAL","M",5,292,"Guilherme Ferreira","GAC-L","JUN",1.511574074074074E-3]
["800","MF","Meeting António Monteiro","2022-02-12","Pombal","ADAL","M",6,752,"Rodrigo Feteira","GAUB","JUN",1.7714120370370368E-3]
["800","MF","Meeting António Monteiro","2022-02-12","Pombal","ADAL","M",7,554,"António Alves","CAB-L","VET 60",1.987847222222222E-3]
["800","MF","Meeting António Monteiro","2022-02-12","Pombal","ADAL","M",1,451,"João Gonçalves","ACV","SEN",1.577777777777778E-3]
["800","MF","Meeting António Monteiro","2022-02-12","Pombal","ADAL","M",2,576,"Alexandre Sousa","CPRAB","VET 35",1.6575231481481484E-3]
["800","MF","Meeting António Monteiro","2022-02-12","Pombal","ADAL","M",3,599,"Martinho Pedrosa","GAUB","VET 55",1.6616898148148148E-3]
["800","MF","Meeting António Monteiro","2022-02-12","Pombal","ADAL","M",4,644,"João Marcelino","IDV","VET 50",1.8152777777777776E-3]
["800","MF","Meeting António Monteiro","2022-02-12","Pombal","ADAL","M",5,399,"José Gonçalves","GAUB","VET 50",1.8709490740740741E-3]
["800","MF","Meeting António Monteiro","2022-02-12","Pombal","ADAL","M",6,947,"José Alves","ADRM","VET 55",1.8781249999999998E-3]
["800","MF","Meeting António Monteiro","2022-02-12","Pombal","ADAL","M",7,625,"Acácio Campos","IDV","VET 60",1.9138888888888892E-3]
["800","MF","Meeting António Monteiro","2022-02-12","Pombal","ADAL","M",8,579,"Joaquim Gomes","CPRAB","VET 70",2.189236111111111E-3]
["800","MF","Meeting António Monteiro","2022-02-12","Pombal","ADAL","M",1,627,"Aléxis Rocha","IDV","SEN",1.6128472222222221E-3]
["800","MF","Meeting António Monteiro","2022-02-12","Pombal","ADAL","M",2,646,"Jorge Marcelino","IDV","VET 45",1.6377314814814815E-3]
["800","MF","Meeting António Monteiro","2022-02-12","Pombal","ADAL","M",3,628,"Amilcar Brito","IDV","VET 35",1.6895833333333331E-3]
["800","MF","Meeting António Monteiro","2022-02-12","Pombal","ADAL","M",4,455,"Licínio Carreira","ACV","VET 45",1.7518518518518519E-3]
["800","MF","Meeting António Monteiro","2022-02-12","Pombal","ADAL","M",5,656,"Rui Dinis","IDV","VET 55",1.8940972222222224E-3]
["800","MF","Meeting António Monteiro","2022-02-12","Pombal","ADAL","M",6,449,"Eugénio Mendes","ACV","VET 60",2.256712962962963E-3]
["800","MF","Meeting António Monteiro","2022-02-12","Pombal","ADAL","M",7,442,"Alfredo Santos","ACV","VET 65",2.6546296296296296E-3]
["800","MF","Meeting António Monteiro","2022-02-12","Pombal","ADAL","M",1,946,"João Santana","ADRM","SEN",1.8283564814814814E-3]
["800","MF","Meeting António Monteiro","2022-02-12","Pombal","ADAL","M",2,633,"Carlos Simões","IDV","VET 55",1.8399305555555554E-3]
["800","MF","Meeting António Monteiro","2022-02-12","Pombal","ADAL","M",3,467,"Nuno Ferreira","CPRAB","VET 40",1.9172453703703704E-3]
["TRIPLO","Sal","Meeting António Monteiro","2022-02-12","Pombal","ADAL","F",5,818,"Eduarda Ferreira","JV","SUB-23",11.31,11.31,11.23,11.07,"X",11.27,"X"]
["TRIPLO","Sal","Meeting António Monteiro","2022-02-12","Pombal","ADAL","F",6,888,"Juliana Brites","JV","SUB-23",10.99,"X",10.99,"X","X","X","X"]
["150","Vel","3.ª Jornada do CD Absoluto em Pista Coberta","2022-02-13","Pombal","ADAL","F",1,326,"Inês Marques","GDP-L","INF",22.72,null,null,null,null,null,"AQUI"]
["150","Vel","3.ª Jornada do CD Absoluto em Pista Coberta","2022-02-13","Pombal","ADAL","F",2,128,"Matilde Joaquim","JV","INF",23.05]
["150","Vel","3.ª Jornada do CD Absoluto em Pista Coberta","2022-02-13","Pombal","ADAL","F",4,1075,"Eva Cardoso","JV","INF",27.23]
["150","Vel","3.ª Jornada do CD Absoluto em Pista Coberta","2022-02-13","Pombal","ADAL","F",1,107,"Lara Simões","JV","INF",21.87]
["150","Vel","3.ª Jornada do CD Absoluto em Pista Coberta","2022-02-13","Pombal","ADAL","F",2,66,"Carolina Silva","JV","INF",22.19]
["150","Vel","3.ª Jornada do CD Absoluto em Pista Coberta","2022-02-13","Pombal","ADAL","F",3,90,"Francisca Reis","JV","INF",22.77]
["150","Vel","3.ª Jornada do CD Absoluto em Pista Coberta","2022-02-13","Pombal","ADAL","F",4,51,"Alessandra Santos","JV","INF",23.25]
["150","Vel","3.ª Jornada do CD Absoluto em Pista Coberta","2022-02-13","Pombal","ADAL","M",1,337,"Rafael Pena","GDP-L","INF",24.08]
["150","Vel","3.ª Jornada do CD Absoluto em Pista Coberta","2022-02-13","Pombal","ADAL","M",1,83,"Eduardo Camacho","JV","INF",21.72]
["150","Vel","3.ª Jornada do CD Absoluto em Pista Coberta","2022-02-13","Pombal","ADAL","M",3,104,"José Martins","JV","INF",24.62]
["2000MX","MX","3.ª Jornada do CD Absoluto em Pista Coberta","2022-02-13","Pombal","ADAL","F",1,326,"Inês Marques","GDP-L","INF",9.8337962962962953E-3]
["2000MX","MX","3.ª Jornada do CD Absoluto em Pista Coberta","2022-02-13","Pombal","ADAL","F",2,51,"Alessandra Santos","JV","INF",1.0215972222222222E-2]
["2000MX","MX","3.ª Jornada do CD Absoluto em Pista Coberta","2022-02-13","Pombal","ADAL","F",3,90,"Francisca Reis","JV","INF",1.0879976851851852E-2]
["2000MX","MX","3.ª Jornada do CD Absoluto em Pista Coberta","2022-02-13","Pombal","ADAL","F",4,1075,"Eva Cardoso","JV","INF",1.0896643518518517E-2]
["2000MX","MX","3.ª Jornada do CD Absoluto em Pista Coberta","2022-02-13","Pombal","ADAL","F",5,107,"Lara Simões","JV","INF",1.0905092592592593E-2]
["2000MX","MX","3.ª Jornada do CD Absoluto em Pista Coberta","2022-02-13","Pombal","ADAL","M",1,91,"Francisco Gregório","JV","INF",9.3471064814814823E-3]
["2000MX","MX","3.ª Jornada do CD Absoluto em Pista Coberta","2022-02-13","Pombal","ADAL","M",2,104,"José Martins","JV","INF",1.0557638888888889E-2]
["3000","MF","3.ª Jornada do CD Absoluto em Pista Coberta","2022-02-13","Pombal","ADAL","F",1,3,"Joana Bagagem","ACB-L","SUB-23","00:11:37.320"]
["3000","MF","3.ª Jornada do CD Absoluto em Pista Coberta","2022-02-13","Pombal","ADAL","F",2,445,"Deonilde Costa","ACV","VET 45","00:11:39.130"]
["3000","MF","3.ª Jornada do CD Absoluto em Pista Coberta","2022-02-13","Pombal","ADAL","F",5,755,"Maria Cabecinhas","GAUB","JUN","00:14:17.550"]
["3000","MF","3.ª Jornada do CD Absoluto em Pista Coberta","2022-02-13","Pombal","ADAL","F",6,388,"Anabela Fernandes","GAUB","VET 50","00:14:32.130"]
["3000","MF","3.ª Jornada do CD Absoluto em Pista Coberta","2022-02-13","Pombal","ADAL","F",7,604,"Sofia Mota","GAUB","JUV","00:15:15.630"]
["3000","MF","3.ª Jornada do CD Absoluto em Pista Coberta","2022-02-13","Pombal","ADAL","M",1,451,"João Gonçalves","ACV","SEN","00:09:47.900"]
["3000","MF","3.ª Jornada do CD Absoluto em Pista Coberta","2022-02-13","Pombal","ADAL","M",2,455,"Licínio Carreira","ACV","VET 45","00:10:17.450"]
["3000","MF","3.ª Jornada do CD Absoluto em Pista Coberta","2022-02-13","Pombal","ADAL","M",3,529,"Paulo Costa","ACB-L","VET 40","00:10:20.170"]
["3000","MF","3.ª Jornada do CD Absoluto em Pista Coberta","2022-02-13","Pombal","ADAL","M",6,454,"José Santos","ACV","VET 45","00:10:45.830"]
["3000","MF","3.ª Jornada do CD Absoluto em Pista Coberta","2022-02-13","Pombal","ADAL","M",7,966,"Luis Maia","CAMG","VET 45","00:10:47.040"]
["3000","MF","3.ª Jornada do CD Absoluto em Pista Coberta","2022-02-13","Pombal","ADAL","M",8,946,"João Santana","ADRM","SEN","00:10:47.230"]
["3000","MF","3.ª Jornada do CD Absoluto em Pista Coberta","2022-02-13","Pombal","ADAL","M",9,698,"Marco Gameiro","JV","SUB-23","00:10:55.910"]
["3000","MF","3.ª Jornada do CD Absoluto em Pista Coberta","2022-02-13","Pombal","ADAL","M",10,599,"Martinho Pedrosa","GAUB","VET 55","00:11:08.830"]
["3000","MF","3.ª Jornada do CD Absoluto em Pista Coberta","2022-02-13","Pombal","ADAL","M",11,399,"José Gonçalves","GAUB","VET 50","00:11:09.080"]
["3000","MF","3.ª Jornada do CD Absoluto em Pista Coberta","2022-02-13","Pombal","ADAL","M",12,572,"Pedro Rocha","CANAZ","JUV","00:12:48.030"]
["3000","MF","3.ª Jornada do CD Absoluto em Pista Coberta","2022-02-13","Pombal","ADAL","M",4,595,"Licínio Silva","GAUB","SEN","00:08:58.680"]
["3000","MF","3.ª Jornada do CD Absoluto em Pista Coberta","2022-02-13","Pombal","ADAL","M",7,312,"Valter Costa","GAC-L","SEN","00:09:10.800"]
["3000","MF","3.ª Jornada do CD Absoluto em Pista Coberta","2022-02-13","Pombal","ADAL","M",8,444,"Bruno Gaspar","ACV","VET 35","00:09:14.750"]
["3000","MF","3.ª Jornada do CD Absoluto em Pista Coberta","2022-02-13","Pombal","ADAL","M",9,504,"Rodrigo Ribeiro","NDA","JUN","00:09:22.420"]
["3000","MF","3.ª Jornada do CD Absoluto em Pista Coberta","2022-02-13","Pombal","ADAL","M",10,152,"Tiago Jorge","JV","JUV","00:09:24.950"]
["3000","MF","3.ª Jornada do CD Absoluto em Pista Coberta","2022-02-13","Pombal","ADAL","M",11,227,"Emamuel Cardoso","CAMG","SEN","00:09:25.630"]
["3000","MF","3.ª Jornada do CD Absoluto em Pista Coberta","2022-02-13","Pombal","ADAL","M",14,200,"Nuno Serrada","ACB-L","VET 40","00:09:45.270"]
["3000","MF","3.ª Jornada do CD Absoluto em Pista Coberta","2022-02-13","Pombal","ADAL","M",15,168,"Duarte F Rodrigues","ACB-L","JUN","00:09:56"]
["3000MX","MX","3.ª Jornada do CD Absoluto em Pista Coberta","2022-02-13","Pombal","ADAL","F",1,498,"Joana Pontes","LMA-L","SUB-23",9.4092592592592596E-3]
["3000MX","MX","3.ª Jornada do CD Absoluto em Pista Coberta","2022-02-13","Pombal","ADAL","F",1,329,"Lara Beato","GDP-L","INI",1.2532407407407407E-2]
["3000MX","MX","3.ª Jornada do CD Absoluto em Pista Coberta","2022-02-13","Pombal","ADAL","M",1,98,"Jaime Rolla","JV","INI",1.4538425925925925E-2]
["400","Vel","3.ª Jornada do CD Absoluto em Pista Coberta","2022-02-13","Pombal","ADAL","F",1,821,"Margarida Santos","JV","JUV",65.12]
["400","Vel","3.ª Jornada do CD Absoluto em Pista Coberta","2022-02-13","Pombal","ADAL","F",3,167,"Diana Duarte","ACB-L","JUN",71.97]
["400","Vel","3.ª Jornada do CD Absoluto em Pista Coberta","2022-02-13","Pombal","ADAL","F",4,855,"Jennifer Carvalho","CANAZ","JUV",73.78]
["400","Vel","3.ª Jornada do CD Absoluto em Pista Coberta","2022-02-13","Pombal","ADAL","M",1,519,"Edson Dias","ACB-L","JUV",55.74]
["400","Vel","3.ª Jornada do CD Absoluto em Pista Coberta","2022-02-13","Pombal","ADAL","M",2,178,"Ivo Gomes","ACB-L","JUV",59.97]
["400","Vel","3.ª Jornada do CD Absoluto em Pista Coberta","2022-02-13","Pombal","ADAL","M",3,1049,"Paulo Almeida","ACB-L","SEN",62.48]
["400","Vel","3.ª Jornada do CD Absoluto em Pista Coberta","2022-02-13","Pombal","ADAL","M",2,528,"Thiago Figueiredo","ACB-L","VET 40",59.54]
["400","Vel","3.ª Jornada do CD Absoluto em Pista Coberta","2022-02-13","Pombal","ADAL","M",4,525,"Jorge Mendrico","ACB-L","SEN",64.930000000000007]
["400","Vel","3.ª Jornada do CD Absoluto em Pista Coberta","2022-02-13","Pombal","ADAL","M",5,947,"José Alves","ADRM","VET 55",69.44]
["400","Vel","3.ª Jornada do CD Absoluto em Pista Coberta","2022-02-13","Pombal","ADAL","M",3,924,"Martim Ribeiro","CANAZ","JUV",65.2]
["400","Vel","3.ª Jornada do CD Absoluto em Pista Coberta","2022-02-13","Pombal","ADAL","M",4,1087,"José Pedro Francisco","CANAZ","JUN",65.64]
["400","Vel","3.ª Jornada do CD Absoluto em Pista Coberta","2022-02-13","Pombal","ADAL","M",5,893,"Bruno Júnior","CANAZ","JUN",66.62]
["400","Vel","3.ª Jornada do CD Absoluto em Pista Coberta","2022-02-13","Pombal","ADAL","M",2,852,"Bruno Branco","CANAZ","JUN",59.64]
["5000MX","MX","3.ª Jornada do CD Absoluto em Pista Coberta","2022-02-13","Pombal","ADAL","M",2,497,"Hélder Santos","LMA-L","SEN",1.4456597222222221E-2]
["5000MX","MX","3.ª Jornada do CD Absoluto em Pista Coberta","2022-02-13","Pombal","ADAL","M",3,499,"Luís Silva","LMA-L","VET 50",1.6033912037037037E-2]
["ALTURA","Sal","3.ª Jornada do CD Absoluto em Pista Coberta","2022-02-13","Pombal","ADAL","M",2,1043,"Alexandre Lucas","CAMG","SEN",1.84]
["ALTURA","Sal","3.ª Jornada do CD Absoluto em Pista Coberta","2022-02-13","Pombal","ADAL","M",3,810,"Dorin Repesciuc","CANAZ","SUB-23",1.77]
["ALTURA","Sal","3.ª Jornada do CD Absoluto em Pista Coberta","2022-02-13","Pombal","ADAL","M",5,941,"Tiago Gomes","ACB-L","JUV",1.69]
["ALTURA","Sal","3.ª Jornada do CD Absoluto em Pista Coberta","2022-02-13","Pombal","ADAL","F",2,822,"Nadine Pires","JV","JUV",1.35]
["VARA","Sal","3.ª Jornada do CD Absoluto em Pista Coberta","2022-02-13","Pombal","ADAL","F",2,211,"Vera Duque","ACB-L","JUN",2.1]
["DARDO5","Lan","Camp. Distrital de Lançamentos Longos - Dardo","2022-02-13","Leiria","ADAL","F",1,6,"Sara Conceição","CANAZ","JUV",34.58,34.42,"X",34.58,32.74,32.92,"X"]
["DARDO5","Lan","Camp. Distrital de Lançamentos Longos - Dardo","2022-02-13","Leiria","ADAL","F",2,854,"Eva Varela","CANAZ","JUV",31.39,30.29,31.39,30.3,31.33,"X","X"]
["DARDO5","Lan","Camp. Distrital de Lançamentos Longos - Dardo","2022-02-13","Leiria","ADAL","F",3,738,"Beatriz Cordeiro","JV","JUV",26.47,"X",24.9,26.47,24.95,25.16,23.93]
["DARDO5","Lan","Camp. Distrital de Lançamentos Longos - Dardo","2022-02-13","Leiria","ADAL","F",4,2,"Sara Brites","JV","JUV",24.69,20.87,24.69,"X",22.89,"X",22.35]
["DARDO5","Lan","Camp. Distrital de Lançamentos Longos - Dardo","2022-02-13","Leiria","ADAL","F",5,763,"Vanessa Castravet","CANAZ","INI",22.26,21.85,20.239999999999998,20.69,21.1,22.26,19.7]
["DARDO5","Lan","Camp. Distrital de Lançamentos Longos - Dardo","2022-02-13","Leiria","ADAL","F",6,150,"Sofiia Chemyrys","JV","INI",22.16,"X","X",22.16,"X","X","X"]
["DARDO5","Lan","Camp. Distrital de Lançamentos Longos - Dardo","2022-02-13","Leiria","ADAL","F",7,219,"Carolina D Santos","CAMG","INI",19.239999999999998,19.239999999999998,"X","X",15.54,15.74,"X"]
["DARDO5","Lan","Camp. Distrital de Lançamentos Longos - Dardo","2022-02-13","Leiria","ADAL","F",8,94,"Helena Alípio","JV","INI",18.079999999999998,"X",17.66,"X",17,18.079999999999998,"X"]
["DARDO5","Lan","Camp. Distrital de Lançamentos Longos - Dardo","2022-02-13","Leiria","ADAL","F",9,123,"Marta Feliciano","JV","INI",13.64,13.64,"X","X"]
["DARDO5","Lan","Camp. Distrital de Lançamentos Longos - Dardo","2022-02-13","Leiria","ADAL","F",10,314,"Alice Varino","GDP-L","INI",12.29,11.43,"X",12.29]
["DARDO6","Lan","Camp. Distrital de Lançamentos Longos - Dardo","2022-02-13","Leiria","ADAL","F",1,346,"Carolina Patrício","CDBBR","SUB-23",31,31,30.79,"X","X",29.93,"X"]
["DARDO6","Lan","Camp. Distrital de Lançamentos Longos - Dardo","2022-02-13","Leiria","ADAL","F",2,1078,"Raquel Gonçalves","JV","SUB-23",23.25,17.920000000000002,20.66,21.65,22.26,20.47,23.25]
["DARDO7","Lan","Camp. Distrital de Lançamentos Longos - Dardo","2022-02-13","Leiria","ADAL","M",1,1079,"Rúben Santos","JV","JUV",44.66,44.66,41.16,"-","-","X",39.79]
["DARDO7","Lan","Camp. Distrital de Lançamentos Longos - Dardo","2022-02-13","Leiria","ADAL","M",2,1060,"Duarte Santos","CANAZ","JUV",38.270000000000003,36.28,37.54,38.270000000000003,37.75,37.06,38.200000000000003]
["DARDO7","Lan","Camp. Distrital de Lançamentos Longos - Dardo","2022-02-13","Leiria","ADAL","M",3,74,"Denis Hrabar","JV","INI",36.11,36.11,33.18,"X",35.43,"X",34]
["DARDO7","Lan","Camp. Distrital de Lançamentos Longos - Dardo","2022-02-13","Leiria","ADAL","M",4,325,"Guilherme Santos","GDP-L","JUV",35.06,27.07,30.53,29.8,35.06,"X","X"]
["DARDO7","Lan","Camp. Distrital de Lançamentos Longos - Dardo","2022-02-13","Leiria","ADAL","M",5,339,"Rodrigo Esteves","GDP-L","INI",28.51,"X","X",24.53,28.51,"X","X"]
["DARDO7","Lan","Camp. Distrital de Lançamentos Longos - Dardo","2022-02-13","Leiria","ADAL","M",6,133,"Nikita Miroshnyk","JV","INI",16.579999999999998,16.579999999999998,14.31,11.24,12.97,"X",14.83]
["DARDO8","Lan","Camp. Distrital de Lançamentos Longos - Dardo","2022-02-13","Leiria","ADAL","M",1,1057,"Bernardo Temudo","CAMG","SEN",41.98,41.98,39.03,"X","-",40.479999999999997,"-"]
["DARDO8","Lan","Camp. Distrital de Lançamentos Longos - Dardo","2022-02-13","Leiria","ADAL","M",2,228,"Ernesto Santos","CAMG","VET 35",41.67,38.840000000000003,38.33,"X",40.619999999999997,41.67,41.53]
["DARDO8","Lan","Camp. Distrital de Lançamentos Longos - Dardo","2022-02-13","Leiria","ADAL","M",3,321,"Daniel Raposo","GDP-L","JUN",36.909999999999997,29.76,26.71,24.25,29.64,33.18,36.909999999999997]
["DARDO8","Lan","Camp. Distrital de Lançamentos Longos - Dardo","2022-02-13","Leiria","ADAL","M",4,245,"Pedro Silva","CAMG","SEN",29.88,"X",25.23,29.88,"X",26.38,27.38]
["DARDO8","Lan","Camp. Distrital de Lançamentos Longos - Dardo","2022-02-13","Leiria","ADAL","M",5,69,"Daniel Rizzi","JV","JUN",28.96,"X",26.15,28.96,"X",26.01,"X"]
["3000","MF","Campeonatos Nacionais de Sub-20 em PC","2022-02-13","Braga","FPA","F",13,97,"Catarina Ferreira","CAMG","JUN",8.1309027777777786E-3]
["3000","MF","Campeonatos Nacionais de Sub-20 em PC","2022-02-13","Braga","FPA","M",3,181,"Tiago Silva","GAC-L","JUN",5.9815972222222224E-3]
["4X400","Vel","Campeonatos Nacionais de Sub-20 em PC","2022-02-13","Braga","FPA","F",1,10227,"JUV VIDIGALENSE","JV","ND","04:03,96"]
["4X400","Vel","Campeonatos Nacionais de Sub-20 em PC","2022-02-13","Braga","FPA","M",3,10225,"JUV VIDIGALENSE","JV","ND","03:41,74"]
["60B084","Vel","Campeonatos Nacionais de Sub-20 em PC","2022-02-13","Braga","FPA","F",3,229,"Margarida Santos","JV","JUN",9.73]
["60B084","Vel","Campeonatos Nacionais de Sub-20 em PC","2022-02-13","Braga","FPA","F",7,229,"Margarida Santos","JV","JUN",9.6999999999999993]
["60B091","Vel","Campeonatos Nacionais de Sub-20 em PC","2022-02-13","Braga","FPA","M",4,99,"Miguel Marques","CAMG","JUV",8.86]
["60B091","Vel","Campeonatos Nacionais de Sub-20 em PC","2022-02-13","Braga","FPA","M",7,236,"Guilherme Pereira","JV","JUN",9.2799999999999994]
["800","MF","Campeonatos Nacionais de Sub-20 em PC","2022-02-13","Braga","FPA","F",6,237,"Carlota Ferreira","JV","JUV","00:02:21.090"]
["ALTURA","Sal","Campeonatos Nacionais de Sub-20 em PC","2022-02-13","Braga","FPA","M",3,12,"Tiago Gama","AAADP","JUN",1.83]
["COMPRIM","Sal","Campeonatos Nacionais de Sub-20 em PC","2022-02-13","Braga","FPA","F",6,235,"Joana Gameiro","JV","JUN",5.43,"X",5.17,5.43,"-","-","-"]
["PESO4","Lan","Campeonatos Nacionais de Sub-20 em PC","2022-02-13","Braga","FPA","F",3,232,"Raquel Gomes","JV","JUN",11.34,9.25,10.58,10.38,11.34,10.7,11]
["PESO4","Lan","Campeonatos Nacionais de Sub-20 em PC","2022-02-13","Braga","FPA","F",4,242,"Vera Goucha","JV","JUV",11.04,10.71,10.220000000000001,11.04,"X",10.84,9.9600000000000009]
["PESO4","Lan","Campeonatos Nacionais de Sub-20 em PC","2022-02-13","Braga","FPA","F",7,226,"Carolina Caseiro","JV","JUN",10.23,10.09,"X",10.23,9.73,9.9,9.93]
["PESO4","Lan","Campeonatos Nacionais de Sub-20 em PC","2022-02-13","Braga","FPA","F",10,240,"Márcia Maketa","JV","JUV",9.4600000000000009,9.33,"X",9.4600000000000009]
["TRIPLO","Sal","Campeonatos Nacionais de Sub-20 em PC","2022-02-13","Braga","FPA","F",2,229,"Margarida Santos","JV","JUN",11.78,11.25,"X",10.98,11.59,11.54,11.78]
["TRIPLO","Sal","Campeonatos Nacionais de Sub-20 em PC","2022-02-13","Braga","FPA","F",3,228,"Ana Reis","JV","JUN",11.43,10.96,11.43,"X",11.25,11.41,"X"]
["TRIPLO","Sal","Campeonatos Nacionais de Sub-20 em PC","2022-02-13","Braga","FPA","M",5,11,"Afonso Marques","AAADP","JUN",13.77,13.77,"X",13.17,13.43,13.52,13.52]
["TRIPLO","Sal","Campeonatos Nacionais de Sub-20 em PC","2022-02-13","Braga","FPA","M",7,98,"André Rodrigues","CAMG","JUN",13.5,13.23,13.12,13.5,"X",13.47,13.24]
["TRIPLO","Sal","Campeonatos Nacionais de Sub-20 em PC","2022-02-13","Braga","FPA","M",8,230,"Eduardo Oliveira","JV","JUN",13.32,13.32,"X","X"]
["VARA","Sal","Campeonatos Nacionais de Sub-20 em PC","2022-02-13","Braga","FPA","F",4,239,"Filipa Dinis","JV","JUV",2.9]
["VARA","Sal","Campeonatos Nacionais de Sub-20 em PC","2022-02-13","Braga","FPA","F",5,231,"Bruna Santos","JV","JUN",2.9]
["VARA","Sal","Campeonatos Nacionais de Sub-20 em PC","2022-02-13","Braga","FPA","F",7,242,"Vera Goucha","JV","JUV",2.5499999999999998]
["DISCO10","Lan","Jornadas Lançamentos - Etapa 2","2022-02-26","Leiria","JV","F",4,989,"Raquel Gomes","JV","JUN",43.07,"X",42.13,41.33,41.12,41.02,43.07]
["DISCO10","Lan","Jornadas Lançamentos - Etapa 2","2022-02-26","Leiria","JV","F",5,890,"Márcia Maketa","JV","JUV",37.46,35.92,37.43,37.03,"X",35.85,37.46]
["DISCO10","Lan","Jornadas Lançamentos - Etapa 2","2022-02-26","Leiria","JV","F",8,738,"Beatriz Cordeiro","JV","JUV",24.86,21.43,"X",22.71,"X","X",24.86]
["DISCO10","Lan","Jornadas Lançamentos - Etapa 2","2022-02-26","Leiria","JV","F",9,2,"Sara Brites","JV","JUV",21.67,18.38,"X",21.67,"X",19.68,"X"]
["DISCO10","Lan","Jornadas Lançamentos - Etapa 2","2022-02-26","Leiria","JV","F",10,693,"Laura Baltazar","JV","JUV",19.78,19.78,"X",19.489999999999998,18.579999999999998,"X","X"]
["DISCO10","Lan","Jornadas Lançamentos - Etapa 2","2022-02-26","Leiria","JV","F",11,64,"Carolina Marques","JV","JUV",18.07,17.989999999999998,"X",17.37,"X",18.07,"X"]
["DISCO20","Lan","Jornadas Lançamentos - Etapa 2","2022-02-26","Leiria","JV","M",4,1077,"João Domingues","JV","SEN",41.97,40.81,"X",41.44,40.83,41.97,41.59]
["MARTEL2","Lan","Jornadas Lançamentos - Etapa 2","2022-02-26","Leiria","JV","F",1,51,"Alessandra Santos","JV","INF",22.67,22.29,22.67,22.67,21.84,"X",21.07]
["MARTEL2","Lan","Jornadas Lançamentos - Etapa 2","2022-02-26","Leiria","JV","F",2,112,"Liliana Teotónio","JV","INF",22.49,20.76,18.36,20.77,21.69,"X",22.49]
["MARTEL2","Lan","Jornadas Lançamentos - Etapa 2","2022-02-26","Leiria","JV","F",3,129,"Matilde Silva","JV","INF",21.85,20.61,21.85,17.420000000000002,20.78,21.09,20.79]
["MARTEL2","Lan","Jornadas Lançamentos - Etapa 2","2022-02-26","Leiria","JV","F",4,341,"Violeta Santos","GDP-L","INF",16.8,"-",16.8,15.68,15.58,15.32,15.03]
["MARTEL3","Lan","Jornadas Lançamentos - Etapa 2","2022-02-26","Leiria","JV","F",1,890,"Márcia Maketa","JV","JUV",57.21,53.11,53.59,53.3,55.86,"X",57.21]
["MARTEL3","Lan","Jornadas Lançamentos - Etapa 2","2022-02-26","Leiria","JV","F",2,811,"Inaya Yayo","CANAZ","JUV",48.37,"X",46.12,48.37,42.64,44.93,45.85]
["MARTEL3","Lan","Jornadas Lançamentos - Etapa 2","2022-02-26","Leiria","JV","F",3,738,"Beatriz Cordeiro","JV","JUV",27.4,27.4,"X","X","X","X","X"]
["MARTEL3","Lan","Jornadas Lançamentos - Etapa 2","2022-02-26","Leiria","JV","F",4,693,"Laura Baltazar","JV","JUV",25.01,22.59,23.13,25.01,"X",24.95,24.84]
["MARTEL3","Lan","Jornadas Lançamentos - Etapa 2","2022-02-26","Leiria","JV","F",1,61,"Camila Patraboy","JV","INI",31.13,"X",29.36,28.49,31.13,"X",28.58]
["MARTEL3","Lan","Jornadas Lançamentos - Etapa 2","2022-02-26","Leiria","JV","F",2,331,"Mariana Custódio","GDP-L","INI",24.02,"X","X",19.96,20.53,"X",24.02]
["MARTEL3","Lan","Jornadas Lançamentos - Etapa 2","2022-02-26","Leiria","JV","F",3,95,"Inês Figueiredo","JV","INI",20.350000000000001,19.95,18.54,"X",20.350000000000001,19.510000000000002,19.36]
["MARTEL3","Lan","Jornadas Lançamentos - Etapa 2","2022-02-26","Leiria","JV","F",4,150,"Sofiia Chemyrys","JV","INI",18.34,"X",15.17,18.34,18.32,"X",16.239999999999998]
["MARTEL3","Lan","Jornadas Lançamentos - Etapa 2","2022-02-26","Leiria","JV","M",1,104,"José Martins","JV","INF",13.54,13.54,13.34,13.11,12.13,10.35,"X"]
["MARTEL3","Lan","Jornadas Lançamentos - Etapa 2","2022-02-26","Leiria","JV","M",2,83,"Eduardo Camacho","JV","INF",12.67,10.71,11.44,"X",10.57,12.67,12.1]
["MARTEL4","Lan","Jornadas Lançamentos - Etapa 2","2022-02-26","Leiria","JV","F",3,874,"Beatriz Silva","JV","JUN",36.54,"X",36.54,33.6,35.159999999999997,"X","X"]
["MARTEL4","Lan","Jornadas Lançamentos - Etapa 2","2022-02-26","Leiria","JV","M",1,339,"Rodrigo Esteves","GDP-L","INI",39.6,39.6,37.130000000000003,37.26,"X","X","X"]
["MARTEL4","Lan","Jornadas Lançamentos - Etapa 2","2022-02-26","Leiria","JV","M",2,133,"Nikita Miroshnyk","JV","INI",23.53,23.28,19.03,23.53,"X",21.21,21.34]
["MARTEL4","Lan","Jornadas Lançamentos - Etapa 2","2022-02-26","Leiria","JV","M",3,136,"Pedro Almeida","JV","INI",21.51,16.190000000000001,15.42,15.35,21.51,"X",16.68]
["MARTEL4","Lan","Jornadas Lançamentos - Etapa 2","2022-02-26","Leiria","JV","M",4,160,"Rafael Dias","JV","INI",18.260000000000002,"X",18.260000000000002,16.93,"X",14.77,14.73]
["MARTEL4","Lan","Jornadas Lançamentos - Etapa 2","2022-02-26","Leiria","JV","M",5,608,"Manuel Lameiro","GDP-L","INI",17.04,"X",15.5,16.170000000000002,15.66,15.5,17.04]
["MARTEL5","Lan","Jornadas Lançamentos - Etapa 2","2022-02-26","Leiria","JV","M",1,9,"Francisco Calhau","JV","JUV",62.05,"X",58.62,62.05,"X","X","X"]
["MARTEL5","Lan","Jornadas Lançamentos - Etapa 2","2022-02-26","Leiria","JV","M",2,325,"Guilherme Santos","GDP-L","JUV",27.24,"X",27.24,"X","X","X","X"]
["MARTEL6","Lan","Jornadas Lançamentos - Etapa 2","2022-02-26","Leiria","JV","M",1,321,"Daniel Raposo","GDP-L","JUN",39.08,39.08,38.43,38.85,"X",35.119999999999997,37.28]
["MARTEL6","Lan","Jornadas Lançamentos - Etapa 2","2022-02-26","Leiria","JV","M",2,69,"Daniel Rizzi","JV","JUN",22.87,22.87,"X",15.67,"X","X","X"]
["MARTEL7","Lan","Jornadas Lançamentos - Etapa 2","2022-02-26","Leiria","JV","M",2,807,"Miguel Carreira","CAMG","SEN",66.650000000000006,"X",66.650000000000006,66.11,66.3,65.5,"X"]
["MARTEL7","Lan","Jornadas Lançamentos - Etapa 2","2022-02-26","Leiria","JV","M",3,876,"Carlos Malaquias","JV","SUB-23",53.46,53.46,53.22,53.09,52.46,"X","X"]
["MARTEL7","Lan","Jornadas Lançamentos - Etapa 2","2022-02-26","Leiria","JV","M",4,1040,"Michael Fonseca","JV","SEN",52.98,"X",52.98,51.08,52.3,50.78,51.49]
["PESO3","Lan","Jornadas Lançamentos - Etapa 2","2022-02-26","Leiria","JV","F",1,64,"Carolina Marques","JV","JUV",9.0500000000000007,7.91,8.33,8.1,8.82,8.85,9.0500000000000007]
["PESO3","Lan","Jornadas Lançamentos - Etapa 2","2022-02-26","Leiria","JV","F",2,61,"Camila Patraboy","JV","INI",8.75,8.75,8.3000000000000007,8.18,8.19,8.68,7.99]
["PESO3","Lan","Jornadas Lançamentos - Etapa 2","2022-02-26","Leiria","JV","F",3,2,"Sara Brites","JV","JUV",8.7100000000000009,8.3000000000000007,8.16,8.68,8.7100000000000009,8.64,6.66]
["PESO3","Lan","Jornadas Lançamentos - Etapa 2","2022-02-26","Leiria","JV","F",4,150,"Sofiia Chemyrys","JV","INI",8.65,8.3000000000000007,"X",8.65,8.26,8.42,8.48]
["PESO3","Lan","Jornadas Lançamentos - Etapa 2","2022-02-26","Leiria","JV","F",5,331,"Mariana Custódio","GDP-L","INI",7.82,6.01,5.87,6.8,7.15,7.82,7.57]
["PESO3","Lan","Jornadas Lançamentos - Etapa 2","2022-02-26","Leiria","JV","F",6,95,"Inês Figueiredo","JV","INI",7.71,7.42,"X",7,7.23,7.71,7.32]
["PESO3","Lan","Jornadas Lançamentos - Etapa 2","2022-02-26","Leiria","JV","F",7,121,"Mariana Lopes","JV","JUV",6.9,6.9,6.51,6.39,6.63,6.21,"X"]
["PESO4","Lan","Jornadas Lançamentos - Etapa 2","2022-02-26","Leiria","JV","M",1,74,"Denis Hrabar","JV","INI",13.56,12.2,13.56,"X",12.49,"X",12.72]
["PESO4","Lan","Jornadas Lançamentos - Etapa 2","2022-02-26","Leiria","JV","M",2,339,"Rodrigo Esteves","GDP-L","INI",10.18,10.18,"X",9.9700000000000006,"X",9.98,"X"]
["PESO4","Lan","Jornadas Lançamentos - Etapa 2","2022-02-26","Leiria","JV","M",3,157,"Tomás Monteiro","JV","INI",8.58,6.93,8.15,"X",8.4499999999999993,8.58,8.15]
["PESO4","Lan","Jornadas Lançamentos - Etapa 2","2022-02-26","Leiria","JV","M",4,140,"Rafael Morgado","JV","INI",8.4,"X",8.2799999999999994,"X",8.2899999999999991,"X",8.4]
["PESO4","Lan","Jornadas Lançamentos - Etapa 2","2022-02-26","Leiria","JV","M",5,160,"Rafael Dias","JV","INI",8.33,8.33,7.84,8.32,6.76,7.3,8.27]
["PESO4","Lan","Jornadas Lançamentos - Etapa 2","2022-02-26","Leiria","JV","M",6,133,"Nikita Miroshnyk","JV","INI",7.72,6.59,7.1,7.21,6.93,7.17,7.72]
["PESO5","Lan","Jornadas Lançamentos - Etapa 2","2022-02-26","Leiria","JV","M",1,9,"Francisco Calhau","JV","JUV",12.85,"X",12.55,"X","-",12.5,12.85]
["PESO5","Lan","Jornadas Lançamentos - Etapa 2","2022-02-26","Leiria","JV","M",2,1079,"Rúben Santos","JV","JUV",10.95,"X",10.87,"X","X",10.95,"X"]
["PESO5","Lan","Jornadas Lançamentos - Etapa 2","2022-02-26","Leiria","JV","M",3,325,"Guilherme Santos","GDP-L","JUV",9.0500000000000007,9.0500000000000007,"X",8.1999999999999993,"X","X",7.54]
["PESO5","Lan","Jornadas Lançamentos - Etapa 2","2022-02-26","Leiria","JV","M",4,1042,"Vadym Skafaryk","JV","JUV",8.1199999999999992,7.29,8.02,8.1199999999999992,7.07,7.86,8.09]
["60","Vel","Triatlo Técnico Distrital sub18","2022-03-05","Pombal","ADAL","F",1,85,"Filipa Dinis","JV","JUV",8.5399999999999991]
["60","Vel","Triatlo Técnico Distrital sub18","2022-03-05","Pombal","ADAL","F",2,684,"Catarina Silva","JV","JUV",8.67]
["60","Vel","Triatlo Técnico Distrital sub18","2022-03-05","Pombal","ADAL","F",4,53,"Anabela Silva","JV","JUV",9.3000000000000007]
["60","Vel","Triatlo Técnico Distrital sub18","2022-03-05","Pombal","ADAL","F",1,5,"Beatriz Castelhano","ACDRA","JUV",8.11]
["60","Vel","Triatlo Técnico Distrital sub18","2022-03-05","Pombal","ADAL","F",2,336,"Rafaela Pires","GDP-L","JUV",8.27]
["60","Vel","Triatlo Técnico Distrital sub18","2022-03-05","Pombal","ADAL","F",3,705,"Vera Goucha","JV","JUV",8.39]
["60","Vel","Triatlo Técnico Distrital sub18","2022-03-05","Pombal","ADAL","F",5,674,"Sofia Roberto","CAOB","JUV",8.92]
["60","Vel","Triatlo Técnico Distrital sub18","2022-03-05","Pombal","ADAL","F",6,282,"Vitoria Chornohor","NDAP","JUV",8.99]
["60","Vel","Triatlo Técnico Distrital sub18","2022-03-05","Pombal","ADAL","F",7,64,"Carolina Marques","JV","JUV",9.2200000000000006]
["60","Vel","Triatlo Técnico Distrital sub18","2022-03-05","Pombal","ADAL","M",2,1042,"Vadym Skafaryk","JV","JUV",7.71]
["60","Vel","Triatlo Técnico Distrital sub18","2022-03-05","Pombal","ADAL","M",3,375,"Diogo Nogueira","ACDRA","JUV",7.75]
["60","Vel","Triatlo Técnico Distrital sub18","2022-03-05","Pombal","ADAL","M",4,670,"Daniel Esgueira","CAOB","JUV",7.82]
["60","Vel","Triatlo Técnico Distrital sub18","2022-03-05","Pombal","ADAL","M",2,378,"Hugo Tavares","ACDRA","JUV",7.4]
["60","Vel","Triatlo Técnico Distrital sub18","2022-03-05","Pombal","ADAL","M",4,113,"Luca Cruz","JV","JUV",7.43]
["60","Vel","Triatlo Técnico Distrital sub18","2022-03-05","Pombal","ADAL","M",5,690,"João Martins","JV","JUV",7.51]
["60","Vel","Triatlo Técnico Distrital sub18","2022-03-05","Pombal","ADAL","M",6,374,"Diogo Chaves","ACDRA","JUV",7.67]
["60","Vel","Triatlo Técnico Distrital sub18","2022-03-05","Pombal","ADAL","M",7,943,"Rodrigo Almeida","ACDRA","JUV",7.67]
["60B076","Vel","Triatlo Técnico Distrital sub18","2022-03-05","Pombal","ADAL","F",1,697,"Luana Figueira","JV","JUV",10.3]
["60B076","Vel","Triatlo Técnico Distrital sub18","2022-03-05","Pombal","ADAL","F",2,166,"Constança Anunciação","ACB-L","JUV",10.53]
["60B076","Vel","Triatlo Técnico Distrital sub18","2022-03-05","Pombal","ADAL","F",3,693,"Laura Baltazar","JV","JUV",10.61]
["60B076","Vel","Triatlo Técnico Distrital sub18","2022-03-05","Pombal","ADAL","F",5,327,"Isa Ferreira","GDP-L","JUV",11.41]
["60B091","Vel","Triatlo Técnico Distrital sub18","2022-03-05","Pombal","ADAL","M",1,808,"Miguel Marques","CAMG","JUV",8.81]
["60B091","Vel","Triatlo Técnico Distrital sub18","2022-03-05","Pombal","ADAL","M",2,317,"Bernardo Cunha","GDP-L","JUV",8.85]
["ALTURA","Sal","Triatlo Técnico Distrital sub18","2022-03-05","Pombal","ADAL","F",1,697,"Luana Figueira","JV","JUV",1.48]
["ALTURA","Sal","Triatlo Técnico Distrital sub18","2022-03-05","Pombal","ADAL","F",2,327,"Isa Ferreira","GDP-L","JUV",1.33]
["ALTURA","Sal","Triatlo Técnico Distrital sub18","2022-03-05","Pombal","ADAL","F",3,166,"Constança Anunciação","ACB-L","JUV",1.27]
["ALTURA","Sal","Triatlo Técnico Distrital sub18","2022-03-05","Pombal","ADAL","F",4,693,"Laura Baltazar","JV","JUV",1.24]
["ALTURA","Sal","Triatlo Técnico Distrital sub18","2022-03-05","Pombal","ADAL","M",1,317,"Bernardo Cunha","GDP-L","JUV",1.76]
["ALTURA","Sal","Triatlo Técnico Distrital sub18","2022-03-05","Pombal","ADAL","M",3,808,"Miguel Marques","CAMG","JUV",1.64]
["COMPRIM","Sal","Triatlo Técnico Distrital sub18","2022-03-05","Pombal","ADAL","F",1,705,"Vera Goucha","JV","JUV",5.37,"X",5.27,5.37]
["COMPRIM","Sal","Triatlo Técnico Distrital sub18","2022-03-05","Pombal","ADAL","F",2,5,"Beatriz Castelhano","ACDRA","JUV",5.0199999999999996,4.84,4.8899999999999997,5.0199999999999996]
["COMPRIM","Sal","Triatlo Técnico Distrital sub18","2022-03-05","Pombal","ADAL","F",3,684,"Catarina Silva","JV","JUV",4.8600000000000003,4.74,4.78,4.8600000000000003]
["COMPRIM","Sal","Triatlo Técnico Distrital sub18","2022-03-05","Pombal","ADAL","F",5,85,"Filipa Dinis","JV","JUV",4.71,4.2300000000000004,4.58,4.71]
["COMPRIM","Sal","Triatlo Técnico Distrital sub18","2022-03-05","Pombal","ADAL","F",6,336,"Rafaela Pires","GDP-L","JUV",4.46,4.46,"X","X"]
["COMPRIM","Sal","Triatlo Técnico Distrital sub18","2022-03-05","Pombal","ADAL","F",7,674,"Sofia Roberto","CAOB","JUV",4.43,4.3899999999999997,4.43,4.3499999999999996]
["COMPRIM","Sal","Triatlo Técnico Distrital sub18","2022-03-05","Pombal","ADAL","F",9,282,"Vitoria Chornohor","NDAP","JUV",4.33,"X","X",4.33]
["COMPRIM","Sal","Triatlo Técnico Distrital sub18","2022-03-05","Pombal","ADAL","F",10,64,"Carolina Marques","JV","JUV",4.32,4.32,4.16,4.2300000000000004]
["COMPRIM","Sal","Triatlo Técnico Distrital sub18","2022-03-05","Pombal","ADAL","F",11,53,"Anabela Silva","JV","JUV",3.38,3.38,3.23,3.2]
["COMPRIM","Sal","Triatlo Técnico Distrital sub18","2022-03-05","Pombal","ADAL","M",1,690,"João Martins","JV","JUV",6.28,6.06,5.35,6.28]
["COMPRIM","Sal","Triatlo Técnico Distrital sub18","2022-03-05","Pombal","ADAL","M",3,1042,"Vadym Skafaryk","JV","JUV",5.97,5.97,5.91,"X"]
["COMPRIM","Sal","Triatlo Técnico Distrital sub18","2022-03-05","Pombal","ADAL","M",4,374,"Diogo Chaves","ACDRA","JUV",5.94,5.94,5.77,5.79]
["COMPRIM","Sal","Triatlo Técnico Distrital sub18","2022-03-05","Pombal","ADAL","M",5,113,"Luca Cruz","JV","JUV",5.87,5.87,5.81,"X"]
["COMPRIM","Sal","Triatlo Técnico Distrital sub18","2022-03-05","Pombal","ADAL","M",6,378,"Hugo Tavares","ACDRA","JUV",5.84,"X","X",5.84]
["COMPRIM","Sal","Triatlo Técnico Distrital sub18","2022-03-05","Pombal","ADAL","M",8,375,"Diogo Nogueira","ACDRA","JUV",5.24,5.2,4.8899999999999997,5.24]
["COMPRIM","Sal","Triatlo Técnico Distrital sub18","2022-03-05","Pombal","ADAL","M",10,670,"Daniel Esgueira","CAOB","JUV",4.8899999999999997,4.49,4.22,4.8899999999999997]
["COMPRIM","Sal","Triatlo Técnico Distrital sub18","2022-03-05","Pombal","ADAL","M",11,943,"Rodrigo Almeida","ACDRA","JUV",4.6500000000000004,4.3099999999999996,4.3899999999999997,4.6500000000000004]
["PESO3","Lan","Triatlo Técnico Distrital sub18","2022-03-05","Pombal","ADAL","F",1,705,"Vera Goucha","JV","JUV",12.88,12.3,12.88,11.57]
["PESO3","Lan","Triatlo Técnico Distrital sub18","2022-03-05","Pombal","ADAL","F",2,684,"Catarina Silva","JV","JUV",9.8800000000000008,9.8800000000000008,9.86,9.25]
["PESO3","Lan","Triatlo Técnico Distrital sub18","2022-03-05","Pombal","ADAL","F",3,64,"Carolina Marques","JV","JUV",8.6999999999999993,8.2100000000000009,8.6999999999999993,8.56]
["PESO3","Lan","Triatlo Técnico Distrital sub18","2022-03-05","Pombal","ADAL","F",5,674,"Sofia Roberto","CAOB","JUV",8.3000000000000007,8.3000000000000007,7.9,7.52]
["PESO3","Lan","Triatlo Técnico Distrital sub18","2022-03-05","Pombal","ADAL","F",6,85,"Filipa Dinis","JV","JUV",7.2,6.96,6.14,7.2]
["PESO3","Lan","Triatlo Técnico Distrital sub18","2022-03-05","Pombal","ADAL","F",8,336,"Rafaela Pires","GDP-L","JUV",6.78,6.78,6.77,6.43]
["PESO3","Lan","Triatlo Técnico Distrital sub18","2022-03-05","Pombal","ADAL","F",9,53,"Anabela Silva","JV","JUV",6.33,6.33,5.28,6.08]
["PESO3","Lan","Triatlo Técnico Distrital sub18","2022-03-05","Pombal","ADAL","F",10,5,"Beatriz Castelhano","ACDRA","JUV",6.23,5.5,6.23,"X"]
["PESO3","Lan","Triatlo Técnico Distrital sub18","2022-03-05","Pombal","ADAL","F",11,282,"Vitoria Chornohor","NDAP","JUV",5.23,5.23,4.87,4.51]
["PESO3","Lan","Triatlo Técnico Distrital sub18","2022-03-05","Pombal","ADAL","F",1,697,"Luana Figueira","JV","JUV",10.24,9.66,10.24,10.130000000000001]
["PESO3","Lan","Triatlo Técnico Distrital sub18","2022-03-05","Pombal","ADAL","F",3,693,"Laura Baltazar","JV","JUV",9.58,9.58,9.5299999999999994,9.19]
["PESO3","Lan","Triatlo Técnico Distrital sub18","2022-03-05","Pombal","ADAL","F",4,327,"Isa Ferreira","GDP-L","JUV",6.59,6.01,6.59,6.31]
["PESO3","Lan","Triatlo Técnico Distrital sub18","2022-03-05","Pombal","ADAL","F",5,166,"Constança Anunciação","ACB-L","JUV",5.23,5.18,4.88,5.23]
["PESO5","Lan","Triatlo Técnico Distrital sub18","2022-03-05","Pombal","ADAL","M",2,113,"Luca Cruz","JV","JUV",10.77,10.77,"X",10.36]
["PESO5","Lan","Triatlo Técnico Distrital sub18","2022-03-05","Pombal","ADAL","M",4,690,"João Martins","JV","JUV",8.94,8.94,8.6199999999999992,8.7200000000000006]
["PESO5","Lan","Triatlo Técnico Distrital sub18","2022-03-05","Pombal","ADAL","M",6,670,"Daniel Esgueira","CAOB","JUV",8.6199999999999992,8.0299999999999994,8.1999999999999993,8.6199999999999992]
["PESO5","Lan","Triatlo Técnico Distrital sub18","2022-03-05","Pombal","ADAL","M",7,375,"Diogo Nogueira","ACDRA","JUV",8.57,8.57,8.2100000000000009,8.17]
["PESO5","Lan","Triatlo Técnico Distrital sub18","2022-03-05","Pombal","ADAL","M",8,374,"Diogo Chaves","ACDRA","JUV",8.3000000000000007,7.87,7.68,8.3000000000000007]
["PESO5","Lan","Triatlo Técnico Distrital sub18","2022-03-05","Pombal","ADAL","M",9,378,"Hugo Tavares","ACDRA","JUV",8.2100000000000009,7.92,"X",8.2100000000000009]
["PESO5","Lan","Triatlo Técnico Distrital sub18","2022-03-05","Pombal","ADAL","M",11,1042,"Vadym Skafaryk","JV","JUV",7.69,7.42,7.45,7.69]
["PESO5","Lan","Triatlo Técnico Distrital sub18","2022-03-05","Pombal","ADAL","M",13,943,"Rodrigo Almeida","ACDRA","JUV",6.67,6.67,6.37,6.33]
["PESO5","Lan","Triatlo Técnico Distrital sub18","2022-03-05","Pombal","ADAL","M",1,808,"Miguel Marques","CAMG","JUV",12.19,"X",11.05,12.19]
["PESO5","Lan","Triatlo Técnico Distrital sub18","2022-03-05","Pombal","ADAL","M",2,317,"Bernardo Cunha","GDP-L","JUV",11.88,11.66,11.88,11.81]
["TRI-JUV","Comb","Triatlo Técnico Distrital sub18","2022-03-05","Pombal","ADAL","M",1,null,"Luca Cruz","JV","JUV",1827]
["TRI-JUV","Comb","Triatlo Técnico Distrital sub18","2022-03-05","Pombal","ADAL","M",2,null,"João Martins","JV","JUV",1780]
["TRI-JUV","Comb","Triatlo Técnico Distrital sub18","2022-03-05","Pombal","ADAL","M",5,null,"Hugo Tavares","ACDRA","JUV",1676]
["TRI-JUV","Comb","Triatlo Técnico Distrital sub18","2022-03-05","Pombal","ADAL","M",6,null,"Diogo Chaves","ACDRA","JUV",1617]
["TRI-JUV","Comb","Triatlo Técnico Distrital sub18","2022-03-05","Pombal","ADAL","M",7,null,"Vadym Skafaryk","JV","JUV",1574]
["TRI-JUV","Comb","Triatlo Técnico Distrital sub18","2022-03-05","Pombal","ADAL","M",9,null,"Diogo Nogueira","ACDRA","JUV",1463]
["TRI-JUV","Comb","Triatlo Técnico Distrital sub18","2022-03-05","Pombal","ADAL","M",10,null,"Daniel Esgueira","CAOB","JUV",1377]
["TRI-JUV","Comb","Triatlo Técnico Distrital sub18","2022-03-05","Pombal","ADAL","M",12,null,"Rodrigo Almeida","ACDRA","JUV",1264]
["TRI-JUV","Comb","Triatlo Técnico Distrital sub18","2022-03-05","Pombal","ADAL","F",1,null,"Vera Goucha","JV","JUV",2114]
["TRI-JUV","Comb","Triatlo Técnico Distrital sub18","2022-03-05","Pombal","ADAL","F",2,null,"Catarina Silva","JV","JUV",1698]
["TRI-JUV","Comb","Triatlo Técnico Distrital sub18","2022-03-05","Pombal","ADAL","F",3,null,"Beatriz Castelhano","ACDRA","JUV",1666]
["TRI-JUV","Comb","Triatlo Técnico Distrital sub18","2022-03-05","Pombal","ADAL","F",4,null,"Filipa Dinis","JV","JUV",1520]
["TRI-JUV","Comb","Triatlo Técnico Distrital sub18","2022-03-05","Pombal","ADAL","F",6,null,"Rafaela Pires","GDP-L","JUV",1506]
["TRI-JUV","Comb","Triatlo Técnico Distrital sub18","2022-03-05","Pombal","ADAL","F",7,null,"Sofia Roberto","CAOB","JUV",1417]
["TRI-JUV","Comb","Triatlo Técnico Distrital sub18","2022-03-05","Pombal","ADAL","F",9,null,"Carolina Marques","JV","JUV",1340]
["TRI-JUV","Comb","Triatlo Técnico Distrital sub18","2022-03-05","Pombal","ADAL","F",10,null,"Vitoria Chornohor","NDAP","JUV",1178]
["TRI-JUV","Comb","Triatlo Técnico Distrital sub18","2022-03-05","Pombal","ADAL","F",11,null,"Anabela Silva","JV","JUV",960]
["TRI-JUV","Comb","Triatlo Técnico Distrital sub18","2022-03-05","Pombal","ADAL","M",1,null,"Bernardo Cunha","GDP-L","JUV",1971]
["TRI-JUV","Comb","Triatlo Técnico Distrital sub18","2022-03-05","Pombal","ADAL","M",2,null,"Miguel Marques","CAMG","JUV",1902]
["TRI-JUV","Comb","Triatlo Técnico Distrital sub18","2022-03-05","Pombal","ADAL","F",1,null,"Luana Figueira","JV","JUV",1801]
["TRI-JUV","Comb","Triatlo Técnico Distrital sub18","2022-03-05","Pombal","ADAL","F",3,null,"Laura Baltazar","JV","JUV",1454]
["TRI-JUV","Comb","Triatlo Técnico Distrital sub18","2022-03-05","Pombal","ADAL","F",4,null,"Isa Ferreira","GDP-L","JUV",1219]
["TRI-JUV","Comb","Triatlo Técnico Distrital sub18","2022-03-05","Pombal","ADAL","F",5,null,"Constança Anunciação","ACB-L","JUV",1218]
["DARDO5","Lan","Jornadas de lançamentos - Etapa 3","2022-03-19","Leiria","JV","F",1,854,"Eva Varela","CANAZ","JUV",31.92,29.63,"X",30.26,31.92,31.02,"X"]
["DARDO5","Lan","Jornadas de lançamentos - Etapa 3","2022-03-19","Leiria","JV","F",2,738,"Beatriz Cordeiro","JV","JUV",26.35,"X","X","X",26.35,26.12,"X"]
["DARDO5","Lan","Jornadas de lançamentos - Etapa 3","2022-03-19","Leiria","JV","F",3,2,"Sara Brites","JV","JUV",21.91,18.73,"X",18.579999999999998,18.43,21.91,20.45]
["DARDO5","Lan","Jornadas de lançamentos - Etapa 3","2022-03-19","Leiria","JV","F",4,697,"Luana Figueira","JV","JUV",18.28,"X","X","X","X","X",18.28]
["DARDO5","Lan","Jornadas de lançamentos - Etapa 3","2022-03-19","Leiria","JV","F",3,705,"Vera Goucha","JV","JUV",28.42,"X","X","X",28.29,"X",28.42]
["DARDO6","Lan","Jornadas de lançamentos - Etapa 3","2022-03-19","Leiria","JV","F",1,1078,"Raquel Gonçalves","JV","SUB-23",25.32,21.1,21.38,25.32,24.36,23.97,23.08]
["DARDO6","Lan","Jornadas de lançamentos - Etapa 3","2022-03-19","Leiria","JV","F",2,7,"Carolina Caseiro","JV","JUN",37.29,37.29,34.07,"X","X","X",33.31]
["DARDO7","Lan","Jornadas de lançamentos - Etapa 3","2022-03-19","Leiria","JV","M",3,1079,"Rúben Santos","JV","JUV",44.88,44.88]
["DARDO7","Lan","Jornadas de lançamentos - Etapa 3","2022-03-19","Leiria","JV","M",2,692,"João Santos","JV","JUV",43.92,43.07,43.92,41.29,"X",40.28,37.36]
["DARDO7","Lan","Jornadas de lançamentos - Etapa 3","2022-03-19","Leiria","JV","M",3,1060,"Duarte Santos","CANAZ","JUV",40.03,"X",37.880000000000003,40.03,"X",36.6,37.69]
["DARDO7","Lan","Jornadas de lançamentos - Etapa 3","2022-03-19","Leiria","JV","M",4,74,"Denis Hrabar","JV","INI",36.15,35.78,33.39,35.28,34.299999999999997,36.15,36.15]
["DARDO8","Lan","Jornadas de lançamentos - Etapa 3","2022-03-19","Leiria","JV","M",2,871,"André Petriv","JV","JUN",37.14,33.96,"X",35.17,37.14,"X","-"]
["DARDO8","Lan","Jornadas de lançamentos - Etapa 3","2022-03-19","Leiria","JV","M",3,69,"Daniel Rizzi","JV","JUN",34.270000000000003,34.270000000000003,30.62,30.91,"X",25.99,"X"]
["DARDO8","Lan","Jornadas de lançamentos - Etapa 3","2022-03-19","Leiria","JV","M",1,228,"Ernesto Santos","CAMG","VET 35",44.7,40.53,44.7,38.840000000000003,42.06,41.59,44.7]
["DISCO10","Lan","Jornadas de lançamentos - Etapa 3","2022-03-19","Leiria","JV","F",1,573,"Rita Oliveira","CANAZ","JUV",31.21,29.4,"X","X",31.21,30.64,"X"]
["DISCO10","Lan","Jornadas de lançamentos - Etapa 3","2022-03-19","Leiria","JV","F",2,219,"Carolina D Santos","CAMG","INI",27.86,27.86,27.62,"X",27.8,26.92,"X"]
["DISCO10","Lan","Jornadas de lançamentos - Etapa 3","2022-03-19","Leiria","JV","F",2,218,"Camélia Terentiy","CAMG","JUN",30.86,30.86,29.19,30.31,29.4,"X",26.46]
["DISCO10","Lan","Jornadas de lançamentos - Etapa 3","2022-03-19","Leiria","JV","F",1,905,"Inês Carreira","JV","SUB-23",39.31,"X",38.99,"X",38.93,38.53,39.31]
["DISCO10","Lan","Jornadas de lançamentos - Etapa 3","2022-03-19","Leiria","JV","F",1,989,"Raquel Gomes","JV","JUN",40.71,40.71,39.79,"X","X","X",40.29]
["DISCO15","Lan","Jornadas de lançamentos - Etapa 3","2022-03-19","Leiria","JV","M",1,9,"Francisco Calhau","JV","JUV",37.799999999999997,34.85,37.799999999999997,"X","X",37.119999999999997,37.74]
["DISCO15","Lan","Jornadas de lançamentos - Etapa 3","2022-03-19","Leiria","JV","M",2,361,"Rodrigo Silva","CDBBR","JUV",32.51,28.85,"X",32.28,27.74,32.51,"X"]
["DISCO15","Lan","Jornadas de lançamentos - Etapa 3","2022-03-19","Leiria","JV","M",3,74,"Denis Hrabar","JV","INI",30.96,"X",24.35,"X","X",30.96,"X"]
["DISCO17","Lan","Jornadas de lançamentos - Etapa 3","2022-03-19","Leiria","JV","M",1,871,"André Petriv","JV","JUN",36.36,33.869999999999997,"X",34.97,"X",35.340000000000003,36.36]
["DISCO20","Lan","Jornadas de lançamentos - Etapa 3","2022-03-19","Leiria","JV","M",7,1077,"João Domingues","JV","SEN",40.729999999999997,"X",40.729999999999997,"X",40.25,"X","X"]
["DISCO20","Lan","Jornadas de lançamentos - Etapa 3","2022-03-19","Leiria","JV","M",1,13,"Diogo Meneses","JV","SUB-23",30.14,"X",30.14,28.4,29.65,29.18,29.38]
["MARTEL3","Lan","Jornadas de lançamentos - Etapa 3","2022-03-19","Leiria","JV","F",1,61,"Camila Patraboy","JV","INI",33.25,30.35,29.89,29.22,32.89,"X",33.25]
["MARTEL3","Lan","Jornadas de lançamentos - Etapa 3","2022-03-19","Leiria","JV","F",2,763,"Vanessa Castravet","CANAZ","INI",25.61,24.15,23.23,25.61,"X","X",24.16]
["MARTEL3","Lan","Jornadas de lançamentos - Etapa 3","2022-03-19","Leiria","JV","F",3,95,"Inês Figueiredo","JV","INI",22.14,21.36,21.6,19.3,21.33,22.14,13.37]
["MARTEL3","Lan","Jornadas de lançamentos - Etapa 3","2022-03-19","Leiria","JV","F",4,149,"Sofia Santos","JV","INI",20.87,"X",20.67,20.87,20.62,"X",20.420000000000002]
["MARTEL3","Lan","Jornadas de lançamentos - Etapa 3","2022-03-19","Leiria","JV","F",1,890,"Márcia Maketa","JV","JUV",56.2,55.18,55.02,56.09,"X","X",56.2]
["MARTEL3","Lan","Jornadas de lançamentos - Etapa 3","2022-03-19","Leiria","JV","F",2,811,"Inaya Yayo","CANAZ","JUV",46.65,46.65,44.64,"X",44.58,"X",43.87]
["MARTEL3","Lan","Jornadas de lançamentos - Etapa 3","2022-03-19","Leiria","JV","F",3,382,"Leonor Belchior","ACDRA","JUV",44.56,"X",44.35,"X",44.56,39.89,44.16]
["MARTEL4","Lan","Jornadas de lançamentos - Etapa 3","2022-03-19","Leiria","JV","F",1,874,"Beatriz Silva","JV","JUN",37.51,37.51,36.159999999999997,37.270000000000003,"X",34.17,33.89]
["MARTEL5","Lan","Jornadas de lançamentos - Etapa 3","2022-03-19","Leiria","JV","M",1,9,"Francisco Calhau","JV","JUV",67.08,"X","X",65.78,67.08,"X","X"]
["MARTEL6","Lan","Jornadas de lançamentos - Etapa 3","2022-03-19","Leiria","JV","M",1,321,"Daniel Raposo","GDP-L","JUN",35.479999999999997,"X","X","X","X",35.479999999999997,"X"]
["MARTEL7","Lan","Jornadas de lançamentos - Etapa 3","2022-03-19","Leiria","JV","M",3,807,"Miguel Carreira","CAMG","SEN",67.62,66.150000000000006,67.3,"X",65.94,66.77,67.62]
["MARTEL7","Lan","Jornadas de lançamentos - Etapa 3","2022-03-19","Leiria","JV","M",4,1040,"Michael Fonseca","JV","SEN",54.08,53.07,53.57,54.08,"X",48.71,51.6]
["PESO3","Lan","Jornadas de lançamentos - Etapa 3","2022-03-19","Leiria","JV","F",1,705,"Vera Goucha","JV","JUV",13.21,12.47,13.21,13.07,"X",12.86,12.98]
["PESO3","Lan","Jornadas de lançamentos - Etapa 3","2022-03-19","Leiria","JV","F",2,697,"Luana Figueira","JV","JUV",10.32,"X",9.4600000000000009,10.32,10,"X",9.19]
["PESO3","Lan","Jornadas de lançamentos - Etapa 3","2022-03-19","Leiria","JV","F",1,693,"Laura Baltazar","JV","JUV",9.85,9.85,9.34,9.6199999999999992,9.84,"X",9.85]
["PESO3","Lan","Jornadas de lançamentos - Etapa 3","2022-03-19","Leiria","JV","F",2,2,"Sara Brites","JV","JUV",9.07,8.4,8.69,8.66,8.5299999999999994,9.07,8.7899999999999991]
["PESO4","Lan","Jornadas de lançamentos - Etapa 3","2022-03-19","Leiria","JV","F",1,1078,"Raquel Gonçalves","JV","SUB-23",9.17,8.27,9.07,9.14,9.1300000000000008,9.17,8.5500000000000007]
["PESO5","Lan","Jornadas de lançamentos - Etapa 3","2022-03-19","Leiria","JV","M",1,1042,"Vadym Skafaryk","JV","JUV",8.5,8.5,7.84,"X",7.87,"X",8.4]
["3000MX","MX","CNU Atletismo Pista Coberta","2022-01-29","Braga","FADU","F",2,1297,"Joana Pontes","PLeiria","SUB-23",9.284722222222222E-3]
["TRIPLO","Sal","CNU Atletismo Pista Coberta","2022-01-29","Braga","FADU","F",3,1299,"Juliana Brites","PLeiria","SUB-23",11.5,11.5,11.07,"X","X","X","-"]
["TRIPLO","Sal","CNU Atletismo Pista Coberta","2022-01-29","Braga","FADU","F",4,1291,"Eduarda Ferreira","PLeiria","SUB-23",11.46,11.18,"X","X","X","X",11.46]
["VARA","Sal","CNU Atletismo Pista Coberta","2022-01-29","Braga","FADU","M",2,1296,"Guilherme Pereira","PLeiria","JUN",4.2]
["60B084","Vel","CNU Atletismo Pista Coberta","2022-01-29","Braga","FADU","F",3,1299,"Juliana Brites","PLeiria","SUB-23",9.85]
["COMPRIM","Sal","CNU Atletismo Pista Coberta","2022-01-29","Braga","FADU","M",2,1287,"André Pimenta","PLeiria","SUB-23",7.31,"X",7.25,6.75,7.28,7.18,7.31]
["60","Vel","CNU Atletismo Pista Coberta","2022-01-29","Braga","FADU","F",5,1308,"Vera Duque","PLeiria","JUN",8.8699999999999992]
["60","Vel","CNU Atletismo Pista Coberta","2022-01-29","Braga","FADU","F",1,1302,"Mariana Videira","PLeiria","JUN",8]
["PESO4","Lan","CNU Atletismo Pista Coberta","2022-01-29","Braga","FADU","F",2,783,"Inês Carreira","AAULHT","SUB-23",12.49,12.41,12.49,"X","X","X","X"]
["60","Vel","CNU Atletismo Pista Coberta","2022-01-29","Braga","FADU","M",7,1303,"Miguel Calado","PLeiria","SEN",8.11]
["60","Vel","CNU Atletismo Pista Coberta","2022-01-29","Braga","FADU","M",2,1298,"João Pinto","PLeiria","SEN",7.19]
["800","MF","CNU Atletismo Pista Coberta","2022-01-29","Braga","FADU","M",3,1290,"Daniel Cabecinhas","PLeiria","JUN","00:01:59.430"]
["COMPRIM","Sal","CNU Atletismo Pista Coberta","2022-01-29","Braga","FADU","F",6,1291,"Eduarda Ferreira","PLeiria","SUB-23",5.0599999999999996,4.71,5.0599999999999996,4.87,4.8899999999999997,"X",4.9800000000000004]
["PESO7","Lan","CNU Atletismo Pista Coberta","2022-01-29","Braga","FADU","M",1,1219,"Tomás Rodrigues","AEFCL","SUB-23",14.34,13.08,14.34,"X",13.81,"X","X"]
["60B084","Vel","CNU Atletismo Pista Coberta","2022-01-29","Braga","FADU","F",6,1299,"Juliana Brites","PLeiria","SUB-23",9.69]
["60","Vel","CNU Atletismo Pista Coberta","2022-01-29","Braga","FADU","F",6,1302,"Mariana Videira","PLeiria","ND",8.07]
["3000","MF","CNU Atletismo Pista Coberta","2022-01-29","Braga","FADU","F",3,1289,"Cátia Pereira","PLeiria","SUB-23","00:10:06.990"]
["3000","MF","CNU Atletismo Pista Coberta","2022-01-29","Braga","FADU","M",6,1300,"Marco Gameiro","PLeiria","SUB-23","00:10:51.580"]
["3000","MF","CNU Atletismo Pista Coberta","2022-01-29","Braga","FADU","M",8,1290,"Daniel Cabecinhas","PLeiria","JUN","00:09:44.840"]
["3000","MF","CNU Atletismo Pista Coberta","2022-01-29","Braga","FADU","M",6,766,"Nuno Ferreira","AAUBI","SUB-23","00:08:54.040"]
["DISCO15","Lan","Provas de Preparação","2022-03-27","Pombal","ADAL","M",3,74,"Denis Hrabar","JV","INI",31.64,31.64,"X","X","X","X","X"]
["DISCO15","Lan","Provas de Preparação","2022-03-27","Pombal","ADAL","M",4,325,"Guilherme Santos","GDP-L","JUV",31.24,31.24,"X","X","X","X","X"]
["DISCO15","Lan","Provas de Preparação","2022-03-27","Pombal","ADAL","M",5,1060,"Duarte Santos","CANAZ","JUV",29.5,29.5,"X",29.3,"X","X",27.92]
["DISCO15","Lan","Provas de Preparação","2022-03-27","Pombal","ADAL","M",6,339,"Rodrigo Esteves","GDP-L","INI",26.95,"X","X",25,23.95,26.95,25.03]
["DISCO15","Lan","Provas de Preparação","2022-03-27","Pombal","ADAL","M",7,978,"José Luz","CSPPVI","JUV",23.1,"X",23.1,17.39,"X","X",22.23]
["DISCO15","Lan","Provas de Preparação","2022-03-27","Pombal","ADAL","M",8,140,"Rafael Morgado","JV","INI",22.48,20.21,21.24,20.84,22.43,19.91,22.48]
["DISCO10","Lan","Provas de Preparação","2022-03-27","Pombal","ADAL","F",1,890,"Márcia Maketa","JV","JUV",37.43,36.24,35.4,36.33,35.700000000000003,"X",37.43]
["DISCO10","Lan","Provas de Preparação","2022-03-27","Pombal","ADAL","F",2,573,"Rita Oliveira","CANAZ","JUV",29.7,29.21,"X",27.51,"X","X",29.7]
["DISCO10","Lan","Provas de Preparação","2022-03-27","Pombal","ADAL","F",3,854,"Eva Varela","CANAZ","JUV",27.74,27.74,27.6,"X",26.93,26.29,"X"]
["DISCO10","Lan","Provas de Preparação","2022-03-27","Pombal","ADAL","F",4,219,"Carolina D Santos","CAMG","INI",27.35,24.16,"X",27.35,25.4,"X","X"]
["DISCO10","Lan","Provas de Preparação","2022-03-27","Pombal","ADAL","F",6,61,"Camila Patraboy","JV","INI",24.43,21.21,24.43,"X","X","X","X"]
["DISCO10","Lan","Provas de Preparação","2022-03-27","Pombal","ADAL","F",7,738,"Beatriz Cordeiro","JV","JUV",24.01,23.52,"X",21.91,24.01,"X","X"]
["DISCO10","Lan","Provas de Preparação","2022-03-27","Pombal","ADAL","F",8,693,"Laura Baltazar","JV","JUV",18.97,"X",17.16,18.97,"X","X",17.96]
["DISCO10","Lan","Provas de Preparação","2022-03-27","Pombal","ADAL","F",9,59,"Bruna Amaral","JV","INI",17.22,16.28,16.61,17.22]
["DISCO10","Lan","Provas de Preparação","2022-03-27","Pombal","ADAL","F",10,149,"Sofia Santos","JV","INI",17.170000000000002,16.14,17.170000000000002,15.16]
["DISCO10","Lan","Provas de Preparação","2022-03-27","Pombal","ADAL","F",11,123,"Marta Feliciano","JV","INI",13.4,12.6,13.4,10.92]
["DISCO10","Lan","Provas de Preparação","2022-03-27","Pombal","ADAL","F",12,105,"Katerina Quinn","JV","INI",12.8,"X",12.8,11.22]
["DISCO17","Lan","Provas de Preparação","2022-03-27","Pombal","ADAL","M",1,69,"Daniel Rizzi","JV","JUN",24.54,"X","X",19.12,"X",22.43,24.54]
["DISCO10","Lan","Provas de Preparação","2022-03-27","Pombal","ADAL","F",1,989,"Raquel Gomes","JV","JUN",37.4,"X",37.4,"X","X","X","X"]
["DISCO10","Lan","Provas de Preparação","2022-03-27","Pombal","ADAL","F",2,218,"Camélia Terentiy","CAMG","JUN",31.37,30.14,31.35,28.2,"X",31.37,26.83]
["DARDO7","Lan","Provas de Preparação","2022-03-27","Pombal","ADAL","M",2,692,"João Santos","JV","JUV",42.55,42.41,41.26,40.270000000000003,42.55,"X",41.97]
["DARDO7","Lan","Provas de Preparação","2022-03-27","Pombal","ADAL","M",4,74,"Denis Hrabar","JV","INI",34.82,34.07,33.5,"X",33.36,34.82,33.26]
["DARDO7","Lan","Provas de Preparação","2022-03-27","Pombal","ADAL","M",5,325,"Guilherme Santos","GDP-L","JUV",31.35,29.64,"X",29.36,31.35,30.72,"X"]
["DARDO7","Lan","Provas de Preparação","2022-03-27","Pombal","ADAL","M",6,339,"Rodrigo Esteves","GDP-L","INI",29.97,"X",29.97,"X","X","X","X"]
["DARDO7","Lan","Provas de Preparação","2022-03-27","Pombal","ADAL","M",7,140,"Rafael Morgado","JV","INI",29.31,29.31,"X","X",29.31,"X","X"]
["DARDO5","Lan","Provas de Preparação","2022-03-27","Pombal","ADAL","F",2,738,"Beatriz Cordeiro","JV","JUV",28.19,28.19,25.99,27.73,26.59,24.53,27.84]
["DARDO5","Lan","Provas de Preparação","2022-03-27","Pombal","ADAL","F",3,61,"Camila Patraboy","JV","INI",23.91,20.02,19.89,23.91,22.87,23.33,22.11]
["DARDO5","Lan","Provas de Preparação","2022-03-27","Pombal","ADAL","F",4,59,"Bruna Amaral","JV","INI",16.239999999999998,13.66,"X",14.45,14.12,16.239999999999998,14.94]
["DARDO5","Lan","Provas de Preparação","2022-03-27","Pombal","ADAL","F",5,693,"Laura Baltazar","JV","JUV",15,"X",14.15,15,14.06,"X",10.44]
["DARDO5","Lan","Provas de Preparação","2022-03-27","Pombal","ADAL","F",6,105,"Katerina Quinn","JV","INI",12.91,10.48,"X",11.11,12.91,12.05,11.5]
["DARDO5","Lan","Provas de Preparação","2022-03-27","Pombal","ADAL","F",7,149,"Sofia Santos","JV","INI",11.39,10.89,11.37,11.15,10.35,"X",11.39]
["DARDO5","Lan","Provas de Preparação","2022-03-27","Pombal","ADAL","F",8,123,"Marta Feliciano","JV","INI",10.92,9.7899999999999991,10.92,"X",10.029999999999999,"X","X"]
["TRI-INF","Comb","Triatlo Técnico Distrital sub14","2022-03-27","Pombal","ADAL","F",3,51,"Alessandra Santos","JV",null,1114]
["TRI-INF","Comb","Triatlo Técnico Distrital sub14","2022-03-27","Pombal","ADAL","F",4,112,"Liliana Teotónio","JV",null,1104]
["TRI-INF","Comb","Triatlo Técnico Distrital sub14","2022-03-27","Pombal","ADAL","F",5,107,"Lara Simões","JV",null,1052]
["TRI-INF","Comb","Triatlo Técnico Distrital sub14","2022-03-27","Pombal","ADAL","F",6,326,"Inês Marques","GDP-L",null,1010]
["TRI-INF","Comb","Triatlo Técnico Distrital sub14","2022-03-27","Pombal","ADAL","F",7,128,"Matilde Joaquim","JV",null,981]
["TRI-INF","Comb","Triatlo Técnico Distrital sub14","2022-03-27","Pombal","ADAL","F",8,129,"Matilde Silva","JV",null,760]
["TRI-INF","Comb","Triatlo Técnico Distrital sub14","2022-03-27","Pombal","ADAL","F",9,236,"Leonor Bonita","CAMG",null,740]
["TRI-INF","Comb","Triatlo Técnico Distrital sub14","2022-03-27","Pombal","ADAL","F",10,373,"Constança Casimiro","ACDRA",null,549]
["TRI-INF","Comb","Triatlo Técnico Distrital sub14","2022-03-27","Pombal","ADAL","F",12,385,"Matilde Pires","ACDRA",null,352]
["TRI-INF","Comb","Triatlo Técnico Distrital sub14","2022-03-27","Pombal","ADAL","M",1,910,"Tiago Beja","NDAP",null,706]
["TRI-INF","Comb","Triatlo Técnico Distrital sub14","2022-03-27","Pombal","ADAL","M",2,83,"Eduardo Camacho","JV",null,649]
["TRI-INF","Comb","Triatlo Técnico Distrital sub14","2022-03-27","Pombal","ADAL","M",3,104,"José Martins","JV",null,511]
["TRI-INF","Comb","Triatlo Técnico Distrital sub14","2022-03-27","Pombal","ADAL","M",4,735,"Dilan Simão","CAMG",null,496]
["TRI-INF","Comb","Triatlo Técnico Distrital sub14","2022-03-27","Pombal","ADAL","M",5,337,"Rafael Pena","GDP-L",null,397]
["TRI-INF","Comb","Triatlo Técnico Distrital sub14","2022-03-27","Pombal","ADAL","M",6,383,"Manuel Madaleno","ACDRA",null,375]
["TRI-INF","Comb","Triatlo Técnico Distrital sub14","2022-03-27","Pombal","ADAL","M",7,558,"António Constâncio","CAMG",null,364]
["PESO2","Lan","Triatlo Técnico Distrital sub14","2022-03-27","Pombal","ADAL","F",3,112,"Liliana Teotónio","JV","INF",8.61,8.17,8.61,8.32]
["PESO2","Lan","Triatlo Técnico Distrital sub14","2022-03-27","Pombal","ADAL","F",4,51,"Alessandra Santos","JV","INF",7.43,6.33,7.43,7.09]
["PESO2","Lan","Triatlo Técnico Distrital sub14","2022-03-27","Pombal","ADAL","F",5,326,"Inês Marques","GDP-L","INF",7.2,7.08,6.34,7.2]
["PESO2","Lan","Triatlo Técnico Distrital sub14","2022-03-27","Pombal","ADAL","F",6,107,"Lara Simões","JV","INF",6.58,"X",6.58,6.36]
["PESO2","Lan","Triatlo Técnico Distrital sub14","2022-03-27","Pombal","ADAL","F",7,128,"Matilde Joaquim","JV","INF",6.31,6.31,6.27,5.92]
["PESO2","Lan","Triatlo Técnico Distrital sub14","2022-03-27","Pombal","ADAL","F",8,129,"Matilde Silva","JV","INF",5.89,"X",5.89,5.81]
["PESO2","Lan","Triatlo Técnico Distrital sub14","2022-03-27","Pombal","ADAL","F",9,373,"Constança Casimiro","ACDRA","INF",5.73,5.73,"X",5.07]
["PESO2","Lan","Triatlo Técnico Distrital sub14","2022-03-27","Pombal","ADAL","F",11,236,"Leonor Bonita","CAMG","INF",5.43,5.43,3.86,5.23]
["PESO2","Lan","Triatlo Técnico Distrital sub14","2022-03-27","Pombal","ADAL","F",12,385,"Matilde Pires","ACDRA","INF",4.72,3.37,4.47,4.72]
["60B076","Vel","Triatlo Técnico Distrital sub14","2022-03-27","Pombal","ADAL","M",1,83,"Eduardo Camacho","JV","INF",12.19]
["60B076","Vel","Triatlo Técnico Distrital sub14","2022-03-27","Pombal","ADAL","M",2,104,"José Martins","JV","INF",13.61]
["60B076","Vel","Triatlo Técnico Distrital sub14","2022-03-27","Pombal","ADAL","M",1,910,"Tiago Beja","NDAP","INF",12.1]
["60B076","Vel","Triatlo Técnico Distrital sub14","2022-03-27","Pombal","ADAL","M",2,2442,"Raphael David","AJJ","INF",13.11]
["60B076","Vel","Triatlo Técnico Distrital sub14","2022-03-27","Pombal","ADAL","M",3,735,"Dilan Simão","CAMG","INF",13.3]
["60B076","Vel","Triatlo Técnico Distrital sub14","2022-03-27","Pombal","ADAL","M",4,337,"Rafael Pena","GDP-L","INF",13.5]
["60B076","Vel","Triatlo Técnico Distrital sub14","2022-03-27","Pombal","ADAL","M",5,383,"Manuel Madaleno","ACDRA","INF",13.53]
["60B076","Vel","Triatlo Técnico Distrital sub14","2022-03-27","Pombal","ADAL","M",6,558,"António Constâncio","CAMG","INF",14.8]
["COMPRIM","Sal","Triatlo Técnico Distrital sub14","2022-03-27","Pombal","ADAL","M",1,910,"Tiago Beja","NDAP","INF",4.0999999999999996,3.8,4.03,4.0999999999999996]
["COMPRIM","Sal","Triatlo Técnico Distrital sub14","2022-03-27","Pombal","ADAL","M",2,104,"José Martins","JV","INF",3.9,2.2999999999999998,3.6,3.9]
["COMPRIM","Sal","Triatlo Técnico Distrital sub14","2022-03-27","Pombal","ADAL","M",3,735,"Dilan Simão","CAMG","INF",3.76,3.62,3.7,3.76]
["COMPRIM","Sal","Triatlo Técnico Distrital sub14","2022-03-27","Pombal","ADAL","M",4,337,"Rafael Pena","GDP-L","INF",3.72,3.61,3.72,"X"]
["COMPRIM","Sal","Triatlo Técnico Distrital sub14","2022-03-27","Pombal","ADAL","M",5,83,"Eduardo Camacho","JV","INF",3.69,3.69,3.41,3.44]
["COMPRIM","Sal","Triatlo Técnico Distrital sub14","2022-03-27","Pombal","ADAL","M",6,383,"Manuel Madaleno","ACDRA","INF",3.39,3.32,3.39,3.15]
["COMPRIM","Sal","Triatlo Técnico Distrital sub14","2022-03-27","Pombal","ADAL","M",7,558,"António Constâncio","CAMG","INF",3.32,3.01,3.32,"X"]
["60B076","Vel","Triatlo Técnico Distrital sub14","2022-03-27","Pombal","ADAL","F",2,51,"Alessandra Santos","JV","INF",11.62]
["60B076","Vel","Triatlo Técnico Distrital sub14","2022-03-27","Pombal","ADAL","F",3,326,"Inês Marques","GDP-L","INF",12.06]
["60B076","Vel","Triatlo Técnico Distrital sub14","2022-03-27","Pombal","ADAL","F",4,385,"Matilde Pires","ACDRA","INF",34.35]
["60B076","Vel","Triatlo Técnico Distrital sub14","2022-03-27","Pombal","ADAL","F",2,128,"Matilde Joaquim","JV","INF",11.46]
["60B076","Vel","Triatlo Técnico Distrital sub14","2022-03-27","Pombal","ADAL","F",3,129,"Matilde Silva","JV","INF",12.85]
["60B076","Vel","Triatlo Técnico Distrital sub14","2022-03-27","Pombal","ADAL","F",4,373,"Constança Casimiro","ACDRA","INF",14.98]
["60B076","Vel","Triatlo Técnico Distrital sub14","2022-03-27","Pombal","ADAL","F",1,112,"Liliana Teotónio","JV","INF",11.13]
["60B076","Vel","Triatlo Técnico Distrital sub14","2022-03-27","Pombal","ADAL","F",2,107,"Lara Simões","JV","INF",12.24]
["60B076","Vel","Triatlo Técnico Distrital sub14","2022-03-27","Pombal","ADAL","F",3,236,"Leonor Bonita","CAMG","INF",12.98]
["PESO3","Lan","Triatlo Técnico Distrital sub14","2022-03-27","Pombal","ADAL","M",1,83,"Eduardo Camacho","JV","INF",6.66,6.66,6.06,6.25]
["PESO3","Lan","Triatlo Técnico Distrital sub14","2022-03-27","Pombal","ADAL","M",2,910,"Tiago Beja","NDAP","INF",6.35,6.35,5.98,6.35]
["PESO3","Lan","Triatlo Técnico Distrital sub14","2022-03-27","Pombal","ADAL","M",3,104,"José Martins","JV","INF",6.06,5.62,6.06,6.06]
["PESO3","Lan","Triatlo Técnico Distrital sub14","2022-03-27","Pombal","ADAL","M",4,558,"António Constâncio","CAMG","INF",5.99,5.99,5.74,5.88]
["PESO3","Lan","Triatlo Técnico Distrital sub14","2022-03-27","Pombal","ADAL","M",5,735,"Dilan Simão","CAMG","INF",5.77,5.77,5.4,5.77]
["PESO3","Lan","Triatlo Técnico Distrital sub14","2022-03-27","Pombal","ADAL","M",6,383,"Manuel Madaleno","ACDRA","INF",4.8899999999999997,4.8899999999999997,"X",4.79]
["PESO3","Lan","Triatlo Técnico Distrital sub14","2022-03-27","Pombal","ADAL","M",7,337,"Rafael Pena","GDP-L","INF",4.43,4.22,4.2,4.43]
["COMPRIM","Sal","Triatlo Técnico Distrital sub14","2022-03-27","Pombal","ADAL","M",3,107,"Lara Simões","JV","INF",4.3600000000000003,4.17,1.9,4.3600000000000003,2,3.46,2]
["COMPRIM","Sal","Triatlo Técnico Distrital sub14","2022-03-27","Pombal","ADAL","M",4,51,"Alessandra Santos","JV","INF",4.0199999999999996,4.0199999999999996,2,"X",null,3.95,1.9]
["COMPRIM","Sal","Triatlo Técnico Distrital sub14","2022-03-27","Pombal","ADAL","M",5,326,"Inês Marques","GDP-L","INF",3.91,3.91,2,3.37,1.8,3.85,1.9]
["COMPRIM","Sal","Triatlo Técnico Distrital sub14","2022-03-27","Pombal","ADAL","M",6,236,"Leonor Bonita","CAMG","INF",3.73,3.73,0,3.4,2,3.53,0]
["COMPRIM","Sal","Triatlo Técnico Distrital sub14","2022-03-27","Pombal","ADAL","M",7,128,"Matilde Joaquim","JV","INF",3.63,3.61,0,3.63,2,3.4,1.9]
["COMPRIM","Sal","Triatlo Técnico Distrital sub14","2022-03-27","Pombal","ADAL","M",8,373,"Constança Casimiro","ACDRA","INF",3.61,3.22,1.8,3.61,1.9,3.6,0]
["COMPRIM","Sal","Triatlo Técnico Distrital sub14","2022-03-27","Pombal","ADAL","M",9,129,"Matilde Silva","JV","INF",3.61,3.61,1.9,3.32,0.4,3.59,2]
["COMPRIM","Sal","Triatlo Técnico Distrital sub14","2022-03-27","Pombal","ADAL","M",10,385,"Matilde Pires","ACDRA","INF",3.3,"X",null,3.22,1.9,3.3,1.9]
["COMPRIM","Sal","Triatlo Técnico Distrital sub14","2022-03-27","Pombal","ADAL","M",11,112,"Liliana Teotónio","JV","INF",3.24,3.24,1.8,3.16,2,3.15,2]
["2000MX","MX","Marcha Atlética - Prova Extra","2022-03-27","Pombal","ADAL","M",1,91,"Francisco Gregório","JV","INF",9.3372685185185173E-3]
["2000MX","MX","Marcha Atlética - Prova Extra","2022-03-27","Pombal","ADAL","F",1,1075,"Eva Cardoso","JV","INF",1.1534259259259258E-2]
["2000MX","MX","Marcha Atlética - Prova Extra","2022-03-27","Pombal","ADAL","M",1,143,"Rodrigo Fidalgo","JV","INI",9.6601851851851848E-3]
["2000MX","MX","Marcha Atlética - Prova Extra","2022-03-27","Pombal","ADAL","M",2,98,"Jaime Rolla","JV","INI",9.7523148148148144E-3]
["2000MX","MX","Marcha Atlética - Prova Extra","2022-03-27","Pombal","ADAL","F",1,239,"Matilde Angélico","CAMG","INI",7.4866898148148149E-3]
["2000MX","MX","Marcha Atlética - Prova Extra","2022-03-27","Pombal","ADAL","F",2,502,"Filipa Nunes","GACV","INI",8.8219907407407414E-3]
["ALTURA","Sal","Meeting Jovem Cidade de Pombal + Km Jovem","2022-03-26","Pombal","ADAL","M",1,558,"António Constâncio","CAMG","INF",1.36]
["ALTURA","Sal","Meeting Jovem Cidade de Pombal + Km Jovem","2022-03-26","Pombal","ADAL","M",2,203,"Rafael Alves","ACB-L","INF",1.33]
["ALTURA","Sal","Meeting Jovem Cidade de Pombal + Km Jovem","2022-03-26","Pombal","ADAL","M",4,251,"Duarte S Rodrigues","NDAP","INF",1.27]
["ALTURA","Sal","Meeting Jovem Cidade de Pombal + Km Jovem","2022-03-26","Pombal","ADAL","M",5,161,"Afonso Marques","ACB-L","INF",1.21]
["ALTURA","Sal","Meeting Jovem Cidade de Pombal + Km Jovem","2022-03-26","Pombal","ADAL","M",6,155,"Tomás Lopes","JV","INF",1.21]
["ALTURA","Sal","Meeting Jovem Cidade de Pombal + Km Jovem","2022-03-26","Pombal","ADAL","M",7,104,"José Martins","JV","INF",1.18]
["ALTURA","Sal","Meeting Jovem Cidade de Pombal + Km Jovem","2022-03-26","Pombal","ADAL","M",8,83,"Eduardo Camacho","JV","INF",1.18]
["ALTURA","Sal","Meeting Jovem Cidade de Pombal + Km Jovem","2022-03-26","Pombal","ADAL","M",9,383,"Manuel Madaleno","ACDRA","INF",1.1499999999999999]
["PESO3","Lan","Meeting Jovem Cidade de Pombal + Km Jovem","2022-03-26","Pombal","ADAL","F",3,61,"Camila Patraboy","JV","INI",8.51,7.82,8.26,8.51,8.41,8.1,8.32]
["PESO3","Lan","Meeting Jovem Cidade de Pombal + Km Jovem","2022-03-26","Pombal","ADAL","F",4,331,"Mariana Custódio","GDP-L","INI",8.36,7.49,8.36,8,7.43,8.26,7.8]
["PESO3","Lan","Meeting Jovem Cidade de Pombal + Km Jovem","2022-03-26","Pombal","ADAL","F",5,769,"Diana Vatula","CAMG","INI",7.37,7.37,5.58,6.56,6.2,6.89,7]
["PESO3","Lan","Meeting Jovem Cidade de Pombal + Km Jovem","2022-03-26","Pombal","ADAL","F",6,59,"Bruna Amaral","JV","INI",7.02,6.65,7.02,6.94,6.41,6.41,6.6]
["PESO3","Lan","Meeting Jovem Cidade de Pombal + Km Jovem","2022-03-26","Pombal","ADAL","F",7,1008,"Maria Inês Silva","ACDRA","INI",6.35,"X",5.74,6.35,"X",6.1,"X"]
["PESO3","Lan","Meeting Jovem Cidade de Pombal + Km Jovem","2022-03-26","Pombal","ADAL","F",8,279,"Oleksandra Sliposhch","NDAP","INI",5.99,"X",5.57,5.24,5.0199999999999996,3.74,5.99]
["60","Vel","Meeting Jovem Cidade de Pombal + Km Jovem","2022-03-26","Pombal","ADAL","M",1,1179,"Diogo Clérigo","CAMR","INF",9.5500000000000007]
["60","Vel","Meeting Jovem Cidade de Pombal + Km Jovem","2022-03-26","Pombal","ADAL","M",2,343,"Afonso Machado","CDBBR","INF",10.4]
["60","Vel","Meeting Jovem Cidade de Pombal + Km Jovem","2022-03-26","Pombal","ADAL","M",3,918,"Henrique Silva","CPRAB","INF",10.47]
["60","Vel","Meeting Jovem Cidade de Pombal + Km Jovem","2022-03-26","Pombal","ADAL","M",4,1116,"Francisco Vieira","CAMR","INF",10.56]
["60","Vel","Meeting Jovem Cidade de Pombal + Km Jovem","2022-03-26","Pombal","ADAL","M",1,735,"Dilan Simão","CAMG","INF",9.33]
["60","Vel","Meeting Jovem Cidade de Pombal + Km Jovem","2022-03-26","Pombal","ADAL","M",2,561,"Edson Mendes","CAMG","INF",9.4499999999999993]
["60","Vel","Meeting Jovem Cidade de Pombal + Km Jovem","2022-03-26","Pombal","ADAL","M",4,668,"Martim Falcão","CAMG","INF",10.85]
["60","Vel","Meeting Jovem Cidade de Pombal + Km Jovem","2022-03-26","Pombal","ADAL","M",1,203,"Rafael Alves","ACB-L","INF",8.3699999999999992]
["60","Vel","Meeting Jovem Cidade de Pombal + Km Jovem","2022-03-26","Pombal","ADAL","M",2,910,"Tiago Beja","NDAP","INF",8.5500000000000007]
["60","Vel","Meeting Jovem Cidade de Pombal + Km Jovem","2022-03-26","Pombal","ADAL","M",3,83,"Eduardo Camacho","JV","INF",8.61]
["60","Vel","Meeting Jovem Cidade de Pombal + Km Jovem","2022-03-26","Pombal","ADAL","M",4,161,"Afonso Marques","ACB-L","INF",8.9]
["60","Vel","Meeting Jovem Cidade de Pombal + Km Jovem","2022-03-26","Pombal","ADAL","M",5,155,"Tomás Lopes","JV","INF",9.07]
["QUADINI","Sal","Meeting Jovem Cidade de Pombal + Km Jovem","2022-03-26","Pombal","ADAL","M",1,79,"Diogo Ramalho","JV","INI",13.83,13.34,11.41,13.43,13.83,13.69,13.77]
["QUADINI","Sal","Meeting Jovem Cidade de Pombal + Km Jovem","2022-03-26","Pombal","ADAL","M",2,776,"Pedro Nunes","AAADP","INI",13.74,13.51,"X",12.98,13.62,12.96,13.74]
["QUADINI","Sal","Meeting Jovem Cidade de Pombal + Km Jovem","2022-03-26","Pombal","ADAL","M",3,248,"Afonso Rodrigues","NDAP","INI",13.06,12.52,12.21,12.53,12.5,12.5,13.06]
["QUADINI","Sal","Meeting Jovem Cidade de Pombal + Km Jovem","2022-03-26","Pombal","ADAL","M",4,387,"Rodrigo Martins","ACDRA","INI",11.59,11.46,11.27,11.52,11.59,"X",11.43]
["60","Vel","Meeting Jovem Cidade de Pombal + Km Jovem","2022-03-26","Pombal","ADAL","F",1,1019,"Bruna Silva","CAMR","INF",8.9]
["60","Vel","Meeting Jovem Cidade de Pombal + Km Jovem","2022-03-26","Pombal","ADAL","F",2,1018,"Beatriz Silva","CAMR","INF",9.09]
["60","Vel","Meeting Jovem Cidade de Pombal + Km Jovem","2022-03-26","Pombal","ADAL","F",3,1140,"Mariana Nunes","ACDRA","INF",9.68]
["60","Vel","Meeting Jovem Cidade de Pombal + Km Jovem","2022-03-26","Pombal","ADAL","F",4,373,"Constança Casimiro","ACDRA","INF",9.73]
["60","Vel","Meeting Jovem Cidade de Pombal + Km Jovem","2022-03-26","Pombal","ADAL","F",5,356,"Leonor Ferreira","CDBBR","INF",11.88]
["60","Vel","Meeting Jovem Cidade de Pombal + Km Jovem","2022-03-26","Pombal","ADAL","F",6,575,"Alice Ascenso","CDBBR","INF",13.77]
["60","Vel","Meeting Jovem Cidade de Pombal + Km Jovem","2022-03-26","Pombal","ADAL","F",1,809,"Camila Barbosa","CANAZ","INF",9.98]
["60","Vel","Meeting Jovem Cidade de Pombal + Km Jovem","2022-03-26","Pombal","ADAL","F",2,1185,"Sara Pereira","CAMR","INF",10.08]
["60","Vel","Meeting Jovem Cidade de Pombal + Km Jovem","2022-03-26","Pombal","ADAL","F",3,1128,"Francisca Filipe","CANAZ","INF",10.37]
["60","Vel","Meeting Jovem Cidade de Pombal + Km Jovem","2022-03-26","Pombal","ADAL","F",4,1189,"Maria Flor Filipe","CPRAB","INF",10.49]
["60","Vel","Meeting Jovem Cidade de Pombal + Km Jovem","2022-03-26","Pombal","ADAL","F",5,1133,"Beatriz Guitti","CANAZ","INF",11.69]
["60","Vel","Meeting Jovem Cidade de Pombal + Km Jovem","2022-03-26","Pombal","ADAL","F",1,1188,"Luana Alexandre","CPRAB","INF",9.1999999999999993]
["60","Vel","Meeting Jovem Cidade de Pombal + Km Jovem","2022-03-26","Pombal","ADAL","F",2,857,"Luna Delgado","CANAZ","INF",9.7200000000000006]
["60","Vel","Meeting Jovem Cidade de Pombal + Km Jovem","2022-03-26","Pombal","ADAL","F",3,815,"Amália Cipriano","GDAA","INF",10.24]
["60","Vel","Meeting Jovem Cidade de Pombal + Km Jovem","2022-03-26","Pombal","ADAL","F",4,749,"Maria Inês Gomes","GDAA","INF",10.29]
["60","Vel","Meeting Jovem Cidade de Pombal + Km Jovem","2022-03-26","Pombal","ADAL","F",5,1125,"Constança Figueira","CANAZ","INF",10.88]
["60","Vel","Meeting Jovem Cidade de Pombal + Km Jovem","2022-03-26","Pombal","ADAL","F",6,1059,"Diva Vidal","CANAZ","INF",11.23]
["60","Vel","Meeting Jovem Cidade de Pombal + Km Jovem","2022-03-26","Pombal","ADAL","F",1,236,"Leonor Bonita","CAMG","INF",9.1999999999999993]
["60","Vel","Meeting Jovem Cidade de Pombal + Km Jovem","2022-03-26","Pombal","ADAL","F",2,1136,"Ashley Jorge","JV","INF",9.6]
["60","Vel","Meeting Jovem Cidade de Pombal + Km Jovem","2022-03-26","Pombal","ADAL","F",3,364,"Sofia Ferromau","CDBBR","INF",10.58]
["60","Vel","Meeting Jovem Cidade de Pombal + Km Jovem","2022-03-26","Pombal","ADAL","F",4,571,"Patrícia Barqueiro","CANAZ","INF",11.25]
["60","Vel","Meeting Jovem Cidade de Pombal + Km Jovem","2022-03-26","Pombal","ADAL","F",2,147,"Sofia Carvalho","JV","INF",9.66]
["60","Vel","Meeting Jovem Cidade de Pombal + Km Jovem","2022-03-26","Pombal","ADAL","F",3,569,"Alícia Almeida","CANAZ","INF",9.66]
["60","Vel","Meeting Jovem Cidade de Pombal + Km Jovem","2022-03-26","Pombal","ADAL","F",4,116,"Madalena Salgueiro","JV","INF",9.76]
["60","Vel","Meeting Jovem Cidade de Pombal + Km Jovem","2022-03-26","Pombal","ADAL","F",5,859,"Íris Sousinha","CANAZ","INF",10.4]
["60","Vel","Meeting Jovem Cidade de Pombal + Km Jovem","2022-03-26","Pombal","ADAL","F",1,842,"Eva Nunes","AAADP","INF",9.01]
["60","Vel","Meeting Jovem Cidade de Pombal + Km Jovem","2022-03-26","Pombal","ADAL","F",2,110,"Leonor Leal","JV","INF",9.14]
["60","Vel","Meeting Jovem Cidade de Pombal + Km Jovem","2022-03-26","Pombal","ADAL","F",3,51,"Alessandra Santos","JV","INF",9.26]
["60","Vel","Meeting Jovem Cidade de Pombal + Km Jovem","2022-03-26","Pombal","ADAL","F",4,172,"Francisca Paulo","ACB-L","INF",9.2799999999999994]
["60","Vel","Meeting Jovem Cidade de Pombal + Km Jovem","2022-03-26","Pombal","ADAL","F",6,255,"Inês Pereira","NDAP","INF",9.5]
["60","Vel","Meeting Jovem Cidade de Pombal + Km Jovem","2022-03-26","Pombal","ADAL","F",2,107,"Lara Simões","JV","INF",8.75]
["60","Vel","Meeting Jovem Cidade de Pombal + Km Jovem","2022-03-26","Pombal","ADAL","F",3,258,"Jéssica Joaninho","NDAP","INF",9.02]
["60","Vel","Meeting Jovem Cidade de Pombal + Km Jovem","2022-03-26","Pombal","ADAL","F",4,90,"Francisca Reis","JV","INF",9.2100000000000009]
["60","Vel","Meeting Jovem Cidade de Pombal + Km Jovem","2022-03-26","Pombal","ADAL","F",5,66,"Carolina Silva","JV","INF",9.34]
["60","Vel","Meeting Jovem Cidade de Pombal + Km Jovem","2022-03-26","Pombal","ADAL","M",1,287,"David Militão","GAC-L","INI",8.16]
["60","Vel","Meeting Jovem Cidade de Pombal + Km Jovem","2022-03-26","Pombal","ADAL","M",2,470,"Ricardo Santos","CPRAB","INI",8.7200000000000006]
["60","Vel","Meeting Jovem Cidade de Pombal + Km Jovem","2022-03-26","Pombal","ADAL","M",3,1119,"Lucas Coutinho","CAMR","INI",8.94]
["60","Vel","Meeting Jovem Cidade de Pombal + Km Jovem","2022-03-26","Pombal","ADAL","M",1,274,"Martim Antunes","NDAP","INI",7.76]
["60","Vel","Meeting Jovem Cidade de Pombal + Km Jovem","2022-03-26","Pombal","ADAL","M",2,131,"Miguel Barros Campos","JV","INI",7.95]
["60","Vel","Meeting Jovem Cidade de Pombal + Km Jovem","2022-03-26","Pombal","ADAL","M",3,160,"Rafael Dias","JV","INI",8.07]
["60","Vel","Meeting Jovem Cidade de Pombal + Km Jovem","2022-03-26","Pombal","ADAL","M",4,1120,"Artur Macedo","CAMR","INI",8.27]
["60","Vel","Meeting Jovem Cidade de Pombal + Km Jovem","2022-03-26","Pombal","ADAL","M",5,79,"Diogo Ramalho","JV","INI",8.31]
["60","Vel","Meeting Jovem Cidade de Pombal + Km Jovem","2022-03-26","Pombal","ADAL","M",6,50,"Afonso Nogueira","JV","INI",9.23]
["60","Vel","Meeting Jovem Cidade de Pombal + Km Jovem","2022-03-26","Pombal","ADAL","F",1,164,"Beatriz Alves","ACB-L","INI",8.8699999999999992]
["60","Vel","Meeting Jovem Cidade de Pombal + Km Jovem","2022-03-26","Pombal","ADAL","F",2,285,"Beatriz Gomes","GAC-L","INI",8.9700000000000006]
["60","Vel","Meeting Jovem Cidade de Pombal + Km Jovem","2022-03-26","Pombal","ADAL","F",3,461,"Clara Filipe","CPRAB","INI",9.5299999999999994]
["60","Vel","Meeting Jovem Cidade de Pombal + Km Jovem","2022-03-26","Pombal","ADAL","F",4,297,"Lara Pereira","GAC-L","INI",9.92]
["60","Vel","Meeting Jovem Cidade de Pombal + Km Jovem","2022-03-26","Pombal","ADAL","F",5,61,"Camila Patraboy","JV","INI",10.14]
["60","Vel","Meeting Jovem Cidade de Pombal + Km Jovem","2022-03-26","Pombal","ADAL","F",1,298,"Laura Gomes","GAC-L","INI",8.92]
["60","Vel","Meeting Jovem Cidade de Pombal + Km Jovem","2022-03-26","Pombal","ADAL","F",2,95,"Inês Figueiredo","JV","INI",9.0299999999999994]
["60","Vel","Meeting Jovem Cidade de Pombal + Km Jovem","2022-03-26","Pombal","ADAL","F",3,124,"Marta Mestre","JV","INI",9.5]
["60","Vel","Meeting Jovem Cidade de Pombal + Km Jovem","2022-03-26","Pombal","ADAL","F",4,380,"Isaura Correia","ACDRA","INI",9.68]
["60","Vel","Meeting Jovem Cidade de Pombal + Km Jovem","2022-03-26","Pombal","ADAL","F",1,63,"Carolina Ferreira","JV","INI",9.23]
["60","Vel","Meeting Jovem Cidade de Pombal + Km Jovem","2022-03-26","Pombal","ADAL","F",2,895,"Ana Simões","AAADP","INI",9.26]
["60","Vel","Meeting Jovem Cidade de Pombal + Km Jovem","2022-03-26","Pombal","ADAL","F",1,105,"Katerina Quinn","JV","INI",8.3699999999999992]
["60","Vel","Meeting Jovem Cidade de Pombal + Km Jovem","2022-03-26","Pombal","ADAL","F",2,899,"Constança Abreu","AAADP","INI",8.5399999999999991]
["60","Vel","Meeting Jovem Cidade de Pombal + Km Jovem","2022-03-26","Pombal","ADAL","F",3,149,"Sofia Santos","JV","INI",8.6300000000000008]
["60","Vel","Meeting Jovem Cidade de Pombal + Km Jovem","2022-03-26","Pombal","ADAL","F",4,123,"Marta Feliciano","JV","INI",8.7100000000000009]
["250","Vel","Meeting Jovem Cidade de Pombal + Km Jovem","2022-03-26","Pombal","ADAL","M",1,287,"David Militão","GAC-L","INI",34.17]
["250","Vel","Meeting Jovem Cidade de Pombal + Km Jovem","2022-03-26","Pombal","ADAL","M",2,1120,"Artur Macedo","CAMR","INI",34.65]
["250","Vel","Meeting Jovem Cidade de Pombal + Km Jovem","2022-03-26","Pombal","ADAL","M",1,274,"Martim Antunes","NDAP","INI",31.8]
["250","Vel","Meeting Jovem Cidade de Pombal + Km Jovem","2022-03-26","Pombal","ADAL","M",2,776,"Pedro Nunes","AAADP","INI",33.82]
["250","Vel","Meeting Jovem Cidade de Pombal + Km Jovem","2022-03-26","Pombal","ADAL","M",3,248,"Afonso Rodrigues","NDAP","INI",34.159999999999997]
["250","Vel","Meeting Jovem Cidade de Pombal + Km Jovem","2022-03-26","Pombal","ADAL","M",4,131,"Miguel Barros Campos","JV","INI",34.65]
["250","Vel","Meeting Jovem Cidade de Pombal + Km Jovem","2022-03-26","Pombal","ADAL","F",1,298,"Laura Gomes","GAC-L","INI",39.5]
["250","Vel","Meeting Jovem Cidade de Pombal + Km Jovem","2022-03-26","Pombal","ADAL","F",2,285,"Beatriz Gomes","GAC-L","INI",40.28]
["250","Vel","Meeting Jovem Cidade de Pombal + Km Jovem","2022-03-26","Pombal","ADAL","F",1,164,"Beatriz Alves","ACB-L","INI",37.299999999999997]
["250","Vel","Meeting Jovem Cidade de Pombal + Km Jovem","2022-03-26","Pombal","ADAL","F",2,769,"Diana Vatula","CAMG","INI",40.409999999999997]
["250","Vel","Meeting Jovem Cidade de Pombal + Km Jovem","2022-03-26","Pombal","ADAL","F",3,124,"Marta Mestre","JV","INI",40.92]
["250","Vel","Meeting Jovem Cidade de Pombal + Km Jovem","2022-03-26","Pombal","ADAL","F",1,123,"Marta Feliciano","JV","INI",37.06]
["250","Vel","Meeting Jovem Cidade de Pombal + Km Jovem","2022-03-26","Pombal","ADAL","F",2,109,"Leonor Ascenso","JV","INI",37.99]
["250","Vel","Meeting Jovem Cidade de Pombal + Km Jovem","2022-03-26","Pombal","ADAL","F",3,219,"Carolina D Santos","CAMG","INI",38.119999999999997]
["PESO4","Lan","Meeting Jovem Cidade de Pombal + Km Jovem","2022-03-26","Pombal","ADAL","M",1,74,"Denis Hrabar","JV","INI",12.63,12.32,12.63,12.35,"X",12.61,"X"]
["PESO4","Lan","Meeting Jovem Cidade de Pombal + Km Jovem","2022-03-26","Pombal","ADAL","M",2,339,"Rodrigo Esteves","GDP-L","INI",10.52,10.34,10.14,"X","X",9.9600000000000009,10.52]
["PESO4","Lan","Meeting Jovem Cidade de Pombal + Km Jovem","2022-03-26","Pombal","ADAL","M",3,253,"Francisco Mota","NDAP","INI",8.8000000000000007,"X","X",7.58,8.52,8.76,8.8000000000000007]
["PESO4","Lan","Meeting Jovem Cidade de Pombal + Km Jovem","2022-03-26","Pombal","ADAL","M",4,274,"Martim Antunes","NDAP","INI",8.48,7.43,7.97,8.35,8.48,8.0500000000000007,8]
["PESO4","Lan","Meeting Jovem Cidade de Pombal + Km Jovem","2022-03-26","Pombal","ADAL","M",5,89,"Filipe Fernandes","JV","INI",8,6.74,7.34,7.89,7.53,7.95,8]
["QUADINI","Sal","Meeting Jovem Cidade de Pombal + Km Jovem","2022-03-26","Pombal","ADAL","F",1,384,"Maria Vicente","ACDRA","INI",12.73,12.73,"-",11.96,"-",12.44,"-"]
["QUADINI","Sal","Meeting Jovem Cidade de Pombal + Km Jovem","2022-03-26","Pombal","ADAL","F",2,95,"Inês Figueiredo","JV","INI",12.04,11.24,11.29,11.65,11.4,11.33,12.04]
["QUADINI","Sal","Meeting Jovem Cidade de Pombal + Km Jovem","2022-03-26","Pombal","ADAL","F",3,109,"Leonor Ascenso","JV","INI",12.03,"X",11.59,11.68,11.64,11.38,12.03]
["QUADINI","Sal","Meeting Jovem Cidade de Pombal + Km Jovem","2022-03-26","Pombal","ADAL","F",4,899,"Constança Abreu","AAADP","INI",11.96,11.66,11.48,11.96,11.7,11.38,11.86]
["QUADINI","Sal","Meeting Jovem Cidade de Pombal + Km Jovem","2022-03-26","Pombal","ADAL","F",5,149,"Sofia Santos","JV","INI",11.69,"X",11.47,11.69,11.4,11.69,"X"]
["QUADINI","Sal","Meeting Jovem Cidade de Pombal + Km Jovem","2022-03-26","Pombal","ADAL","F",6,105,"Katerina Quinn","JV","INI",11.66,"X","X","X","X",11.66,"X"]
["QUADINI","Sal","Meeting Jovem Cidade de Pombal + Km Jovem","2022-03-26","Pombal","ADAL","F",7,279,"Oleksandra Sliposhch","NDAP","INI",11.61,10.27,11.61,11.53,11.48,10.91,11.5]
["QUADINI","Sal","Meeting Jovem Cidade de Pombal + Km Jovem","2022-03-26","Pombal","ADAL","F",8,380,"Isaura Correia","ACDRA","INI",11.45,11.38,10.71,10.59,11.41,11.45,11.18]
["ALTURA","Sal","Meeting Jovem Cidade de Pombal + Km Jovem","2022-03-26","Pombal","ADAL","F",2,51,"Alessandra Santos","JV","INF",1.33]
["ALTURA","Sal","Meeting Jovem Cidade de Pombal + Km Jovem","2022-03-26","Pombal","ADAL","F",3,107,"Lara Simões","JV","INF",1.24]
["ALTURA","Sal","Meeting Jovem Cidade de Pombal + Km Jovem","2022-03-26","Pombal","ADAL","F",4,90,"Francisca Reis","JV","INF",1.24]
["ALTURA","Sal","Meeting Jovem Cidade de Pombal + Km Jovem","2022-03-26","Pombal","ADAL","F",4,110,"Leonor Leal","JV","INF",1.24]
["ALTURA","Sal","Meeting Jovem Cidade de Pombal + Km Jovem","2022-03-26","Pombal","ADAL","F",6,1136,"Ashley Jorge","JV","INF",1.21]
["ALTURA","Sal","Meeting Jovem Cidade de Pombal + Km Jovem","2022-03-26","Pombal","ADAL","F",7,172,"Francisca Paulo","ACB-L","INF",1.18]
["ALTURA","Sal","Meeting Jovem Cidade de Pombal + Km Jovem","2022-03-26","Pombal","ADAL","F",8,236,"Leonor Bonita","CAMG","INF",1.1499999999999999]
["ALTURA","Sal","Meeting Jovem Cidade de Pombal + Km Jovem","2022-03-26","Pombal","ADAL","F",10,1140,"Mariana Nunes","ACDRA","INF",1.03]
["ALTURA","Sal","Meeting Jovem Cidade de Pombal + Km Jovem","2022-03-26","Pombal","ADAL","F",11,116,"Madalena Salgueiro","JV","INF",1.03]
["ALTURA","Sal","Meeting Jovem Cidade de Pombal + Km Jovem","2022-03-26","Pombal","ADAL","F",12,147,"Sofia Carvalho","JV","INF",1]
["1000","MF","Meeting Jovem Cidade de Pombal + Km Jovem","2022-03-26","Pombal","ADAL","M",2,55,"André Ribeiro","JV","INF","00:03:21.440"]
["1000","MF","Meeting Jovem Cidade de Pombal + Km Jovem","2022-03-26","Pombal","ADAL","M",3,910,"Tiago Beja","NDAP","INF","00:03:32.460"]
["1000","MF","Meeting Jovem Cidade de Pombal + Km Jovem","2022-03-26","Pombal","ADAL","M",4,561,"Edson Mendes","CAMG","INF","00:03:40.390"]
["1000","MF","Meeting Jovem Cidade de Pombal + Km Jovem","2022-03-26","Pombal","ADAL","M",5,104,"José Martins","JV","INF","00:03:43.070"]
["1000","MF","Meeting Jovem Cidade de Pombal + Km Jovem","2022-03-26","Pombal","ADAL","M",6,383,"Manuel Madaleno","ACDRA","INF","00:03:52.880"]
["1000","MF","Meeting Jovem Cidade de Pombal + Km Jovem","2022-03-26","Pombal","ADAL","M",7,251,"Duarte S Rodrigues","NDAP","INF","00:03:59.830"]
["1000","MF","Meeting Jovem Cidade de Pombal + Km Jovem","2022-03-26","Pombal","ADAL","M",8,668,"Martim Falcão","CAMG","INF","00:04:08.310"]
["1000","MF","Meeting Jovem Cidade de Pombal + Km Jovem","2022-03-26","Pombal","ADAL","M",9,459,"André Ferreira","CPRAB","INF","00:04:10.340"]
["1000","MF","Meeting Jovem Cidade de Pombal + Km Jovem","2022-03-26","Pombal","ADAL","M",10,343,"Afonso Machado","CDBBR","INF","00:04:43.780"]
["1000","MF","Meeting Jovem Cidade de Pombal + Km Jovem","2022-03-26","Pombal","ADAL","M",11,267,"Lucas Simões","NDAP","INF","00:04:47.780"]
["1000","MF","Meeting Jovem Cidade de Pombal + Km Jovem","2022-03-26","Pombal","ADAL","F",2,373,"Constança Casimiro","ACDRA","INF","00:03:57.640"]
["1000","MF","Meeting Jovem Cidade de Pombal + Km Jovem","2022-03-26","Pombal","ADAL","F",3,567,"Marta Ferreira","CAMG","INF","00:04:06.910"]
["1000","MF","Meeting Jovem Cidade de Pombal + Km Jovem","2022-03-26","Pombal","ADAL","F",4,1122,"Mariana Folgado","CAMR","INF","00:04:08.140"]
["1000","MF","Meeting Jovem Cidade de Pombal + Km Jovem","2022-03-26","Pombal","ADAL","F",5,1189,"Maria Flor Filipe","CPRAB","INF","00:04:15"]
["1000","MF","Meeting Jovem Cidade de Pombal + Km Jovem","2022-03-26","Pombal","ADAL","F",6,859,"Íris Sousinha","CANAZ","INF","00:04:32.980"]
["1000","MF","Meeting Jovem Cidade de Pombal + Km Jovem","2022-03-26","Pombal","ADAL","F",7,356,"Leonor Ferreira","CDBBR","INF","00:04:53.800"]
["1000","MF","Meeting Jovem Cidade de Pombal + Km Jovem","2022-03-26","Pombal","ADAL","F",8,1133,"Beatriz Guitti","CANAZ","INF","00:05:05.590"]
["1000","MF","Meeting Jovem Cidade de Pombal + Km Jovem","2022-03-26","Pombal","ADAL","F",9,679,"Filipa Martins","NDAP","INF","00:05:12.180"]
["1000","MF","Meeting Jovem Cidade de Pombal + Km Jovem","2022-03-26","Pombal","ADAL","F",10,1059,"Diva Vidal","CANAZ","INF","00:05:15.490"]
["1000","MF","Meeting Jovem Cidade de Pombal + Km Jovem","2022-03-26","Pombal","ADAL","F",11,575,"Alice Ascenso","CDBBR","INF","00:06:14.720"]
["1000","MF","Meeting Jovem Cidade de Pombal + Km Jovem","2022-03-26","Pombal","ADAL","F",1,236,"Leonor Bonita","CAMG","INF","00:03:35.490"]
["1000","MF","Meeting Jovem Cidade de Pombal + Km Jovem","2022-03-26","Pombal","ADAL","F",2,129,"Matilde Silva","JV","INF","00:03:35.810"]
["1000","MF","Meeting Jovem Cidade de Pombal + Km Jovem","2022-03-26","Pombal","ADAL","F",3,128,"Matilde Joaquim","JV","INF","00:03:40.580"]
["1000","MF","Meeting Jovem Cidade de Pombal + Km Jovem","2022-03-26","Pombal","ADAL","F",4,326,"Inês Marques","GDP-L","INF","00:03:42.170"]
["1000","MF","Meeting Jovem Cidade de Pombal + Km Jovem","2022-03-26","Pombal","ADAL","F",5,749,"Maria Inês Gomes","GDAA","INF","00:03:50.410"]
["1000","MF","Meeting Jovem Cidade de Pombal + Km Jovem","2022-03-26","Pombal","ADAL","F",6,258,"Jéssica Joaninho","NDAP","INF","00:03:53.700"]
["1000","MF","Meeting Jovem Cidade de Pombal + Km Jovem","2022-03-26","Pombal","ADAL","F",7,842,"Eva Nunes","AAADP","INF","00:03:54.840"]
["1000","MF","Meeting Jovem Cidade de Pombal + Km Jovem","2022-03-26","Pombal","ADAL","F",8,1188,"Luana Alexandre","CPRAB","INF","00:04:07.720"]
["1000","MF","Meeting Jovem Cidade de Pombal + Km Jovem","2022-03-26","Pombal","ADAL","F",9,815,"Amália Cipriano","GDAA","INF","00:04:08.710"]
["1000","MF","Meeting Jovem Cidade de Pombal + Km Jovem","2022-03-26","Pombal","ADAL","F",10,66,"Carolina Silva","JV","INF","00:04:09.510"]
["1000","MF","Meeting Jovem Cidade de Pombal + Km Jovem","2022-03-26","Pombal","ADAL","F",11,255,"Inês Pereira","NDAP","INF","00:04:17.950"]
["1000","MF","Meeting Jovem Cidade de Pombal + Km Jovem","2022-03-26","Pombal","ADAL","F",12,1125,"Constança Figueira","CANAZ","INF","00:04:40.450"]
["1000","MF","Meeting Jovem Cidade de Pombal + Km Jovem","2022-03-26","Pombal","ADAL","F",13,364,"Sofia Ferromau","CDBBR","INF","00:05:30.290"]
["1000","MF","Meeting Jovem Cidade de Pombal + Km Jovem","2022-03-26","Pombal","ADAL","M",1,766,"Miguel Barros","CANAZ","INI","00:03:12.820"]
["1000","MF","Meeting Jovem Cidade de Pombal + Km Jovem","2022-03-26","Pombal","ADAL","M",2,160,"Rafael Dias","JV","INI","00:03:25.440"]
["1000","MF","Meeting Jovem Cidade de Pombal + Km Jovem","2022-03-26","Pombal","ADAL","M",3,89,"Filipe Fernandes","JV","INI","00:03:27.450"]
["1000","MF","Meeting Jovem Cidade de Pombal + Km Jovem","2022-03-26","Pombal","ADAL","M",4,50,"Afonso Nogueira","JV","INI","00:03:29.890"]
["1000","MF","Meeting Jovem Cidade de Pombal + Km Jovem","2022-03-26","Pombal","ADAL","M",5,733,"Martim Carreira","CAMG","INI","00:03:41.970"]
["1000","MF","Meeting Jovem Cidade de Pombal + Km Jovem","2022-03-26","Pombal","ADAL","M",6,387,"Rodrigo Martins","ACDRA","INI","00:03:41.990"]
["1000","MF","Meeting Jovem Cidade de Pombal + Km Jovem","2022-03-26","Pombal","ADAL","M",1,320,"Cristovão Monteiro","GDP-L","INI","00:02:55.050"]
["1000","MF","Meeting Jovem Cidade de Pombal + Km Jovem","2022-03-26","Pombal","ADAL","M",2,140,"Rafael Morgado","JV","INI","00:02:58.670"]
["1000","MF","Meeting Jovem Cidade de Pombal + Km Jovem","2022-03-26","Pombal","ADAL","M",3,253,"Francisco Mota","NDAP","INI","00:02:59.050"]
["1000","MF","Meeting Jovem Cidade de Pombal + Km Jovem","2022-03-26","Pombal","ADAL","M",4,74,"Denis Hrabar","JV","INI","00:03:00.540"]
["1000","MF","Meeting Jovem Cidade de Pombal + Km Jovem","2022-03-26","Pombal","ADAL","M",5,185,"Leonardo Mendes","ACB-L","INI","00:03:06.680"]
["1000","MF","Meeting Jovem Cidade de Pombal + Km Jovem","2022-03-26","Pombal","ADAL","M",6,100,"João Fernandes","JV","INI","00:03:14.020"]
["1000","MF","Meeting Jovem Cidade de Pombal + Km Jovem","2022-03-26","Pombal","ADAL","M",7,466,"Miguel Ferreira","CPRAB","INI","00:03:18.700"]
["1000","MF","Meeting Jovem Cidade de Pombal + Km Jovem","2022-03-26","Pombal","ADAL","M",8,334,"Matias Ferreira","GDP-L","INI","00:03:19.360"]
["1000","MF","Meeting Jovem Cidade de Pombal + Km Jovem","2022-03-26","Pombal","ADAL","M",9,806,"Leonardo Sousa","CAMG","INI","00:03:19.410"]
["1000","MF","Meeting Jovem Cidade de Pombal + Km Jovem","2022-03-26","Pombal","ADAL","M",10,506,"Diogo Pereira","AAADP","INI","00:03:20.180"]
["1000","MF","Meeting Jovem Cidade de Pombal + Km Jovem","2022-03-26","Pombal","ADAL","F",2,189,"Maria Jesus","ACB-L","INI","00:03:11.900"]
["1000","MF","Meeting Jovem Cidade de Pombal + Km Jovem","2022-03-26","Pombal","ADAL","F",3,63,"Carolina Ferreira","JV","INI","00:03:15.710"]
["1000","MF","Meeting Jovem Cidade de Pombal + Km Jovem","2022-03-26","Pombal","ADAL","F",4,372,"Caetana Neves","ACDRA","INI","00:03:23.930"]
["1000","MF","Meeting Jovem Cidade de Pombal + Km Jovem","2022-03-26","Pombal","ADAL","F",5,239,"Matilde Angélico","CAMG","INI","00:03:27.260"]
["1000","MF","Meeting Jovem Cidade de Pombal + Km Jovem","2022-03-26","Pombal","ADAL","F",6,297,"Lara Pereira","GAC-L","INI","00:03:29.300"]
["1000","MF","Meeting Jovem Cidade de Pombal + Km Jovem","2022-03-26","Pombal","ADAL","F",7,314,"Alice Varino","GDP-L","INI","00:03:39.330"]
["1000","MF","Meeting Jovem Cidade de Pombal + Km Jovem","2022-03-26","Pombal","ADAL","F",8,895,"Ana Simões","AAADP","INI","00:03:56.350"]
["1000","MF","Meeting Jovem Cidade de Pombal + Km Jovem","2022-03-26","Pombal","ADAL","F",9,59,"Bruna Amaral","JV","INI","00:04:00.830"]
["1000","MF","Meeting Jovem Cidade de Pombal + Km Jovem","2022-03-26","Pombal","ADAL","F",10,279,"Oleksandra Sliposhch","NDAP","INI","00:04:09.750"]
["1000","MF","Meeting Jovem Cidade de Pombal + Km Jovem","2022-03-26","Pombal","ADAL","M",1,134,"Nuno Cordeiro","JV","JUV","00:02:42.520"]
["1000","MF","Meeting Jovem Cidade de Pombal + Km Jovem","2022-03-26","Pombal","ADAL","M",2,369,"Tomás Casimiro","ACDRA","JUV","00:02:45.780"]
["1000","MF","Meeting Jovem Cidade de Pombal + Km Jovem","2022-03-26","Pombal","ADAL","M",3,152,"Tiago Jorge","JV","JUV","00:02:47.320"]
["1000","MF","Meeting Jovem Cidade de Pombal + Km Jovem","2022-03-26","Pombal","ADAL","M",4,914,"Pedro Rodrigues","NDAP","JUV","00:02:52.240"]
["1000","MF","Meeting Jovem Cidade de Pombal + Km Jovem","2022-03-26","Pombal","ADAL","M",5,108,"Leonardo Jacinto","JV","JUV","00:02:54.440"]
["1000","MF","Meeting Jovem Cidade de Pombal + Km Jovem","2022-03-26","Pombal","ADAL","M",6,141,"Rafael Vieira","JV","JUV","00:02:54.710"]
["1000","MF","Meeting Jovem Cidade de Pombal + Km Jovem","2022-03-26","Pombal","ADAL","M",7,375,"Diogo Nogueira","ACDRA","JUV","00:02:55.310"]
["1000","MF","Meeting Jovem Cidade de Pombal + Km Jovem","2022-03-26","Pombal","ADAL","M",8,315,"André Moreira","GDP-L","JUV","00:03:00.350"]
["1000","MF","Meeting Jovem Cidade de Pombal + Km Jovem","2022-03-26","Pombal","ADAL","M",9,916,"Luís Campos","CPRAB","JUV","00:03:05.260"]
["1000","MF","Meeting Jovem Cidade de Pombal + Km Jovem","2022-03-26","Pombal","ADAL","M",10,924,"Martim Ribeiro","CANAZ","JUV","00:03:16.250"]
["1000","MF","Meeting Jovem Cidade de Pombal + Km Jovem","2022-03-26","Pombal","ADAL","M",11,894,"Bernardo Ferreira","NDAP","JUV","00:03:25.430"]
["1000","MF","Meeting Jovem Cidade de Pombal + Km Jovem","2022-03-26","Pombal","ADAL","M",12,572,"Pedro Rocha","CANAZ","JUV","00:03:40.670"]
["1000","MF","Meeting Jovem Cidade de Pombal + Km Jovem","2022-03-26","Pombal","ADAL","M",13,465,"Martim Lopes","CPRAB","JUV","00:03:48.680"]
["1000","MF","Meeting Jovem Cidade de Pombal + Km Jovem","2022-03-26","Pombal","ADAL","F",1,683,"Carlota Ferreira","JV","JUV","00:03:17.570"]
["1000","MF","Meeting Jovem Cidade de Pombal + Km Jovem","2022-03-26","Pombal","ADAL","F",2,82,"Eduarda Silva","JV","JUV","00:03:18.120"]
["1000","MF","Meeting Jovem Cidade de Pombal + Km Jovem","2022-03-26","Pombal","ADAL","F",3,327,"Isa Ferreira","GDP-L","JUV","00:03:26.490"]
["1000","MF","Meeting Jovem Cidade de Pombal + Km Jovem","2022-03-26","Pombal","ADAL","F",4,379,"Inês Belbute","ACDRA","JUV","00:03:31.350"]
["1000","MF","Meeting Jovem Cidade de Pombal + Km Jovem","2022-03-26","Pombal","ADAL","F",5,897,"Marta Araújo","AAADP","JUV","00:03:36.060"]
["1000","MF","Meeting Jovem Cidade de Pombal + Km Jovem","2022-03-26","Pombal","ADAL","F",6,53,"Anabela Silva","JV","JUV","00:03:41.500"]
["1000","MF","Meeting Jovem Cidade de Pombal + Km Jovem","2022-03-26","Pombal","ADAL","F",7,277,"Nina Barreiros","NDAP","JUV","00:03:52.670"]
["1000","MF","Meeting Jovem Cidade de Pombal + Km Jovem","2022-03-26","Pombal","ADAL","F",8,266,"Lili Barreiro","NDAP","JUV","00:03:53.240"]
["DARDO5","Lan","Camp Dist Lançamentos Longos Sub14 e Sub16","2022-04-02","Marinha Grande","ADAL","M",1,561,"Edson Mendes","CAMG","INF",18.3,"15.53","15.8","12.82","18.3","17.92","15.83"]
["DARDO5","Lan","Camp Dist Lançamentos Longos Sub14 e Sub16","2022-04-02","Marinha Grande","ADAL","M",2,104,"José Martins","JV","INF",15.4,"X",12.5,12.5,"X",15.4,"X"]
["DARDO5","Lan","Camp Dist Lançamentos Longos Sub14 e Sub16","2022-04-02","Marinha Grande","ADAL","M",3,357,"Lourenço Nunes","CDBBR","INF",14.24,"X","X",10.029999999999999,"X","X",14.24]
["DARDO5","Lan","Camp Dist Lançamentos Longos Sub14 e Sub16","2022-04-02","Marinha Grande","ADAL","M",4,342,"Afonso Gomes","CDBBR","INF",10.82,10.82,10,8.5299999999999994,"X",9.6300000000000008,"X"]
["DARDO5","Lan","Camp Dist Lançamentos Longos Sub14 e Sub16","2022-04-02","Marinha Grande","ADAL","M",5,348,"Dinis Vitorino","CDBBR","INF",8.44,"X",8.15,4.5999999999999996,7.38,8.44,8.2100000000000009]
["MARTEL5","Lan","Camp Dist Lançamentos Longos Sub14 e Sub16","2022-04-02","Marinha Grande","ADAL","M",1,9,"Francisco Calhau","JV","JUV",57.18,"X",57.18,56.33,"X","X",57.18]
["DARDO4","Lan","Camp Dist Lançamentos Longos Sub14 e Sub16","2022-04-02","Marinha Grande","ADAL","F",1,1018,"Beatriz Silva","CAMR","INF",26.59,26.59,21.5,21.65,17.87,21.58,25.24]
["DARDO4","Lan","Camp Dist Lançamentos Longos Sub14 e Sub16","2022-04-02","Marinha Grande","ADAL","F",2,120,"Maria Gomes","JV","INF",25.56,23.18,24.5,21.03,25.56,22.89,20.440000000000001]
["DARDO4","Lan","Camp Dist Lançamentos Longos Sub14 e Sub16","2022-04-02","Marinha Grande","ADAL","F",3,569,"Alícia Almeida","CANAZ","INF",23.94,19.170000000000002,21.53,19.149999999999999,22.1,21.26,23.94]
["DARDO4","Lan","Camp Dist Lançamentos Longos Sub14 e Sub16","2022-04-02","Marinha Grande","ADAL","F",4,129,"Matilde Silva","JV","INF",16.68,14.52,16.68,14.21,15.91,15.01,15.6]
["DARDO4","Lan","Camp Dist Lançamentos Longos Sub14 e Sub16","2022-04-02","Marinha Grande","ADAL","F",5,859,"Íris Sousinha","CANAZ","INF",14.31,10.08,12.07,"X",13.15,"X",14.31]
["DARDO4","Lan","Camp Dist Lançamentos Longos Sub14 e Sub16","2022-04-02","Marinha Grande","ADAL","F",6,128,"Matilde Joaquim","JV","INF",13.81,10.38,13.81,12.33,12.79,10.119999999999999,10.66]
["DARDO4","Lan","Camp Dist Lançamentos Longos Sub14 e Sub16","2022-04-02","Marinha Grande","ADAL","F",7,571,"Patrícia Barqueiro","CANAZ","INF",13.63,11.94,11.03,12.79,13.63,12.67,9.0399999999999991]
["DARDO4","Lan","Camp Dist Lançamentos Longos Sub14 e Sub16","2022-04-02","Marinha Grande","ADAL","F",8,90,"Francisca Reis","JV","INF",11.5,7.83,9.5,11.5,11.27,9.32,10.78]
["DARDO4","Lan","Camp Dist Lançamentos Longos Sub14 e Sub16","2022-04-02","Marinha Grande","ADAL","F",9,107,"Lara Simões","JV","INF",10.99,9.9600000000000009,"X",10.99]
["DARDO4","Lan","Camp Dist Lançamentos Longos Sub14 e Sub16","2022-04-02","Marinha Grande","ADAL","F",10,688,"Joana Ferreira","JV","INF",9.0399999999999991,9.0399999999999991,8.23,7.37]
["DARDO4","Lan","Camp Dist Lançamentos Longos Sub14 e Sub16","2022-04-02","Marinha Grande","ADAL","F",11,1136,"Ashley Jorge","JV","INF",7.94,6.64,4.87,7.94]
["DARDO4","Lan","Camp Dist Lançamentos Longos Sub14 e Sub16","2022-04-02","Marinha Grande","ADAL","F",12,356,"Leonor Ferreira","CDBBR","INF",7.12,"X",7.12,"X"]
["MARTEL3","Lan","Camp Dist Lançamentos Longos Sub14 e Sub16","2022-04-02","Marinha Grande","ADAL","F",1,890,"Márcia Maketa","JV","JUV",53.23,"X",53.23,"X",51.15,47.82,"X"]
["MARTEL3","Lan","Camp Dist Lançamentos Longos Sub14 e Sub16","2022-04-02","Marinha Grande","ADAL","F",2,811,"Inaya Yayo","CANAZ","JUV",45.34,"X",44.1,42.48,45.34,"X",42.98]
["MARTEL3","Lan","Camp Dist Lançamentos Longos Sub14 e Sub16","2022-04-02","Marinha Grande","ADAL","F",4,382,"Leonor Belchior","ACDRA","JUV",39.79,"X","X","X",39.79,39.04,37.090000000000003]
["MARTEL3","Lan","Camp Dist Lançamentos Longos Sub14 e Sub16","2022-04-02","Marinha Grande","ADAL","F",5,573,"Rita Oliveira","CANAZ","JUV",36.69,31.43,"X",34.26,"X",35.090000000000003,36.69]
["MARTEL3","Lan","Camp Dist Lançamentos Longos Sub14 e Sub16","2022-04-02","Marinha Grande","ADAL","F",6,738,"Beatriz Cordeiro","JV","JUV",30.6,"X","X",30.6,"X",29.67,28.61]
["MARTEL4","Lan","Camp Dist Lançamentos Longos Sub14 e Sub16","2022-04-02","Marinha Grande","ADAL","F",1,874,"Beatriz Silva","JV","JUN",38.21,36.47,37.700000000000003,37.44,31.76,38.21,36.450000000000003]
["MARTEL6","Lan","Camp Dist Lançamentos Longos Sub14 e Sub16","2022-04-02","Marinha Grande","ADAL","M",1,321,"Daniel Raposo","GDP-L","JUN",36.72,32.76,"X",26.24,36.72,33.07,33.99]
["DARDO6","Lan","Camp Dist Lançamentos Longos Sub14 e Sub16","2022-04-02","Marinha Grande","ADAL","M",1,74,"Denis Hrabar","JV","INI",41.33,36.83,"X",36.130000000000003,"X",36.76,41.33]
["DARDO6","Lan","Camp Dist Lançamentos Longos Sub14 e Sub16","2022-04-02","Marinha Grande","ADAL","M",2,140,"Rafael Morgado","JV","INI",34.520000000000003,34.299999999999997,"X","X","X",31.2,34.520000000000003]
["DARDO6","Lan","Camp Dist Lançamentos Longos Sub14 e Sub16","2022-04-02","Marinha Grande","ADAL","M",3,339,"Rodrigo Esteves","GDP-L","INI",29.84,29.18,"X","X","X",29.84,29.81]
["DARDO6","Lan","Camp Dist Lançamentos Longos Sub14 e Sub16","2022-04-02","Marinha Grande","ADAL","M",4,136,"Pedro Almeida","JV","INI",22.9,22.9,17,22.21,21.6,21.08,"X"]
["DARDO6","Lan","Camp Dist Lançamentos Longos Sub14 e Sub16","2022-04-02","Marinha Grande","ADAL","M",5,1204,"Pierre Maskaro","JV","INI",19.18,14.4,"X",18.54,19.18,16.670000000000002,13.71]
["MARTEL7","Lan","Camp Dist Lançamentos Longos Sub14 e Sub16","2022-04-02","Marinha Grande","ADAL","M",1,807,"Miguel Carreira","CAMG","SEN",64.930000000000007,64.930000000000007,63.75,62.1,"X","X","X"]
["DARDO5","Lan","Camp Dist Lançamentos Longos Sub14 e Sub16","2022-04-02","Marinha Grande","ADAL","F",1,61,"Camila Patraboy","JV","INI",26.83,18.5,20.309999999999999,19.39,23.43,"X",26.83]
["DARDO5","Lan","Camp Dist Lançamentos Longos Sub14 e Sub16","2022-04-02","Marinha Grande","ADAL","F",2,150,"Sofiia Chemyrys","JV","INI",25.16,25.16,24.75,22.89,22.23,20.45,24.6]
["DARDO5","Lan","Camp Dist Lançamentos Longos Sub14 e Sub16","2022-04-02","Marinha Grande","ADAL","F",3,763,"Vanessa Castravet","CANAZ","INI",22.77,21.92,22.77,"X",21.58,22.15,22.55]
["DARDO5","Lan","Camp Dist Lançamentos Longos Sub14 e Sub16","2022-04-02","Marinha Grande","ADAL","F",4,95,"Inês Figueiredo","JV","INI",20.49,18.95,20.23,19.600000000000001,20.49,20.37,19.96]
["DARDO5","Lan","Camp Dist Lançamentos Longos Sub14 e Sub16","2022-04-02","Marinha Grande","ADAL","F",5,219,"Carolina D Santos","CAMG","INI",18.27,17.37,17.87,"X","X","X",18.27]
["DARDO5","Lan","Camp Dist Lançamentos Longos Sub14 e Sub16","2022-04-02","Marinha Grande","ADAL","F",6,59,"Bruna Amaral","JV","INI",17.93,15.31,15.53,15.91,17.93,14.45,17.920000000000002]
["DARDO5","Lan","Camp Dist Lançamentos Longos Sub14 e Sub16","2022-04-02","Marinha Grande","ADAL","F",7,769,"Diana Vatula","CAMG","INI",15.19,14.15,13.68,14.66,13.38,15.19,13.54]
["DARDO5","Lan","Camp Dist Lançamentos Longos Sub14 e Sub16","2022-04-02","Marinha Grande","ADAL","F",8,105,"Katerina Quinn","JV","INI",13.14,12.54,13.14,12.73,11.73,8.92,10.15]
["DARDO5","Lan","Camp Dist Lançamentos Longos Sub14 e Sub16","2022-04-02","Marinha Grande","ADAL","F",9,331,"Mariana Custódio","GDP-L","INI",13.05,13.05,"X",12.8]
["DARDO5","Lan","Camp Dist Lançamentos Longos Sub14 e Sub16","2022-04-02","Marinha Grande","ADAL","F",10,149,"Sofia Santos","JV","INI",11.68,9.6300000000000008,10.199999999999999,11.68]
["DARDO5","Lan","Camp Dist Lançamentos Longos Sub14 e Sub16","2022-04-02","Marinha Grande","ADAL","F",11,132,"Miriam Machado","JV","INI",10.38,10.38,9.8699999999999992,9.27]
["DARDO8","Lan","Camp Dist Lançamentos Longos Sub14 e Sub16","2022-04-02","Marinha Grande","ADAL","M",1,1060,"Duarte Santos","CANAZ","JUV",37.14,36.03,36.65,37.14,33.9,33.46,"X"]
["DARDO8","Lan","Camp Dist Lançamentos Longos Sub14 e Sub16","2022-04-02","Marinha Grande","ADAL","M",2,69,"Daniel Rizzi","JV","JUN",35.18,34.75,29.8,"X",35.18,31.75,"X"]
["DARDO6","Lan","Camp Dist Lançamentos Longos Sub14 e Sub16","2022-04-02","Marinha Grande","ADAL","F",1,7,"Carolina Caseiro","JV","JUN",34.619999999999997,31.24,34.619999999999997,34.18,32.33,31.99,"X"]
["DARDO6","Lan","Camp Dist Lançamentos Longos Sub14 e Sub16","2022-04-02","Marinha Grande","ADAL","F",2,854,"Eva Varela","CANAZ","JUV",31.92,29.41,29.57,31.16,29.64,31.92,28.94]
["DISCO07","Lan","Camp Dist Lançamentos Longos Sub14 e Sub16","2022-04-03","Marinha Grande","ADAL","M",1,138,"Pedro Marcelino","JV","INF",20.51,"X","X",19.940000000000001,20.51,18.649999999999999,17.96]
["DISCO07","Lan","Camp Dist Lançamentos Longos Sub14 e Sub16","2022-04-03","Marinha Grande","ADAL","M",2,561,"Edson Mendes","CAMG","INF",16.25,14.19,14.98,13.86,16.25,14.31,14.33]
["DISCO07","Lan","Camp Dist Lançamentos Longos Sub14 e Sub16","2022-04-03","Marinha Grande","ADAL","M",3,104,"José Martins","JV","INF",16.23,"X",14.93,14.73,16.23,15.47,15.33]
["DISCO07","Lan","Camp Dist Lançamentos Longos Sub14 e Sub16","2022-04-03","Marinha Grande","ADAL","M",4,383,"Manuel Madaleno","ACDRA","INF",15.95,"X",14.17,"X",15.95,13.48,15.77]
["DISCO07","Lan","Camp Dist Lançamentos Longos Sub14 e Sub16","2022-04-03","Marinha Grande","ADAL","M",5,342,"Afonso Gomes","CDBBR","INF",14.52,14.52,13.24,11.95,"X",12.92,"X"]
["DISCO07","Lan","Camp Dist Lançamentos Longos Sub14 e Sub16","2022-04-03","Marinha Grande","ADAL","M",6,58,"Benjamim Rodrigues","JV","INF",14.51,14.51,"X",13.44,"X",14.25,13.44]
["DISCO07","Lan","Camp Dist Lançamentos Longos Sub14 e Sub16","2022-04-03","Marinha Grande","ADAL","M",7,357,"Lourenço Nunes","CDBBR","INF",14.37,"X",14.37,13.75,13.74,"X",13.01]
["DISCO07","Lan","Camp Dist Lançamentos Longos Sub14 e Sub16","2022-04-03","Marinha Grande","ADAL","M",8,343,"Afonso Machado","CDBBR","INF",10.25,9.98,9.98,"X",9.24,9.73,10.25]
["MARTEL3","Lan","Camp Dist Lançamentos Longos Sub14 e Sub16","2022-04-03","Marinha Grande","ADAL","F",1,61,"Camila Patraboy","JV","INI",34.17,30,"X",34.17,32.25,"X","X"]
["MARTEL3","Lan","Camp Dist Lançamentos Longos Sub14 e Sub16","2022-04-03","Marinha Grande","ADAL","F",2,763,"Vanessa Castravet","CANAZ","INI",27.61,26.12,25.8,25.14,27.61,25.52,"X"]
["MARTEL3","Lan","Camp Dist Lançamentos Longos Sub14 e Sub16","2022-04-03","Marinha Grande","ADAL","F",3,95,"Inês Figueiredo","JV","INI",25.22,24.69,22.46,25.22,"X",23.29,25.09]
["MARTEL3","Lan","Camp Dist Lançamentos Longos Sub14 e Sub16","2022-04-03","Marinha Grande","ADAL","F",4,219,"Carolina D Santos","CAMG","INI",24.42,22.91,24.42,"X","X","X","X"]
["MARTEL3","Lan","Camp Dist Lançamentos Longos Sub14 e Sub16","2022-04-03","Marinha Grande","ADAL","F",5,150,"Sofiia Chemyrys","JV","INI",20.66,20.66,19.66,18.63,20.39,20.48,18.8]
["MARTEL3","Lan","Camp Dist Lançamentos Longos Sub14 e Sub16","2022-04-03","Marinha Grande","ADAL","F",6,149,"Sofia Santos","JV","INI",20.05,"X",17.09,16.57,20.05,19.91,18.36]
["MARTEL3","Lan","Camp Dist Lançamentos Longos Sub14 e Sub16","2022-04-03","Marinha Grande","ADAL","F",7,59,"Bruna Amaral","JV","INI",14.73,14.73,14.54,"X","X",12.95,"X"]
["MARTEL3","Lan","Camp Dist Lançamentos Longos Sub14 e Sub16","2022-04-03","Marinha Grande","ADAL","F",8,123,"Marta Feliciano","JV","INI",14.71,13.04,"X",14.69,"X",14.71,14.48]
["MARTEL4","Lan","Camp Dist Lançamentos Longos Sub14 e Sub16","2022-04-03","Marinha Grande","ADAL","M",1,339,"Rodrigo Esteves","GDP-L","INI",42.01,"X",41.05,42.01,41.47,"X","X"]
["MARTEL4","Lan","Camp Dist Lançamentos Longos Sub14 e Sub16","2022-04-03","Marinha Grande","ADAL","M",2,133,"Nikita Miroshnyk","JV","INI",25.9,25.9,"X","X",20.309999999999999,"X",23.21]
["MARTEL4","Lan","Camp Dist Lançamentos Longos Sub14 e Sub16","2022-04-03","Marinha Grande","ADAL","M",3,74,"Denis Hrabar","JV","INI",24.23,24.23,"X",23.94,22.85,"X","X"]
["DISCO06","Lan","Camp Dist Lançamentos Longos Sub14 e Sub16","2022-04-03","Marinha Grande","ADAL","F",1,566,"Mariana Peralta","CAMG","INF",24.16,24.16,21.2,14.48,21.17,21.66,17.399999999999999]
["DISCO06","Lan","Camp Dist Lançamentos Longos Sub14 e Sub16","2022-04-03","Marinha Grande","ADAL","F",2,112,"Liliana Teotónio","JV","INF",21.2,"X",17.39,19.059999999999999,16.66,16.98,21.2]
["DISCO06","Lan","Camp Dist Lançamentos Longos Sub14 e Sub16","2022-04-03","Marinha Grande","ADAL","F",3,51,"Alessandra Santos","JV","INF",20.03,"X",16.03,16.239999999999998,18.920000000000002,18.02,20.03]
["DISCO06","Lan","Camp Dist Lançamentos Longos Sub14 e Sub16","2022-04-03","Marinha Grande","ADAL","F",4,569,"Alícia Almeida","CANAZ","INF",18.98,17.21,18.98,18.579999999999998,18.02,15.66,17.809999999999999]
["DISCO06","Lan","Camp Dist Lançamentos Longos Sub14 e Sub16","2022-04-03","Marinha Grande","ADAL","F",5,129,"Matilde Silva","JV","INF",17.71,14.75,15,17.309999999999999,17.71,"X",16.84]
["DISCO06","Lan","Camp Dist Lançamentos Longos Sub14 e Sub16","2022-04-03","Marinha Grande","ADAL","F",6,147,"Sofia Carvalho","JV","INF",16.829999999999998,15.76,15.72,14.87,16.829999999999998,"X",16.3]
["DISCO06","Lan","Camp Dist Lançamentos Longos Sub14 e Sub16","2022-04-03","Marinha Grande","ADAL","F",7,107,"Lara Simões","JV","INF",16.78,16.78,14.22,14.77,"X","X","X"]
["DISCO06","Lan","Camp Dist Lançamentos Longos Sub14 e Sub16","2022-04-03","Marinha Grande","ADAL","F",8,571,"Patrícia Barqueiro","CANAZ","INF",15.82,"X",14.61,15.82,15.09,15.76,15.66]
["DISCO06","Lan","Camp Dist Lançamentos Longos Sub14 e Sub16","2022-04-03","Marinha Grande","ADAL","F",9,1136,"Ashley Jorge","JV","INF",14.93,8.81,13.16,14.93]
["DISCO06","Lan","Camp Dist Lançamentos Longos Sub14 e Sub16","2022-04-03","Marinha Grande","ADAL","F",10,90,"Francisca Reis","JV","INF",13.05,11.78,13.05,13.02]
["DISCO06","Lan","Camp Dist Lançamentos Longos Sub14 e Sub16","2022-04-03","Marinha Grande","ADAL","F",11,973,"Madalena Silva","CANAZ","INF",12.53,"X",12.21,12.53]
["DISCO06","Lan","Camp Dist Lançamentos Longos Sub14 e Sub16","2022-04-03","Marinha Grande","ADAL","F",12,373,"Constança Casimiro","ACDRA","INF",12.37,10.98,11.14,12.37]
["DISCO06","Lan","Camp Dist Lançamentos Longos Sub14 e Sub16","2022-04-03","Marinha Grande","ADAL","F",13,364,"Sofia Ferromau","CDBBR","INF",12.33,12.33,11.16,11.84]
["DISCO06","Lan","Camp Dist Lançamentos Longos Sub14 e Sub16","2022-04-03","Marinha Grande","ADAL","F",14,385,"Matilde Pires","ACDRA","INF",11.96,11.96,11.82,10.66]
["DISCO06","Lan","Camp Dist Lançamentos Longos Sub14 e Sub16","2022-04-03","Marinha Grande","ADAL","F",15,859,"Íris Sousinha","CANAZ","INF",10.99,"X","X",10.99]
["DISCO06","Lan","Camp Dist Lançamentos Longos Sub14 e Sub16","2022-04-03","Marinha Grande","ADAL","F",16,356,"Leonor Ferreira","CDBBR","INF",8.82,"X",8.76,8.82]
["DISCO07","Lan","Camp Dist Lançamentos Longos Sub14 e Sub16","2022-04-03","Marinha Grande","ADAL","F",1,219,"Carolina D Santos","CAMG","INI",32.39,32.39,"X",30.74,"X",31.92,32.1]
["DISCO07","Lan","Camp Dist Lançamentos Longos Sub14 e Sub16","2022-04-03","Marinha Grande","ADAL","F",2,763,"Vanessa Castravet","CANAZ","INI",27.19,"X",24.34,24.77,24.43,27.19,25.82]
["DISCO07","Lan","Camp Dist Lançamentos Longos Sub14 e Sub16","2022-04-03","Marinha Grande","ADAL","F",3,150,"Sofiia Chemyrys","JV","INI",23.05,18.61,16.53,"X",17.62,23.05,"X"]
["DISCO07","Lan","Camp Dist Lançamentos Longos Sub14 e Sub16","2022-04-03","Marinha Grande","ADAL","F",4,95,"Inês Figueiredo","JV","INI",21.33,18.61,21.33,20.34,"X","X",20.22]
["DISCO07","Lan","Camp Dist Lançamentos Longos Sub14 e Sub16","2022-04-03","Marinha Grande","ADAL","F",5,59,"Bruna Amaral","JV","INI",19.57,18.29,"X","X",15.67,19.57,17.350000000000001]
["DISCO07","Lan","Camp Dist Lançamentos Longos Sub14 e Sub16","2022-04-03","Marinha Grande","ADAL","F",6,149,"Sofia Santos","JV","INI",17.89,16.670000000000002,16.14,17.89,"X",16.600000000000001,17.559999999999999]
["DISCO07","Lan","Camp Dist Lançamentos Longos Sub14 e Sub16","2022-04-03","Marinha Grande","ADAL","F",7,1008,"Maria Inês Silva","ACDRA","INI",17.66,16.48,15.12,14.72,15.77,15.16,17.66]
["DISCO07","Lan","Camp Dist Lançamentos Longos Sub14 e Sub16","2022-04-03","Marinha Grande","ADAL","F",8,764,"Camila Ferreira","CANAZ","INI",15.71,15.19,14.36,15.71,"X","X","X"]
["DISCO07","Lan","Camp Dist Lançamentos Longos Sub14 e Sub16","2022-04-03","Marinha Grande","ADAL","F",9,123,"Marta Feliciano","JV","INI",15.5,14.41,15.5,15.45]
["DISCO07","Lan","Camp Dist Lançamentos Longos Sub14 e Sub16","2022-04-03","Marinha Grande","ADAL","F",10,942,"Laura Cruz","ACDRA","INI",13.8,"X",13.8,"X"]
["DISCO07","Lan","Camp Dist Lançamentos Longos Sub14 e Sub16","2022-04-03","Marinha Grande","ADAL","F",11,380,"Isaura Correia","ACDRA","INI",12.62,11.4,11.79,12.62]
["DISCO10","Lan","Camp Dist Lançamentos Longos Sub14 e Sub16","2022-04-03","Marinha Grande","ADAL","M",1,74,"Denis Hrabar","JV","INI",41.24,37.74,37.299999999999997,"X",41.24,"X",37.770000000000003]
["DISCO10","Lan","Camp Dist Lançamentos Longos Sub14 e Sub16","2022-04-03","Marinha Grande","ADAL","M",2,339,"Rodrigo Esteves","GDP-L","INI",33.450000000000003,"X",27.93,29.39,"X",30.02,33.450000000000003]
["DISCO10","Lan","Camp Dist Lançamentos Longos Sub14 e Sub16","2022-04-03","Marinha Grande","ADAL","M",3,140,"Rafael Morgado","JV","INI",28,28,23.25,24.68,"X","X","X"]
["DISCO10","Lan","Camp Dist Lançamentos Longos Sub14 e Sub16","2022-04-03","Marinha Grande","ADAL","M",4,387,"Rodrigo Martins","ACDRA","INI",18.38,14.88,16.260000000000002,13.99,"X",18.38,17]
["DISCO10","Lan","Camp Dist Lançamentos Longos Sub14 e Sub16","2022-04-03","Marinha Grande","ADAL","M",5,133,"Nikita Miroshnyk","JV","INI",16.329999999999998,"X",15.53,14.95,14.43,16.329999999999998,"X"]
["MARTEL2","Lan","Camp Dist Lançamentos Longos Sub14 e Sub16","2022-04-03","Marinha Grande","ADAL","F",1,147,"Sofia Carvalho","JV","INF",23.87,"X","X",19.14,23.87,"X",19.73]
["MARTEL2","Lan","Camp Dist Lançamentos Longos Sub14 e Sub16","2022-04-03","Marinha Grande","ADAL","F",2,129,"Matilde Silva","JV","INF",23.38,21.98,20.21,20.239999999999998,22.55,23.38,22.04]
["MARTEL2","Lan","Camp Dist Lançamentos Longos Sub14 e Sub16","2022-04-03","Marinha Grande","ADAL","F",3,51,"Alessandra Santos","JV","INF",23.18,23.18,21.55,18.16,20.420000000000002,20.81,"X"]
["MARTEL2","Lan","Camp Dist Lançamentos Longos Sub14 e Sub16","2022-04-03","Marinha Grande","ADAL","F",4,571,"Patrícia Barqueiro","CANAZ","INF",23.14,23.14,19.829999999999998,20.22,21.12,21.23,22.09]
["MARTEL2","Lan","Camp Dist Lançamentos Longos Sub14 e Sub16","2022-04-03","Marinha Grande","ADAL","F",5,973,"Madalena Silva","CANAZ","INF",20.71,18.48,18.48,20.71,19.82,16.39,17.54]
["MARTEL2","Lan","Camp Dist Lançamentos Longos Sub14 e Sub16","2022-04-03","Marinha Grande","ADAL","F",6,107,"Lara Simões","JV","INF",20.11,14.52,14.75,9.06,17.2,19.489999999999998,20.11]
["MARTEL2","Lan","Camp Dist Lançamentos Longos Sub14 e Sub16","2022-04-03","Marinha Grande","ADAL","F",7,112,"Liliana Teotónio","JV","INF",18.41,18.07,14.98,"X",18.41,"X",18.3]
["MARTEL2","Lan","Camp Dist Lançamentos Longos Sub14 e Sub16","2022-04-03","Marinha Grande","ADAL","F",8,90,"Francisca Reis","JV","INF",14.38,14.38,13.34,"X",13.64,"X","X"]
["MARTEL3","Lan","Camp Dist Lançamentos Longos Sub14 e Sub16","2022-04-03","Marinha Grande","ADAL","M",1,138,"Pedro Marcelino","JV","INF",18.79,18.3,17.54,18.79,"X",15.77,14.46]
["MARTEL3","Lan","Camp Dist Lançamentos Longos Sub14 e Sub16","2022-04-03","Marinha Grande","ADAL","M",2,104,"José Martins","JV","INF",15.88,13.31,15.88,"X",13.26,15.13,"X"]
["5000","MF","Campeonato Distrital de 5.000 e 10.000 metros","2022-04-03","Leiria","ADAL","F",1,392,"Daniela Cordeiro","GAUB","SEN","00:19:09.020"]
["5000","MF","Campeonato Distrital de 5.000 e 10.000 metros","2022-04-03","Leiria","ADAL","F",2,3,"Joana Bagagem","ACB-L","SUB-23","00:19:19.700"]
["5000","MF","Campeonato Distrital de 5.000 e 10.000 metros","2022-04-03","Leiria","ADAL","F",3,870,"Carla Cantante","CAB-L","VET 35","00:20:35.540"]
["5000","MF","Campeonato Distrital de 5.000 e 10.000 metros","2022-04-03","Leiria","ADAL","F",4,626,"Adriana Coelho","IDV","SEN","00:21:32.840"]
["5000","MF","Campeonato Distrital de 5.000 e 10.000 metros","2022-04-03","Leiria","ADAL","F",5,1545,"Kim Howes","CLUVE","VET 55","00:23:03.730"]
["5000","MF","Campeonato Distrital de 5.000 e 10.000 metros","2022-04-03","Leiria","ADAL","F",6,658,"Sandra Simões","IDV","VET 45","00:23:30.270"]
["5000","MF","Campeonato Distrital de 5.000 e 10.000 metros","2022-04-03","Leiria","ADAL","F",7,659,"Sónia Farto","IDV","VET 45","00:23:43.970"]
["5000","MF","Campeonato Distrital de 5.000 e 10.000 metros","2022-04-03","Leiria","ADAL","F",8,1134,"Susana Pereira","CPRAB","VET 45","00:24:06.550"]
["5000","MF","Campeonato Distrital de 5.000 e 10.000 metros","2022-04-03","Leiria","ADAL","F",9,640,"Helena Henriques","IDV","VET 50","00:24:21.240"]
["5000","MF","Campeonato Distrital de 5.000 e 10.000 metros","2022-04-03","Leiria","ADAL","F",10,388,"Anabela Fernandes","GAUB","VET 50","00:25:00.730"]
["5000","MF","Campeonato Distrital de 5.000 e 10.000 metros","2022-04-03","Leiria","ADAL","F",11,447,"Elsa Soares","ACV","VET 40","00:25:38.250"]
["5000","MF","Campeonato Distrital de 5.000 e 10.000 metros","2022-04-03","Leiria","ADAL","F",12,755,"Maria Cabecinhas","GAUB","JUN","00:26:05.770"]
["5000","MF","Campeonato Distrital de 5.000 e 10.000 metros","2022-04-03","Leiria","ADAL","F",13,41,"Mariana Romeiro","IND","JUV","00:29:19.110"]
["10000","MF","Campeonato Distrital de 5.000 e 10.000 metros","2022-04-03","Leiria","ADAL","M",1,305,"Nuno Ferreira","GAC-L","SUB-23","00:32:13.830"]
["10000","MF","Campeonato Distrital de 5.000 e 10.000 metros","2022-04-03","Leiria","ADAL","M",2,312,"Valter Costa","GAC-L","SEN","00:32:56.300"]
["10000","MF","Campeonato Distrital de 5.000 e 10.000 metros","2022-04-03","Leiria","ADAL","M",3,595,"Licínio Silva","GAUB","SEN","00:34:12.690"]
["10000","MF","Campeonato Distrital de 5.000 e 10.000 metros","2022-04-03","Leiria","ADAL","M",4,246,"Ricardo Henriques","CAMG","VET 35","00:34:49.400"]
["10000","MF","Campeonato Distrital de 5.000 e 10.000 metros","2022-04-03","Leiria","ADAL","M",5,1099,"CÉSAR ISIDRO","CAOB","VET 35","00:34:57.290"]
["10000","MF","Campeonato Distrital de 5.000 e 10.000 metros","2022-04-03","Leiria","ADAL","M",6,200,"Nuno Serrada","ACB-L","VET 40","00:35:06.230"]
["10000","MF","Campeonato Distrital de 5.000 e 10.000 metros","2022-04-03","Leiria","ADAL","M",7,247,"Virgílio Bastos","CAMG","VET 40","00:35:25.930"]
["10000","MF","Campeonato Distrital de 5.000 e 10.000 metros","2022-04-03","Leiria","ADAL","M",8,313,"Vítor Dinis","GAC-L","VET 45","00:35:35.340"]
["10000","MF","Campeonato Distrital de 5.000 e 10.000 metros","2022-04-03","Leiria","ADAL","M",9,398,"Joel Couto","GAUB","VET 40","00:35:37.690"]
["10000","MF","Campeonato Distrital de 5.000 e 10.000 metros","2022-04-03","Leiria","ADAL","M",10,1542,"Mário Silva","ACRSD","VET 55","00:35:42.570"]
["10000","MF","Campeonato Distrital de 5.000 e 10.000 metros","2022-04-03","Leiria","ADAL","M",11,617,"Nuno Santos","GRFB","VET 40","00:35:53.810"]
["10000","MF","Campeonato Distrital de 5.000 e 10.000 metros","2022-04-03","Leiria","ADAL","M",12,1164,"André Pinto","GRFB","SEN","00:36:26.880"]
["10000","MF","Campeonato Distrital de 5.000 e 10.000 metros","2022-04-03","Leiria","ADAL","M",13,585,"Daniel Cabecinhas","GAUB","SUB-23","00:36:41.360"]
["10000","MF","Campeonato Distrital de 5.000 e 10.000 metros","2022-04-03","Leiria","ADAL","M",14,646,"Jorge Marcelino","IDV","VET 45","00:36:42.380"]
["10000","MF","Campeonato Distrital de 5.000 e 10.000 metros","2022-04-03","Leiria","ADAL","M",1,451,"João Gonçalves","ACV","SEN","00:35:42.890"]
["10000","MF","Campeonato Distrital de 5.000 e 10.000 metros","2022-04-03","Leiria","ADAL","M",2,455,"Licínio Carreira","ACV","VET 45","00:36:30.210"]
["10000","MF","Campeonato Distrital de 5.000 e 10.000 metros","2022-04-03","Leiria","ADAL","M",3,500,"Paulo Pontes","LMA-L","VET 50","00:36:30.500"]
["10000","MF","Campeonato Distrital de 5.000 e 10.000 metros","2022-04-03","Leiria","ADAL","M",4,627,"Aléxis Rocha","IDV","SEN","00:38:06.870"]
["10000","MF","Campeonato Distrital de 5.000 e 10.000 metros","2022-04-03","Leiria","ADAL","M",5,628,"Amilcar Brito","IDV","VET 35","00:38:21.630"]
["10000","MF","Campeonato Distrital de 5.000 e 10.000 metros","2022-04-03","Leiria","ADAL","M",6,744,"Hugo Horta","CVLIS","VET 40","00:38:52.830"]
["10000","MF","Campeonato Distrital de 5.000 e 10.000 metros","2022-04-03","Leiria","ADAL","M",7,233,"José Raimundo","CAMG","VET 55","00:38:53.520"]
["10000","MF","Campeonato Distrital de 5.000 e 10.000 metros","2022-04-03","Leiria","ADAL","M",8,173,"Francisco Brígido","ACB-L","VET 45","00:38:55.070"]
["10000","MF","Campeonato Distrital de 5.000 e 10.000 metros","2022-04-03","Leiria","ADAL","M",9,452,"Joaquim Quitério","ACV","VET 45","00:39:19.530"]
["10000","MF","Campeonato Distrital de 5.000 e 10.000 metros","2022-04-03","Leiria","ADAL","M",10,399,"José Gonçalves","GAUB","VET 50","00:39:28.580"]
["10000","MF","Campeonato Distrital de 5.000 e 10.000 metros","2022-04-03","Leiria","ADAL","M",11,633,"Carlos Simões","IDV","VET 55","00:40:38.920"]
["10000","MF","Campeonato Distrital de 5.000 e 10.000 metros","2022-04-03","Leiria","ADAL","M",12,391,"Bruno Silva","GAUB","VET 35","00:41:51.020"]
["10000","MF","Campeonato Distrital de 5.000 e 10.000 metros","2022-04-03","Leiria","ADAL","M",1,611,"Flávio Castelhano","GRFB","VET 35","00:39:30.810"]
["10000","MF","Campeonato Distrital de 5.000 e 10.000 metros","2022-04-03","Leiria","ADAL","M",2,1165,"Paulo Costa","GRFB","VET 45","00:39:46.030"]
["10000","MF","Campeonato Distrital de 5.000 e 10.000 metros","2022-04-03","Leiria","ADAL","M",3,405,"Sérgio Cabecinhas","GAUB","VET 40","00:40:24.880"]
["10000","MF","Campeonato Distrital de 5.000 e 10.000 metros","2022-04-03","Leiria","ADAL","M",4,599,"Martinho Pedrosa","GAUB","VET 55","00:41:23.140"]
["10000","MF","Campeonato Distrital de 5.000 e 10.000 metros","2022-04-03","Leiria","ADAL","M",5,656,"Rui Dinis","IDV","VET 55","00:41:50.440"]
["10000","MF","Campeonato Distrital de 5.000 e 10.000 metros","2022-04-03","Leiria","ADAL","M",6,644,"João Marcelino","IDV","VET 50","00:42:07.850"]
["10000","MF","Campeonato Distrital de 5.000 e 10.000 metros","2022-04-03","Leiria","ADAL","M",7,625,"Acácio Campos","IDV","VET 60","00:42:36.030"]
["10000","MF","Campeonato Distrital de 5.000 e 10.000 metros","2022-04-03","Leiria","ADAL","M",8,468,"Paulo Monteiro","CPRAB","VET 50","00:42:40.850"]
["10000","MF","Campeonato Distrital de 5.000 e 10.000 metros","2022-04-03","Leiria","ADAL","M",9,469,"Pedro Rodrigues","CPRAB","VET 50","00:43:11.600"]
["10000","MF","Campeonato Distrital de 5.000 e 10.000 metros","2022-04-03","Leiria","ADAL","M",10,916,"Luís Campos","CPRAB","JUV","00:43:44.250"]
["10000","MF","Campeonato Distrital de 5.000 e 10.000 metros","2022-04-03","Leiria","ADAL","M",11,597,"Marco Reis","GAUB","SEN","00:47:15.570"]
["10000","MF","Campeonato Distrital de 5.000 e 10.000 metros","2022-04-03","Leiria","ADAL","M",1,947,"João Santana","ADRM","SEN","00:38:39.220"]
["10000","MF","Campeonato Distrital de 5.000 e 10.000 metros","2022-04-03","Leiria","ADAL","M",2,554,"António Alves","CAB-L","VET 60","00:41:24.240"]
["10000","MF","Campeonato Distrital de 5.000 e 10.000 metros","2022-04-03","Leiria","ADAL","M",3,576,"Alexandre Sousa","CPRAB","VET 35","00:41:24.800"]
["10000","MF","Campeonato Distrital de 5.000 e 10.000 metros","2022-04-03","Leiria","ADAL","M",4,395,"Fernando Domingues","GAUB","VET 35","00:43:02.740"]
["10000","MF","Campeonato Distrital de 5.000 e 10.000 metros","2022-04-03","Leiria","ADAL","M",5,946,"José Alves","ADRM","VET 55","00:44:13.830"]
["10000","MF","Campeonato Distrital de 5.000 e 10.000 metros","2022-04-03","Leiria","ADAL","M",6,467,"Nuno Ferreira","CPRAB","VET 40","00:44:49.180"]
["10000","MF","Campeonato Distrital de 5.000 e 10.000 metros","2022-04-03","Leiria","ADAL","M",7,579,"Joaquim Gomes","CPRAB","VET 70","00:46:54.360"]
["10000","MF","Campeonato Distrital de 5.000 e 10.000 metros","2022-04-03","Leiria","ADAL","M",8,507,"José Oliveira","GDAA","VET 60","00:49:10.240"]
["10000","MF","Campeonato Distrital de 5.000 e 10.000 metros","2022-04-03","Leiria","ADAL","M",9,662,"Filipe Tomas","ACSM-L","VET 75","00:49:17.340"]
["10000","MF","Campeonato Distrital de 5.000 e 10.000 metros","2022-04-03","Leiria","ADAL","M",10,449,"Eugénio Mendes","ACV","VET 60","00:51:31.370"]
["MARTEL6","Lan","Camp Nacionais de Lançamentos Sub-18 e Sub-20","2022-04-09","Vagos","FPA","M",7,64,"Daniel Raposo","GDP-L","JUN",38.659999999999997,36.99,"X",38.659999999999997,"X","X",34.99]
["MARTEL4","Lan","Camp Nacionais de Lançamentos Sub-18 e Sub-20","2022-04-09","Vagos","FPA","F",2,72,"Beatriz Silva","JV","JUN",40.51,36.979999999999997,"X",39.21,40.51,40.47,"X"]
["MARTEL3","Lan","Camp Nacionais de Lançamentos Sub-18 e Sub-20","2022-04-09","Vagos","FPA","F",2,77,"Márcia Maketa","JV","JUV",56.75,52.51,"X",56.75,"X",53.96,55.76]
["MARTEL3","Lan","Camp Nacionais de Lançamentos Sub-18 e Sub-20","2022-04-09","Vagos","FPA","F",3,33,"Inaya Yayo","CANAZ","JUV",48.83,46.4,"X",44.76,"X",45.82,48.83]
["MARTEL3","Lan","Camp Nacionais de Lançamentos Sub-18 e Sub-20","2022-04-09","Vagos","FPA","F",10,31,"Rita Oliveira","CANAZ","JUV",36.36,"X",35.6,36.36]
["MARTEL3","Lan","Camp Nacionais de Lançamentos Sub-18 e Sub-20","2022-04-09","Vagos","FPA","F","NM",13,"Leonor Belchior","ACDRA","JUV","x","X","X","X"]
["MARTEL5","Lan","Camp Nacionais de Lançamentos Sub-18 e Sub-20","2022-04-09","Vagos","FPA","M",1,76,"Francisco Calhau","JV","JUV",63.64,61.43,63.64,"X","X","X","X"]
["MARTEL5","Lan","Camp Nacionais de Lançamentos Sub-18 e Sub-20","2022-04-09","Vagos","FPA","M",4,65,"Rodrigo Esteves","GDP-L","INI",36.31,"X","X","X","X",32.630000000000003,36.31]
["DARDO7","Lan","Camp Nacionais de Lançamentos Sub-18 e Sub-20","2022-04-09","Vagos","FPA","M",5,78,"João Santos","JV","JUV",47.83,"X",41.71,47.83,42.09,"X",41.82]
["DARDO7","Lan","Camp Nacionais de Lançamentos Sub-18 e Sub-20","2022-04-09","Vagos","FPA","M",10,32,"Duarte Santos","CANAZ","JUV",41.78,"X",41.78,40.15]
["DISCO10","Lan","Camp Nacionais de Lançamentos Sub-18 e Sub-20","2022-04-09","Vagos","FPA","F",1,75,"Raquel Gomes","JV","JUN",42.57,39.950000000000003,42.57,39.65,41.82,42.46,"X"]
["DISCO10","Lan","Camp Nacionais de Lançamentos Sub-18 e Sub-20","2022-04-09","Vagos","FPA","F",7,28,"Camélia Terentiy","CAMG","JUN",32.61,30.82,32.42,30.23,32.31,32.26,32.61]
["DARDO6","Lan","Camp Nacionais de Lançamentos Sub-18 e Sub-20","2022-04-09","Vagos","FPA","F",2,74,"Carolina Caseiro","JV","JUN",38.18,33.39,38.18,37.700000000000003,34.39,36.380000000000003,"X"]
["DISCO15","Lan","Camp Nacionais de Lançamentos Sub-18 e Sub-20","2022-04-09","Vagos","FPA","M",2,76,"Francisco Calhau","JV","JUV",42.51,41.11,40.520000000000003,42.51,"X",39.43,"X"]
["DISCO15","Lan","Camp Nacionais de Lançamentos Sub-18 e Sub-20","2022-04-09","Vagos","FPA","M",7,79,"Rúben Santos","JV","JUV",37.090000000000003,35.090000000000003,36.369999999999997,35.08,37.090000000000003,"X",36.520000000000003]
["DISCO15","Lan","Camp Nacionais de Lançamentos Sub-18 e Sub-20","2022-04-09","Vagos","FPA","M",12,42,"Rodrigo Silva","CDBBR","JUV",27.04,"X",27.04,"X"]
["DARDO5","Lan","Camp Nacionais de Lançamentos Sub-18 e Sub-20","2022-04-09","Vagos","FPA","F",3,29,"Eva Varela","CANAZ","JUV",36.08,31.7,32.71,34.32,32.54,34.24,36.08]
["DARDO5","Lan","Camp Nacionais de Lançamentos Sub-18 e Sub-20","2022-04-09","Vagos","FPA","F",6,73,"Beatriz Cordeiro","JV","JUV",27.38,"X",27.38,26.56,"X","X","X"]
["DISCO10","Lan","Camp Nacionais de Lançamentos Sub-18 e Sub-20","2022-04-09","Vagos","FPA","F",1,77,"Márcia Maketa","JV","JUV",40.85,38.840000000000003,"X",37.89,38.549999999999997,38.25,40.85]
["DISCO10","Lan","Camp Nacionais de Lançamentos Sub-18 e Sub-20","2022-04-09","Vagos","FPA","F",4,31,"Rita Oliveira","CANAZ","JUV",31.01,30.45,29.93,30.82,31.01,"X","X"]
["DISCO10","Lan","Camp Nacionais de Lançamentos Sub-18 e Sub-20","2022-04-09","Vagos","FPA","F",7,29,"Eva Varela","CANAZ","JUV",27.47,25.29,27.47,26.39,"X","X",25.89]
["DISCO10","Lan","Camp Nacionais de Lançamentos Sub-18 e Sub-20","2022-04-09","Vagos","FPA","F",8,27,"Carolina D Santos","CAMG","INI",26.5,23.93,"X",26.46,"X",26.42,26.5]
["DEC-Jun","Comb","Campeonato Distrital de Provas Combinadas","2022-04-08","Pombal","ADAL","M",1,null,"André Petriv","JV","JUN",4334]
["DEC-JUV","Comb","Campeonato Distrital de Provas Combinadas","2022-04-08","Pombal","ADAL","M",1,null,"Bernardo Cunha","GDP-L",null,5917]
["DEC-JUV","Comb","Campeonato Distrital de Provas Combinadas","2022-04-08","Pombal","ADAL","M",2,null,"Denis Hrabar","JV",null,5459]
["DEC-JUV","Comb","Campeonato Distrital de Provas Combinadas","2022-04-08","Pombal","ADAL","M",3,null,"Gabriel Cunha","GDP-L",null,5245]
["DEC-JUV","Comb","Campeonato Distrital de Provas Combinadas","2022-04-08","Pombal","ADAL","M",4,null,"João Martins","JV",null,4575]
["DEC-JUV","Comb","Campeonato Distrital de Provas Combinadas","2022-04-08","Pombal","ADAL","M",5,null,"Rafael Morgado","JV",null,3807]
["DEC-JUV","Comb","Campeonato Distrital de Provas Combinadas","2022-04-08","Pombal","ADAL","M",6,null,"Edson Dias","ACB-L",null,3563]
["DEC-JUV","Comb","Campeonato Distrital de Provas Combinadas","2022-04-08","Pombal","ADAL","M",7,null,"Rafael Dias","JV",null,2659]
["DEC-JUV","Comb","Campeonato Distrital de Provas Combinadas","2022-04-08","Pombal","ADAL","M",8,null,"Ivo Gomes","ACB-L",null,1572]
["HEP-Jun","Comb","Campeonato Distrital de Provas Combinadas","2022-04-08","Pombal","ADAL","F",1,null,"Lara Duarte","JV",null,3673]
["HEP-Jun","Comb","Campeonato Distrital de Provas Combinadas","2022-04-08","Pombal","ADAL","F",2,817,"Ana Reis","JV","JUN",2539]
["HEP-Jun","Comb","Campeonato Distrital de Provas Combinadas","2022-04-08","Pombal","ADAL","F",3,null,"Vera Duque","ACB-L",null,1705]
["Hep-Juv","Comb","Campeonato Distrital de Provas Combinadas","2022-04-08","Pombal","ADAL","F",1,null,"Vera Goucha","JV",null,4646]
["Hep-Juv","Comb","Campeonato Distrital de Provas Combinadas","2022-04-08","Pombal","ADAL","F",2,null,"Catarina Silva","JV",null,3345]
["Hep-Juv","Comb","Campeonato Distrital de Provas Combinadas","2022-04-08","Pombal","ADAL","F",3,null,"Sara Brites","JV",null,3309]
["Hep-Juv","Comb","Campeonato Distrital de Provas Combinadas","2022-04-08","Pombal","ADAL","F",4,null,"Rafaela Pires","GDP-L",null,3160]
["Hep-Juv","Comb","Campeonato Distrital de Provas Combinadas","2022-04-08","Pombal","ADAL","F",5,null,"Katerina Quinn","JV",null,2968]
["Hep-Juv","Comb","Campeonato Distrital de Provas Combinadas","2022-04-08","Pombal","ADAL","F",6,null,"Margarida Santos","JV",null,2861]
["Hep-Juv","Comb","Campeonato Distrital de Provas Combinadas","2022-04-08","Pombal","ADAL","F",7,null,"Marta Feliciano","JV",null,2658]
["Hep-Juv","Comb","Campeonato Distrital de Provas Combinadas","2022-04-08","Pombal","ADAL","F",8,null,"Laura Baltazar","JV",null,2481]
["Hep-Juv","Comb","Campeonato Distrital de Provas Combinadas","2022-04-08","Pombal","ADAL","F",9,null,"Inês Figueiredo","JV",null,2066]
["Hep-Juv","Comb","Campeonato Distrital de Provas Combinadas","2022-04-08","Pombal","ADAL","F",10,null,"Luana Figueira","JV",null,1324]
["100","Vel","Campeonato Distrital de Provas Combinadas","2022-04-08","Pombal","ADAL","M",1,74,"Denis Hrabar","JV","INI",12.15]
["100","Vel","Campeonato Distrital de Provas Combinadas","2022-04-08","Pombal","ADAL","M",2,4,"Gabriel Cunha","GDP-L","INI",12.28]
["100","Vel","Campeonato Distrital de Provas Combinadas","2022-04-08","Pombal","ADAL","M",3,160,"Rafael Dias","JV","INI",12.89]
["100","Vel","Campeonato Distrital de Provas Combinadas","2022-04-08","Pombal","ADAL","M",4,140,"Rafael Morgado","JV","INI",13.09]
["100","Vel","Campeonato Distrital de Provas Combinadas","2022-04-08","Pombal","ADAL","M",1,690,"João Martins","JV","JUV",11.72]
["100","Vel","Campeonato Distrital de Provas Combinadas","2022-04-08","Pombal","ADAL","M",2,317,"Bernardo Cunha","GDP-L","JUV",12.09]
["100","Vel","Campeonato Distrital de Provas Combinadas","2022-04-08","Pombal","ADAL","M",3,519,"Edson Dias","ACB-L","JUV",12.39]
["100","Vel","Campeonato Distrital de Provas Combinadas","2022-04-08","Pombal","ADAL","M",4,178,"Ivo Gomes","ACB-L","JUV",12.92]
["100","Vel","Campeonato Distrital de Provas Combinadas","2022-04-08","Pombal","ADAL","M",1,871,"André Petriv","JV","JUN",12.09]
["100B084","Vel","Campeonato Distrital de Provas Combinadas","2022-04-08","Pombal","ADAL","F",1,106,"Lara Duarte","JV","JUN",16.829999999999998]
["100B084","Vel","Campeonato Distrital de Provas Combinadas","2022-04-08","Pombal","ADAL","F",2,211,"Vera Duque","ACB-L","JUN",21.42]
["100B084","Vel","Campeonato Distrital de Provas Combinadas","2022-04-08","Pombal","ADAL","F",3,817,"Ana Reis","JV","JUN",25.33]
["100B076","Vel","Campeonato Distrital de Provas Combinadas","2022-04-08","Pombal","ADAL","F",1,2,"Sara Brites","JV","JUV",17.03]
["100B076","Vel","Campeonato Distrital de Provas Combinadas","2022-04-08","Pombal","ADAL","F",2,105,"Katerina Quinn","JV","INI",18.28]
["100B076","Vel","Campeonato Distrital de Provas Combinadas","2022-04-08","Pombal","ADAL","F",3,693,"Laura Baltazar","JV","JUV",18.96]
["100B076","Vel","Campeonato Distrital de Provas Combinadas","2022-04-08","Pombal","ADAL","F",4,123,"Marta Feliciano","JV","INI",19.21]
["100B076","Vel","Campeonato Distrital de Provas Combinadas","2022-04-08","Pombal","ADAL","F",5,95,"Inês Figueiredo","JV","INI",20.329999999999998]
["100B076","Vel","Campeonato Distrital de Provas Combinadas","2022-04-08","Pombal","ADAL","F",1,705,"Vera Goucha","JV","JUV",16.09]
["100B076","Vel","Campeonato Distrital de Provas Combinadas","2022-04-08","Pombal","ADAL","F",2,821,"Margarida Santos","JV","JUV",17.829999999999998]
["100B076","Vel","Campeonato Distrital de Provas Combinadas","2022-04-08","Pombal","ADAL","F",3,336,"Rafaela Pires","GDP-L","JUV",17.940000000000001]
["100B076","Vel","Campeonato Distrital de Provas Combinadas","2022-04-08","Pombal","ADAL","F",4,684,"Catarina Silva","JV","JUV",18.22]
["100B076","Vel","Campeonato Distrital de Provas Combinadas","2022-04-08","Pombal","ADAL","F",5,697,"Luana Figueira","JV","JUV",19.77]
["COMPRIM","Sal","Campeonato Distrital de Provas Combinadas","2022-04-08","Pombal","ADAL","M",1,690,"João Martins","JV","JUV",6.15,6.08,6.15,5.76]
["COMPRIM","Sal","Campeonato Distrital de Provas Combinadas","2022-04-08","Pombal","ADAL","M",2,317,"Bernardo Cunha","GDP-L","JUV",6.01,"X",6.01,5.94]
["COMPRIM","Sal","Campeonato Distrital de Provas Combinadas","2022-04-08","Pombal","ADAL","M",3,74,"Denis Hrabar","JV","INI",6,5.93,5.95,6]
["COMPRIM","Sal","Campeonato Distrital de Provas Combinadas","2022-04-08","Pombal","ADAL","M",4,4,"Gabriel Cunha","GDP-L","INI",5.58,"X","X",5.58]
["COMPRIM","Sal","Campeonato Distrital de Provas Combinadas","2022-04-08","Pombal","ADAL","M",5,519,"Edson Dias","ACB-L","JUV",5.44,5.44,5.22,5.28]
["COMPRIM","Sal","Campeonato Distrital de Provas Combinadas","2022-04-08","Pombal","ADAL","M",6,140,"Rafael Morgado","JV","INI",5.19,5.19,5.04,"X"]
["COMPRIM","Sal","Campeonato Distrital de Provas Combinadas","2022-04-08","Pombal","ADAL","M",7,178,"Ivo Gomes","ACB-L","JUV",4.78,"X",4.78,4.71]
["COMPRIM","Sal","Campeonato Distrital de Provas Combinadas","2022-04-08","Pombal","ADAL","M",8,160,"Rafael Dias","JV","INI",4.58,4.2699999999999996,4.58,4.51]
["COMPRIM","Sal","Campeonato Distrital de Provas Combinadas","2022-04-08","Pombal","ADAL","M",1,871,"André Petriv","JV","JUN",5.88,5.84,5.87,5.88]
["ALTURA","Sal","Campeonato Distrital de Provas Combinadas","2022-04-08","Pombal","ADAL","F",1,705,"Vera Goucha","JV","JUV",1.52]
["ALTURA","Sal","Campeonato Distrital de Provas Combinadas","2022-04-08","Pombal","ADAL","F",2,697,"Luana Figueira","JV","JUV",1.4]
["ALTURA","Sal","Campeonato Distrital de Provas Combinadas","2022-04-08","Pombal","ADAL","F",3,105,"Katerina Quinn","JV","INI",1.37]
["ALTURA","Sal","Campeonato Distrital de Provas Combinadas","2022-04-08","Pombal","ADAL","F",4,684,"Catarina Silva","JV","JUV",1.37]
["ALTURA","Sal","Campeonato Distrital de Provas Combinadas","2022-04-08","Pombal","ADAL","F",4,821,"Margarida Santos","JV","JUV",1.37]
["ALTURA","Sal","Campeonato Distrital de Provas Combinadas","2022-04-08","Pombal","ADAL","F",6,2,"Sara Brites","JV","JUV",1.34]
["ALTURA","Sal","Campeonato Distrital de Provas Combinadas","2022-04-08","Pombal","ADAL","F",7,123,"Marta Feliciano","JV","INI",1.31]
["ALTURA","Sal","Campeonato Distrital de Provas Combinadas","2022-04-08","Pombal","ADAL","F",8,336,"Rafaela Pires","GDP-L","JUV",1.31]
["ALTURA","Sal","Campeonato Distrital de Provas Combinadas","2022-04-08","Pombal","ADAL","F",9,95,"Inês Figueiredo","JV","INI",1.25]
["ALTURA","Sal","Campeonato Distrital de Provas Combinadas","2022-04-08","Pombal","ADAL","F",10,693,"Laura Baltazar","JV","JUV",1.25]
["ALTURA","Sal","Campeonato Distrital de Provas Combinadas","2022-04-08","Pombal","ADAL","F",1,106,"Lara Duarte","JV","JUN",1.49]
["ALTURA","Sal","Campeonato Distrital de Provas Combinadas","2022-04-08","Pombal","ADAL","F",2,817,"Ana Reis","JV","JUN",1.43]
["ALTURA","Sal","Campeonato Distrital de Provas Combinadas","2022-04-08","Pombal","ADAL","F",3,211,"Vera Duque","ACB-L","JUN",1.1299999999999999]
["PESO5","Lan","Campeonato Distrital de Provas Combinadas","2022-04-08","Pombal","ADAL","M",1,317,"Bernardo Cunha","GDP-L","JUV",12.14,11.52,11.91,12.14]
["PESO5","Lan","Campeonato Distrital de Provas Combinadas","2022-04-08","Pombal","ADAL","M",2,74,"Denis Hrabar","JV","INI",12.05,12.05,11.85,11.75]
["PESO5","Lan","Campeonato Distrital de Provas Combinadas","2022-04-08","Pombal","ADAL","M",3,4,"Gabriel Cunha","GDP-L","INI",11.88,"X",11.88,11.88]
["PESO5","Lan","Campeonato Distrital de Provas Combinadas","2022-04-08","Pombal","ADAL","M",4,690,"João Martins","JV","JUV",9.74,8.8699999999999992,9.36,9.74]
["PESO5","Lan","Campeonato Distrital de Provas Combinadas","2022-04-08","Pombal","ADAL","M",5,178,"Ivo Gomes","ACB-L","JUV",8.2799999999999994,8.0299999999999994,7.81,8.2799999999999994]
["PESO5","Lan","Campeonato Distrital de Provas Combinadas","2022-04-08","Pombal","ADAL","M",6,160,"Rafael Dias","JV","INI",7.83,7.83,6.92,7.44]
["PESO5","Lan","Campeonato Distrital de Provas Combinadas","2022-04-08","Pombal","ADAL","M",7,140,"Rafael Morgado","JV","INI",7.33,7.14,7.33,"X"]
["PESO5","Lan","Campeonato Distrital de Provas Combinadas","2022-04-08","Pombal","ADAL","M",8,519,"Edson Dias","ACB-L","JUV",7.19,7.19,6.72,6.49]
["PESO6","Lan","Campeonato Distrital de Provas Combinadas","2022-04-08","Pombal","ADAL","M",1,871,"André Petriv","JV","JUN",10.58,10.34,10.33,10.58]
["PESO3","Lan","Campeonato Distrital de Provas Combinadas","2022-04-08","Pombal","ADAL","F",1,705,"Vera Goucha","JV","JUV",13.15,13.15,"X",12.44]
["PESO3","Lan","Campeonato Distrital de Provas Combinadas","2022-04-08","Pombal","ADAL","F",2,693,"Laura Baltazar","JV","JUV",9.43,9.43,"X","X"]
["PESO3","Lan","Campeonato Distrital de Provas Combinadas","2022-04-08","Pombal","ADAL","F",3,697,"Luana Figueira","JV","JUV",9.4,9.18,9.4,8.73]
["PESO3","Lan","Campeonato Distrital de Provas Combinadas","2022-04-08","Pombal","ADAL","F",4,684,"Catarina Silva","JV","JUV",8.9499999999999993,8.9499999999999993,8.52,8.75]
["PESO3","Lan","Campeonato Distrital de Provas Combinadas","2022-04-08","Pombal","ADAL","F",5,2,"Sara Brites","JV","JUV",8.15,7.9,8.07,8.15]
["PESO3","Lan","Campeonato Distrital de Provas Combinadas","2022-04-08","Pombal","ADAL","F",6,821,"Margarida Santos","JV","JUV",7.72,7.35,7.72,7.21]
["PESO3","Lan","Campeonato Distrital de Provas Combinadas","2022-04-08","Pombal","ADAL","F",7,336,"Rafaela Pires","GDP-L","JUV",6.97,6.6,6.85,6.97]
["PESO3","Lan","Campeonato Distrital de Provas Combinadas","2022-04-08","Pombal","ADAL","F",8,95,"Inês Figueiredo","JV","INI",6.97,6.4,6.97,"X"]
["PESO3","Lan","Campeonato Distrital de Provas Combinadas","2022-04-08","Pombal","ADAL","F",9,123,"Marta Feliciano","JV","INI",6.72,6.42,6.19,6.72]
["PESO3","Lan","Campeonato Distrital de Provas Combinadas","2022-04-08","Pombal","ADAL","F",10,105,"Katerina Quinn","JV","INI",5.74,4.5199999999999996,5.55,5.74]
["PESO4","Lan","Campeonato Distrital de Provas Combinadas","2022-04-08","Pombal","ADAL","F",1,106,"Lara Duarte","JV","JUN",6.76,6.66,6.76,6.25]
["PESO4","Lan","Campeonato Distrital de Provas Combinadas","2022-04-08","Pombal","ADAL","F",2,817,"Ana Reis","JV","JUN",6.2,6.08,6.09,6.2]
["PESO4","Lan","Campeonato Distrital de Provas Combinadas","2022-04-08","Pombal","ADAL","F",3,211,"Vera Duque","ACB-L","JUN",5.13,4.8,4.9800000000000004,5.13]
["ALTURA","Sal","Campeonato Distrital de Provas Combinadas","2022-04-08","Pombal","ADAL","M",1,4,"Gabriel Cunha","GDP-L","INI",1.66]
["ALTURA","Sal","Campeonato Distrital de Provas Combinadas","2022-04-08","Pombal","ADAL","M",2,74,"Denis Hrabar","JV","INI",1.66]
["ALTURA","Sal","Campeonato Distrital de Provas Combinadas","2022-04-08","Pombal","ADAL","M",3,690,"João Martins","JV","JUV",1.66]
["ALTURA","Sal","Campeonato Distrital de Provas Combinadas","2022-04-08","Pombal","ADAL","M",4,317,"Bernardo Cunha","GDP-L","JUV",1.63]
["ALTURA","Sal","Campeonato Distrital de Provas Combinadas","2022-04-08","Pombal","ADAL","M",5,519,"Edson Dias","ACB-L","JUV",1.51]
["ALTURA","Sal","Campeonato Distrital de Provas Combinadas","2022-04-08","Pombal","ADAL","M",6,140,"Rafael Morgado","JV","INI",1.42]
["ALTURA","Sal","Campeonato Distrital de Provas Combinadas","2022-04-08","Pombal","ADAL","M",7,160,"Rafael Dias","JV","INI",1.36]
["ALTURA","Sal","Campeonato Distrital de Provas Combinadas","2022-04-08","Pombal","ADAL","M","NM",178,"Ivo Gomes","ACB-L","JUV","SM"]
["ALTURA","Sal","Campeonato Distrital de Provas Combinadas","2022-04-08","Pombal","ADAL","M",1,871,"André Petriv","JV","JUN",1.66]
["200","Vel","Campeonato Distrital de Provas Combinadas","2022-04-08","Pombal","ADAL","F",1,336,"Rafaela Pires","GDP-L","JUV",27.89]
["200","Vel","Campeonato Distrital de Provas Combinadas","2022-04-08","Pombal","ADAL","F",2,684,"Catarina Silva","JV","JUV",29.65]
["200","Vel","Campeonato Distrital de Provas Combinadas","2022-04-08","Pombal","ADAL","F",3,95,"Inês Figueiredo","JV","INI",30.82]
["200","Vel","Campeonato Distrital de Provas Combinadas","2022-04-08","Pombal","ADAL","F",4,693,"Laura Baltazar","JV","JUV",31.17]
["200","Vel","Campeonato Distrital de Provas Combinadas","2022-04-08","Pombal","ADAL","F",1,705,"Vera Goucha","JV","JUV",27.23]
["200","Vel","Campeonato Distrital de Provas Combinadas","2022-04-08","Pombal","ADAL","F",2,105,"Katerina Quinn","JV","INI",27.43]
["200","Vel","Campeonato Distrital de Provas Combinadas","2022-04-08","Pombal","ADAL","F",3,123,"Marta Feliciano","JV","INI",28.8]
["200","Vel","Campeonato Distrital de Provas Combinadas","2022-04-08","Pombal","ADAL","F",4,2,"Sara Brites","JV","JUV",29.12]
["200","Vel","Campeonato Distrital de Provas Combinadas","2022-04-08","Pombal","ADAL","F",5,821,"Margarida Santos","JV","JUV",29.59]
["200","Vel","Campeonato Distrital de Provas Combinadas","2022-04-08","Pombal","ADAL","F",1,106,"Lara Duarte","JV","JUN",27.9]
["200","Vel","Campeonato Distrital de Provas Combinadas","2022-04-08","Pombal","ADAL","F",2,817,"Ana Reis","JV","JUN",28.8]
["200","Vel","Campeonato Distrital de Provas Combinadas","2022-04-08","Pombal","ADAL","F",3,211,"Vera Duque","ACB-L","JUN",32.15]
["400","Vel","Campeonato Distrital de Provas Combinadas","2022-04-08","Pombal","ADAL","M",1,74,"Denis Hrabar","JV","INI",56.89]
["400","Vel","Campeonato Distrital de Provas Combinadas","2022-04-08","Pombal","ADAL","M",2,4,"Gabriel Cunha","GDP-L","INI",57.3]
["400","Vel","Campeonato Distrital de Provas Combinadas","2022-04-08","Pombal","ADAL","M",3,140,"Rafael Morgado","JV","INI",61.01]
["400","Vel","Campeonato Distrital de Provas Combinadas","2022-04-08","Pombal","ADAL","M",4,160,"Rafael Dias","JV","INI",62.59]
["400","Vel","Campeonato Distrital de Provas Combinadas","2022-04-08","Pombal","ADAL","M",1,317,"Bernardo Cunha","GDP-L","JUV",53.46]
["400","Vel","Campeonato Distrital de Provas Combinadas","2022-04-08","Pombal","ADAL","M",2,519,"Edson Dias","ACB-L","JUV",58.99]
["400","Vel","Campeonato Distrital de Provas Combinadas","2022-04-08","Pombal","ADAL","M",3,690,"João Martins","JV","JUV",59.03]
["400","Vel","Campeonato Distrital de Provas Combinadas","2022-04-08","Pombal","ADAL","M",4,178,"Ivo Gomes","ACB-L","JUV",61.4]
["400","Vel","Campeonato Distrital de Provas Combinadas","2022-04-08","Pombal","ADAL","M",1,871,"André Petriv","JV","JUN",57.74]
["110B091","Vel","Campeonato Distrital de Provas Combinadas","2022-04-09","Pombal","ADAL","M",1,4,"Gabriel Cunha","GDP-L","INI",16.809999999999999]
["110B091","Vel","Campeonato Distrital de Provas Combinadas","2022-04-09","Pombal","ADAL","M",2,74,"Denis Hrabar","JV","INI",16.850000000000001]
["110B091","Vel","Campeonato Distrital de Provas Combinadas","2022-04-09","Pombal","ADAL","M",3,140,"Rafael Morgado","JV","INI",18.62]
["110B091","Vel","Campeonato Distrital de Provas Combinadas","2022-04-09","Pombal","ADAL","M",4,160,"Rafael Dias","JV","INI",21.8]
["110B091","Vel","Campeonato Distrital de Provas Combinadas","2022-04-09","Pombal","ADAL","M",1,317,"Bernardo Cunha","GDP-L","JUV",16.190000000000001]
["110B091","Vel","Campeonato Distrital de Provas Combinadas","2022-04-09","Pombal","ADAL","M",2,519,"Edson Dias","ACB-L","JUV",17.47]
["110B091","Vel","Campeonato Distrital de Provas Combinadas","2022-04-09","Pombal","ADAL","M",3,690,"João Martins","JV","JUV",17.579999999999998]
["100B084","Vel","Campeonato Distrital de Provas Combinadas","2022-04-09","Pombal","ADAL","F",1,106,"Lara Duarte","JV","JUN",16.829999999999998]
["100B084","Vel","Campeonato Distrital de Provas Combinadas","2022-04-09","Pombal","ADAL","F",2,211,"Vera Duque","ACB-L","JUN",21.42]
["100B084","Vel","Campeonato Distrital de Provas Combinadas","2022-04-09","Pombal","ADAL","F",3,817,"Ana Reis","JV","JUN",25.33]
["COMPRIM","Sal","Campeonato Distrital de Provas Combinadas","2022-04-09","Pombal","ADAL","F",1,705,"Vera Goucha","JV","JUV",5.31,4.95,5.24,5.31]
["COMPRIM","Sal","Campeonato Distrital de Provas Combinadas","2022-04-09","Pombal","ADAL","F",2,684,"Catarina Silva","JV","JUV",4.87,4.8099999999999996,4.87,4.76]
["COMPRIM","Sal","Campeonato Distrital de Provas Combinadas","2022-04-09","Pombal","ADAL","F",3,123,"Marta Feliciano","JV","INI",4.7300000000000004,"X",4.7300000000000004,4.59]
["COMPRIM","Sal","Campeonato Distrital de Provas Combinadas","2022-04-09","Pombal","ADAL","F",4,2,"Sara Brites","JV","JUV",4.7,4.63,4.7,4.63]
["COMPRIM","Sal","Campeonato Distrital de Provas Combinadas","2022-04-09","Pombal","ADAL","F",5,336,"Rafaela Pires","GDP-L","JUV",4.74,4.5,4.7,4.74]
["COMPRIM","Sal","Campeonato Distrital de Provas Combinadas","2022-04-09","Pombal","ADAL","F",6,95,"Inês Figueiredo","JV","INI",4.49,4.3899999999999997,4.49,"x"]
["COMPRIM","Sal","Campeonato Distrital de Provas Combinadas","2022-04-09","Pombal","ADAL","F",7,693,"Laura Baltazar","JV","JUV",4.38,4.38,4.34,4.37]
["COMPRIM","Sal","Campeonato Distrital de Provas Combinadas","2022-04-09","Pombal","ADAL","F",8,821,"Margarida Santos","JV","JUV",4.51,4.3600000000000003,4.18,4.51]
["COMPRIM","Sal","Campeonato Distrital de Provas Combinadas","2022-04-09","Pombal","ADAL","F",9,105,"Katerina Quinn","JV","INI",4.75,"X","X",4.75]
["COMPRIM","Sal","Campeonato Distrital de Provas Combinadas","2022-04-09","Pombal","ADAL","F",1,106,"Lara Duarte","JV","JUN",4.8499999999999996,"X",4.8499999999999996,4.6500000000000004]
["COMPRIM","Sal","Campeonato Distrital de Provas Combinadas","2022-04-09","Pombal","ADAL","F",2,817,"Ana Reis","JV","JUN",4.84,4.84,"X",4.37]
["COMPRIM","Sal","Campeonato Distrital de Provas Combinadas","2022-04-09","Pombal","ADAL","F",3,211,"Vera Duque","ACB-L","JUN",4.5,4.07,4.5,4.2300000000000004]
["DISCO15","Lan","Campeonato Distrital de Provas Combinadas","2022-04-09","Pombal","ADAL","M",1,317,"Bernardo Cunha","GDP-L","JUV",36.82,34.880000000000003,32.090000000000003,36.82]
["DISCO15","Lan","Campeonato Distrital de Provas Combinadas","2022-04-09","Pombal","ADAL","M",2,74,"Denis Hrabar","JV","INI",31.3,31.3,31.21,"X"]
["DISCO15","Lan","Campeonato Distrital de Provas Combinadas","2022-04-09","Pombal","ADAL","M",3,4,"Gabriel Cunha","GDP-L","INI",29.99,"X",20.96,29.99]
["DISCO15","Lan","Campeonato Distrital de Provas Combinadas","2022-04-09","Pombal","ADAL","M",4,690,"João Martins","JV","JUV",23.34,"X",23.34,"X"]
["DISCO15","Lan","Campeonato Distrital de Provas Combinadas","2022-04-09","Pombal","ADAL","M",5,519,"Edson Dias","ACB-L","JUV",20.98,"X","X",20.98]
["DISCO15","Lan","Campeonato Distrital de Provas Combinadas","2022-04-09","Pombal","ADAL","M",6,160,"Rafael Dias","JV","INI",17.899999999999999,"X","X",17.899999999999999]
["DISCO15","Lan","Campeonato Distrital de Provas Combinadas","2022-04-09","Pombal","ADAL","M",7,140,"Rafael Morgado","JV","INI",17.41,"X","X",17.41]
["DISCO17","Lan","Campeonato Distrital de Provas Combinadas","2022-04-09","Pombal","ADAL","M",1,871,"André Petriv","JV","JUN",33.6,"X",33.6,"X"]
["DARDO5","Lan","Campeonato Distrital de Provas Combinadas","2022-04-09","Pombal","ADAL","F",1,705,"Vera Goucha","JV","JUV",34.450000000000003,30.72,34.450000000000003,30.63]
["DARDO5","Lan","Campeonato Distrital de Provas Combinadas","2022-04-09","Pombal","ADAL","F",2,684,"Catarina Silva","JV","JUV",30.59,29.36,30.59,30.51]
["DARDO5","Lan","Campeonato Distrital de Provas Combinadas","2022-04-09","Pombal","ADAL","F",3,2,"Sara Brites","JV","JUV",21.28,21.28,17.78,20.85]
["DARDO5","Lan","Campeonato Distrital de Provas Combinadas","2022-04-09","Pombal","ADAL","F",4,95,"Inês Figueiredo","JV","INI",17.73,"X",14.91,17.73]
["DARDO5","Lan","Campeonato Distrital de Provas Combinadas","2022-04-09","Pombal","ADAL","F",5,336,"Rafaela Pires","GDP-L","JUV",14.63,14.63,"X","X"]
["DARDO5","Lan","Campeonato Distrital de Provas Combinadas","2022-04-09","Pombal","ADAL","F",6,693,"Laura Baltazar","JV","JUV",13.88,13.23,13.88,12.41]
["DARDO5","Lan","Campeonato Distrital de Provas Combinadas","2022-04-09","Pombal","ADAL","F",7,105,"Katerina Quinn","JV","INI",13,12.39,12.5,13]
["DARDO5","Lan","Campeonato Distrital de Provas Combinadas","2022-04-09","Pombal","ADAL","F",8,123,"Marta Feliciano","JV","INI",10.5,9.2799999999999994,10.5,9.84]
["DARDO6","Lan","Campeonato Distrital de Provas Combinadas","2022-04-09","Pombal","ADAL","F",1,106,"Lara Duarte","JV","JUN",19.100000000000001,19.100000000000001,"X","X"]
["DARDO6","Lan","Campeonato Distrital de Provas Combinadas","2022-04-09","Pombal","ADAL","F",2,817,"Ana Reis","JV","JUN",11.88,11.88,"X","X"]
["DARDO6","Lan","Campeonato Distrital de Provas Combinadas","2022-04-09","Pombal","ADAL","F",3,211,"Vera Duque","ACB-L","JUN",10.07,9.9499999999999993,10.07,9.44]
["VARA","Sal","Campeonato Distrital de Provas Combinadas","2022-04-09","Pombal","ADAL","M",1,317,"Bernardo Cunha","GDP-L","JUV",3.5]
["VARA","Sal","Campeonato Distrital de Provas Combinadas","2022-04-09","Pombal","ADAL","M",2,74,"Denis Hrabar","JV","INI",3.5]
["VARA","Sal","Campeonato Distrital de Provas Combinadas","2022-04-09","Pombal","ADAL","M",3,140,"Rafael Morgado","JV","INI",3.1]
["VARA","Sal","Campeonato Distrital de Provas Combinadas","2022-04-09","Pombal","ADAL","M",4,4,"Gabriel Cunha","GDP-L","INI",2.8]
["VARA","Sal","Campeonato Distrital de Provas Combinadas","2022-04-09","Pombal","ADAL","M",5,690,"João Martins","JV","JUV",2.7]
["VARA","Sal","Campeonato Distrital de Provas Combinadas","2022-04-09","Pombal","ADAL","M",6,160,"Rafael Dias","JV","INI",2]
["VARA","Sal","Campeonato Distrital de Provas Combinadas","2022-04-09","Pombal","ADAL","M",1,871,"André Petriv","JV","JUN",2.2000000000000002]
["DARDO7","Lan","Campeonato Distrital de Provas Combinadas","2022-04-09","Pombal","ADAL","M",1,317,"Bernardo Cunha","GDP-L","JUV",46.4,46.4,42.06,40.659999999999997]
["DARDO7","Lan","Campeonato Distrital de Provas Combinadas","2022-04-09","Pombal","ADAL","M",2,4,"Gabriel Cunha","GDP-L","INI",46.05,46.05,44.9,45.1]
["DARDO7","Lan","Campeonato Distrital de Provas Combinadas","2022-04-09","Pombal","ADAL","M",3,74,"Denis Hrabar","JV","INI",38.729999999999997,33.96,38.729999999999997,35.270000000000003]
["DARDO7","Lan","Campeonato Distrital de Provas Combinadas","2022-04-09","Pombal","ADAL","M",4,690,"João Martins","JV","JUV",29.91,29.91,27.76,25.27]
["DARDO7","Lan","Campeonato Distrital de Provas Combinadas","2022-04-09","Pombal","ADAL","M",5,140,"Rafael Morgado","JV","INI",24.97,"X","X",24.97]
["DARDO8","Lan","Campeonato Distrital de Provas Combinadas","2022-04-09","Pombal","ADAL","M",1,871,"André Petriv","JV","JUN",35.270000000000003,34.14,32.659999999999997,35.270000000000003]
["800","MF","Campeonato Distrital de Provas Combinadas","2022-04-09","Pombal","ADAL","F",1,705,"Vera Goucha","JV","JUV","00:02:32.440"]
["800","MF","Campeonato Distrital de Provas Combinadas","2022-04-09","Pombal","ADAL","F",2,336,"Rafaela Pires","GDP-L","JUV","00:02:38.230"]
["800","MF","Campeonato Distrital de Provas Combinadas","2022-04-09","Pombal","ADAL","F",3,821,"Margarida Santos","JV","JUV","00:02:41.900"]
["800","MF","Campeonato Distrital de Provas Combinadas","2022-04-09","Pombal","ADAL","F",4,2,"Sara Brites","JV","JUV","00:02:44.610"]
["800","MF","Campeonato Distrital de Provas Combinadas","2022-04-09","Pombal","ADAL","F",5,105,"Katerina Quinn","JV","INI","00:02:51.920"]
["800","MF","Campeonato Distrital de Provas Combinadas","2022-04-09","Pombal","ADAL","F",6,684,"Catarina Silva","JV","JUV","00:02:54.480"]
["800","MF","Campeonato Distrital de Provas Combinadas","2022-04-09","Pombal","ADAL","F",7,123,"Marta Feliciano","JV","INI","00:02:58.430"]
["800","MF","Campeonato Distrital de Provas Combinadas","2022-04-09","Pombal","ADAL","F",8,693,"Laura Baltazar","JV","JUV","00:03:12.380"]
["800","MF","Campeonato Distrital de Provas Combinadas","2022-04-09","Pombal","ADAL","F",1,106,"Lara Duarte","JV","JUN","00:02:29.690"]
["800","MF","Campeonato Distrital de Provas Combinadas","2022-04-09","Pombal","ADAL","F",2,817,"Ana Reis","JV","JUN","00:02:49.340"]
["800","MF","Campeonato Distrital de Provas Combinadas","2022-04-09","Pombal","ADAL","F",3,211,"Vera Duque","ACB-L","JUN","00:03:24.820"]
["1500","MF","Campeonato Distrital de Provas Combinadas","2022-04-09","Pombal","ADAL","M",1,317,"Bernardo Cunha","GDP-L","JUV","00:04:52.900"]
["1500","MF","Campeonato Distrital de Provas Combinadas","2022-04-09","Pombal","ADAL","M",2,140,"Rafael Morgado","JV","INI","00:04:53.480"]
["1500","MF","Campeonato Distrital de Provas Combinadas","2022-04-09","Pombal","ADAL","M",3,4,"Gabriel Cunha","GDP-L","INI","00:04:56.100"]
["1500","MF","Campeonato Distrital de Provas Combinadas","2022-04-09","Pombal","ADAL","M",4,74,"Denis Hrabar","JV","INI","00:04:58.520"]
["1500","MF","Campeonato Distrital de Provas Combinadas","2022-04-09","Pombal","ADAL","M",5,519,"Edson Dias","ACB-L","JUV","00:05:12.560"]
["1500","MF","Campeonato Distrital de Provas Combinadas","2022-04-09","Pombal","ADAL","M",6,690,"João Martins","JV","JUV","00:05:43.430"]
["1500","MF","Campeonato Distrital de Provas Combinadas","2022-04-09","Pombal","ADAL","M",7,160,"Rafael Dias","JV","INI","00:05:51.580"]
["1500","MF","Campeonato Distrital de Provas Combinadas","2022-04-09","Pombal","ADAL","M",1,871,"André Petriv","JV","JUN","00:05:06.170"]
["1000","MF","Quilómetro Nacional Jovem","2022-04-09","Beja","FPA","F",5,65,"Maria Jesus","ADAL","INI","00:03:09.490"]
["1000","MF","Quilómetro Nacional Jovem","2022-04-09","Beja","FPA","M",7,66,"Cristovão Monteiro","ADAL","INI","00:02:52.670"]
["1000","MF","Quilómetro Nacional Jovem","2022-04-09","Beja","FPA","F",4,70,"Carlota Ferreira","ADAL","JUV","00:03:07.320"]
["1000","MF","Quilómetro Nacional Jovem","2022-04-09","Beja","FPA","M",1,68,"Nuno Cordeiro","ADAL","JUV","00:02:36.070"]
["1000","MF","Quilómetro Nacional Jovem","2022-04-09","Beja","FPA","F",6,67,"Eduarda Silva","ADAL","JUV","00:03:08.190"]
["1000","MF","Quilómetro Nacional Jovem","2022-04-09","Beja","FPA","M",15,69,"Rafael Vieira","ADAL","JUV","00:02:51.460"]
["10000MX","MX","Taça de Portugal de Marcha","2022-04-09","Faro","FPA","M",1,40,"Joan Sanchez","LMA-L","SUB-23",3.3207407407407408E-2]
["10000MX","MX","Taça de Portugal de Marcha","2022-04-09","Faro","FPA","M",2,41,"Luís Silva","LMA-L","VET 50",3.4424074074074072E-2]
["5000MX","MX","Taça de Portugal de Marcha","2022-04-09","Faro","FPA","F",1,12,"Matilde Angélico","CAMG","INI",1.9843055555555555E-2]
["COMPRIM","Sal","7º Torneio Jovem Clube de Atletismo da Nazaré","2022-04-23","Nazaré","CANAZ","M",1,127,"Matias Góis","JV","INF",5.01,4.83,4.6900000000000004,5.01]
["COMPRIM","Sal","7º Torneio Jovem Clube de Atletismo da Nazaré","2022-04-23","Nazaré","CANAZ","M",2,203,"Rafael Alves","ACB-L","INF",4.96,"X",4.96,"X"]
["COMPRIM","Sal","7º Torneio Jovem Clube de Atletismo da Nazaré","2022-04-23","Nazaré","CANAZ","M",3,55,"André Ribeiro","JV","INF",4.3499999999999996,4.3,4.03,4.3499999999999996]
["COMPRIM","Sal","7º Torneio Jovem Clube de Atletismo da Nazaré","2022-04-23","Nazaré","CANAZ","M",4,558,"António Constâncio","CAMG","INF",4.32,4.32,"X",4.25]
["COMPRIM","Sal","7º Torneio Jovem Clube de Atletismo da Nazaré","2022-04-23","Nazaré","CANAZ","M",5,138,"Pedro Marcelino","JV","INF",4.3,4.26,4.1900000000000004,4.3]
["COMPRIM","Sal","7º Torneio Jovem Clube de Atletismo da Nazaré","2022-04-23","Nazaré","CANAZ","M",6,104,"José Martins","JV","INF",4.05,1.75,3.91,4.05]
["COMPRIM","Sal","7º Torneio Jovem Clube de Atletismo da Nazaré","2022-04-23","Nazaré","CANAZ","M",7,144,"Salvador Meneses","JV","INF",3.96,3.96,"X",3.8]
["COMPRIM","Sal","7º Torneio Jovem Clube de Atletismo da Nazaré","2022-04-23","Nazaré","CANAZ","M",8,155,"Tomás Lopes","JV","INF",3.71,3.71,3.46,3.58]
["COMPRIM","Sal","7º Torneio Jovem Clube de Atletismo da Nazaré","2022-04-23","Nazaré","CANAZ","M",9,735,"Dilan Simão","CAMG","INF",3.71,3.24,"X",3.71]
["COMPRIM","Sal","7º Torneio Jovem Clube de Atletismo da Nazaré","2022-04-23","Nazaré","CANAZ","M",10,175,"Francisco Pereira","ACB-L","INF",3.69,3.65,3.53,3.69]
["COMPRIM","Sal","7º Torneio Jovem Clube de Atletismo da Nazaré","2022-04-23","Nazaré","CANAZ","M",11,1238,"Rafael Escolástico","CANAZ","INF",3.68,3.68,3.44,3.68]
["COMPRIM","Sal","7º Torneio Jovem Clube de Atletismo da Nazaré","2022-04-23","Nazaré","CANAZ","M",12,186,"Lucas Mendes","ACB-L","INF",3.55,3.47,3.55,3.52]
["COMPRIM","Sal","7º Torneio Jovem Clube de Atletismo da Nazaré","2022-04-23","Nazaré","CANAZ","M",13,357,"Lourenço Nunes","CDBBR","INF",3.47,3.47,"X",3.45]
["COMPRIM","Sal","7º Torneio Jovem Clube de Atletismo da Nazaré","2022-04-23","Nazaré","CANAZ","M",14,561,"Edson Mendes","CAMG","INF",3.46,3.45,3.46,3.36]
["COMPRIM","Sal","7º Torneio Jovem Clube de Atletismo da Nazaré","2022-04-23","Nazaré","CANAZ","M",15,154,"Tiago Reis Domingues","JV","INF",3.46,3.42,"X",3.46]
["COMPRIM","Sal","7º Torneio Jovem Clube de Atletismo da Nazaré","2022-04-23","Nazaré","CANAZ","M",16,91,"Francisco Gregório","JV","INF",3.11,3.11,2.96,2.92]
["COMPRIM","Sal","7º Torneio Jovem Clube de Atletismo da Nazaré","2022-04-23","Nazaré","CANAZ","M",17,348,"Dinis Vitorino","CDBBR","INF",2.86,2.86,2.5299999999999998,2.61]
["COMPRIM","Sal","7º Torneio Jovem Clube de Atletismo da Nazaré","2022-04-23","Nazaré","CANAZ","M",18,342,"Afonso Gomes","CDBBR","INF",2.48,"X",2.2999999999999998,2.48]
["DARDO5","Lan","7º Torneio Jovem Clube de Atletismo da Nazaré","2022-04-23","Nazaré","CANAZ","F",1,150,"Sofiia Chemyrys","JV","INI",23.14,12.92,22.25,23.14]
["DARDO5","Lan","7º Torneio Jovem Clube de Atletismo da Nazaré","2022-04-23","Nazaré","CANAZ","F",2,763,"Vanessa Castravet","CANAZ","INI",22.76,21.91,22.35,22.76]
["DARDO5","Lan","7º Torneio Jovem Clube de Atletismo da Nazaré","2022-04-23","Nazaré","CANAZ","F",3,219,"Carolina D Santos","CAMG","INI",19.04,18.59,19.04,"X"]
["DARDO5","Lan","7º Torneio Jovem Clube de Atletismo da Nazaré","2022-04-23","Nazaré","CANAZ","F",4,59,"Bruna Amaral","JV","INI",17.38,17.38,"X",15.92]
["DARDO5","Lan","7º Torneio Jovem Clube de Atletismo da Nazaré","2022-04-23","Nazaré","CANAZ","F",5,199,"Neidiceila Tavares","ACB-L","INI",15.87,11.95,15.87,"X"]
["DARDO5","Lan","7º Torneio Jovem Clube de Atletismo da Nazaré","2022-04-23","Nazaré","CANAZ","F",6,297,"Lara Pereira","GAC-L","INI",15.49,"X",15.49,14.84]
["DARDO5","Lan","7º Torneio Jovem Clube de Atletismo da Nazaré","2022-04-23","Nazaré","CANAZ","F",7,769,"Diana Vatula","CAMG","INI",15.43,14.84,14.96,15.43]
["DARDO5","Lan","7º Torneio Jovem Clube de Atletismo da Nazaré","2022-04-23","Nazaré","CANAZ","F",8,1222,"Sara Gomes","ACB-L","INI",13.92,7.91,13.45,13.92]
["DARDO5","Lan","7º Torneio Jovem Clube de Atletismo da Nazaré","2022-04-23","Nazaré","CANAZ","F",9,164,"Beatriz Alves","ACB-L","INI",13.88,13.18,13.88,11.56]
["DARDO5","Lan","7º Torneio Jovem Clube de Atletismo da Nazaré","2022-04-23","Nazaré","CANAZ","F",10,298,"Laura Gomes","GAC-L","INI",12.68,11.97,12.68,12.4]
["DARDO5","Lan","7º Torneio Jovem Clube de Atletismo da Nazaré","2022-04-23","Nazaré","CANAZ","F",11,285,"Beatriz Gomes","GAC-L","INI",12.32,12.32,10.88,9.5299999999999994]
["DARDO5","Lan","7º Torneio Jovem Clube de Atletismo da Nazaré","2022-04-23","Nazaré","CANAZ","F",12,764,"Camila Ferreira","CANAZ","INI",12.3,"X",12.3,"X"]
["DARDO5","Lan","7º Torneio Jovem Clube de Atletismo da Nazaré","2022-04-23","Nazaré","CANAZ","F",13,180,"Joana Seixas","ACB-L","INI",11.34,"X",11.34,10.48]
["DARDO5","Lan","7º Torneio Jovem Clube de Atletismo da Nazaré","2022-04-23","Nazaré","CANAZ","F",14,241,"Matilde Soares","CAMG","INI",9.52,"X",9.52,8.5500000000000007]
["DARDO5","Lan","7º Torneio Jovem Clube de Atletismo da Nazaré","2022-04-23","Nazaré","CANAZ","F",15,190,"Mariana Carvalho","ACB-L","INI",9.48,8.4700000000000006,9.48,9.2899999999999991]
["DARDO5","Lan","7º Torneio Jovem Clube de Atletismo da Nazaré","2022-04-23","Nazaré","CANAZ","F",16,189,"Maria Jesus","ACB-L","INI",7.63,7.63,6.42,"X"]
["200","Vel","7º Torneio Jovem Clube de Atletismo da Nazaré","2022-04-23","Nazaré","CANAZ","F",1,811,"Inaya Yayo","CANAZ","JUV",30.7]
["200","Vel","7º Torneio Jovem Clube de Atletismo da Nazaré","2022-04-23","Nazaré","CANAZ","F",2,855,"Jennifer Carvalho","CANAZ","JUV",32.299999999999997]
["800","MF","7º Torneio Jovem Clube de Atletismo da Nazaré","2022-04-23","Nazaré","CANAZ","M",1,1100,"Márcio Dias","AE-CA","JUV","00:02:06.800"]
["800","MF","7º Torneio Jovem Clube de Atletismo da Nazaré","2022-04-23","Nazaré","CANAZ","M",2,1126,"Amável Esgaio","CANAZ","JUV","00:02:25"]
["800","MF","7º Torneio Jovem Clube de Atletismo da Nazaré","2022-04-23","Nazaré","CANAZ","M",3,924,"Martim Ribeiro","CANAZ","JUV","00:02:34.900"]
["800","MF","7º Torneio Jovem Clube de Atletismo da Nazaré","2022-04-23","Nazaré","CANAZ","M",4,1252,"André Martins","NDAP","JUV","00:02:45"]
["800","MF","7º Torneio Jovem Clube de Atletismo da Nazaré","2022-04-23","Nazaré","CANAZ","M",5,572,"Pedro Rocha","CANAZ","JUV","00:02:54.100"]
["800","MF","7º Torneio Jovem Clube de Atletismo da Nazaré","2022-04-23","Nazaré","CANAZ","M",1,253,"Francisco Mota","NDAP","INI","00:02:17.200"]
["800","MF","7º Torneio Jovem Clube de Atletismo da Nazaré","2022-04-23","Nazaré","CANAZ","M",2,766,"Miguel Barros","CANAZ","INI","00:02:22.500"]
["800","MF","7º Torneio Jovem Clube de Atletismo da Nazaré","2022-04-23","Nazaré","CANAZ","M",3,185,"Leonardo Mendes","ACB-L","INI","00:02:24"]
["800","MF","7º Torneio Jovem Clube de Atletismo da Nazaré","2022-04-23","Nazaré","CANAZ","M",4,806,"Leonardo Sousa","CAMG","INI","00:02:25.200"]
["800","MF","7º Torneio Jovem Clube de Atletismo da Nazaré","2022-04-23","Nazaré","CANAZ","M",5,135,"Nuno Guilherme Dias","JV","INI","00:02:29.600"]
["800","MF","7º Torneio Jovem Clube de Atletismo da Nazaré","2022-04-23","Nazaré","CANAZ","M",6,50,"Afonso Nogueira","JV","INI","00:02:47.900"]
["400","Vel","7º Torneio Jovem Clube de Atletismo da Nazaré","2022-04-23","Nazaré","CANAZ","M",1,1233,"Hélio Pedroso","CANAZ","JUN",54.1]
["400","Vel","7º Torneio Jovem Clube de Atletismo da Nazaré","2022-04-23","Nazaré","CANAZ","M",2,704,"Tiago Pereira","JV","JUN",56.500000000000007]
["400","Vel","7º Torneio Jovem Clube de Atletismo da Nazaré","2022-04-23","Nazaré","CANAZ","M",3,1129,"Gustavo Portugal","CANAZ","JUN",58.999999999999993]
["400","Vel","7º Torneio Jovem Clube de Atletismo da Nazaré","2022-04-23","Nazaré","CANAZ","M",4,1124,"Duarte Portugal","CANAZ","JUN",60.1]
["400","Vel","7º Torneio Jovem Clube de Atletismo da Nazaré","2022-04-23","Nazaré","CANAZ","M",1,853,"Eduardo Agualusa","CANAZ","JUN",57.699999999999996]
["400","Vel","7º Torneio Jovem Clube de Atletismo da Nazaré","2022-04-23","Nazaré","CANAZ","M",2,703,"Rafael Pereira","JV","JUN",58.399999999999991]
["400","Vel","7º Torneio Jovem Clube de Atletismo da Nazaré","2022-04-23","Nazaré","CANAZ","M",3,852,"Bruno Branco","CANAZ","JUN",59.899999999999991]
["400","Vel","7º Torneio Jovem Clube de Atletismo da Nazaré","2022-04-23","Nazaré","CANAZ","M",4,1087,"José Pedro Francisco","CANAZ","JUN",65.099999999999994]
["400","Vel","7º Torneio Jovem Clube de Atletismo da Nazaré","2022-04-23","Nazaré","CANAZ","M",5,893,"Bruno Júnior","CANAZ","JUN",65.900000000000006]
["DARDO4","Lan","7º Torneio Jovem Clube de Atletismo da Nazaré","2022-04-23","Nazaré","CANAZ","F",1,1018,"Beatriz Silva","CAMR","INF",28.97,"26.03","27.49","28.97"]
["DARDO4","Lan","7º Torneio Jovem Clube de Atletismo da Nazaré","2022-04-23","Nazaré","CANAZ","F",2,120,"Maria Gomes","JV","INF",23.51,"20.39","23.51","X"]
["DARDO4","Lan","7º Torneio Jovem Clube de Atletismo da Nazaré","2022-04-23","Nazaré","CANAZ","F",3,569,"Alícia Almeida","CANAZ","INF",21.31,"18.85","21.31","17.28"]
["DARDO4","Lan","7º Torneio Jovem Clube de Atletismo da Nazaré","2022-04-23","Nazaré","CANAZ","F",4,809,"Camila Barbosa","CANAZ","INF",14.95,"14.95","13.55","X"]
["DARDO4","Lan","7º Torneio Jovem Clube de Atletismo da Nazaré","2022-04-23","Nazaré","CANAZ","F",5,112,"Liliana Teotónio","JV","INF",14.41,"X","14.41","X"]
["DARDO4","Lan","7º Torneio Jovem Clube de Atletismo da Nazaré","2022-04-23","Nazaré","CANAZ","F",6,171,"Érica Medeiros","ACB-L","INF",13.54,"13.54","12.25","13.25"]
["DARDO4","Lan","7º Torneio Jovem Clube de Atletismo da Nazaré","2022-04-23","Nazaré","CANAZ","F",7,51,"Alessandra Santos","JV","INF",12.94,"10.88","9.07","12.94"]
["DARDO4","Lan","7º Torneio Jovem Clube de Atletismo da Nazaré","2022-04-23","Nazaré","CANAZ","F",8,236,"Leonor Bonita","CAMG","INF",12.49,"10.88","12.49","X"]
["DARDO4","Lan","7º Torneio Jovem Clube de Atletismo da Nazaré","2022-04-23","Nazaré","CANAZ","F",9,566,"Mariana Peralta","CAMG","INF",11.83,"11.83","X","X"]
["DARDO4","Lan","7º Torneio Jovem Clube de Atletismo da Nazaré","2022-04-23","Nazaré","CANAZ","F",10,1059,"Diva Vidal","CANAZ","INF",11.42,"11.16","X","11.42"]
["DARDO4","Lan","7º Torneio Jovem Clube de Atletismo da Nazaré","2022-04-23","Nazaré","CANAZ","F",11,66,"Carolina Silva","JV","INF",10.79,"10.78","10.79","10.46"]
["DARDO4","Lan","7º Torneio Jovem Clube de Atletismo da Nazaré","2022-04-23","Nazaré","CANAZ","F",12,258,"Jéssica Joaninho","NDAP","INF",10.73,"X","X","10.73"]
["DARDO4","Lan","7º Torneio Jovem Clube de Atletismo da Nazaré","2022-04-23","Nazaré","CANAZ","F",13,571,"Patrícia Barqueiro","CANAZ","INF",10.55,"X","9.47","10.55"]
["DARDO4","Lan","7º Torneio Jovem Clube de Atletismo da Nazaré","2022-04-23","Nazaré","CANAZ","F",14,172,"Francisca Paulo","ACB-L","INF",9.4700000000000006,"9.47","X","7.37"]
["DARDO4","Lan","7º Torneio Jovem Clube de Atletismo da Nazaré","2022-04-23","Nazaré","CANAZ","F",15,859,"Íris Sousinha","CANAZ","INF",9.2899999999999991,"X","X","9.29"]
["DARDO4","Lan","7º Torneio Jovem Clube de Atletismo da Nazaré","2022-04-23","Nazaré","CANAZ","F",16,1125,"Constança Figueira","CANAZ","INF",8.61,"8.39","X","8.61"]
["DARDO4","Lan","7º Torneio Jovem Clube de Atletismo da Nazaré","2022-04-23","Nazaré","CANAZ","F",17,356,"Leonor Ferreira","CDBBR","INF",6.98,"6.98","4.70","X"]
["250","Vel","7º Torneio Jovem Clube de Atletismo da Nazaré","2022-04-23","Nazaré","CANAZ","F",1,132,"Miriam Machado","JV","INI",38.6]
["250","Vel","7º Torneio Jovem Clube de Atletismo da Nazaré","2022-04-23","Nazaré","CANAZ","F",2,189,"Maria Jesus","ACB-L","INI",39.1]
["250","Vel","7º Torneio Jovem Clube de Atletismo da Nazaré","2022-04-23","Nazaré","CANAZ","F",3,298,"Laura Gomes","GAC-L","INI",39.9]
["250","Vel","7º Torneio Jovem Clube de Atletismo da Nazaré","2022-04-23","Nazaré","CANAZ","F",4,285,"Beatriz Gomes","GAC-L","INI",41.1]
["250","Vel","7º Torneio Jovem Clube de Atletismo da Nazaré","2022-04-23","Nazaré","CANAZ","F",5,297,"Lara Pereira","GAC-L","INI",41.2]
["250","Vel","7º Torneio Jovem Clube de Atletismo da Nazaré","2022-04-23","Nazaré","CANAZ","F",6,180,"Joana Seixas","ACB-L","INI",41.6]
["250","Vel","7º Torneio Jovem Clube de Atletismo da Nazaré","2022-04-23","Nazaré","CANAZ","F",1,190,"Mariana Carvalho","ACB-L","INI",42.2]
["250","Vel","7º Torneio Jovem Clube de Atletismo da Nazaré","2022-04-23","Nazaré","CANAZ","F",2,150,"Sofiia Chemyrys","JV","INI",42.5]
["250","Vel","7º Torneio Jovem Clube de Atletismo da Nazaré","2022-04-23","Nazaré","CANAZ","F",3,59,"Bruna Amaral","JV","INI",42.9]
["250","Vel","7º Torneio Jovem Clube de Atletismo da Nazaré","2022-04-23","Nazaré","CANAZ","F",4,762,"Leonor Estorninho","CANAZ","INI",43.4]
["250","Vel","7º Torneio Jovem Clube de Atletismo da Nazaré","2022-04-23","Nazaré","CANAZ","F",5,764,"Camila Ferreira","CANAZ","INI",57.4]
["250","Vel","7º Torneio Jovem Clube de Atletismo da Nazaré","2022-04-23","Nazaré","CANAZ","F",1,164,"Beatriz Alves","ACB-L","INI",37.299999999999997]
["250","Vel","7º Torneio Jovem Clube de Atletismo da Nazaré","2022-04-23","Nazaré","CANAZ","F",2,63,"Carolina Ferreira","JV","INI",38.1]
["250","Vel","7º Torneio Jovem Clube de Atletismo da Nazaré","2022-04-23","Nazaré","CANAZ","F",3,199,"Neidiceila Tavares","ACB-L","INI",38.299999999999997]
["250","Vel","7º Torneio Jovem Clube de Atletismo da Nazaré","2022-04-23","Nazaré","CANAZ","F",4,219,"Carolina D Santos","CAMG","INI",38.799999999999997]
["250","Vel","7º Torneio Jovem Clube de Atletismo da Nazaré","2022-04-23","Nazaré","CANAZ","F",5,769,"Diana Vatula","CAMG","INI",40]
["250","Vel","7º Torneio Jovem Clube de Atletismo da Nazaré","2022-04-23","Nazaré","CANAZ","F",6,241,"Matilde Soares","CAMG","INI",41.9]
["250","Vel","7º Torneio Jovem Clube de Atletismo da Nazaré","2022-04-23","Nazaré","CANAZ","M",1,140,"Rafael Morgado","JV","INI",34.1]
["250","Vel","7º Torneio Jovem Clube de Atletismo da Nazaré","2022-04-23","Nazaré","CANAZ","M",2,1120,"Artur Macedo","CAMR","INI",36.200000000000003]
["250","Vel","7º Torneio Jovem Clube de Atletismo da Nazaré","2022-04-23","Nazaré","CANAZ","M",3,770,"Ricardo Santos","CAMG","INI",37.6]
["250","Vel","7º Torneio Jovem Clube de Atletismo da Nazaré","2022-04-23","Nazaré","CANAZ","M",4,177,"Giuliann Gosseye","ACB-L","INI",42.5]
["250","Vel","7º Torneio Jovem Clube de Atletismo da Nazaré","2022-04-23","Nazaré","CANAZ","M",5,1119,"Lucas Coutinho","CAMR","INI",43.8]
["250","Vel","7º Torneio Jovem Clube de Atletismo da Nazaré","2022-04-23","Nazaré","CANAZ","M",1,160,"Rafael Dias","JV","INI",33.4]
["250","Vel","7º Torneio Jovem Clube de Atletismo da Nazaré","2022-04-23","Nazaré","CANAZ","M",2,287,"David Militão","GAC-L","INI",33.700000000000003]
["250","Vel","7º Torneio Jovem Clube de Atletismo da Nazaré","2022-04-23","Nazaré","CANAZ","M",3,133,"Nikita Miroshnyk","JV","INI",35.299999999999997]
["250","Vel","7º Torneio Jovem Clube de Atletismo da Nazaré","2022-04-23","Nazaré","CANAZ","M",4,100,"João Fernandes","JV","INI",36.9]
["150","Vel","7º Torneio Jovem Clube de Atletismo da Nazaré","2022-04-23","Nazaré","CANAZ","M",1,127,"Matias Góis","JV","INF",20]
["150","Vel","7º Torneio Jovem Clube de Atletismo da Nazaré","2022-04-23","Nazaré","CANAZ","M",2,155,"Tomás Lopes","JV","INF",23.2]
["150","Vel","7º Torneio Jovem Clube de Atletismo da Nazaré","2022-04-23","Nazaré","CANAZ","M",3,561,"Edson Mendes","CAMG","INF",23.6]
["150","Vel","7º Torneio Jovem Clube de Atletismo da Nazaré","2022-04-23","Nazaré","CANAZ","M",4,91,"Francisco Gregório","JV","INF",27.6]
["150","Vel","7º Torneio Jovem Clube de Atletismo da Nazaré","2022-04-23","Nazaré","CANAZ","M",5,348,"Dinis Vitorino","CDBBR","INF",28]
["150","Vel","7º Torneio Jovem Clube de Atletismo da Nazaré","2022-04-23","Nazaré","CANAZ","M",1,1238,"Rafael Escolástico","CANAZ","INF",21.5]
["150","Vel","7º Torneio Jovem Clube de Atletismo da Nazaré","2022-04-23","Nazaré","CANAZ","M",2,161,"Afonso Marques","ACB-L","INF",21.9]
["150","Vel","7º Torneio Jovem Clube de Atletismo da Nazaré","2022-04-23","Nazaré","CANAZ","M",3,238,"Mateus Vinagre","CAMG","INF",22.5]
["150","Vel","7º Torneio Jovem Clube de Atletismo da Nazaré","2022-04-23","Nazaré","CANAZ","M",4,735,"Dilan Simão","CAMG","INF",26.4]
["150","Vel","7º Torneio Jovem Clube de Atletismo da Nazaré","2022-04-23","Nazaré","CANAZ","M",5,174,"Francisco Marçalo","ACB-L","INF",27.3]
["150","Vel","7º Torneio Jovem Clube de Atletismo da Nazaré","2022-04-23","Nazaré","CANAZ","M",6,537,"Rodrigo Silva","ACB-L","INF",28.9]
["150","Vel","7º Torneio Jovem Clube de Atletismo da Nazaré","2022-04-23","Nazaré","CANAZ","M",1,83,"Eduardo Camacho","JV","INF",21.4]
["150","Vel","7º Torneio Jovem Clube de Atletismo da Nazaré","2022-04-23","Nazaré","CANAZ","M",2,138,"Pedro Marcelino","JV","INF",22.2]
["150","Vel","7º Torneio Jovem Clube de Atletismo da Nazaré","2022-04-23","Nazaré","CANAZ","M",3,558,"António Constâncio","CAMG","INF",22.8]
["150","Vel","7º Torneio Jovem Clube de Atletismo da Nazaré","2022-04-23","Nazaré","CANAZ","M",4,144,"Salvador Meneses","JV","INF",23.2]
["150","Vel","7º Torneio Jovem Clube de Atletismo da Nazaré","2022-04-23","Nazaré","CANAZ","M",5,357,"Lourenço Nunes","CDBBR","INF",23.3]
["150","Vel","7º Torneio Jovem Clube de Atletismo da Nazaré","2022-04-23","Nazaré","CANAZ","F",1,107,"Lara Simões","JV","INF",21.3]
["150","Vel","7º Torneio Jovem Clube de Atletismo da Nazaré","2022-04-23","Nazaré","CANAZ","F",2,258,"Jéssica Joaninho","NDAP","INF",22.4]
["150","Vel","7º Torneio Jovem Clube de Atletismo da Nazaré","2022-04-23","Nazaré","CANAZ","F",3,90,"Francisca Reis","JV","INF",22.8]
["150","Vel","7º Torneio Jovem Clube de Atletismo da Nazaré","2022-04-23","Nazaré","CANAZ","F",4,128,"Matilde Joaquim","JV","INF",23.2]
["150","Vel","7º Torneio Jovem Clube de Atletismo da Nazaré","2022-04-23","Nazaré","CANAZ","F",5,129,"Matilde Silva","JV","INF",23.9]
["150","Vel","7º Torneio Jovem Clube de Atletismo da Nazaré","2022-04-23","Nazaré","CANAZ","F",6,116,"Madalena Salgueiro","JV","INF",24.4]
["150","Vel","7º Torneio Jovem Clube de Atletismo da Nazaré","2022-04-23","Nazaré","CANAZ","F",1,857,"Luna Delgado","CANAZ","INF",23.3]
["150","Vel","7º Torneio Jovem Clube de Atletismo da Nazaré","2022-04-23","Nazaré","CANAZ","F",2,609,"Carolina Mateus","GRFB","INF",23.6]
["150","Vel","7º Torneio Jovem Clube de Atletismo da Nazaré","2022-04-23","Nazaré","CANAZ","F",3,1128,"Francisca Filipe","CANAZ","INF",24.9]
["150","Vel","7º Torneio Jovem Clube de Atletismo da Nazaré","2022-04-23","Nazaré","CANAZ","F",4,1125,"Constança Figueira","CANAZ","INF",27.6]
["150","Vel","7º Torneio Jovem Clube de Atletismo da Nazaré","2022-04-23","Nazaré","CANAZ","F",5,1133,"Beatriz Guitti","CANAZ","INF",28.6]
["150","Vel","7º Torneio Jovem Clube de Atletismo da Nazaré","2022-04-23","Nazaré","CANAZ","F",6,356,"Carolina Mateus","GRFB","INF",29.7]
["150","Vel","7º Torneio Jovem Clube de Atletismo da Nazaré","2022-04-23","Nazaré","CANAZ","F",1,236,"Leonor Bonita","CAMG","INF",22.7]
["150","Vel","7º Torneio Jovem Clube de Atletismo da Nazaré","2022-04-23","Nazaré","CANAZ","F",2,809,"Camila Barbosa","CANAZ","INF",23.8]
["150","Vel","7º Torneio Jovem Clube de Atletismo da Nazaré","2022-04-23","Nazaré","CANAZ","F",3,569,"Alícia Almeida","CANAZ","INF",24]
["150","Vel","7º Torneio Jovem Clube de Atletismo da Nazaré","2022-04-23","Nazaré","CANAZ","F",4,172,"Francisca Paulo","ACB-L","INF",24.4]
["150","Vel","7º Torneio Jovem Clube de Atletismo da Nazaré","2022-04-23","Nazaré","CANAZ","F",5,859,"Íris Sousinha","CANAZ","INF",26.8]
["150","Vel","7º Torneio Jovem Clube de Atletismo da Nazaré","2022-04-23","Nazaré","CANAZ","F",6,1059,"Diva Vidal","CANAZ","INF",29.8]
["150","Vel","7º Torneio Jovem Clube de Atletismo da Nazaré","2022-04-23","Nazaré","CANAZ","F",1,1019,"Bruna Silva","CAMR","INF",21.3]
["150","Vel","7º Torneio Jovem Clube de Atletismo da Nazaré","2022-04-23","Nazaré","CANAZ","F",2,1185,"Sara Pereira","CAMR","INF",23.6]
["150","Vel","7º Torneio Jovem Clube de Atletismo da Nazaré","2022-04-23","Nazaré","CANAZ","F",3,99,"Joana Reis","JV","INF",23.9]
["150","Vel","7º Torneio Jovem Clube de Atletismo da Nazaré","2022-04-23","Nazaré","CANAZ","F",4,1246,"Carolina Brígido","JV","INF",24.7]
["150","Vel","7º Torneio Jovem Clube de Atletismo da Nazaré","2022-04-23","Nazaré","CANAZ","F",5,171,"Érica Medeiros","ACB-L","INF",26.8]
["4X60","Vel","7º Torneio Jovem Clube de Atletismo da Nazaré","2022-04-23","Nazaré","CANAZ","F",1,10066,"JUV VIDIGALENSE","JV","INF",34.1]
["4X60","Vel","7º Torneio Jovem Clube de Atletismo da Nazaré","2022-04-23","Nazaré","CANAZ","F",2,10129,"JV B","JV","INF",35]
["4X60","Vel","7º Torneio Jovem Clube de Atletismo da Nazaré","2022-04-23","Nazaré","CANAZ","F",3,11133,"C ATLETISMO NAZARÉ","CANAZ","INF",37.5]
["4X60","Vel","7º Torneio Jovem Clube de Atletismo da Nazaré","2022-04-23","Nazaré","CANAZ","F",4,21059,"CANAZ B","CANAZ","INF",44.1]
["4X60","Vel","7º Torneio Jovem Clube de Atletismo da Nazaré","2022-04-23","Nazaré","CANAZ","M",1,10203,"ATLÉTICO C BATALHA","ACB-L","INF",35.299999999999997]
["4X60","Vel","7º Torneio Jovem Clube de Atletismo da Nazaré","2022-04-23","Nazaré","CANAZ","M",2,10055,"JUV VIDIGALENSE","JV","INF",36.799999999999997]
["4X60","Vel","7º Torneio Jovem Clube de Atletismo da Nazaré","2022-04-23","Nazaré","CANAZ","M",3,10561,"C A MARINHA GRANDE","CAMG","INF",37.299999999999997]
["100","Vel","Campeonatos Nacionais de Provas Combinadas","2022-04-30","Leiria","FPA","M",1,47,"João Martins","JV","JUV",11.54]
["100","Vel","Campeonatos Nacionais de Provas Combinadas","2022-04-30","Leiria","FPA","M",5,46,"Luca Cruz","JV","JUV",11.9]
["100","Vel","Campeonatos Nacionais de Provas Combinadas","2022-04-30","Leiria","FPA","M",2,40,"Bernardo Cunha","GDP-L","JUV",11.56]
["100","Vel","Campeonatos Nacionais de Provas Combinadas","2022-04-30","Leiria","FPA","M",5,49,"Denis Hrabar","JV","INI",12.03]
["100","Vel","Campeonatos Nacionais de Provas Combinadas","2022-04-30","Leiria","FPA","M",7,41,"Gabriel Cunha","GDP-L","INI",12.15]
["100","Vel","Campeonatos Nacionais de Provas Combinadas","2022-04-30","Leiria","FPA","M",4,52,"André Petriv","JV","JUN",11.84]
["COMPRIM","Sal","Campeonatos Nacionais de Provas Combinadas","2022-04-30","Leiria","FPA","M",3,47,"João Martins","JV","JUV",6.25,6.25,6.24,6.14]
["COMPRIM","Sal","Campeonatos Nacionais de Provas Combinadas","2022-04-30","Leiria","FPA","M",4,49,"Denis Hrabar","JV","INI",6.07,5.94,6.07,5.86]
["COMPRIM","Sal","Campeonatos Nacionais de Provas Combinadas","2022-04-30","Leiria","FPA","M",10,41,"Gabriel Cunha","GDP-L","INI",5.96,5.96,"X","X"]
["COMPRIM","Sal","Campeonatos Nacionais de Provas Combinadas","2022-04-30","Leiria","FPA","M",13,46,"Luca Cruz","JV","JUV",5.59,5.42,5.36,5.59]
["COMPRIM","Sal","Campeonatos Nacionais de Provas Combinadas","2022-04-30","Leiria","FPA","M",14,40,"Bernardo Cunha","GDP-L","JUV",4.43,4.43,"X","X"]
["100B084","Vel","Campeonatos Nacionais de Provas Combinadas","2022-04-30","Leiria","FPA","F",2,53,"Vera Goucha","JV","JUV",14.86]
["100B084","Vel","Campeonatos Nacionais de Provas Combinadas","2022-04-30","Leiria","FPA","F",5,39,"Rafaela Pires","GDP-L","JUV",17.22]
["100B084","Vel","Campeonatos Nacionais de Provas Combinadas","2022-04-30","Leiria","FPA","F",2,45,"Catarina Silva","JV","JUV",17.579999999999998]
["100B084","Vel","Campeonatos Nacionais de Provas Combinadas","2022-04-30","Leiria","FPA","F",6,44,"Luana Figueira","JV","JUV",29.56]
["COMPRIM","Sal","Campeonatos Nacionais de Provas Combinadas","2022-04-30","Leiria","FPA","M",3,52,"André Petriv","JV","JUN",5.72,4.47,"X",5.72]
["100B084","Vel","Campeonatos Nacionais de Provas Combinadas","2022-04-30","Leiria","FPA","F",3,50,"Lara Duarte","JV","JUN",15.56]
["100B084","Vel","Campeonatos Nacionais de Provas Combinadas","2022-04-30","Leiria","FPA","F",4,48,"Margarida Santos","JV","JUN",16.13]
["ALTURA","Sal","Campeonatos Nacionais de Provas Combinadas","2022-04-30","Leiria","FPA","F",1,53,"Vera Goucha","JV","JUV",1.56]
["ALTURA","Sal","Campeonatos Nacionais de Provas Combinadas","2022-04-30","Leiria","FPA","F",7,39,"Rafaela Pires","GDP-L","JUV",1.41]
["ALTURA","Sal","Campeonatos Nacionais de Provas Combinadas","2022-04-30","Leiria","FPA","F",8,51,"Sara Brites","JV","JUV",1.41]
["ALTURA","Sal","Campeonatos Nacionais de Provas Combinadas","2022-04-30","Leiria","FPA","F",9,14,"Sofia Quintino","ACDRA","JUV",1.41]
["ALTURA","Sal","Campeonatos Nacionais de Provas Combinadas","2022-04-30","Leiria","FPA","F",12,45,"Catarina Silva","JV","JUV",1.35]
["ALTURA","Sal","Campeonatos Nacionais de Provas Combinadas","2022-04-30","Leiria","FPA","F",5,44,"Luana Figueira","JV","JUV",1.35]
["ALTURA","Sal","Campeonatos Nacionais de Provas Combinadas","2022-04-30","Leiria","FPA","F",3,50,"Lara Duarte","JV","JUN",1.5]
["ALTURA","Sal","Campeonatos Nacionais de Provas Combinadas","2022-04-30","Leiria","FPA","F",4,48,"Margarida Santos","JV","JUN",1.47]
["PESO5","Lan","Campeonatos Nacionais de Provas Combinadas","2022-04-30","Leiria","FPA","M",4,41,"Gabriel Cunha","GDP-L","INI",12.82,11.63,11.5,12.82]
["PESO5","Lan","Campeonatos Nacionais de Provas Combinadas","2022-04-30","Leiria","FPA","M",5,40,"Bernardo Cunha","GDP-L","JUV",12.79,12.34,12.79,12.36]
["PESO5","Lan","Campeonatos Nacionais de Provas Combinadas","2022-04-30","Leiria","FPA","M",6,49,"Denis Hrabar","JV","INI",12.29,12.29,"X","X"]
["PESO5","Lan","Campeonatos Nacionais de Provas Combinadas","2022-04-30","Leiria","FPA","M",12,46,"Luca Cruz","JV","JUV",10.199999999999999,9.86,10.199999999999999,"X"]
["PESO5","Lan","Campeonatos Nacionais de Provas Combinadas","2022-04-30","Leiria","FPA","M",14,47,"João Martins","JV","JUV",9.1300000000000008,8.61,8.34,9.1300000000000008]
["PESO6","Lan","Campeonatos Nacionais de Provas Combinadas","2022-04-30","Leiria","FPA","M",2,52,"André Petriv","JV","JUN",11.08,10.61,10.29,11.08]
["ALTURA","Sal","Campeonatos Nacionais de Provas Combinadas","2022-04-30","Leiria","FPA","M",3,52,"André Petriv","JV","JUN",1.65]
["ALTURA","Sal","Campeonatos Nacionais de Provas Combinadas","2022-04-30","Leiria","FPA","M",1,40,"Bernardo Cunha","GDP-L","JUV",1.83]
["ALTURA","Sal","Campeonatos Nacionais de Provas Combinadas","2022-04-30","Leiria","FPA","M",5,41,"Gabriel Cunha","GDP-L","INI",1.77]
["ALTURA","Sal","Campeonatos Nacionais de Provas Combinadas","2022-04-30","Leiria","FPA","M",9,49,"Denis Hrabar","JV","INI",1.74]
["ALTURA","Sal","Campeonatos Nacionais de Provas Combinadas","2022-04-30","Leiria","FPA","M",11,47,"João Martins","JV","JUV",1.65]
["ALTURA","Sal","Campeonatos Nacionais de Provas Combinadas","2022-04-30","Leiria","FPA","M",12,46,"Luca Cruz","JV","JUV",1.53]
["PESO4","Lan","Campeonatos Nacionais de Provas Combinadas","2022-04-30","Leiria","FPA","F",3,48,"Margarida Santos","JV","JUN",9.1,"X","X",9.1]
["PESO4","Lan","Campeonatos Nacionais de Provas Combinadas","2022-04-30","Leiria","FPA","F",5,50,"Lara Duarte","JV","JUN",7.77,7.18,7.77,7.72]
["PESO3","Lan","Campeonatos Nacionais de Provas Combinadas","2022-04-30","Leiria","FPA","F",1,53,"Vera Goucha","JV","JUV",13.54,13.31,12.69,13.5]
["PESO3","Lan","Campeonatos Nacionais de Provas Combinadas","2022-04-30","Leiria","FPA","F",7,45,"Catarina Silva","JV","JUV",9.35,9.35,8.52,8.67]
["PESO3","Lan","Campeonatos Nacionais de Provas Combinadas","2022-04-30","Leiria","FPA","F",8,14,"Sofia Quintino","ACDRA","JUV",9.3000000000000007,8.98,8.6999999999999993,9.3000000000000007]
["PESO3","Lan","Campeonatos Nacionais de Provas Combinadas","2022-04-30","Leiria","FPA","F",9,51,"Sara Brites","JV","JUV",9.0500000000000007,8.1999999999999993,8.67,9.0500000000000007]
["PESO3","Lan","Campeonatos Nacionais de Provas Combinadas","2022-04-30","Leiria","FPA","F",17,39,"Rafaela Pires","GDP-L","JUV",6.77,6.77,5.76,6.4]
["200","Vel","Campeonatos Nacionais de Provas Combinadas","2022-04-30","Leiria","FPA","F",3,50,"Lara Duarte","JV","JUN",26.93]
["200","Vel","Campeonatos Nacionais de Provas Combinadas","2022-04-30","Leiria","FPA","F",5,48,"Margarida Santos","JV","JUN",27.8]
["200","Vel","Campeonatos Nacionais de Provas Combinadas","2022-04-30","Leiria","FPA","F",2,14,"Sofia Quintino","ACDRA","JUV",28.31]
["200","Vel","Campeonatos Nacionais de Provas Combinadas","2022-04-30","Leiria","FPA","F",5,45,"Catarina Silva","JV","JUV",29.76]
["200","Vel","Campeonatos Nacionais de Provas Combinadas","2022-04-30","Leiria","FPA","F",2,39,"Rafaela Pires","GDP-L","JUV",27.34]
["200","Vel","Campeonatos Nacionais de Provas Combinadas","2022-04-30","Leiria","FPA","F",5,51,"Sara Brites","JV","JUV",28.14]
["200","Vel","Campeonatos Nacionais de Provas Combinadas","2022-04-30","Leiria","FPA","F",2,53,"Vera Goucha","JV","JUV",26.44]
["400","Vel","Campeonatos Nacionais de Provas Combinadas","2022-04-30","Leiria","FPA","M",3,52,"André Petriv","JV","JUN",53.95]
["400","Vel","Campeonatos Nacionais de Provas Combinadas","2022-04-30","Leiria","FPA","M",1,47,"João Martins","JV","JUV",54.93]
["400","Vel","Campeonatos Nacionais de Provas Combinadas","2022-04-30","Leiria","FPA","M",6,46,"Luca Cruz","JV","JUV",60.389999999999993]
["400","Vel","Campeonatos Nacionais de Provas Combinadas","2022-04-30","Leiria","FPA","M",3,40,"Bernardo Cunha","GDP-L","JUV",54.46]
["400","Vel","Campeonatos Nacionais de Provas Combinadas","2022-04-30","Leiria","FPA","M",4,49,"Denis Hrabar","JV","INI",55.33]
["400","Vel","Campeonatos Nacionais de Provas Combinadas","2022-04-30","Leiria","FPA","M",5,41,"Gabriel Cunha","GDP-L","INI",57.58]
["110B091","Vel","Campeonatos Nacionais de Provas Combinadas","2022-05-01","Leiria","FPA","M",3,40,"Bernardo Cunha","GDP-L","JUV",16.489999999999998]
["110B091","Vel","Campeonatos Nacionais de Provas Combinadas","2022-05-01","Leiria","FPA","M",4,49,"Denis Hrabar","JV","INI",16.690000000000001]
["110B091","Vel","Campeonatos Nacionais de Provas Combinadas","2022-05-01","Leiria","FPA","M",5,55,"José Passo","LAVRA","JUV",17.22]
["110B091","Vel","Campeonatos Nacionais de Provas Combinadas","2022-05-01","Leiria","FPA","M",6,41,"Gabriel Cunha","GDP-L","INI",18.32]
["110B091","Vel","Campeonatos Nacionais de Provas Combinadas","2022-05-01","Leiria","FPA","M",3,47,"João Martins","JV","JUV",17.57]
["110B091","Vel","Campeonatos Nacionais de Provas Combinadas","2022-05-01","Leiria","FPA","M",4,46,"Luca Cruz","JV","JUV",18.16]
["110B100","Vel","Campeonatos Nacionais de Provas Combinadas","2022-05-01","Leiria","FPA","M",1,52,"André Petriv","JV","JUN",17.350000000000001]
["COMPRIM","Sal","Campeonatos Nacionais de Provas Combinadas","2022-05-01","Leiria","FPA","F",2,14,"Sofia Quintino","ACDRA","JUV",4.9000000000000004,"X",4.74,4.9000000000000004]
["COMPRIM","Sal","Campeonatos Nacionais de Provas Combinadas","2022-05-01","Leiria","FPA","F",4,51,"Sara Brites","JV","JUV",4.7300000000000004,4.59,4.7300000000000004,4.68]
["COMPRIM","Sal","Campeonatos Nacionais de Provas Combinadas","2022-05-01","Leiria","FPA","F",5,45,"Catarina Silva","JV","JUV",4.68,4.58,3.84,4.68]
["COMPRIM","Sal","Campeonatos Nacionais de Provas Combinadas","2022-05-01","Leiria","FPA","F",10,39,"Rafaela Pires","GDP-L","JUV",4.4000000000000004,"X",4.4000000000000004,4.2300000000000004]
["COMPRIM","Sal","Campeonatos Nacionais de Provas Combinadas","2022-05-01","Leiria","FPA","F",2,53,"Vera Goucha","JV","JUV",5.19,5.09,5.19,5.18]
["COMPRIM","Sal","Campeonatos Nacionais de Provas Combinadas","2022-05-01","Leiria","FPA","F",1,26,"Margarida Santos","JV","JUN",5,5,"X",4.88]
["COMPRIM","Sal","Campeonatos Nacionais de Provas Combinadas","2022-05-01","Leiria","FPA","F",2,48,"Lara Duarte","JV","JUN",4.87,4.26,4.87,4.67]
["DISCO15","Lan","Campeonatos Nacionais de Provas Combinadas","2022-05-01","Leiria","FPA","M",1,40,"Bernardo Cunha","GDP-L","JUV",40.869999999999997,"X",40.869999999999997,39.83]
["DISCO15","Lan","Campeonatos Nacionais de Provas Combinadas","2022-05-01","Leiria","FPA","M",3,49,"Denis Hrabar","JV","INI",36.79,"X",36.79,"X"]
["DISCO15","Lan","Campeonatos Nacionais de Provas Combinadas","2022-05-01","Leiria","FPA","M",6,46,"Luca Cruz","JV","JUV",30.8,29.54,"X",30.8]
["DISCO15","Lan","Campeonatos Nacionais de Provas Combinadas","2022-05-01","Leiria","FPA","M",9,47,"João Martins","JV","JUV",25.94,24.01,25.94,"X"]
["DARDO5","Lan","Campeonatos Nacionais de Provas Combinadas","2022-05-01","Leiria","FPA","F",1,45,"Catarina Silva","JV","JUV",28.96,28.96,27.07,28.32]
["DARDO5","Lan","Campeonatos Nacionais de Provas Combinadas","2022-05-01","Leiria","FPA","F",2,53,"Vera Goucha","JV","JUV",28.21,27.04,"X",28.21]
["DARDO5","Lan","Campeonatos Nacionais de Provas Combinadas","2022-05-01","Leiria","FPA","F",8,51,"Sara Brites","JV","JUV",23.32,21.81,23.32,17.899999999999999]
["DARDO5","Lan","Campeonatos Nacionais de Provas Combinadas","2022-05-01","Leiria","FPA","F",13,14,"Sofia Quintino","ACDRA","JUV",18.899999999999999,18.899999999999999,17.88,16.72]
["DARDO5","Lan","Campeonatos Nacionais de Provas Combinadas","2022-05-01","Leiria","FPA","F",14,39,"Rafaela Pires","GDP-L","JUV",18.190000000000001,18.190000000000001,16.86,16.72]
["DARDO6","Lan","Campeonatos Nacionais de Provas Combinadas","2022-05-01","Leiria","FPA","F",4,50,"Lara Duarte","JV","JUN",19.670000000000002,19.670000000000002,"X",18.399999999999999]
["DARDO6","Lan","Campeonatos Nacionais de Provas Combinadas","2022-05-01","Leiria","FPA","F",5,48,"Margarida Santos","JV","JUN",17.149999999999999,15.22,14.66,17.149999999999999]
["VARA","Sal","Campeonatos Nacionais de Provas Combinadas","2022-05-01","Leiria","FPA","M",2,40,"Bernardo Cunha","GDP-L","JUV",3.7]
["VARA","Sal","Campeonatos Nacionais de Provas Combinadas","2022-05-01","Leiria","FPA","M",3,49,"Denis Hrabar","JV","INI",3.4]
["VARA","Sal","Campeonatos Nacionais de Provas Combinadas","2022-05-01","Leiria","FPA","M",5,46,"Luca Cruz","JV","JUV",3.1]
["VARA","Sal","Campeonatos Nacionais de Provas Combinadas","2022-05-01","Leiria","FPA","M",9,47,"João Martins","JV","JUV",2.6]
["VARA","Sal","Campeonatos Nacionais de Provas Combinadas","2022-05-01","Leiria","FPA","M",3,52,"André Petriv","JV","JUN",3]
["1500","MF","Campeonatos Nacionais de Provas Combinadas","2022-05-01","Leiria","FPA","M",2,40,"Bernardo Cunha","GDP-L","JUV","00:04:50.190"]
["1500","MF","Campeonatos Nacionais de Provas Combinadas","2022-05-01","Leiria","FPA","M",3,49,"Denis Hrabar","JV","INI","00:04:50.660"]
["1500","MF","Campeonatos Nacionais de Provas Combinadas","2022-05-01","Leiria","FPA","M",7,46,"Luca Cruz","JV","JUV","00:05:36.370"]
["1500","MF","Campeonatos Nacionais de Provas Combinadas","2022-05-01","Leiria","FPA","M",8,47,"João Martins","JV","JUV","00:05:36.800"]
["1500","MF","Campeonatos Nacionais de Provas Combinadas","2022-05-01","Leiria","FPA","M",1,52,"André Petriv","JV","JUN","00:04:46.790"]
["800","MF","Campeonatos Nacionais de Provas Combinadas","2022-05-01","Leiria","FPA","F",2,50,"Lara Duarte","JV","JUN","00:02:32.010"]
["800","MF","Campeonatos Nacionais de Provas Combinadas","2022-05-01","Leiria","FPA","F",5,48,"Margarida Santos","JV","JUN","00:02:43.010"]
["800","MF","Campeonatos Nacionais de Provas Combinadas","2022-05-01","Leiria","FPA","F",4,39,"Rafaela Pires","GDP-L","JUV","00:02:38.170"]
["800","MF","Campeonatos Nacionais de Provas Combinadas","2022-05-01","Leiria","FPA","F",8,45,"Catarina Silva","JV","JUV","00:03:00.420"]
["800","MF","Campeonatos Nacionais de Provas Combinadas","2022-05-01","Leiria","FPA","F",1,53,"Vera Goucha","JV","JUV","00:02:31.120"]
["800","MF","Campeonatos Nacionais de Provas Combinadas","2022-05-01","Leiria","FPA","F",7,14,"Sofia Quintino","ACDRA","JUV","00:02:40.970"]
["800","MF","Campeonatos Nacionais de Provas Combinadas","2022-05-01","Leiria","FPA","F",8,51,"Sara Brites","JV","JUV","00:02:45.670"]
["DISCO17","Lan","Campeonatos Nacionais de Provas Combinadas","2022-05-01","Leiria","FPA","M",2,52,"André Petriv","JV","JUN",36.61,34.79,36.61,"X"]
["DARDO7","Lan","Campeonatos Nacionais de Provas Combinadas","2022-05-01","Leiria","FPA","M",1,40,"Bernardo Cunha","GDP-L","JUV",48.06,34.39,42.17,48.06]
["DARDO7","Lan","Campeonatos Nacionais de Provas Combinadas","2022-05-01","Leiria","FPA","M",3,49,"Denis Hrabar","JV","INI",41.55,41.55,"X",37.28]
["DARDO7","Lan","Campeonatos Nacionais de Provas Combinadas","2022-05-01","Leiria","FPA","M",7,46,"Luca Cruz","JV","JUV",34.42,29.54,34.369999999999997,34.42]
["DARDO7","Lan","Campeonatos Nacionais de Provas Combinadas","2022-05-01","Leiria","FPA","M",9,47,"João Martins","JV","JUV",29.96,29.96,27.86,29.73]
["Hep-Juv","Comb","Campeonatos Nacionais de Provas Combinadas","2022-05-01","Leiria","FPA","F",1,null,"Vera Goucha","JV","JUV",4805]
["Hep-Juv","Comb","Campeonatos Nacionais de Provas Combinadas","2022-05-01","Leiria","FPA","F",7,null,"Sara Brites","JV","JUV",3644]
["Hep-Juv","Comb","Campeonatos Nacionais de Provas Combinadas","2022-05-01","Leiria","FPA","F",8,null,"Sofia Quintino","ACDRA","JUV",3627]
["Hep-Juv","Comb","Campeonatos Nacionais de Provas Combinadas","2022-05-01","Leiria","FPA","F",11,null,"Rafaela Pires","GDP-L","JUV",3351]
["Hep-Juv","Comb","Campeonatos Nacionais de Provas Combinadas","2022-05-01","Leiria","FPA","F",13,null,"Catarina Silva","JV","JUV",3271]
["Hep-Juv","Comb","Campeonatos Nacionais de Provas Combinadas","2022-05-01","Leiria","FPA","F",19,null,"Luana Figueira","JV","JUV",460]
["HEP-Jun","Comb","Campeonatos Nacionais de Provas Combinadas","2022-05-01","Leiria","FPA","F",3,null,"Lara Duarte","JV","JUN",3968]
["HEP-Jun","Comb","Campeonatos Nacionais de Provas Combinadas","2022-05-01","Leiria","FPA","F",5,null,"Margarida Santos","JV","JUN",3738]
["DEC-JUV","Comb","Campeonatos Nacionais de Provas Combinadas","2022-05-01","Leiria","FPA","M",1,null,"Bernardo Cunha","GDP-L","JUV",6020]
["DEC-JUV","Comb","Campeonatos Nacionais de Provas Combinadas","2022-05-01","Leiria","FPA","M",4,null,"Denis Hrabar","JV","INI",5828]
["DEC-JUV","Comb","Campeonatos Nacionais de Provas Combinadas","2022-05-01","Leiria","FPA","M",7,null,"João Martins","JV","JUV",4805]
["DEC-JUV","Comb","Campeonatos Nacionais de Provas Combinadas","2022-05-01","Leiria","FPA","M",9,null,"Luca Cruz","JV","JUV",4580]
["DEC-JUV","Comb","Campeonatos Nacionais de Provas Combinadas","2022-05-01","Leiria","FPA","M",12,null,"Gabriel Cunha","GDP-L","INI",3451]
["DEC-Jun","Comb","Campeonatos Nacionais de Provas Combinadas","2022-05-01","Leiria","FPA","M",1,null,"André Petriv","JV","JUN",5504]
["ALTURA","Sal","5º MEETING JOVEM CAMG","2022-05-07","Marinha Grande","CAMG","F",2,236,"Leonor Bonita","CAMG","INF",1.29]
["ALTURA","Sal","5º MEETING JOVEM CAMG","2022-05-07","Marinha Grande","CAMG","F",3,90,"Francisca Reis","JV","INF",1.25]
["ALTURA","Sal","5º MEETING JOVEM CAMG","2022-05-07","Marinha Grande","CAMG","F",3,1136,"Ashley Jorge","JV","INF",1.25]
["ALTURA","Sal","5º MEETING JOVEM CAMG","2022-05-07","Marinha Grande","CAMG","F",5,326,"Inês Marques","GDP-L","INF",1.2]
["ALTURA","Sal","5º MEETING JOVEM CAMG","2022-05-07","Marinha Grande","CAMG","F",6,172,"Francisca Paulo","ACB-L","INF",1.2]
["ALTURA","Sal","5º MEETING JOVEM CAMG","2022-05-07","Marinha Grande","CAMG","F",7,569,"Alícia Almeida","CANAZ","INF",1.1000000000000001]
["ALTURA","Sal","5º MEETING JOVEM CAMG","2022-05-07","Marinha Grande","CAMG","F",8,129,"Matilde Silva","JV","INF",1.1000000000000001]
["ALTURA","Sal","5º MEETING JOVEM CAMG","2022-05-07","Marinha Grande","CAMG","F",8,809,"Camila Barbosa","CANAZ","INF",1.1000000000000001]
["ALTURA","Sal","5º MEETING JOVEM CAMG","2022-05-07","Marinha Grande","CAMG","F",10,118,"Margarida Godinho","JV","INF",1.1000000000000001]
["COMPRIM","Sal","5º MEETING JOVEM CAMG","2022-05-07","Marinha Grande","CAMG","M",1,127,"Matias Góis","JV","INF",4.8499999999999996,4.4800000000000004,4.63,4.8499999999999996]
["COMPRIM","Sal","5º MEETING JOVEM CAMG","2022-05-07","Marinha Grande","CAMG","M",2,203,"Rafael Alves","ACB-L","INF",4.7699999999999996,"X",4.7699999999999996,"X"]
["COMPRIM","Sal","5º MEETING JOVEM CAMG","2022-05-07","Marinha Grande","CAMG","M",3,161,"Afonso Marques","ACB-L","INF",4.32,4.04,4.13,4.32]
["COMPRIM","Sal","5º MEETING JOVEM CAMG","2022-05-07","Marinha Grande","CAMG","M",4,1238,"Rafael Escolástico","CANAZ","INF",4.12,3.69,4.12,4.0199999999999996]
["COMPRIM","Sal","5º MEETING JOVEM CAMG","2022-05-07","Marinha Grande","CAMG","M",5,251,"Duarte S Rodrigues","NDAP","INF",4.0999999999999996,3.75,"X",4.0999999999999996]
["COMPRIM","Sal","5º MEETING JOVEM CAMG","2022-05-07","Marinha Grande","CAMG","M",6,144,"Salvador Meneses","JV","INF",3.82,"X",3.49,3.82]
["COMPRIM","Sal","5º MEETING JOVEM CAMG","2022-05-07","Marinha Grande","CAMG","M",7,561,"Edson Mendes","CAMG","INF",3.71,3.34,3.48,3.71]
["COMPRIM","Sal","5º MEETING JOVEM CAMG","2022-05-07","Marinha Grande","CAMG","M",8,1179,"Diogo Clérigo","CAMR","INF",3.69,"X",3.61,3.69]
["COMPRIM","Sal","5º MEETING JOVEM CAMG","2022-05-07","Marinha Grande","CAMG","M",9,337,"Rafael Pena","GDP-L","INF",3.52,3.52,"X",2.29]
["COMPRIM","Sal","5º MEETING JOVEM CAMG","2022-05-07","Marinha Grande","CAMG","M",10,357,"Lourenço Nunes","CDBBR","INF",3.44,"X",3.44,3.23]
["COMPRIM","Sal","5º MEETING JOVEM CAMG","2022-05-07","Marinha Grande","CAMG","M",11,735,"Dilan Simão","CAMG","INF",3.38,3.38,3.38,"X"]
["COMPRIM","Sal","5º MEETING JOVEM CAMG","2022-05-07","Marinha Grande","CAMG","M",12,88,"Filipe Almeida","JV","INF",3.35,3.33,3.13,3.35]
["COMPRIM","Sal","5º MEETING JOVEM CAMG","2022-05-07","Marinha Grande","CAMG","M",13,343,"Afonso Machado","CDBBR","INF",3.26,2.98,3.04,3.26]
["COMPRIM","Sal","5º MEETING JOVEM CAMG","2022-05-07","Marinha Grande","CAMG","M",15,668,"Martim Falcão","CAMG","INF",3.04,2.99,3.04,2.73]
["COMPRIM","Sal","5º MEETING JOVEM CAMG","2022-05-07","Marinha Grande","CAMG","M",16,681,"Rafael Martins","NDAP","INF",2.97,2.92,2.97,2.68]
["COMPRIM","Sal","5º MEETING JOVEM CAMG","2022-05-07","Marinha Grande","CAMG","M",17,1247,"Mateus Butori","JV","INF",2.94,2.94,"X","X"]
["COMPRIM","Sal","5º MEETING JOVEM CAMG","2022-05-07","Marinha Grande","CAMG","M",18,1116,"Francisco Vieira","CAMR","INF",2.84,2.84,2.65,2.79]
["COMPRIM","Sal","5º MEETING JOVEM CAMG","2022-05-07","Marinha Grande","CAMG","M",19,342,"Afonso Gomes","CDBBR","INF",2.4500000000000002,2.4500000000000002,"X","X"]
["QUADINI","Sal","5º MEETING JOVEM CAMG","2022-05-07","Marinha Grande","CAMG","F",1,105,"Katerina Quinn","JV","INI",13.35,"X",13.31,13.35]
["QUADINI","Sal","5º MEETING JOVEM CAMG","2022-05-07","Marinha Grande","CAMG","F",2,241,"Matilde Soares","CAMG","INI",12.27,12.27,12.05,12.07]
["QUADINI","Sal","5º MEETING JOVEM CAMG","2022-05-07","Marinha Grande","CAMG","F",3,109,"Leonor Ascenso","JV","INI",12.18,12.18,12.16,11.92]
["QUADINI","Sal","5º MEETING JOVEM CAMG","2022-05-07","Marinha Grande","CAMG","F",4,149,"Sofia Santos","JV","INI",11.8,11.8,11.77,11.54]
["QUADINI","Sal","5º MEETING JOVEM CAMG","2022-05-07","Marinha Grande","CAMG","F",5,279,"Oleksandra Sliposhch","NDAP","INI",11.78,11.76,11.78,"X"]
["QUADINI","Sal","5º MEETING JOVEM CAMG","2022-05-07","Marinha Grande","CAMG","F",6,95,"Inês Figueiredo","JV","INI",11.76,11.76,9.6300000000000008,11.29]
["QUADINI","Sal","5º MEETING JOVEM CAMG","2022-05-07","Marinha Grande","CAMG","F",7,132,"Miriam Machado","JV","INI",11.57,11.57,11.39,"X"]
["QUADINI","Sal","5º MEETING JOVEM CAMG","2022-05-07","Marinha Grande","CAMG","F",8,314,"Alice Varino","GDP-L","INI",10.89,10.85,10.89,"X"]
["QUADINI","Sal","5º MEETING JOVEM CAMG","2022-05-07","Marinha Grande","CAMG","F",9,150,"Sofiia Chemyrys","JV","INI",10.67,10.67,10.26,10.44]
["QUADINI","Sal","5º MEETING JOVEM CAMG","2022-05-07","Marinha Grande","CAMG","F",10,86,"Filipa Moita","JV","INI",10.46,9.7200000000000006,10.46,10.06]
["80","Vel","5º MEETING JOVEM CAMG","2022-05-07","Marinha Grande","CAMG","M",1,248,"Afonso Rodrigues","NDAP","INI",10.28]
["80","Vel","5º MEETING JOVEM CAMG","2022-05-07","Marinha Grande","CAMG","M",2,253,"Francisco Mota","NDAP","INI",10.5]
["80","Vel","5º MEETING JOVEM CAMG","2022-05-07","Marinha Grande","CAMG","M",3,806,"Leonardo Sousa","CAMG","INI",10.56]
["80","Vel","5º MEETING JOVEM CAMG","2022-05-07","Marinha Grande","CAMG","M",4,334,"Matias Ferreira","GDP-L","INI",10.83]
["80","Vel","5º MEETING JOVEM CAMG","2022-05-07","Marinha Grande","CAMG","M",5,770,"Ricardo Santos","CAMG","INI",10.93]
["80","Vel","5º MEETING JOVEM CAMG","2022-05-07","Marinha Grande","CAMG","M",6,50,"Afonso Nogueira","JV","INI",11.96]
["80","Vel","5º MEETING JOVEM CAMG","2022-05-07","Marinha Grande","CAMG","M",1,274,"Martim Antunes","NDAP","INI",9.65]
["80","Vel","5º MEETING JOVEM CAMG","2022-05-07","Marinha Grande","CAMG","M",2,131,"Miguel Barros Campos","JV","INI",9.84]
["80","Vel","5º MEETING JOVEM CAMG","2022-05-07","Marinha Grande","CAMG","M",3,160,"Rafael Dias","JV","INI",10.11]
["80","Vel","5º MEETING JOVEM CAMG","2022-05-07","Marinha Grande","CAMG","M",4,133,"Nikita Miroshnyk","JV","INI",10.49]
["80","Vel","5º MEETING JOVEM CAMG","2022-05-07","Marinha Grande","CAMG","M",5,1119,"Lucas Coutinho","CAMR","INI",11.19]
["80","Vel","5º MEETING JOVEM CAMG","2022-05-07","Marinha Grande","CAMG","M",6,100,"João Fernandes","JV","INI",11.49]
["PESO2","Lan","5º MEETING JOVEM CAMG","2022-05-07","Marinha Grande","CAMG","F",3,1018,"Beatriz Silva","CAMR","INF",9.73,9.73,9.69,9.14]
["PESO2","Lan","5º MEETING JOVEM CAMG","2022-05-07","Marinha Grande","CAMG","F",4,171,"Érica Medeiros","ACB-L","INF",9.15,7.7,8.58,9.15]
["PESO2","Lan","5º MEETING JOVEM CAMG","2022-05-07","Marinha Grande","CAMG","F",5,566,"Mariana Peralta","CAMG","INF",8.6999999999999993,8.6999999999999993,7.96,"X"]
["PESO2","Lan","5º MEETING JOVEM CAMG","2022-05-07","Marinha Grande","CAMG","F",7,147,"Sofia Carvalho","JV","INF",7.23,7.23,6.46,6.57]
["PESO2","Lan","5º MEETING JOVEM CAMG","2022-05-07","Marinha Grande","CAMG","F",8,1136,"Ashley Jorge","JV","INF",6.9,6.9,"X",6.24]
["PESO2","Lan","5º MEETING JOVEM CAMG","2022-05-07","Marinha Grande","CAMG","F",9,571,"Patrícia Barqueiro","CANAZ","INF",6.51,6.27,5.89,6.51]
["PESO2","Lan","5º MEETING JOVEM CAMG","2022-05-07","Marinha Grande","CAMG","F",10,364,"Sofia Ferromau","CDBBR","INF",5.98,5.52,5.9,5.98]
["PESO2","Lan","5º MEETING JOVEM CAMG","2022-05-07","Marinha Grande","CAMG","F",11,1257,"Beatriz Vitorino","SISMARIA","INF",5.51,5.51,5.03,4.97]
["PESO2","Lan","5º MEETING JOVEM CAMG","2022-05-07","Marinha Grande","CAMG","F",12,1258,"Laura Morais","SISMARIA","INF",4.4800000000000004,4.4800000000000004,3.68,4.46]
["PESO2","Lan","5º MEETING JOVEM CAMG","2022-05-07","Marinha Grande","CAMG","F",13,1256,"Ana Leal Carreira","SISMARIA","INF",4.26,3.78,3.6,4.26]
["PESO2","Lan","5º MEETING JOVEM CAMG","2022-05-07","Marinha Grande","CAMG","F",14,356,"Leonor Ferreira","CDBBR","INF",4.18,3.72,4.18,4]
["PESO2","Lan","5º MEETING JOVEM CAMG","2022-05-07","Marinha Grande","CAMG","F",15,567,"Marta Ferreira","CAMG","INF",3.9,3.9,3.75,3.9]
["400B086","Vel","5º MEETING JOVEM CAMG","2022-05-07","Marinha Grande","CAMG","M",1,808,"Miguel Marques","CAMG","JUV",57]
["DARDO5","Lan","5º MEETING JOVEM CAMG","2022-05-07","Marinha Grande","CAMG","M",1,357,"Lourenço Nunes","CDBBR","INF",23.36,21.67,23.36,"X"]
["DARDO5","Lan","5º MEETING JOVEM CAMG","2022-05-07","Marinha Grande","CAMG","M",2,104,"José Martins","JV","INF",20.81,15.61,20.81,"X"]
["DARDO5","Lan","5º MEETING JOVEM CAMG","2022-05-07","Marinha Grande","CAMG","M",3,83,"Eduardo Camacho","JV","INF",18.73,17.53,17.61,18.73]
["DARDO5","Lan","5º MEETING JOVEM CAMG","2022-05-07","Marinha Grande","CAMG","M",4,1238,"Rafael Escolástico","CANAZ","INF",18.55,18.55,16.71,14.69]
["DARDO5","Lan","5º MEETING JOVEM CAMG","2022-05-07","Marinha Grande","CAMG","M",5,561,"Edson Mendes","CAMG","INF",17.29,12.57,17.29,13.18]
["DARDO5","Lan","5º MEETING JOVEM CAMG","2022-05-07","Marinha Grande","CAMG","M",6,203,"Rafael Alves","ACB-L","INF",16.54,14.65,15.17,16.54]
["DARDO5","Lan","5º MEETING JOVEM CAMG","2022-05-07","Marinha Grande","CAMG","M",7,144,"Salvador Meneses","JV","INF",15.29,12.21,14.74,15.29]
["DARDO5","Lan","5º MEETING JOVEM CAMG","2022-05-07","Marinha Grande","CAMG","M",8,161,"Afonso Marques","ACB-L","INF",14.68,"X",14.68,"X"]
["DARDO5","Lan","5º MEETING JOVEM CAMG","2022-05-07","Marinha Grande","CAMG","M",9,1179,"Diogo Clérigo","CAMR","INF",14.12,"X",14.12,10.63]
["DARDO5","Lan","5º MEETING JOVEM CAMG","2022-05-07","Marinha Grande","CAMG","M",10,1241,"Gabriel Silva","CDBBR","INF",11.25,10.57,11.25,"X"]
["DARDO5","Lan","5º MEETING JOVEM CAMG","2022-05-07","Marinha Grande","CAMG","M",11,668,"Martim Falcão","CAMG","INF",10.44,10.3,"X",10.44]
["DARDO5","Lan","5º MEETING JOVEM CAMG","2022-05-07","Marinha Grande","CAMG","M",12,1116,"Francisco Vieira","CAMR","INF",10.3,10.3,10.039999999999999,10.25]
["DARDO5","Lan","5º MEETING JOVEM CAMG","2022-05-07","Marinha Grande","CAMG","M",13,342,"Afonso Gomes","CDBBR","INF",8.69,"X","X",8.69]
["DARDO5","Lan","5º MEETING JOVEM CAMG","2022-05-07","Marinha Grande","CAMG","M",14,348,"Dinis Vitorino","CDBBR","INF",8.5399999999999991,"X",5.99,8.5399999999999991]
["400B076","Vel","5º MEETING JOVEM CAMG","2022-05-07","Marinha Grande","CAMG","F",1,689,"Joana Gameiro","JV","JUN",66.3]
["400B076","Vel","5º MEETING JOVEM CAMG","2022-05-07","Marinha Grande","CAMG","F",2,106,"Lara Duarte","JV","JUN",68.680000000000007]
["400B076","Vel","5º MEETING JOVEM CAMG","2022-05-07","Marinha Grande","CAMG","F",3,821,"Margarida Santos","JV","JUV",71.63]
["ALTURA","Sal","5º MEETING JOVEM CAMG","2022-05-07","Marinha Grande","CAMG","M",1,157,"Tomás Monteiro","JV","INI",1.6]
["ALTURA","Sal","5º MEETING JOVEM CAMG","2022-05-07","Marinha Grande","CAMG","M",2,140,"Rafael Morgado","JV","INI",1.53]
["ALTURA","Sal","5º MEETING JOVEM CAMG","2022-05-07","Marinha Grande","CAMG","M",3,248,"Afonso Rodrigues","NDAP","INI",1.47]
["ALTURA","Sal","5º MEETING JOVEM CAMG","2022-05-07","Marinha Grande","CAMG","M",4,334,"Matias Ferreira","GDP-L","INI",1.47]
["ALTURA","Sal","5º MEETING JOVEM CAMG","2022-05-07","Marinha Grande","CAMG","M",5,160,"Rafael Dias","JV","INI",1.35]
["ALTURA","Sal","5º MEETING JOVEM CAMG","2022-05-07","Marinha Grande","CAMG","M",5,770,"Ricardo Santos","CAMG","INI",1.35]
["ALTURA","Sal","5º MEETING JOVEM CAMG","2022-05-07","Marinha Grande","CAMG","M",7,253,"Francisco Mota","NDAP","INI",1.3]
["ALTURA","Sal","5º MEETING JOVEM CAMG","2022-05-07","Marinha Grande","CAMG","M",8,89,"Filipe Fernandes","JV","INI",1.3]
["600","MF","5º MEETING JOVEM CAMG","2022-05-07","Marinha Grande","CAMG","F",1,326,"Inês Marques","GDP-L","INF","00:01:57.610"]
["600","MF","5º MEETING JOVEM CAMG","2022-05-07","Marinha Grande","CAMG","F",2,1019,"Bruna Silva","CAMR","INF","00:02:01.740"]
["600","MF","5º MEETING JOVEM CAMG","2022-05-07","Marinha Grande","CAMG","F",3,589,"Iara Pereira","GAUB","INF","00:02:02.690"]
["600","MF","5º MEETING JOVEM CAMG","2022-05-07","Marinha Grande","CAMG","F",4,258,"Jéssica Joaninho","NDAP","INF","00:02:05.750"]
["600","MF","5º MEETING JOVEM CAMG","2022-05-07","Marinha Grande","CAMG","F",5,1257,"Beatriz Vitorino","SISMARIA","INF","00:02:12.430"]
["600","MF","5º MEETING JOVEM CAMG","2022-05-07","Marinha Grande","CAMG","F",6,147,"Sofia Carvalho","JV","INF","00:02:15.230"]
["600","MF","5º MEETING JOVEM CAMG","2022-05-07","Marinha Grande","CAMG","F",7,1258,"Laura Morais","SISMARIA","INF","00:02:15.480"]
["600","MF","5º MEETING JOVEM CAMG","2022-05-07","Marinha Grande","CAMG","F",8,1122,"Mariana Folgado","CAMR","INF","00:02:18.990"]
["600","MF","5º MEETING JOVEM CAMG","2022-05-07","Marinha Grande","CAMG","F",9,1235,"Joana Martins","CANAZ","INF","00:02:40.510"]
["600","MF","5º MEETING JOVEM CAMG","2022-05-07","Marinha Grande","CAMG","F",10,364,"Sofia Ferromau","CDBBR","INF","00:02:53.350"]
["600","MF","5º MEETING JOVEM CAMG","2022-05-07","Marinha Grande","CAMG","F",11,809,"Camila Barbosa","CANAZ","INF","00:04:05.860"]
["600","MF","5º MEETING JOVEM CAMG","2022-05-07","Marinha Grande","CAMG","F",3,129,"Matilde Silva","JV","INF","00:01:55.410"]
["600","MF","5º MEETING JOVEM CAMG","2022-05-07","Marinha Grande","CAMG","F",4,236,"Leonor Bonita","CAMG","INF","00:02:03.950"]
["600","MF","5º MEETING JOVEM CAMG","2022-05-07","Marinha Grande","CAMG","F",5,118,"Margarida Godinho","JV","INF","00:02:06.060"]
["600","MF","5º MEETING JOVEM CAMG","2022-05-07","Marinha Grande","CAMG","F",6,90,"Francisca Reis","JV","INF","00:02:09.680"]
["600","MF","5º MEETING JOVEM CAMG","2022-05-07","Marinha Grande","CAMG","F",7,567,"Marta Ferreira","CAMG","INF","00:02:15.770"]
["600","MF","5º MEETING JOVEM CAMG","2022-05-07","Marinha Grande","CAMG","F",8,1125,"Constança Figueira","CANAZ","INF","00:02:28.330"]
["600","MF","5º MEETING JOVEM CAMG","2022-05-07","Marinha Grande","CAMG","F",9,356,"Leonor Ferreira","CDBBR","INF","00:02:29.210"]
["600","MF","5º MEETING JOVEM CAMG","2022-05-07","Marinha Grande","CAMG","F",10,679,"Filipa Martins","NDAP","INF","00:02:32.550"]
["600","MF","5º MEETING JOVEM CAMG","2022-05-07","Marinha Grande","CAMG","F",11,1059,"Diva Vidal","CANAZ","INF","00:02:39.610"]
["600","MF","5º MEETING JOVEM CAMG","2022-05-07","Marinha Grande","CAMG","M",1,127,"Matias Góis","JV","INF","00:01:44.440"]
["600","MF","5º MEETING JOVEM CAMG","2022-05-07","Marinha Grande","CAMG","M",2,767,"Michel Vatula","CAMG","INF","00:01:57.780"]
["600","MF","5º MEETING JOVEM CAMG","2022-05-07","Marinha Grande","CAMG","M",3,251,"Duarte S Rodrigues","NDAP","INF","00:02:01.230"]
["600","MF","5º MEETING JOVEM CAMG","2022-05-07","Marinha Grande","CAMG","M",4,83,"Eduardo Camacho","JV","INF","00:02:02.970"]
["600","MF","5º MEETING JOVEM CAMG","2022-05-07","Marinha Grande","CAMG","M",5,104,"José Martins","JV","INF","00:02:05.630"]
["600","MF","5º MEETING JOVEM CAMG","2022-05-07","Marinha Grande","CAMG","M",6,1583,"Sérgio Silva","AEAC","INF","00:02:11.410"]
["600","MF","5º MEETING JOVEM CAMG","2022-05-07","Marinha Grande","CAMG","M",7,735,"Dilan Simão","CAMG","INF","00:02:12.640"]
["600","MF","5º MEETING JOVEM CAMG","2022-05-07","Marinha Grande","CAMG","M",8,88,"Filipe Almeida","JV","INF","00:02:15.240"]
["600","MF","5º MEETING JOVEM CAMG","2022-05-07","Marinha Grande","CAMG","M",9,337,"Rafael Pena","GDP-L","INF","00:02:21.210"]
["600","MF","5º MEETING JOVEM CAMG","2022-05-07","Marinha Grande","CAMG","M",10,343,"Afonso Machado","CDBBR","INF","00:02:22.310"]
["600","MF","5º MEETING JOVEM CAMG","2022-05-07","Marinha Grande","CAMG","M",12,1247,"Mateus Butori","JV","INF","00:02:28.480"]
["600","MF","5º MEETING JOVEM CAMG","2022-05-07","Marinha Grande","CAMG","M",13,681,"Rafael Martins","NDAP","INF","00:02:52.870"]
["800","MF","5º MEETING JOVEM CAMG","2022-05-07","Marinha Grande","CAMG","F",2,63,"Carolina Ferreira","JV","INI","00:02:32.880"]
["800","MF","5º MEETING JOVEM CAMG","2022-05-07","Marinha Grande","CAMG","F",3,1209,"Ema Matos","CAMG","INI","00:02:50.830"]
["800","MF","5º MEETING JOVEM CAMG","2022-05-07","Marinha Grande","CAMG","M",2,806,"Leonardo Sousa","CAMG","INI","00:02:29.240"]
["800","MF","5º MEETING JOVEM CAMG","2022-05-07","Marinha Grande","CAMG","M",3,466,"Miguel Ferreira","CPRAB","INI","00:02:29.680"]
["800","MF","5º MEETING JOVEM CAMG","2022-05-07","Marinha Grande","CAMG","M",4,100,"João Fernandes","JV","INI","00:02:29.800"]
["800","MF","5º MEETING JOVEM CAMG","2022-05-07","Marinha Grande","CAMG","M",6,89,"Filipe Fernandes","JV","INI","00:02:43.170"]
["800","MF","5º MEETING JOVEM CAMG","2022-05-07","Marinha Grande","CAMG","M",7,50,"Afonso Nogueira","JV","INI","00:02:45.380"]
["MARTEL3","Lan","1.ª Jornada Campeonato Distrital Sub18","2022-05-08","Marinha Grande","ADAL","F",1,811,"Inaya Yayo","CANAZ","JUV",48.37,42.64,47.63,48.06,48.37,"X","X"]
["MARTEL3","Lan","1.ª Jornada Campeonato Distrital Sub18","2022-05-08","Marinha Grande","ADAL","F",2,382,"Leonor Belchior","ACDRA","JUV",43.23,37.31,42.09,43.23,42.92,41.81,"X"]
["MARTEL3","Lan","1.ª Jornada Campeonato Distrital Sub18","2022-05-08","Marinha Grande","ADAL","F",3,738,"Beatriz Cordeiro","JV","JUV",32.93,32.93,29.1,"X","X","X","X"]
["MARTEL3","Lan","1.ª Jornada Campeonato Distrital Sub18","2022-05-08","Marinha Grande","ADAL","F",4,693,"Laura Baltazar","JV","JUV",25.37,21.94,"X",24.57,23.21,25.37,25.35]
["MARTEL3","Lan","1.ª Jornada Campeonato Distrital Sub18","2022-05-08","Marinha Grande","ADAL","F",5,763,"Vanessa Castravet","CANAZ","INI",24.68,22.11,24.68,23.96,23.66,23.87,19.95]
["MARTEL3","Lan","1.ª Jornada Campeonato Distrital Sub18","2022-05-08","Marinha Grande","ADAL","F",6,95,"Inês Figueiredo","JV","INI",21.9,"X",21.83,"X",21.9,"X",20.2]
["MARTEL3","Lan","1.ª Jornada Campeonato Distrital Sub18","2022-05-08","Marinha Grande","ADAL","F",7,1284,"Bárbara Sophia","CANAZ","INI",20.8,19.68,17.739999999999998,20.67,20.420000000000002,18.47,20.8]
["MARTEL3","Lan","1.ª Jornada Campeonato Distrital Sub18","2022-05-08","Marinha Grande","ADAL","F",8,149,"Sofia Santos","JV","INI",20.38,19.39,19.14,20.38,19.600000000000001,17.670000000000002,19.899999999999999]
["DISCO15","Lan","1.ª Jornada Campeonato Distrital Sub18","2022-05-08","Marinha Grande","ADAL","M",1,9,"Francisco Calhau","JV","JUV",41.26,"X",34.89,38.61,41.26,39.5,"X"]
["DISCO15","Lan","1.ª Jornada Campeonato Distrital Sub18","2022-05-08","Marinha Grande","ADAL","M",2,317,"Bernardo Cunha","GDP-L","JUV",37.99,"X","X",34.520000000000003,"X","X",37.99]
["DISCO15","Lan","1.ª Jornada Campeonato Distrital Sub18","2022-05-08","Marinha Grande","ADAL","M",3,361,"Rodrigo Silva","CDBBR","JUV",34.33,26.37,"X","X","X",33.39,34.33]
["DISCO15","Lan","1.ª Jornada Campeonato Distrital Sub18","2022-05-08","Marinha Grande","ADAL","M",4,74,"Denis Hrabar","JV","INI",32.57,"X",32.57,"X","X","X","X"]
["DISCO15","Lan","1.ª Jornada Campeonato Distrital Sub18","2022-05-08","Marinha Grande","ADAL","M",5,1060,"Duarte Santos","CANAZ","JUV",30.98,28.74,"X","X",29.62,"X",30.98]
["DISCO15","Lan","1.ª Jornada Campeonato Distrital Sub18","2022-05-08","Marinha Grande","ADAL","M",6,140,"Rafael Morgado","JV","INI",24.81,23.32,"X",24.81,24.02,23.72,"X"]
["DISCO15","Lan","1.ª Jornada Campeonato Distrital Sub18","2022-05-08","Marinha Grande","ADAL","M",7,339,"Rodrigo Esteves","GDP-L","INI",24.47,"X","X",24.47,"X","X",23.73]
["DISCO15","Lan","1.ª Jornada Campeonato Distrital Sub18","2022-05-08","Marinha Grande","ADAL","M",8,160,"Rafael Dias","JV","INI",19.329999999999998,17.39,18.23,16.93,18.68,18.739999999999998,19.329999999999998]
["DISCO15","Lan","1.ª Jornada Campeonato Distrital Sub18","2022-05-08","Marinha Grande","ADAL","M",9,133,"Nikita Miroshnyk","JV","INI",16.3,15.18,16.3,16.29]
["DISCO15","Lan","1.ª Jornada Campeonato Distrital Sub18","2022-05-08","Marinha Grande","ADAL","M",10,785,"Carlos Santos","ACDRA","JUV",14.86,14.86,"X",13.54]
["DISCO15","Lan","1.ª Jornada Campeonato Distrital Sub18","2022-05-08","Marinha Grande","ADAL","M",11,387,"Rodrigo Martins","ACDRA","INI",13.49,13.49,11.26,10.7]
["COMPRIM","Sal","1.ª Jornada Campeonato Distrital Sub18","2022-05-08","Marinha Grande","ADAL","F",1,774,"Marta Carriço","ACDRA","INI",5.31,"X","X",4.97,5.21,5.31,5.21]
["COMPRIM","Sal","1.ª Jornada Campeonato Distrital Sub18","2022-05-08","Marinha Grande","ADAL","F",2,705,"Vera Goucha","JV","JUV",5.29,4.9800000000000004,5.15,5.0199999999999996,5.01,"X",5.29]
["COMPRIM","Sal","1.ª Jornada Campeonato Distrital Sub18","2022-05-08","Marinha Grande","ADAL","F",3,849,"Sofia Quintino","ACDRA","JUV",5.22,5.04,5.22,5.15,"X","X","X"]
["COMPRIM","Sal","1.ª Jornada Campeonato Distrital Sub18","2022-05-08","Marinha Grande","ADAL","F",4,684,"Catarina Silva","JV","JUV",4.9800000000000004,4.71,4.7699999999999996,4.6500000000000004,4.75,4.9800000000000004,4.9400000000000004]
["COMPRIM","Sal","1.ª Jornada Campeonato Distrital Sub18","2022-05-08","Marinha Grande","ADAL","F",5,123,"Marta Feliciano","JV","INI",4.95,4.67,4.67,4.8899999999999997,4.78,4.6399999999999997,4.95]
["COMPRIM","Sal","1.ª Jornada Campeonato Distrital Sub18","2022-05-08","Marinha Grande","ADAL","F",6,105,"Katerina Quinn","JV","INI",4.87,4.83,4.75,4.82,4.87,4.82,3.92]
["COMPRIM","Sal","1.ª Jornada Campeonato Distrital Sub18","2022-05-08","Marinha Grande","ADAL","F",7,282,"Vitoria Chornohor","NDAP","JUV",4.84,4.5199999999999996,4.6900000000000004,4.84,4.78,4.72,4.55]
["COMPRIM","Sal","1.ª Jornada Campeonato Distrital Sub18","2022-05-08","Marinha Grande","ADAL","F",8,697,"Luana Figueira","JV","JUV",4.74,4.62,"X",4.74,"X","X",4.55]
["COMPRIM","Sal","1.ª Jornada Campeonato Distrital Sub18","2022-05-08","Marinha Grande","ADAL","F",9,85,"Filipa Dinis","JV","JUV",4.6900000000000004,4.57,4.51,4.6900000000000004]
["COMPRIM","Sal","1.ª Jornada Campeonato Distrital Sub18","2022-05-08","Marinha Grande","ADAL","F",10,2,"Sara Brites","JV","JUV",4.66,4.46,4.66,4.53]
["COMPRIM","Sal","1.ª Jornada Campeonato Distrital Sub18","2022-05-08","Marinha Grande","ADAL","F",11,384,"Maria Vicente","ACDRA","INI",4.59,4.59,4.43,4.55]
["COMPRIM","Sal","1.ª Jornada Campeonato Distrital Sub18","2022-05-08","Marinha Grande","ADAL","F",12,109,"Leonor Ascenso","JV","INI",4.57,4.3899999999999997,4.1900000000000004,4.57]
["COMPRIM","Sal","1.ª Jornada Campeonato Distrital Sub18","2022-05-08","Marinha Grande","ADAL","F",13,166,"Constança Anunciação","ACB-L","JUV",4.55,4.53,4.55,"X"]
["COMPRIM","Sal","1.ª Jornada Campeonato Distrital Sub18","2022-05-08","Marinha Grande","ADAL","F",14,241,"Matilde Soares","CAMG","INI",4.5,4.42,4.5,4.49]
["COMPRIM","Sal","1.ª Jornada Campeonato Distrital Sub18","2022-05-08","Marinha Grande","ADAL","F",15,285,"Beatriz Gomes","GAC-L","INI",4.45,4.45,4.38,4.38]
["COMPRIM","Sal","1.ª Jornada Campeonato Distrital Sub18","2022-05-08","Marinha Grande","ADAL","F",16,298,"Laura Gomes","GAC-L","INI",4.43,3.9,4.4000000000000004,4.43]
["COMPRIM","Sal","1.ª Jornada Campeonato Distrital Sub18","2022-05-08","Marinha Grande","ADAL","F",17,822,"Nadine Pires","JV","JUV",4.2699999999999996,4.25,4.18,4.2699999999999996]
["COMPRIM","Sal","1.ª Jornada Campeonato Distrital Sub18","2022-05-08","Marinha Grande","ADAL","F",18,279,"Oleksandra Sliposhch","NDAP","INI",4.2699999999999996,"X",3.4,4.2699999999999996]
["COMPRIM","Sal","1.ª Jornada Campeonato Distrital Sub18","2022-05-08","Marinha Grande","ADAL","F",19,240,"Matilde Batista","CAMG","INI",4.13,"X",4.13,3.99]
["COMPRIM","Sal","1.ª Jornada Campeonato Distrital Sub18","2022-05-08","Marinha Grande","ADAL","F",20,64,"Carolina Marques","JV","JUV",4.05,4.05,"X","X"]
["COMPRIM","Sal","1.ª Jornada Campeonato Distrital Sub18","2022-05-08","Marinha Grande","ADAL","F",21,124,"Marta Mestre","JV","INI",3.88,"X",3.38,3.88]
["COMPRIM","Sal","1.ª Jornada Campeonato Distrital Sub18","2022-05-08","Marinha Grande","ADAL","F",22,380,"Isaura Correia","ACDRA","INI",3.86,3.81,3.86,"X"]
["COMPRIM","Sal","1.ª Jornada Campeonato Distrital Sub18","2022-05-08","Marinha Grande","ADAL","F",23,855,"Jennifer Carvalho","CANAZ","JUV",3.82,3.82,3.74,3.79]
["COMPRIM","Sal","1.ª Jornada Campeonato Distrital Sub18","2022-05-08","Marinha Grande","ADAL","F",24,297,"Lara Pereira","GAC-L","INI",3.65,3.56,3.34,3.65]
["3000","MF","1.ª Jornada Campeonato Distrital Sub18","2022-05-08","Marinha Grande","ADAL","F",1,266,"Lili Barreiro","NDAP","JUV","00:13:37.570"]
["3000","MF","1.ª Jornada Campeonato Distrital Sub18","2022-05-08","Marinha Grande","ADAL","M",1,914,"Pedro Rodrigues","NDAP","JUV","00:09:42.610"]
["3000","MF","1.ª Jornada Campeonato Distrital Sub18","2022-05-08","Marinha Grande","ADAL","M",2,572,"Pedro Rocha","CANAZ","JUV","00:13:06.760"]
["3000","MF","1.ª Jornada Campeonato Distrital Sub18, Extra","2022-05-08","Marinha Grande","ADAL","M",1,504,"Rodrigo Ribeiro","NDA","JUN","00:09:35.060"]
["3000","MF","1.ª Jornada Campeonato Distrital Sub18, Extra","2022-05-08","Marinha Grande","ADAL","M",2,852,"Bruno Branco","CANAZ","JUN","00:10:17.260"]
["MARTEL5","Lan","1.ª Jornada Campeonato Distrital Sub18","2022-05-08","Marinha Grande","ADAL","M",1,9,"Francisco Calhau","JV","JUV",51.12,"X","X","X","X",51.12,"X"]
["MARTEL5","Lan","1.ª Jornada Campeonato Distrital Sub18","2022-05-08","Marinha Grande","ADAL","M",2,339,"Rodrigo Esteves","GDP-L","INI",35.200000000000003,33.97,"X",35.200000000000003,"X",34.97,34.69]
["DISCO10","Lan","1.ª Jornada Campeonato Distrital Sub18","2022-05-08","Marinha Grande","ADAL","F",1,738,"Beatriz Cordeiro","JV","JUV",27.28,"X","X",21.23,23.83,"X",27.28]
["DISCO10","Lan","1.ª Jornada Campeonato Distrital Sub18","2022-05-08","Marinha Grande","ADAL","F",2,219,"Carolina D Santos","CAMG","INI",26.85,25.84,"X","X","X",26.85,26.07]
["DISCO10","Lan","1.ª Jornada Campeonato Distrital Sub18","2022-05-08","Marinha Grande","ADAL","F",3,763,"Vanessa Castravet","CANAZ","INI",24.18,19.170000000000002,20.059999999999999,19.670000000000002,"X",24.18,"X"]
["DISCO10","Lan","1.ª Jornada Campeonato Distrital Sub18","2022-05-08","Marinha Grande","ADAL","F",4,849,"Sofia Quintino","ACDRA","JUV",22.31,16.7,22.31,"X",16.52,21.69,18.829999999999998]
["DISCO10","Lan","1.ª Jornada Campeonato Distrital Sub18","2022-05-08","Marinha Grande","ADAL","F",5,693,"Laura Baltazar","JV","JUV",22.1,20.79,"X",22.1,"X","X","X"]
["DISCO10","Lan","1.ª Jornada Campeonato Distrital Sub18","2022-05-08","Marinha Grande","ADAL","F",6,382,"Leonor Belchior","ACDRA","JUV",20.96,20.96,"X","X","X",17.57,18.86]
["DISCO10","Lan","1.ª Jornada Campeonato Distrital Sub18","2022-05-08","Marinha Grande","ADAL","F",7,95,"Inês Figueiredo","JV","INI",15.92,14.82,15.92,15.87,15.05,"-","-"]
["DISCO10","Lan","1.ª Jornada Campeonato Distrital Sub18","2022-05-08","Marinha Grande","ADAL","F",8,149,"Sofia Santos","JV","INI",15.71,13.98,14.85,15.71,14.56,14.25,14.74]
["DISCO10","Lan","1.ª Jornada Campeonato Distrital Sub18","2022-05-08","Marinha Grande","ADAL","F",9,150,"Sofiia Chemyrys","JV","INI",15.22,14.4,"X",15.22]
["DISCO10","Lan","1.ª Jornada Campeonato Distrital Sub18","2022-05-08","Marinha Grande","ADAL","F",10,1008,"Maria Inês Silva","ACDRA","INI",13.85,12.21,13.85,12.17]
["COMPRIM","Sal","1.ª Jornada Campeonato Distrital Sub18","2022-05-08","Marinha Grande","ADAL","M",1,690,"João Martins","JV","JUV",6.68,6.23,6.19,6.16,6.66,6.4,6.68]
["COMPRIM","Sal","1.ª Jornada Campeonato Distrital Sub18","2022-05-08","Marinha Grande","ADAL","M",2,374,"Diogo Chaves","ACDRA","JUV",6.06,5.79,5.79,5.92,6.06,6.01,5.19]
["COMPRIM","Sal","1.ª Jornada Campeonato Distrital Sub18","2022-05-08","Marinha Grande","ADAL","M",3,113,"Luca Cruz","JV","JUV",5.95,5.7,5.62,5.95,5.66,"-","-"]
["COMPRIM","Sal","1.ª Jornada Campeonato Distrital Sub18","2022-05-08","Marinha Grande","ADAL","M",4,1042,"Vadym Skafaryk","JV","JUV",5.67,4.9800000000000004,4.8899999999999997,5.5,5.41,"X",5.67]
["COMPRIM","Sal","1.ª Jornada Campeonato Distrital Sub18","2022-05-08","Marinha Grande","ADAL","M",5,519,"Edson Dias","ACB-L","JUV",5.67,3.83,"X",5.45,5.0999999999999996,5.67,"-"]
["COMPRIM","Sal","1.ª Jornada Campeonato Distrital Sub18","2022-05-08","Marinha Grande","ADAL","M",6,157,"Tomás Monteiro","JV","INI",5.66,5.46,5.4,5.53,5.43,5.66,5.66]
["COMPRIM","Sal","1.ª Jornada Campeonato Distrital Sub18","2022-05-08","Marinha Grande","ADAL","M",7,770,"Ricardo Santos","CAMG","INI",5.18,5.03,5.01,"X",5.18,"X","X"]
["COMPRIM","Sal","1.ª Jornada Campeonato Distrital Sub18","2022-05-08","Marinha Grande","ADAL","M",8,248,"Afonso Rodrigues","NDAP","INI",5.09,"X",4.79,5.09,"-","-","-"]
["COMPRIM","Sal","1.ª Jornada Campeonato Distrital Sub18","2022-05-08","Marinha Grande","ADAL","M",9,943,"Rodrigo Almeida","ACDRA","JUV",5.03,"X",5.03,"X"]
["COMPRIM","Sal","1.ª Jornada Campeonato Distrital Sub18","2022-05-08","Marinha Grande","ADAL","M",10,1120,"Artur Macedo","CAMR","INI",4.87,4.87,4.6100000000000003,"X"]
["COMPRIM","Sal","1.ª Jornada Campeonato Distrital Sub18","2022-05-08","Marinha Grande","ADAL","M",11,462,"Guilherme Sousa","CPRAB","INI",4.8499999999999996,4.6500000000000004,4.8499999999999996,"X"]
["COMPRIM","Sal","1.ª Jornada Campeonato Distrital Sub18","2022-05-08","Marinha Grande","ADAL","M",12,1126,"Amável Esgaio","CANAZ","JUV",4.8499999999999996,4.6399999999999997,4.8499999999999996,4.51]
["COMPRIM","Sal","1.ª Jornada Campeonato Distrital Sub18","2022-05-08","Marinha Grande","ADAL","M",13,465,"Martim Lopes","CPRAB","JUV",4.5599999999999996,4.5599999999999996,4.55,"X"]
["COMPRIM","Sal","1.ª Jornada Campeonato Distrital Sub18","2022-05-08","Marinha Grande","ADAL","M",14,133,"Nikita Miroshnyk","JV","INI",4.53,4.18,4.26,4.53]
["COMPRIM","Sal","1.ª Jornada Campeonato Distrital Sub18","2022-05-08","Marinha Grande","ADAL","M",15,466,"Miguel Ferreira","CPRAB","INI",4.33,3.55,4.29,4.33]
["COMPRIM","Sal","1.ª Jornada Campeonato Distrital Sub18","2022-05-08","Marinha Grande","ADAL","M",16,387,"Rodrigo Martins","ACDRA","INI",4.1900000000000004,4.1900000000000004,4.12,4.05]
["COMPRIM","Sal","1.ª Jornada Campeonato Distrital Sub18","2022-05-08","Marinha Grande","ADAL","M",17,1119,"Lucas Coutinho","CAMR","INI",3.48,3.48,"X",2.52]
["COMPRIM","Sal","1.ª Jornada Campeonato Distrital Sub18, Extra","2022-05-08","Marinha Grande","ADAL","M",1,214,"André Rodrigues","CAMG","JUN",6.84,6.79,6.77,6.84,6.73,5.45,"X"]
["800","MF","1.ª Jornada Campeonato Distrital Sub18","2022-05-08","Marinha Grande","ADAL","F",1,372,"Caetana Neves","ACDRA","INI","00:02:25.320"]
["800","MF","1.ª Jornada Campeonato Distrital Sub18","2022-05-08","Marinha Grande","ADAL","F",2,189,"Maria Jesus","ACB-L","INI","00:02:29.700"]
["800","MF","1.ª Jornada Campeonato Distrital Sub18","2022-05-08","Marinha Grande","ADAL","F",3,146,"Sara Lopes","JV","JUV","00:02:35.760"]
["800","MF","1.ª Jornada Campeonato Distrital Sub18","2022-05-08","Marinha Grande","ADAL","F",4,297,"Lara Pereira","GAC-L","INI","00:02:40.660"]
["800","MF","1.ª Jornada Campeonato Distrital Sub18","2022-05-08","Marinha Grande","ADAL","F",5,239,"Matilde Angélico","CAMG","INI","00:02:45.840"]
["800","MF","1.ª Jornada Campeonato Distrital Sub18","2022-05-08","Marinha Grande","ADAL","F",6,855,"Jennifer Carvalho","CANAZ","JUV","00:02:53.470"]
["800","MF","1.ª Jornada Campeonato Distrital Sub18","2022-05-08","Marinha Grande","ADAL","F",7,1009,"Magda Vieira","ACDRA","JUV","00:02:56.240"]
["800","MF","1.ª Jornada Campeonato Distrital Sub18","2022-05-08","Marinha Grande","ADAL","M",1,1100,"Márcio Dias","AE-CA","JUV","00:02:05.700"]
["800","MF","1.ª Jornada Campeonato Distrital Sub18","2022-05-08","Marinha Grande","ADAL","M",3,916,"Luís Campos","CPRAB","JUV","00:02:18.340"]
["800","MF","1.ª Jornada Campeonato Distrital Sub18","2022-05-08","Marinha Grande","ADAL","M",4,185,"Leonardo Mendes","ACB-L","INI","00:02:25.520"]
["800","MF","1.ª Jornada Campeonato Distrital Sub18","2022-05-08","Marinha Grande","ADAL","M",5,766,"Miguel Barros","CANAZ","INI","00:02:26.480"]
["800","MF","1.ª Jornada Campeonato Distrital Sub18","2022-05-08","Marinha Grande","ADAL","M",6,289,"Diogo Pereira","GAC-L","JUV","00:02:27.180"]
["800","MF","1.ª Jornada Campeonato Distrital Sub18","2022-05-08","Marinha Grande","ADAL","M",7,848,"Francisco Figueirôa","ACDRA","JUV","00:02:49.320"]
["800","MF","1.ª Jornada Campeonato Distrital Sub18","2022-05-08","Marinha Grande","ADAL","M",8,332,"Martim Cordeiro","GDP-L","JUV","00:02:55.640"]
["300","Vel","1.ª Jornada Campeonato Distrital Sub18","2022-05-08","Marinha Grande","ADAL","F",1,370,"Beatriz Gonçalves","ACDRA","JUV",46.79]
["300","Vel","1.ª Jornada Campeonato Distrital Sub18","2022-05-08","Marinha Grande","ADAL","F",2,285,"Beatriz Gomes","GAC-L","INI",48.29]
["300","Vel","1.ª Jornada Campeonato Distrital Sub18","2022-05-08","Marinha Grande","ADAL","F",3,166,"Constança Anunciação","ACB-L","JUV",48.31]
["300","Vel","1.ª Jornada Campeonato Distrital Sub18","2022-05-08","Marinha Grande","ADAL","F",4,298,"Laura Gomes","GAC-L","INI",49.46]
["300","Vel","1.ª Jornada Campeonato Distrital Sub18","2022-05-08","Marinha Grande","ADAL","F",5,282,"Vitoria Chornohor","NDAP","JUV",49.97]
["300","Vel","1.ª Jornada Campeonato Distrital Sub18","2022-05-08","Marinha Grande","ADAL","F",6,279,"Oleksandra Sliposhch","NDAP","INI",52.19]
["300","Vel","1.ª Jornada Campeonato Distrital Sub18","2022-05-08","Marinha Grande","ADAL","F",7,461,"Clara Filipe","CPRAB","INI",54.36]
["300","Vel","1.ª Jornada Campeonato Distrital Sub18","2022-05-08","Marinha Grande","ADAL","F",1,123,"Marta Feliciano","JV","INI",44.66]
["300","Vel","1.ª Jornada Campeonato Distrital Sub18","2022-05-08","Marinha Grande","ADAL","F",3,109,"Leonor Ascenso","JV","INI",47.91]
["300","Vel","1.ª Jornada Campeonato Distrital Sub18","2022-05-08","Marinha Grande","ADAL","F",4,822,"Nadine Pires","JV","JUV",48.42]
["300","Vel","1.ª Jornada Campeonato Distrital Sub18","2022-05-08","Marinha Grande","ADAL","F",5,811,"Inaya Yayo","CANAZ","JUV",49.77]
["300","Vel","1.ª Jornada Campeonato Distrital Sub18","2022-05-08","Marinha Grande","ADAL","F",6,124,"Marta Mestre","JV","INI",50.32]
["300","Vel","1.ª Jornada Campeonato Distrital Sub18","2022-05-08","Marinha Grande","ADAL","F",7,150,"Sofiia Chemyrys","JV","INI",53.13]
["300","Vel","1.ª Jornada Campeonato Distrital Sub18","2022-05-08","Marinha Grande","ADAL","F",8,1284,"Bárbara Sophia","CANAZ","INI",57.75]
["300","Vel","1.ª Jornada Campeonato Distrital Sub18","2022-05-08","Marinha Grande","ADAL","F",1,336,"Rafaela Pires","GDP-L","JUV",43.23]
["300","Vel","1.ª Jornada Campeonato Distrital Sub18","2022-05-08","Marinha Grande","ADAL","F",2,683,"Carlota Ferreira","JV","JUV",45.56]
["300","Vel","1.ª Jornada Campeonato Distrital Sub18","2022-05-08","Marinha Grande","ADAL","F",3,63,"Carolina Ferreira","JV","INI",46.78]
["300","Vel","1.ª Jornada Campeonato Distrital Sub18","2022-05-08","Marinha Grande","ADAL","F",4,164,"Beatriz Alves","ACB-L","INI",47.2]
["300","Vel","1.ª Jornada Campeonato Distrital Sub18","2022-05-08","Marinha Grande","ADAL","F",5,132,"Miriam Machado","JV","INI",48.21]
["300","Vel","1.ª Jornada Campeonato Distrital Sub18","2022-05-08","Marinha Grande","ADAL","F",6,53,"Anabela Silva","JV","JUV",49.56]
["300","Vel","1.ª Jornada Campeonato Distrital Sub18","2022-05-08","Marinha Grande","ADAL","F",7,277,"Nina Barreiros","NDAP","JUV",52.18]
["300","Vel","1.ª Jornada Campeonato Distrital Sub18","2022-05-08","Marinha Grande","ADAL","M",1,140,"Rafael Morgado","JV","INI",42.19]
["300","Vel","1.ª Jornada Campeonato Distrital Sub18","2022-05-08","Marinha Grande","ADAL","M",2,248,"Afonso Rodrigues","NDAP","INI",42.41]
["300","Vel","1.ª Jornada Campeonato Distrital Sub18","2022-05-08","Marinha Grande","ADAL","M",3,806,"Leonardo Sousa","CAMG","INI",44.55]
["300","Vel","1.ª Jornada Campeonato Distrital Sub18","2022-05-08","Marinha Grande","ADAL","M",4,333,"Mateus Matias","GDP-L","JUV",45.87]
["300","Vel","1.ª Jornada Campeonato Distrital Sub18","2022-05-08","Marinha Grande","ADAL","M",1,943,"Rodrigo Almeida","ACDRA","JUV",39.14]
["300","Vel","1.ª Jornada Campeonato Distrital Sub18","2022-05-08","Marinha Grande","ADAL","M",2,141,"Rafael Vieira","JV","JUV",40.020000000000003]
["300","Vel","1.ª Jornada Campeonato Distrital Sub18","2022-05-08","Marinha Grande","ADAL","M",3,160,"Rafael Dias","JV","INI",41.42]
["300","Vel","1.ª Jornada Campeonato Distrital Sub18","2022-05-08","Marinha Grande","ADAL","M",4,1245,"Afonso Martins","JV","INI",43.8]
["300","Vel","1.ª Jornada Campeonato Distrital Sub18","2022-05-08","Marinha Grande","ADAL","M",5,462,"Guilherme Sousa","CPRAB","INI",43.89]
["300","Vel","1.ª Jornada Campeonato Distrital Sub18","2022-05-08","Marinha Grande","ADAL","M",6,466,"Miguel Ferreira","CPRAB","INI",46.61]
["300","Vel","1.ª Jornada Campeonato Distrital Sub18","2022-05-08","Marinha Grande","ADAL","M",1,894,"Bernardo Ferreira","NDAP","JUV",38.340000000000003]
["300","Vel","1.ª Jornada Campeonato Distrital Sub18","2022-05-08","Marinha Grande","ADAL","M",2,274,"Martim Antunes","NDAP","INI",40.81]
["300","Vel","1.ª Jornada Campeonato Distrital Sub18","2022-05-08","Marinha Grande","ADAL","M",3,1126,"Amável Esgaio","CANAZ","JUV",43.2]
["300","Vel","1.ª Jornada Campeonato Distrital Sub18","2022-05-08","Marinha Grande","ADAL","M",4,100,"João Fernandes","JV","INI",46.56]
["300","Vel","1.ª Jornada Campeonato Distrital Sub18","2022-05-08","Marinha Grande","ADAL","M",1,808,"Miguel Marques","CAMG","JUV",36.799999999999997]
["300","Vel","1.ª Jornada Campeonato Distrital Sub18","2022-05-08","Marinha Grande","ADAL","M",2,378,"Hugo Tavares","ACDRA","JUV",36.909999999999997]
["300","Vel","1.ª Jornada Campeonato Distrital Sub18","2022-05-08","Marinha Grande","ADAL","M",3,134,"Nuno Cordeiro","JV","JUV",37.479999999999997]
["300","Vel","1.ª Jornada Campeonato Distrital Sub18","2022-05-08","Marinha Grande","ADAL","M",4,375,"Diogo Nogueira","ACDRA","JUV",38.6]
["300","Vel","1.ª Jornada Campeonato Distrital Sub18","2022-05-08","Marinha Grande","ADAL","M",5,519,"Edson Dias","ACB-L","JUV",39.24]
["300","Vel","1.ª Jornada Campeonato Distrital Sub18","2022-05-08","Marinha Grande","ADAL","M",6,113,"Luca Cruz","JV","JUV",39.43]
["MARTEL4","Lan","Olímpico Jovem Distrital - 1ª Jornada","2022-05-14","Pombal","ADAL","M",1,339,"Rodrigo Esteves","GDP-L","INI",43.98,"X",43.11,"X",43.98]
["MARTEL4","Lan","Olímpico Jovem Distrital - 1ª Jornada","2022-05-14","Pombal","ADAL","M",2,133,"Nikita Miroshnyk","JV","INI",26.39,25.21,24.58,"X",26.39]
["MARTEL4","Lan","Olímpico Jovem Distrital - 1ª Jornada","2022-05-14","Pombal","ADAL","M",3,1297,"João Cordeiro","GDP-L","INI",20.399999999999999,18.75,19.02,20.399999999999999,19.5]
["MARTEL4","Lan","Olímpico Jovem Distrital - 1ª Jornada","2022-05-14","Pombal","ADAL","M",5,608,"Manuel Lameiro","GDP-L","INI",18.25,16.100000000000001,16.43,18.25,"X"]
["DISCO07","Lan","Olímpico Jovem Distrital - 1ª Jornada","2022-05-14","Pombal","ADAL","F",1,219,"Carolina D Santos","CAMG","INI",33.51,33.51,"X",32.53,30.28]
["DISCO10","Lan","Olímpico Jovem Distrital - 1ª Jornada","2022-05-14","Pombal","ADAL","M",1,74,"Denis Hrabar","JV","INI",42.12,39.229999999999997,"X",42.12,"X"]
["DISCO10","Lan","Olímpico Jovem Distrital - 1ª Jornada","2022-05-14","Pombal","ADAL","M",2,339,"Rodrigo Esteves","GDP-L","INI",34.5,29.58,"X",34.5,"X"]
["DISCO10","Lan","Olímpico Jovem Distrital - 1ª Jornada","2022-05-14","Pombal","ADAL","M",3,133,"Nikita Miroshnyk","JV","INI",24.4,24.4,24.15,19.27,21.81]
["DISCO10","Lan","Olímpico Jovem Distrital - 1ª Jornada","2022-05-14","Pombal","ADAL","M",4,608,"Manuel Lameiro","GDP-L","INI",18.28,18.18,"X",18.28,"X"]
["DISCO10","Lan","Olímpico Jovem Distrital - 1ª Jornada","2022-05-14","Pombal","ADAL","M",5,1297,"João Cordeiro","GDP-L","INI",17.57,"X",17.57,14.51,16.510000000000002]
["MARTEL3","Lan","Olímpico Jovem Distrital - 1ª Jornada","2022-05-14","Pombal","ADAL","F",1,61,"Camila Patraboy","JV","INI",37.229999999999997,26.35,27.41,32.31,37.229999999999997]
["MARTEL3","Lan","Olímpico Jovem Distrital - 1ª Jornada","2022-05-14","Pombal","ADAL","F",2,763,"Vanessa Castravet","CANAZ","INI",28.22,28.18,"X",28.22,"X"]
["MARTEL3","Lan","Olímpico Jovem Distrital - 1ª Jornada","2022-05-14","Pombal","ADAL","F",3,331,"Mariana Custódio","GDP-L","INI",26.9,26.77,26.9,"X",25.04]
["MARTEL3","Lan","Olímpico Jovem Distrital - 1ª Jornada","2022-05-14","Pombal","ADAL","F",4,94,"Helena Alípio","JV","INI",25.91,21.19,19.72,25.38,25.91]
["MARTEL3","Lan","Olímpico Jovem Distrital - 1ª Jornada","2022-05-14","Pombal","ADAL","F",5,1284,"Bárbara Sophia","CANAZ","INI",22.47,22.47,7.55,22.1,22.25]
["COMPRIM","Sal","Olímpico Jovem Distrital - 1ª Jornada","2022-05-14","Pombal","ADAL","F",1,774,"Marta Carriço","ACDRA","INI",5.3,5.24,5.16,5.3,5.19]
["COMPRIM","Sal","Olímpico Jovem Distrital - 1ª Jornada","2022-05-14","Pombal","ADAL","F",2,149,"Sofia Santos","JV","INI",4.63,4.53,4.5999999999999996,4.63,4.6100000000000003]
["COMPRIM","Sal","Olímpico Jovem Distrital - 1ª Jornada","2022-05-14","Pombal","ADAL","F",3,285,"Beatriz Gomes","GAC-L","INI",4.49,"X",4.49,4.0999999999999996,4.22]
["COMPRIM","Sal","Olímpico Jovem Distrital - 1ª Jornada","2022-05-14","Pombal","ADAL","F",4,123,"Marta Feliciano","JV","INI",4.38,4.04,4.38,4.32,4.3]
["COMPRIM","Sal","Olímpico Jovem Distrital - 1ª Jornada","2022-05-14","Pombal","ADAL","F",5,279,"Oleksandra Sliposhch","NDAP","INI",4.41,4.41,3.96,4.07,3.89]
["COMPRIM","Sal","Olímpico Jovem Distrital - 1ª Jornada","2022-05-14","Pombal","ADAL","F",6,109,"Leonor Ascenso","JV","INI",4.34,4.18,4.24,4.09,4.34]
["COMPRIM","Sal","Olímpico Jovem Distrital - 1ª Jornada","2022-05-14","Pombal","ADAL","F",7,896,"Eva Marques","AAADP","INI",4.16,3.93,4.05,4.05,4.16]
["COMPRIM","Sal","Olímpico Jovem Distrital - 1ª Jornada","2022-05-14","Pombal","ADAL","F",8,298,"Laura Gomes","GAC-L","INI",4.0599999999999996,4.0599999999999996,3.98,4.04,2.71]
["COMPRIM","Sal","Olímpico Jovem Distrital - 1ª Jornada","2022-05-14","Pombal","ADAL","F",9,124,"Marta Mestre","JV","INI",3.87,3.87,3.65,3.61,3.5]
["COMPRIM","Sal","Olímpico Jovem Distrital - 1ª Jornada","2022-05-14","Pombal","ADAL","F",10,895,"Ana Simões","AAADP","INI",3.66,3.66,3.12,"X","X"]
["COMPRIM","Sal","Olímpico Jovem Distrital - 1ª Jornada","2022-05-14","Pombal","ADAL","F",1,705,"Vera Goucha","JV","JUV",5.3,5.09,5.16,5.3,"X"]
["COMPRIM","Sal","Olímpico Jovem Distrital - 1ª Jornada","2022-05-14","Pombal","ADAL","F",2,849,"Sofia Quintino","ACDRA","JUV",5.27,5.18,5.13,5.27,5.08]
["COMPRIM","Sal","Olímpico Jovem Distrital - 1ª Jornada","2022-05-14","Pombal","ADAL","F",3,684,"Catarina Silva","JV","JUV",4.82,4.63,4.82,4.6100000000000003,4.63]
["COMPRIM","Sal","Olímpico Jovem Distrital - 1ª Jornada","2022-05-14","Pombal","ADAL","F",4,697,"Luana Figueira","JV","JUV",4.75,4.62,4.75,"X","X"]
["COMPRIM","Sal","Olímpico Jovem Distrital - 1ª Jornada","2022-05-14","Pombal","ADAL","F",5,816,"Ana Carvalho","JV","JUV",4.66,"X",4.66,4.57,4.51]
["COMPRIM","Sal","Olímpico Jovem Distrital - 1ª Jornada","2022-05-14","Pombal","ADAL","F",6,282,"Vitoria Chornohor","NDAP","JUV",4.62,4.5599999999999996,4.62,4.24,4.59]
["COMPRIM","Sal","Olímpico Jovem Distrital - 1ª Jornada","2022-05-14","Pombal","ADAL","F",7,64,"Carolina Marques","JV","JUV",3.96,"X","X",3.96,"X"]
["COMPRIM","Sal","Olímpico Jovem Distrital - 1ª Jornada","2022-05-14","Pombal","ADAL","F",8,266,"Lili Barreiro","NDAP","JUV",3.68,"X","X",3.68,"X"]
["VARA","Sal","Olímpico Jovem Distrital - 1ª Jornada","2022-05-14","Pombal","ADAL","M",1,140,"Rafael Morgado","JV","INI",2.8]
["VARA","Sal","Olímpico Jovem Distrital - 1ª Jornada","2022-05-14","Pombal","ADAL","M",2,89,"Filipe Fernandes","JV","INI",2]
["VARA","Sal","Olímpico Jovem Distrital - 1ª Jornada","2022-05-14","Pombal","ADAL","F",1,132,"Miriam Machado","JV","INI",1.95]
["ALTURA","Sal","Olímpico Jovem Distrital - 1ª Jornada","2022-05-14","Pombal","ADAL","M",1,4,"Gabriel Cunha","GDP-L","INI",1.75]
["ALTURA","Sal","Olímpico Jovem Distrital - 1ª Jornada","2022-05-14","Pombal","ADAL","M",2,157,"Tomás Monteiro","JV","INI",1.57]
["110B091","Vel","Olímpico Jovem Distrital - 1ª Jornada","2022-05-14","Pombal","ADAL","M",1,808,"Miguel Marques","CAMG","JUV",15.18]
["110B091","Vel","Olímpico Jovem Distrital - 1ª Jornada","2022-05-14","Pombal","ADAL","M",2,317,"Bernardo Cunha","GDP-L","JUV",15.52]
["110B091","Vel","Olímpico Jovem Distrital - 1ª Jornada","2022-05-14","Pombal","ADAL","M",3,783,"Alexandre Babych","AAADP","JUV",16]
["100B084","Vel","Olímpico Jovem Distrital - 1ª Jornada","2022-05-14","Pombal","ADAL","M",1,160,"Rafael Dias","JV","INI",17.489999999999998]
["100B076","Vel","Olímpico Jovem Distrital - 1ª Jornada","2022-05-14","Pombal","ADAL","F",1,821,"Margarida Santos","JV","JUV",17.079999999999998]
["100B076","Vel","Olímpico Jovem Distrital - 1ª Jornada","2022-05-14","Pombal","ADAL","F",2,693,"Laura Baltazar","JV","JUV",18.079999999999998]
["100B076","Vel","Olímpico Jovem Distrital - 1ª Jornada","2022-05-14","Pombal","ADAL","F",1,705,"Vera Goucha","JV","JUV",15.23]
["100B076","Vel","Olímpico Jovem Distrital - 1ª Jornada","2022-05-14","Pombal","ADAL","F",2,2,"Sara Brites","JV","JUV",15.93]
["100B076","Vel","Olímpico Jovem Distrital - 1ª Jornada","2022-05-14","Pombal","ADAL","F",3,849,"Sofia Quintino","ACDRA","JUV",16.59]
["100B076","Vel","Olímpico Jovem Distrital - 1ª Jornada","2022-05-14","Pombal","ADAL","F",4,166,"Constança Anunciação","ACB-L","JUV",17.739999999999998]
["80B076","Vel","Olímpico Jovem Distrital - 1ª Jornada","2022-05-14","Pombal","ADAL","F",1,95,"Inês Figueiredo","JV","INI",14.06]
["80B076","Vel","Olímpico Jovem Distrital - 1ª Jornada","2022-05-14","Pombal","ADAL","F",2,241,"Matilde Soares","CAMG","INI",14.61]
["80B076","Vel","Olímpico Jovem Distrital - 1ª Jornada","2022-05-14","Pombal","ADAL","F",3,199,"Neidiceila Tavares","ACB-L","INI",16.03]
["80B076","Vel","Olímpico Jovem Distrital - 1ª Jornada","2022-05-14","Pombal","ADAL","F",4,240,"Matilde Batista","CAMG","INI",16.399999999999999]
["80B076","Vel","Olímpico Jovem Distrital - 1ª Jornada","2022-05-14","Pombal","ADAL","F",5,190,"Mariana Carvalho","ACB-L","INI",17.97]
["QUADINI","Sal","Olímpico Jovem Distrital - 1ª Jornada","2022-05-14","Pombal","ADAL","F",1,105,"Katerina Quinn","JV","INI",13.41,"X",13.07,13.41,13.33]
["QUADINI","Sal","Olímpico Jovem Distrital - 1ª Jornada","2022-05-14","Pombal","ADAL","F",2,384,"Maria Vicente","ACDRA","INI",12.9,12.64,12.9,12.18,12.47]
["QUADINI","Sal","Olímpico Jovem Distrital - 1ª Jornada","2022-05-14","Pombal","ADAL","F",3,241,"Matilde Soares","CAMG","INI",12.5,12.14,12.03,12.5,11.95]
["QUADINI","Sal","Olímpico Jovem Distrital - 1ª Jornada","2022-05-14","Pombal","ADAL","F",4,109,"Leonor Ascenso","JV","INI",12.34,12.34,11.91,12.22,"X"]
["QUADINI","Sal","Olímpico Jovem Distrital - 1ª Jornada","2022-05-14","Pombal","ADAL","F",5,240,"Matilde Batista","CAMG","INI",11.64,10.74,11.15,11.64,"X"]
["QUADINI","Sal","Olímpico Jovem Distrital - 1ª Jornada","2022-05-14","Pombal","ADAL","F",6,899,"Constança Abreu","AAADP","INI",11.53,11.41,11.53,11.33,"X"]
["PESO4","Lan","Olímpico Jovem Distrital - 1ª Jornada","2022-05-14","Pombal","ADAL","M",1,74,"Denis Hrabar","JV","INI",14.79,13.91,"X",14.28,14.79]
["PESO4","Lan","Olímpico Jovem Distrital - 1ª Jornada","2022-05-14","Pombal","ADAL","M",2,89,"Filipe Fernandes","JV","INI",8.1,"X",8,8.1,8.02]
["80","Vel","Olímpico Jovem Distrital - 1ª Jornada","2022-05-14","Pombal","ADAL","M",1,131,"Miguel Barros Campos","JV","INI",9.9600000000000009]
["80","Vel","Olímpico Jovem Distrital - 1ª Jornada","2022-05-14","Pombal","ADAL","M",2,782,"Edgar Gonçalves","AAADP","INI",10.199999999999999]
["80","Vel","Olímpico Jovem Distrital - 1ª Jornada","2022-05-14","Pombal","ADAL","M",3,776,"Pedro Nunes","AAADP","INI",10.220000000000001]
["80","Vel","Olímpico Jovem Distrital - 1ª Jornada","2022-05-14","Pombal","ADAL","M",1,274,"Martim Antunes","NDAP","INI",9.98]
["80","Vel","Olímpico Jovem Distrital - 1ª Jornada","2022-05-14","Pombal","ADAL","M",2,1265,"Cristóvão Gonçalves","AAADP","INI",10.4]
["80","Vel","Olímpico Jovem Distrital - 1ª Jornada","2022-05-14","Pombal","ADAL","M",3,253,"Francisco Mota","NDAP","INI",10.46]
["80","Vel","Olímpico Jovem Distrital - 1ª Jornada","2022-05-14","Pombal","ADAL","M",4,177,"Giuliann Gosseye","ACB-L","INI",13.11]
["80","Vel","Olímpico Jovem Distrital - 1ª Jornada","2022-05-14","Pombal","ADAL","F",1,896,"Eva Marques","AAADP","INI",11.05]
["80","Vel","Olímpico Jovem Distrital - 1ª Jornada","2022-05-14","Pombal","ADAL","F",3,285,"Beatriz Gomes","GAC-L","INI",11.46]
["80","Vel","Olímpico Jovem Distrital - 1ª Jornada","2022-05-14","Pombal","ADAL","F",4,298,"Laura Gomes","GAC-L","INI",11.57]
["80","Vel","Olímpico Jovem Distrital - 1ª Jornada","2022-05-14","Pombal","ADAL","F",5,190,"Mariana Carvalho","ACB-L","INI",12.1]
["80","Vel","Olímpico Jovem Distrital - 1ª Jornada","2022-05-14","Pombal","ADAL","F",6,895,"Ana Simões","AAADP","INI",12.35]
["80","Vel","Olímpico Jovem Distrital - 1ª Jornada","2022-05-14","Pombal","ADAL","F",1,105,"Katerina Quinn","JV","INI",10.3]
["80","Vel","Olímpico Jovem Distrital - 1ª Jornada","2022-05-14","Pombal","ADAL","F",2,149,"Sofia Santos","JV","INI",10.8]
["80","Vel","Olímpico Jovem Distrital - 1ª Jornada","2022-05-14","Pombal","ADAL","F",3,164,"Beatriz Alves","ACB-L","INI",10.98]
["80","Vel","Olímpico Jovem Distrital - 1ª Jornada","2022-05-14","Pombal","ADAL","F",4,199,"Neidiceila Tavares","ACB-L","INI",11.16]
["80","Vel","Olímpico Jovem Distrital - 1ª Jornada","2022-05-14","Pombal","ADAL","F",5,124,"Marta Mestre","JV","INI",11.92]
["80","Vel","Olímpico Jovem Distrital - 1ª Jornada","2022-05-14","Pombal","ADAL","F",6,316,"Benedita Matias","GDP-L","INI",11.98]
["200","Vel","Olímpico Jovem Distrital - 1ª Jornada","2022-05-14","Pombal","ADAL","M",1,690,"João Martins","JV","JUV",23.57]
["200","Vel","Olímpico Jovem Distrital - 1ª Jornada","2022-05-14","Pombal","ADAL","M",2,883,"Ernesto Rodrigues","JV","JUV",24.03]
["200","Vel","Olímpico Jovem Distrital - 1ª Jornada","2022-05-14","Pombal","ADAL","M",3,894,"Bernardo Ferreira","NDAP","JUV",24.31]
["200","Vel","Olímpico Jovem Distrital - 1ª Jornada","2022-05-14","Pombal","ADAL","M",4,943,"Rodrigo Almeida","ACDRA","JUV",24.6]
["200","Vel","Olímpico Jovem Distrital - 1ª Jornada","2022-05-14","Pombal","ADAL","M",1,378,"Hugo Tavares","ACDRA","JUV",23.13]
["200","Vel","Olímpico Jovem Distrital - 1ª Jornada","2022-05-14","Pombal","ADAL","M",2,783,"Alexandre Babych","AAADP","JUV",23.24]
["200","Vel","Olímpico Jovem Distrital - 1ª Jornada","2022-05-14","Pombal","ADAL","M",4,374,"Diogo Chaves","ACDRA","JUV",24.34]
["200","Vel","Olímpico Jovem Distrital - 1ª Jornada","2022-05-14","Pombal","ADAL","M",5,113,"Luca Cruz","JV","JUV",24.38]
["200","Vel","Olímpico Jovem Distrital - 1ª Jornada","2022-05-14","Pombal","ADAL","F",1,336,"Rafaela Pires","GDP-L","JUV",27.29]
["200","Vel","Olímpico Jovem Distrital - 1ª Jornada","2022-05-14","Pombal","ADAL","F",2,370,"Beatriz Gonçalves","ACDRA","JUV",28.74]
["200","Vel","Olímpico Jovem Distrital - 1ª Jornada","2022-05-14","Pombal","ADAL","F",3,872,"Beatriz Luís","JV","JUV",29.97]
["200","Vel","Olímpico Jovem Distrital - 1ª Jornada","2022-05-14","Pombal","ADAL","F",4,166,"Constança Anunciação","ACB-L","JUV",30.32]
["200","Vel","Olímpico Jovem Distrital - 1ª Jornada","2022-05-14","Pombal","ADAL","F",5,277,"Nina Barreiros","NDAP","JUV",32.130000000000003]
["1500","MF","Olímpico Jovem Distrital - 1ª Jornada","2022-05-14","Pombal","ADAL","M",2,320,"Cristovão Monteiro","GDP-L","INI","00:04:44.730"]
["1500","MF","Olímpico Jovem Distrital - 1ª Jornada","2022-05-14","Pombal","ADAL","F",1,189,"Maria Jesus","ACB-L","INI","00:05:05.460"]
["1500","MF","Olímpico Jovem Distrital - 1ª Jornada","2022-05-14","Pombal","ADAL","F",3,372,"Caetana Neves","ACDRA","INI","00:05:18.290"]
["1500","MF","Olímpico Jovem Distrital - 1ª Jornada","2022-05-14","Pombal","ADAL","F",4,297,"Lara Pereira","GAC-L","INI","00:05:21.620"]
["1500","MF","Olímpico Jovem Distrital - 1ª Jornada","2022-05-14","Pombal","ADAL","F",5,1295,"Lara Alho","JV","INI","00:06:01.750"]
["1500O","MF","Olímpico Jovem Distrital - 1ª Jornada","2022-05-14","Pombal","ADAL","M",1,140,"Rafael Morgado","JV","INI","00:05:01.880"]
["1500O","MF","Olímpico Jovem Distrital - 1ª Jornada","2022-05-14","Pombal","ADAL","M",2,766,"Miguel Barros","CANAZ","INI","00:05:16.910"]
["1500O","MF","Olímpico Jovem Distrital - 1ª Jornada","2022-05-14","Pombal","ADAL","M",3,100,"João Fernandes","JV","INI","00:05:20.870"]
["1500O","MF","Olímpico Jovem Distrital - 1ª Jornada","2022-05-14","Pombal","ADAL","F",1,132,"Miriam Machado Reis","JV","INI","00:05:59"]
["4000MX","MX","Olímpico Jovem Distrital - 1ª Jornada","2022-05-14","Pombal","ADAL","M",1,143,"Rodrigo Fidalgo","JV","INI",1.9621180555555555E-2]
["4000MX","MX","Olímpico Jovem Distrital - 1ª Jornada","2022-05-14","Pombal","ADAL","F",1,239,"Matilde Angélico","CAMG","INI",1.5589351851851853E-2]
["4000MX","MX","Olímpico Jovem Distrital - 1ª Jornada","2022-05-14","Pombal","ADAL","F",2,329,"Lara Beato","GDP-L","INI",1.6877199074074072E-2]
["DARDO6","Lan","Olímpico Jovem Distrital - 2ª Jornada","2022-05-15","Pombal","ADAL","M",1,136,"Pedro Almeida","JV","INI",24.94,24.51,24.93,21.58,24.94]
["COMPRIM","Sal","Olímpico Jovem Distrital - 2ª Jornada","2022-05-15","Pombal","ADAL","M",1,4,"Gabriel Cunha","GDP-L","INI",6.19,5.87,5.96,6.19,6.15]
["COMPRIM","Sal","Olímpico Jovem Distrital - 2ª Jornada","2022-05-15","Pombal","ADAL","M",2,79,"Diogo Ramalho","JV","INI",5.27,5.08,4.95,5.08,5.27]
["COMPRIM","Sal","Olímpico Jovem Distrital - 2ª Jornada","2022-05-15","Pombal","ADAL","M",3,1265,"Cristóvão Gonçalves","AAADP","INI",4.95,4.95,"X","X",4.6900000000000004]
["COMPRIM","Sal","Olímpico Jovem Distrital - 2ª Jornada","2022-05-15","Pombal","ADAL","M",4,1245,"Afonso Martins","JV","INI",4.93,"X",4.6399999999999997,4.07,4.93]
["COMPRIM","Sal","Olímpico Jovem Distrital - 2ª Jornada","2022-05-15","Pombal","ADAL","M",5,782,"Edgar Gonçalves","AAADP","INI",4.9000000000000004,4.87,4.54,4.76,4.9000000000000004]
["COMPRIM","Sal","Olímpico Jovem Distrital - 2ª Jornada","2022-05-15","Pombal","ADAL","M",6,770,"Ricardo Santos","CAMG","INI",4.8499999999999996,4.62,4.8499999999999996,"X","X"]
["COMPRIM","Sal","Olímpico Jovem Distrital - 2ª Jornada","2022-05-15","Pombal","ADAL","M",7,462,"Guilherme Sousa","CPRAB","INI",4.57,4.34,4.57,4.53,4.4800000000000004]
["ALTURA","Sal","Olímpico Jovem Distrital - 2ª Jornada","2022-05-15","Pombal","ADAL","F",1,95,"Inês Figueiredo","JV","INI",1.37]
["ALTURA","Sal","Olímpico Jovem Distrital - 2ª Jornada","2022-05-15","Pombal","ADAL","F",2,279,"Oleksandra Sliposhch","NDAP","INI",1.34]
["ALTURA","Sal","Olímpico Jovem Distrital - 2ª Jornada","2022-05-15","Pombal","ADAL","F",3,180,"Joana Seixas","ACB-L","INI",1.34]
["ALTURA","Sal","Olímpico Jovem Distrital - 2ª Jornada","2022-05-15","Pombal","ADAL","F",4,899,"Constança Abreu","AAADP","INI",1.28]
["ALTURA","Sal","Olímpico Jovem Distrital - 2ª Jornada","2022-05-15","Pombal","ADAL","F",5,314,"Alice Varino","GDP-L","INI",1.28]
["PESO3","Lan","Olímpico Jovem Distrital - 2ª Jornada","2022-05-15","Pombal","ADAL","F",1,1062,"Núria Carvalho","CAOB","INI",8.65,8.1300000000000008,8.64,8.1199999999999992,8.65]
["PESO3","Lan","Olímpico Jovem Distrital - 2ª Jornada","2022-05-15","Pombal","ADAL","F",2,150,"Sofiia Chemyrys","JV","INI",8.49,8.48,7.57,8.17,8.49]
["PESO3","Lan","Olímpico Jovem Distrital - 2ª Jornada","2022-05-15","Pombal","ADAL","F",3,331,"Mariana Custódio","GDP-L","INI",7.87,7.64,7.87,7.6,7.64]
["PESO3","Lan","Olímpico Jovem Distrital - 2ª Jornada","2022-05-15","Pombal","ADAL","F",4,59,"Bruna Amaral","JV","INI",7.38,6.91,7.38,6.76,6.99]
["PESO3","Lan","Olímpico Jovem Distrital - 2ª Jornada","2022-05-15","Pombal","ADAL","F",5,239,"Matilde Angélico","CAMG","INI",5.39,5.39,5.13,5.2,4.91]
["250B076","Vel","Olímpico Jovem Distrital - 2ª Jornada","2022-05-15","Pombal","ADAL","F",1,123,"Marta Feliciano","JV","INI",41.24]
["250B076","Vel","Olímpico Jovem Distrital - 2ª Jornada","2022-05-15","Pombal","ADAL","F",2,164,"Beatriz Alves","ACB-L","INI",43.19]
["250B076","Vel","Olímpico Jovem Distrital - 2ª Jornada","2022-05-15","Pombal","ADAL","M",1,157,"Tomás Monteiro","JV","INI",36.4]
["250B076","Vel","Olímpico Jovem Distrital - 2ª Jornada","2022-05-15","Pombal","ADAL","M",2,160,"Rafael Dias","JV","INI",37.56]
["250B076","Vel","Olímpico Jovem Distrital - 2ª Jornada","2022-05-15","Pombal","ADAL","M",4,334,"Matias Ferreira","GDP-L","INI",38.270000000000003]
["250","Vel","Olímpico Jovem Distrital - 2ª Jornada","2022-05-15","Pombal","ADAL","F",1,774,"Marta Carriço","ACDRA","INI",34.11]
["250","Vel","Olímpico Jovem Distrital - 2ª Jornada","2022-05-15","Pombal","ADAL","F",2,384,"Maria Vicente","ACDRA","INI",38.19]
["250","Vel","Olímpico Jovem Distrital - 2ª Jornada","2022-05-15","Pombal","ADAL","M",1,274,"Martim Antunes","NDAP","INI",32.08]
["250","Vel","Olímpico Jovem Distrital - 2ª Jornada","2022-05-15","Pombal","ADAL","M",2,131,"Miguel Barros Campos","JV","INI",32.79]
["250","Vel","Olímpico Jovem Distrital - 2ª Jornada","2022-05-15","Pombal","ADAL","M",3,1245,"Afonso Martins","JV","INI",34.49]
["250","Vel","Olímpico Jovem Distrital - 2ª Jornada","2022-05-15","Pombal","ADAL","M",4,1251,"Santos","NDA","INI",35.71]
["250","Vel","Olímpico Jovem Distrital - 2ª Jornada","2022-05-15","Pombal","ADAL","M",5,462,"Guilherme Sousa","CPRAB","INI",36.51]
["800","MF","Olímpico Jovem Distrital - 2ª Jornada","2022-05-15","Pombal","ADAL","F",1,189,"Maria Jesus","ACB-L","INI","00:02:27.080"]
["800","MF","Olímpico Jovem Distrital - 2ª Jornada","2022-05-15","Pombal","ADAL","F",2,63,"Carolina Ferreira","JV","INI","00:02:28.230"]
["800","MF","Olímpico Jovem Distrital - 2ª Jornada","2022-05-15","Pombal","ADAL","F",3,372,"Caetana Neves","ACDRA","INI","00:02:30.240"]
["800","MF","Olímpico Jovem Distrital - 2ª Jornada","2022-05-15","Pombal","ADAL","F",4,1295,"Lara Alho","JV","INI","00:02:59.810"]
["800","MF","Olímpico Jovem Distrital - 2ª Jornada","2022-05-15","Pombal","ADAL","M",1,995,"Martim Mendes","NDA","INI","00:02:13.350"]
["800","MF","Olímpico Jovem Distrital - 2ª Jornada","2022-05-15","Pombal","ADAL","M",2,253,"Francisco Mota","NDAP","INI","00:02:17.680"]
["800","MF","Olímpico Jovem Distrital - 2ª Jornada","2022-05-15","Pombal","ADAL","M",3,766,"Miguel Barros","CANAZ","INI","00:02:27.890"]
["800","MF","Olímpico Jovem Distrital - 2ª Jornada","2022-05-15","Pombal","ADAL","M",4,733,"Martim Carreira","CAMG","INI","00:03:02.420"]
["PESO5","Lan","Olímpico Jovem Distrital - 2ª Jornada","2022-05-15","Pombal","ADAL","M",1,9,"Francisco Calhau","JV","JUV",13.01,11.85,"X",12.67,13.01]
["PESO5","Lan","Olímpico Jovem Distrital - 2ª Jornada","2022-05-15","Pombal","ADAL","M",2,113,"Luca Cruz","JV","JUV",11.13,8.99,"X","X",11.13]
["PESO5","Lan","Olímpico Jovem Distrital - 2ª Jornada","2022-05-15","Pombal","ADAL","M",3,374,"Diogo Chaves","ACDRA","JUV",8.4,8.4,"X","X","X"]
["ALTURA","Sal","Olímpico Jovem Distrital - 2ª Jornada","2022-05-15","Pombal","ADAL","M",1,317,"Bernardo Cunha","GDP-L","JUV",1.85]
["DARDO5","Lan","Olímpico Jovem Distrital - 2ª Jornada","2022-05-15","Pombal","ADAL","F",1,854,"Eva Varela","CANAZ","JUV",32.65,32.11,31.58,32.65,31.22]
["DARDO5","Lan","Olímpico Jovem Distrital - 2ª Jornada","2022-05-15","Pombal","ADAL","F",2,738,"Beatriz Cordeiro","JV","JUV",31.93,25.3,31.93,28.93,"X"]
["DARDO5","Lan","Olímpico Jovem Distrital - 2ª Jornada","2022-05-15","Pombal","ADAL","F",3,684,"Catarina Silva","JV","JUV",30.17,29.01,29.25,30.17,27.68]
["DARDO5","Lan","Olímpico Jovem Distrital - 2ª Jornada","2022-05-15","Pombal","ADAL","F",4,2,"Sara Brites","JV","JUV",21.87,21.87,"X",21.33,20.8]
["DARDO5","Lan","Olímpico Jovem Distrital - 2ª Jornada","2022-05-15","Pombal","ADAL","F",1,763,"Vanessa Castravet","CANAZ","INI",25.18,23.02,"X",23.76,25.18]
["DARDO5","Lan","Olímpico Jovem Distrital - 2ª Jornada","2022-05-15","Pombal","ADAL","F",2,61,"Camila Patraboy","JV","INI",23.81,23.81,"X",21.53,20.7]
["DARDO5","Lan","Olímpico Jovem Distrital - 2ª Jornada","2022-05-15","Pombal","ADAL","F",3,150,"Sofiia Chemyrys","JV","INI",22.75,"X",21.11,"X",22.75]
["DARDO5","Lan","Olímpico Jovem Distrital - 2ª Jornada","2022-05-15","Pombal","ADAL","F",4,59,"Bruna Amaral","JV","INI",14.98,13.42,14.02,13.99,14.98]
["QUADINI","Sal","Olímpico Jovem Distrital - 2ª Jornada","2022-05-15","Pombal","ADAL","M",1,79,"Diogo Ramalho"," JV","INI",14.49,13.32,13.43,13.51,14.49]
["QUADINI","Sal","Olímpico Jovem Distrital - 2ª Jornada","2022-05-15","Pombal","ADAL","M",2,776,"Pedro Nunes"," AAADP","INI",13.67,13.39,13.67,13.6,13.51]
["QUADINI","Sal","Olímpico Jovem Distrital - 2ª Jornada","2022-05-15","Pombal","ADAL","M",3,334,"Matias Ferreira"," GDP-L","INI",11.97,11.97,11.81,9.61,"X"]
["800","MF","Olímpico Jovem Distrital - 2ª Jornada","2022-05-15","Pombal","ADAL","F",1,82,"Eduarda Silva","JV","JUV","00:02:23.900"]
["800","MF","Olímpico Jovem Distrital - 2ª Jornada","2022-05-15","Pombal","ADAL","F",2,683,"Carlota Ferreira","JV","JUV","00:02:30.300"]
["800","MF","Olímpico Jovem Distrital - 2ª Jornada","2022-05-15","Pombal","ADAL","F",3,146,"Sara Lopes","JV","JUV","00:02:33.430"]
["800","MF","Olímpico Jovem Distrital - 2ª Jornada","2022-05-15","Pombal","ADAL","F",4,897,"Marta Araújo","AAADP","JUV","00:02:41.150"]
["800","MF","Olímpico Jovem Distrital - 2ª Jornada","2022-05-15","Pombal","ADAL","M",1,134,"Nuno Cordeiro","JV","JUV","00:02:03.740"]
["800","MF","Olímpico Jovem Distrital - 2ª Jornada","2022-05-15","Pombal","ADAL","M",2,1100,"Márcio Dias","AE-CA","JUV","00:02:06.590"]
["800","MF","Olímpico Jovem Distrital - 2ª Jornada","2022-05-15","Pombal","ADAL","M",3,141,"Rafael Vieira","JV","JUV","00:02:08.730"]
["800","MF","Olímpico Jovem Distrital - 2ª Jornada","2022-05-15","Pombal","ADAL","M",4,914,"Pedro Rodrigues","NDAP","JUV","00:02:08.860"]
["800","MF","Olímpico Jovem Distrital - 2ª Jornada","2022-05-15","Pombal","ADAL","M",5,375,"Diogo Nogueira","ACDRA","JUV","00:02:13.710"]
["800","MF","Olímpico Jovem Distrital - 2ª Jornada","2022-05-15","Pombal","ADAL","M",6,378,"Hugo Tavares","ACDRA","JUV","00:02:18.420"]
["800","MF","Olímpico Jovem Distrital - 2ª Jornada","2022-05-15","Pombal","ADAL","M",7,572,"Pedro Rocha","CANAZ","JUV","00:02:40.830"]
["400B076","Vel","Olímpico Jovem Distrital - 2ª Jornada","2022-05-15","Pombal","ADAL","M",1,808,"Miguel Marques","CAMG","JUV",56.46]
["VARA","Sal","2.ª Jornada Campeonato Distrital Sub18","2022-05-21","Marinha Grande","ADAL","M",1,317,"Bernardo Cunha","GDP-L","JUV",4]
["VARA","Sal","2.ª Jornada Campeonato Distrital Sub18","2022-05-21","Marinha Grande","ADAL","M",2,74,"Denis Hrabar","JV","INI",3.55]
["VARA","Sal","2.ª Jornada Campeonato Distrital Sub18","2022-05-21","Marinha Grande","ADAL","M",3,113,"Luca Cruz","JV","JUV",3.1]
["DARDO7","Lan","2.ª Jornada Campeonato Distrital Sub18","2022-05-21","Marinha Grande","ADAL","M",1,692,"João Santos","JV","JUV",44.12,39.700000000000003,38.69,40.85,43.76,44.12,40.82]
["DARDO7","Lan","2.ª Jornada Campeonato Distrital Sub18","2022-05-21","Marinha Grande","ADAL","M",2,4,"Gabriel Cunha","GDP-L","INI",42.99,31.89,39.76,40.31,"X","X",42.99]
["DARDO7","Lan","2.ª Jornada Campeonato Distrital Sub18","2022-05-21","Marinha Grande","ADAL","M",3,361,"Rodrigo Silva","CDBBR","JUV",34.85,24.33,23.96,21.83,34.67,34.85,21.73]
["DARDO7","Lan","2.ª Jornada Campeonato Distrital Sub18","2022-05-21","Marinha Grande","ADAL","M",4,160,"Rafael Dias","JV","INI",29.36,29.36,"X","X","X","X","X"]
["DARDO7","Lan","2.ª Jornada Campeonato Distrital Sub18","2022-05-21","Marinha Grande","ADAL","M",5,387,"Rodrigo Martins","ACDRA","INI",15.21,10.9,15.07,14.29,15.21,"X","X"]
["DARDO7","Lan","2.ª Jornada Campeonato Distrital Sub18","2022-05-21","Marinha Grande","ADAL","M",6,1253,"Eduardo Lourenço","NDAP","INI",10.81,7.99,"-",10.81,"-","-","-"]
["DARDO7","Lan","2.ª Jornada Campeonato Distrital Sub18","2022-05-21","Marinha Grande","ADAL","M",7,1252,"André Martins","NDAP","JUV",10.06,10.06,"-",9.2899999999999991,"-","-","-"]
["TRIPLO","Sal","2.ª Jornada Campeonato Distrital Sub18","2022-05-21","Marinha Grande","ADAL","F",1,849,"Sofia Quintino","ACDRA","JUV",11.13,10.81,"X",10.82,10.79,10.87,11.13]
["TRIPLO","Sal","2.ª Jornada Campeonato Distrital Sub18","2022-05-21","Marinha Grande","ADAL","F",2,684,"Catarina Silva","JV","JUV",10.43,10.130000000000001,10.199999999999999,10.210000000000001,10.43,10.210000000000001,10.18]
["TRIPLO","Sal","2.ª Jornada Campeonato Distrital Sub18","2022-05-21","Marinha Grande","ADAL","F",3,384,"Maria Vicente","ACDRA","INI",10.3,10.19,10.28,9.9600000000000009,9.76,10.3,10.119999999999999]
["TRIPLO","Sal","2.ª Jornada Campeonato Distrital Sub18","2022-05-21","Marinha Grande","ADAL","F",4,282,"Vitoria Chornohor","NDAP","JUV",10.220000000000001,10.220000000000001,10,"X",10.119999999999999,"X","X"]
["TRIPLO","Sal","2.ª Jornada Campeonato Distrital Sub18","2022-05-21","Marinha Grande","ADAL","F",5,166,"Constança Anunciação","ACB-L","JUV",9.91,9.68,9.5399999999999991,9.59,9.5399999999999991,9.84,9.91]
["TRIPLO","Sal","2.ª Jornada Campeonato Distrital Sub18","2022-05-21","Marinha Grande","ADAL","F",6,816,"Ana Carvalho","JV","JUV",9.85,"X",9.84,9.44,9.51,"X",9.85]
["TRIPLO","Sal","2.ª Jornada Campeonato Distrital Sub18","2022-05-21","Marinha Grande","ADAL","F",7,380,"Isaura Correia","ACDRA","INI",9.4499999999999993,"X",9.33,9.4499999999999993,9.3800000000000008,"X","X"]
["TRIPLO","Sal","2.ª Jornada Campeonato Distrital Sub18","2022-05-21","Marinha Grande","ADAL","F",8,314,"Alice Varino","GDP-L","INI",9.34,9.34,9.3000000000000007,9.19,"X","X","X"]
["100","Vel","2.ª Jornada Campeonato Distrital Sub18","2022-05-21","Marinha Grande","ADAL","F",1,5,"Beatriz Castelhano","ACDRA","JUV",12.52]
["100","Vel","2.ª Jornada Campeonato Distrital Sub18","2022-05-21","Marinha Grande","ADAL","F",2,336,"Rafaela Pires","GDP-L","JUV",13.04]
["100","Vel","2.ª Jornada Campeonato Distrital Sub18","2022-05-21","Marinha Grande","ADAL","F",3,123,"Marta Feliciano","JV","INI",13.32]
["100","Vel","2.ª Jornada Campeonato Distrital Sub18","2022-05-21","Marinha Grande","ADAL","F",4,298,"Laura Gomes","GAC-L","INI",14.36]
["100","Vel","2.ª Jornada Campeonato Distrital Sub18","2022-05-21","Marinha Grande","ADAL","F",5,86,"Filipa Moita","JV","INI",14.6]
["100","Vel","2.ª Jornada Campeonato Distrital Sub18","2022-05-21","Marinha Grande","ADAL","F",6,266,"Lili Barreiro","NDAP","JUV",15.8]
["100","Vel","2.ª Jornada Campeonato Distrital Sub18","2022-05-21","Marinha Grande","ADAL","F",1,2,"Sara Brites","JV","JUV",13.29]
["100","Vel","2.ª Jornada Campeonato Distrital Sub18","2022-05-21","Marinha Grande","ADAL","F",2,241,"Matilde Soares","CAMG","INI",13.77]
["100","Vel","2.ª Jornada Campeonato Distrital Sub18","2022-05-21","Marinha Grande","ADAL","F",3,693,"Laura Baltazar","JV","JUV",14.64]
["100","Vel","2.ª Jornada Campeonato Distrital Sub18","2022-05-21","Marinha Grande","ADAL","F",4,124,"Marta Mestre","JV","INI",14.71]
["100","Vel","2.ª Jornada Campeonato Distrital Sub18","2022-05-21","Marinha Grande","ADAL","F",5,277,"Nina Barreiros","NDAP","JUV",14.74]
["100","Vel","2.ª Jornada Campeonato Distrital Sub18","2022-05-21","Marinha Grande","ADAL","F",6,190,"Mariana Carvalho","ACB-L","INI",15.19]
["100","Vel","2.ª Jornada Campeonato Distrital Sub18","2022-05-21","Marinha Grande","ADAL","F",7,855,"Jennifer Carvalho","CANAZ","JUV",15.49]
["100","Vel","2.ª Jornada Campeonato Distrital Sub18","2022-05-21","Marinha Grande","ADAL","F",1,109,"Leonor Ascenso","JV","INI",13.41]
["100","Vel","2.ª Jornada Campeonato Distrital Sub18","2022-05-21","Marinha Grande","ADAL","F",2,370,"Beatriz Gonçalves","ACDRA","JUV",13.52]
["100","Vel","2.ª Jornada Campeonato Distrital Sub18","2022-05-21","Marinha Grande","ADAL","F",3,164,"Beatriz Alves","ACB-L","INI",13.66]
["100","Vel","2.ª Jornada Campeonato Distrital Sub18","2022-05-21","Marinha Grande","ADAL","F",4,674,"Sofia Roberto","CAOB","JUV",14.68]
["100","Vel","2.ª Jornada Campeonato Distrital Sub18","2022-05-21","Marinha Grande","ADAL","F",5,159,"Vitória Shybayeva","JV","INI",15.1]
["100","Vel","2.ª Jornada Campeonato Distrital Sub18","2022-05-21","Marinha Grande","ADAL","F",6,1284,"Bárbara Sophia","CANAZ","INI",16.54]
["100","Vel","2.ª Jornada Campeonato Distrital Sub18","2022-05-21","Marinha Grande","ADAL","F",7,1254,"Iara Pataco","NDAP","INI",16.670000000000002]
["100","Vel","2.ª Jornada Campeonato Distrital Sub18","2022-05-21","Marinha Grande","ADAL","F",1,105,"Katerina Quinn","JV","INI",12.83]
["100","Vel","2.ª Jornada Campeonato Distrital Sub18","2022-05-21","Marinha Grande","ADAL","F",2,149,"Sofia Santos","JV","INI",13.39]
["100","Vel","2.ª Jornada Campeonato Distrital Sub18","2022-05-21","Marinha Grande","ADAL","F",3,199,"Neidiceila Tavares","ACB-L","INI",13.71]
["100","Vel","2.ª Jornada Campeonato Distrital Sub18","2022-05-21","Marinha Grande","ADAL","F",4,896,"Eva Marques","AAADP","INI",13.74]
["100","Vel","2.ª Jornada Campeonato Distrital Sub18","2022-05-21","Marinha Grande","ADAL","F",5,95,"Inês Figueiredo","JV","INI",14.12]
["100","Vel","2.ª Jornada Campeonato Distrital Sub18","2022-05-21","Marinha Grande","ADAL","F",6,316,"Benedita Matias","GDP-L","INI",14.74]
["100","Vel","2.ª Jornada Campeonato Distrital Sub18, Extra","2022-05-21","Marinha Grande","ADAL","F",7,297,"Lara Pereira","GAC-L","INI",15.62]
["100","Vel","2.ª Jornada Campeonato Distrital Sub18, Extra","2022-05-21","Marinha Grande","ADAL","F",1,878,"Carolina Gaspar","JV","JUN",13.18]
["100","Vel","2.ª Jornada Campeonato Distrital Sub18, Extra","2022-05-21","Marinha Grande","ADAL","F",2,167,"Diana Duarte","ACB-L","JUN",13.72]
["100","Vel","2.ª Jornada Campeonato Distrital Sub18, Extra","2022-05-21","Marinha Grande","ADAL","F",3,786,"Sofia Gaspar","ACDRA","JUN",15.89]
["100","Vel","2.ª Jornada Campeonato Distrital Sub18","2022-05-21","Marinha Grande","ADAL","M",1,783,"Alexandre Babych","AAADP","JUV",11.4]
["100","Vel","2.ª Jornada Campeonato Distrital Sub18","2022-05-21","Marinha Grande","ADAL","M",2,894,"Bernardo Ferreira","NDAP","JUV",11.69]
["100","Vel","2.ª Jornada Campeonato Distrital Sub18","2022-05-21","Marinha Grande","ADAL","M",3,374,"Diogo Chaves","ACDRA","JUV",11.83]
["100","Vel","2.ª Jornada Campeonato Distrital Sub18","2022-05-21","Marinha Grande","ADAL","M",4,670,"Daniel Esgueira","CAOB","JUV",12.05]
["100","Vel","2.ª Jornada Campeonato Distrital Sub18","2022-05-21","Marinha Grande","ADAL","M",5,131,"Miguel Barros Campos","JV","INI",12.42]
["100","Vel","2.ª Jornada Campeonato Distrital Sub18","2022-05-21","Marinha Grande","ADAL","M",6,253,"Francisco Mota","NDAP","INI",12.92]
["100","Vel","2.ª Jornada Campeonato Distrital Sub18","2022-05-21","Marinha Grande","ADAL","M",7,1126,"Amável Esgaio","CANAZ","JUV",13.03]
["100","Vel","2.ª Jornada Campeonato Distrital Sub18","2022-05-21","Marinha Grande","ADAL","M",1,378,"Hugo Tavares","ACDRA","JUV",11.52]
["100","Vel","2.ª Jornada Campeonato Distrital Sub18","2022-05-21","Marinha Grande","ADAL","M",2,883,"Ernesto Rodrigues","JV","JUV",11.53]
["100","Vel","2.ª Jornada Campeonato Distrital Sub18","2022-05-21","Marinha Grande","ADAL","M",3,776,"Pedro Nunes","AAADP","INI",12.58]
["100","Vel","2.ª Jornada Campeonato Distrital Sub18","2022-05-21","Marinha Grande","ADAL","M",4,133,"Nikita Miroshnyk","JV","INI",13.14]
["100","Vel","2.ª Jornada Campeonato Distrital Sub18","2022-05-21","Marinha Grande","ADAL","M",5,1253,"Eduardo Lourenço","NDAP","INI",16.920000000000002]
["100","Vel","2.ª Jornada Campeonato Distrital Sub18","2022-05-21","Marinha Grande","ADAL","M",1,690,"João Martins","JV","JUV",11.45]
["100","Vel","2.ª Jornada Campeonato Distrital Sub18","2022-05-21","Marinha Grande","ADAL","M",2,943,"Rodrigo Almeida","ACDRA","JUV",11.53]
["100","Vel","2.ª Jornada Campeonato Distrital Sub18","2022-05-21","Marinha Grande","ADAL","M",3,103,"João Mota","JV","INI",11.94]
["100","Vel","2.ª Jornada Campeonato Distrital Sub18","2022-05-21","Marinha Grande","ADAL","M",4,157,"Tomás Monteiro","JV","INI",12.45]
["100","Vel","2.ª Jornada Campeonato Distrital Sub18","2022-05-21","Marinha Grande","ADAL","M",5,924,"Martim Ribeiro","CANAZ","JUV",13.13]
["100","Vel","2.ª Jornada Campeonato Distrital Sub18","2022-05-21","Marinha Grande","ADAL","M",6,1252,"André Martins","NDAP","JUV",13.82]
["100","Vel","2.ª Jornada Campeonato Distrital Sub18, Extra","2022-05-21","Marinha Grande","ADAL","M",1,11,"João Calhau","JV","SUB-23",11.34]
["100","Vel","2.ª Jornada Campeonato Distrital Sub18, Extra","2022-05-21","Marinha Grande","ADAL","M",2,1007,"Floriano Brujan","ACDRA","JUN",11.66]
["100","Vel","2.ª Jornada Campeonato Distrital Sub18, Extra","2022-05-21","Marinha Grande","ADAL","M",3,875,"Bruno Coelho","JV","SEN",11.84]
["100","Vel","2.ª Jornada Campeonato Distrital Sub18, Extra","2022-05-21","Marinha Grande","ADAL","M",4,77,"Diogo Camacho","JV","JUN",11.85]
["100","Vel","2.ª Jornada Campeonato Distrital Sub18, Extra","2022-05-21","Marinha Grande","ADAL","M",5,1045,"Bruno Salustiano","ACDRA","JUN",12.28]
["100","Vel","2.ª Jornada Campeonato Distrital Sub18, Extra","2022-05-21","Marinha Grande","ADAL","M",6,704,"Tiago Pereira","JV","JUN",12.46]
["100","Vel","2.ª Jornada Campeonato Distrital Sub18, Extra","2022-05-21","Marinha Grande","ADAL","M",7,703,"Rafael Pereira","JV","JUN",12.7]
["100","Vel","2.ª Jornada Campeonato Distrital Sub18, Extra","2022-05-21","Marinha Grande","ADAL","M",8,898,"João Santos","GCA","VET 50",13.25]
["2000O","MF","2.ª Jornada Campeonato Distrital Sub18","2022-05-21","Marinha Grande","ADAL","F",1,683,"Carlota Ferreira","JV","JUV","00:08:24.210"]
["2000O","MF","2.ª Jornada Campeonato Distrital Sub18","2022-05-21","Marinha Grande","ADAL","F",2,897,"Marta Araújo","AAADP","JUV","00:08:58.440"]
["2000O","MF","2.ª Jornada Campeonato Distrital Sub18","2022-05-21","Marinha Grande","ADAL","M",1,152,"Tiago Jorge","JV","JUV","00:06:33.660"]
["2000O","MF","2.ª Jornada Campeonato Distrital Sub18","2022-05-21","Marinha Grande","ADAL","M",2,914,"Pedro Rodrigues","NDAP","JUV","00:06:44.770"]
["DARDO5","Lan","2.ª Jornada Campeonato Distrital Sub18","2022-05-21","Marinha Grande","ADAL","F",1,854,"Eva Varela","CANAZ","JUV",33.229999999999997,31.78,32.61,33.229999999999997,32.32,"X","X"]
["DARDO5","Lan","2.ª Jornada Campeonato Distrital Sub18","2022-05-21","Marinha Grande","ADAL","F",2,705,"Vera Goucha","JV","JUV",31.41,31.41,30.8,24.05,28.43,29.86,"X"]
["DARDO5","Lan","2.ª Jornada Campeonato Distrital Sub18","2022-05-21","Marinha Grande","ADAL","F",3,738,"Beatriz Cordeiro","JV","JUV",31.12,"X",31.12,"X","X","X",26.67]
["DARDO5","Lan","2.ª Jornada Campeonato Distrital Sub18","2022-05-21","Marinha Grande","ADAL","F",4,61,"Camila Patraboy","JV","INI",24.91,23.22,20.48,21.89,24.91,23.58,18.329999999999998]
["DARDO5","Lan","2.ª Jornada Campeonato Distrital Sub18","2022-05-21","Marinha Grande","ADAL","F",5,382,"Leonor Belchior","ACDRA","JUV",18.89,14.34,15.37,18.89,16.16,18.14,15.27]
["DARDO5","Lan","2.ª Jornada Campeonato Distrital Sub18","2022-05-21","Marinha Grande","ADAL","F",6,1062,"Núria Carvalho","CAOB","INI",18.489999999999998,14.03,15.41,16.38,"X",17.649999999999999,18.489999999999998]
["DARDO5","Lan","2.ª Jornada Campeonato Distrital Sub18","2022-05-21","Marinha Grande","ADAL","F",7,318,"Carina Marto","GDP-L","INI",14.96,"X",13.92,14.96,11.56,10.08,11.01]
["DARDO5","Lan","2.ª Jornada Campeonato Distrital Sub18","2022-05-21","Marinha Grande","ADAL","F",8,297,"Lara Pereira","GAC-L","INI",14.48,13.65,13.65,14.48,12.68,13.26,10.48]
["DARDO5","Lan","2.ª Jornada Campeonato Distrital Sub18","2022-05-21","Marinha Grande","ADAL","F",9,298,"Laura Gomes","GAC-L","INI",14.31,12.87,10.49,14.31]
["DARDO5","Lan","2.ª Jornada Campeonato Distrital Sub18","2022-05-21","Marinha Grande","ADAL","F",10,279,"Oleksandra Sliposhch","NDAP","INI",13.79,13.79,13.73,"X"]
["DARDO5","Lan","2.ª Jornada Campeonato Distrital Sub18","2022-05-21","Marinha Grande","ADAL","F",11,331,"Mariana Custódio","GDP-L","INI",13.52,"X","X",13.52]
["DARDO5","Lan","2.ª Jornada Campeonato Distrital Sub18","2022-05-21","Marinha Grande","ADAL","F",12,1254,"Iara Pataco","NDAP","INI",13.22,12.01,9.49,13.22]
["DARDO5","Lan","2.ª Jornada Campeonato Distrital Sub18","2022-05-21","Marinha Grande","ADAL","F",13,314,"Alice Varino","GDP-L","INI",12.85,12.39,12.85,12.67]
["DARDO5","Lan","2.ª Jornada Campeonato Distrital Sub18","2022-05-21","Marinha Grande","ADAL","F",14,1008,"Maria Inês Silva","ACDRA","INI",11.63,10.83,11.63,11.62]
["100","Vel","2.ª Jornada Campeonato Distrital Sub18","2022-05-21","Marinha Grande","ADAL","F",1,5,"Beatriz Castelhano","ACDRA","JUV",12.45]
["100","Vel","2.ª Jornada Campeonato Distrital Sub18","2022-05-21","Marinha Grande","ADAL","F",2,105,"Katerina Quinn","JV","INI",12.79]
["100","Vel","2.ª Jornada Campeonato Distrital Sub18","2022-05-21","Marinha Grande","ADAL","F",3,336,"Rafaela Pires","GDP-L","JUV",13.2]
["100","Vel","2.ª Jornada Campeonato Distrital Sub18","2022-05-21","Marinha Grande","ADAL","F",4,2,"Sara Brites","JV","JUV",13.29]
["100","Vel","2.ª Jornada Campeonato Distrital Sub18","2022-05-21","Marinha Grande","ADAL","F",5,123,"Marta Feliciano","JV","INI",13.4]
["100","Vel","2.ª Jornada Campeonato Distrital Sub18","2022-05-21","Marinha Grande","ADAL","F",6,149,"Sofia Santos","JV","INI",13.44]
["100","Vel","2.ª Jornada Campeonato Distrital Sub18","2022-05-21","Marinha Grande","ADAL","F",7,109,"Leonor Ascenso","JV","INI",13.5]
["100","Vel","2.ª Jornada Campeonato Distrital Sub18","2022-05-21","Marinha Grande","ADAL","F",8,370,"Beatriz Gonçalves","ACDRA","JUV",13.62]
["100","Vel","2.ª Jornada Campeonato Distrital Sub18","2022-05-21","Marinha Grande","ADAL","M",1,378,"Hugo Tavares","ACDRA","JUV",11.39]
["100","Vel","2.ª Jornada Campeonato Distrital Sub18","2022-05-21","Marinha Grande","ADAL","M",2,690,"João Martins","JV","JUV",11.46]
["100","Vel","2.ª Jornada Campeonato Distrital Sub18","2022-05-21","Marinha Grande","ADAL","M",3,943,"Rodrigo Almeida","ACDRA","JUV",11.53]
["100","Vel","2.ª Jornada Campeonato Distrital Sub18","2022-05-21","Marinha Grande","ADAL","M",4,894,"Bernardo Ferreira","NDAP","JUV",11.63]
["100","Vel","2.ª Jornada Campeonato Distrital Sub18","2022-05-21","Marinha Grande","ADAL","M",5,883,"Ernesto Rodrigues","JV","JUV",11.65]
["100","Vel","2.ª Jornada Campeonato Distrital Sub18","2022-05-21","Marinha Grande","ADAL","M",6,374,"Diogo Chaves","ACDRA","JUV",11.82]
["100","Vel","2.ª Jornada Campeonato Distrital Sub18","2022-05-21","Marinha Grande","ADAL","M",7,103,"João Mota","JV","INI",11.97]
["4X100","Vel","2.ª Jornada Campeonato Distrital Sub18","2022-05-21","Marinha Grande","ADAL","F",1,9001,"JV A","JV","JUV",50.29]
["4X100","Vel","2.ª Jornada Campeonato Distrital Sub18","2022-05-21","Marinha Grande","ADAL","F",2,10384,"A C D R ARNEIRENSE","ACDRA","JUV",51.94]
["4X100","Vel","2.ª Jornada Campeonato Distrital Sub18","2022-05-21","Marinha Grande","ADAL","F",3,9002,"JV B","JV","JUV",54.46]
["4X100","Vel","2.ª Jornada Campeonato Distrital Sub18","2022-05-21","Marinha Grande","ADAL","F",4,10164,"ATLÉTICO C BATALHA","ACB-L","JUV",54.69]
["4X100","Vel","2.ª Jornada Campeonato Distrital Sub18","2022-05-21","Marinha Grande","ADAL","F",5,10769,"C A MARINHA GRANDE","CAMG","JUV",54.76]
["4X100","Vel","2.ª Jornada Campeonato Distrital Sub18","2022-05-21","Marinha Grande","ADAL","F",6,9003,"JV C","JV","JUV",55.73]
["4X100","Vel","2.ª Jornada Campeonato Distrital Sub18","2022-05-21","Marinha Grande","ADAL","F",7,10855,"C ATLETISMO NAZARÉ","CANAZ","JUV",60.74]
["4X100","Vel","2.ª Jornada Campeonato Distrital Sub18","2022-05-21","Marinha Grande","ADAL","M",1,10943,"A C D R ARNEIRENSE","ACDRA","JUV",45.07]
["4X100","Vel","2.ª Jornada Campeonato Distrital Sub18","2022-05-21","Marinha Grande","ADAL","M",2,8001,"JV A","JV","JUV",45.13]
["4X100","Vel","2.ª Jornada Campeonato Distrital Sub18","2022-05-21","Marinha Grande","ADAL","M",3,8002,"JV B","JV","JUV",48.97]
["4X100","Vel","2.ª Jornada Campeonato Distrital Sub18","2022-05-21","Marinha Grande","ADAL","M",4,10924,"C ATLETISMO NAZARÉ","CANAZ","JUV",54.45]
["400B076","Vel","Meeting Fernando Alves","2022-05-21","Marinha Grande","CAMG","M",2,808,"Miguel Marques","CAMG","JUV",56.03]
["400B076","Vel","Meeting Fernando Alves","2022-05-21","Marinha Grande","CAMG","M",3,519,"Edson Dias","ACB-L","JUV",60.87]
["MARTEL4","Lan","Meeting Fernando Alves","2022-05-21","Marinha Grande","CAMG","F",3,811,"Inaya Yayo","CANAZ","JUV",39.799999999999997,39.799999999999997,39.450000000000003,"X","X","X","X"]
["MARTEL4","Lan","Meeting Fernando Alves","2022-05-21","Marinha Grande","CAMG","F",5,874,"Beatriz Silva","JV","JUN",35.729999999999997,35.270000000000003,35.729999999999997,"X",35.15,34.590000000000003,"X"]
["MARTEL7","Lan","Meeting Fernando Alves","2022-05-21","Marinha Grande","CAMG","M",1,807,"Miguel Carreira","CAMG","SEN",67.63,"X",65.52,66.510000000000005,63.86,65.64,67.63]
["MARTEL7","Lan","Meeting Fernando Alves","2022-05-21","Marinha Grande","CAMG","M",2,876,"Carlos Malaquias","JV","SUB-23",52.3,49.7,50.94,"X","X",52.3,52.25]
["VARA","Sal","Meeting Fernando Alves","2022-05-21","Marinha Grande","CAMG","F",2,682,"Bruna Santos","JV","JUN",3.15]
["VARA","Sal","Meeting Fernando Alves","2022-05-21","Marinha Grande","CAMG","F",5,211,"Vera Duque","ACB-L","JUN",2]
["400B076","Vel","Meeting Fernando Alves","2022-05-21","Marinha Grande","CAMG","F",1,821,"Margarida Santos","JV","JUV","70.42"]
["3000O","MF","Meeting Fernando Alves","2022-05-21","Marinha Grande","CAMG","F",2,111,"Lília Martins","JV","SEN","00:10:59.030"]
["3000O","MF","Meeting Fernando Alves","2022-05-21","Marinha Grande","CAMG","M",4,595,"Licínio Silva","GAUB","SEN","00:10:36.730"]
["3000O","MF","Meeting Fernando Alves","2022-05-21","Marinha Grande","CAMG","M",5,852,"Bruno Branco","CANAZ","JUN","00:11:25.950"]
["3000O","MF","Meeting Fernando Alves","2022-05-21","Marinha Grande","CAMG","M",6,752,"Rodrigo Feteira","GAUB","JUN","00:12:10.820"]
["PESO4","Lan","Meeting Fernando Alves","2022-05-21","Marinha Grande","CAMG","F",1,905,"Inês Carreira","JV","SUB-23",12.88,12.46,12.88,12.55,12.62,"X",12.65]
["PESO4","Lan","Meeting Fernando Alves","2022-05-21","Marinha Grande","CAMG","F",2,142,"Raquel Lourenço","JV","SEN",9.0500000000000007,8.66,8.7200000000000006,8.51,9.0500000000000007,8.68,8.91]
["ALTURA","Sal","Meeting Fernando Alves","2022-05-21","Marinha Grande","CAMG","M",2,871,"André Petriv","JV","JUN",1.82]
["ALTURA","Sal","Meeting Fernando Alves","2022-05-21","Marinha Grande","CAMG","M",3,810,"Dorin Repesciuc","CANAZ","SUB-23",1.72]
["TRIPLO","Sal","Meeting Fernando Alves","2022-05-21","Marinha Grande","CAMG","F",3,820,"Margarida Santos","JV","JUN",11.96,11,"-",11.96,"-","-","-"]
["TRIPLO","Sal","Meeting Fernando Alves","2022-05-21","Marinha Grande","CAMG","F",4,818,"Eduarda Ferreira","JV","SUB-23",11.73,"X",11.73,11.26,"X","X","X"]
["TRIPLO","Sal","Meeting Fernando Alves","2022-05-21","Marinha Grande","CAMG","F",6,817,"Ana Reis","JV","JUN",10.83,10.74,10.83,10.8,10.67,"X","X"]
["200","Vel","Meeting Fernando Alves","2022-05-21","Marinha Grande","CAMG","M",3,1233,"Hélio Pedroso","CANAZ","JUN",23.92]
["200","Vel","Meeting Fernando Alves","2022-05-21","Marinha Grande","CAMG","M",4,853,"Eduardo Agualusa","CANAZ","JUN",24.26]
["200","Vel","Meeting Fernando Alves","2022-05-21","Marinha Grande","CAMG","M",6,588,"Duarte Neves","GAUB","JUN",24.56]
["200","Vel","Meeting Fernando Alves","2022-05-21","Marinha Grande","CAMG","M",7,1298,"Rodrigo Agostinho","CAMG","SUB-23",24.86]
["200","Vel","Meeting Fernando Alves","2022-05-21","Marinha Grande","CAMG","M",5,875,"Bruno Coelho","JV","SEN",24.82]
["DARDO6","Lan","Meeting Fernando Alves","2022-05-21","Marinha Grande","CAMG","F",1,7,"Carolina Caseiro","JV","JUN",35.99,33.270000000000003,35.840000000000003,34.65,35.99,35.090000000000003]
["DARDO6","Lan","Meeting Fernando Alves","2022-05-21","Marinha Grande","CAMG","F",2,905,"Inês Carreira","JV","SUB-23",35.53,33.42,33.880000000000003,"X",35.53,32.75,34.68]
["DARDO6","Lan","Meeting Fernando Alves","2022-05-21","Marinha Grande","CAMG","F",3,346,"Carolina Patrício","CDBBR","SUB-23",32.71,31.17,29.45,"X",32.71,"X",30.72]
["110B106","Vel","Meeting Fernando Alves","2022-05-21","Marinha Grande","CAMG","M",2,1087,"José Pedro Francisco","CANAZ","JUN",22.03]
["100B084","Vel","Meeting Fernando Alves","2022-05-21","Marinha Grande","CAMG","F",1,142,"Raquel Lourenço","JV","SEN",14.4]
["1500","MF","Meeting Fernando Alves","2022-05-21","Marinha Grande","CAMG","M",10,667,"Bruno Gonçalves","CAMG","VET 35","00:04:20.090"]
["1500","MF","Meeting Fernando Alves","2022-05-21","Marinha Grande","CAMG","M",11,504,"Rodrigo Ribeiro","NDA","JUN","00:04:23.280"]
["1500","MF","Meeting Fernando Alves","2022-05-21","Marinha Grande","CAMG","M",12,227,"Emamuel Cardoso","CAMG","SEN","00:04:23.960"]
["1500","MF","Meeting Fernando Alves","2022-05-21","Marinha Grande","CAMG","M",13,1100,"Márcio Dias","AE-CA","JUV","00:04:27.280"]
["PESO6","Lan","Meeting Fernando Alves","2022-05-21","Marinha Grande","CAMG","M",1,560,"David Pereira","CAMG","JUN",13.45,12.53,13.28,12.84,13.45,13.44,12.1]
["PESO6","Lan","Meeting Fernando Alves","2022-05-21","Marinha Grande","CAMG","M",2,321,"Daniel Raposo","GDP-L","JUN",11.37,8.0299999999999994,11.37,11.23,"X",10.91,9.36]
["PESO6","Lan","Meeting Fernando Alves","2022-05-21","Marinha Grande","CAMG","M",3,871,"André Petriv","JV","JUN",11.13,10.38,11.13,10.73,10.52,"X",11.01]
["1500","MF","Meeting Fernando Alves","2022-05-21","Marinha Grande","CAMG","F",2,82,"Eduarda Silva","JV","JUV","00:05:07.500"]
["DISCO20","Lan","Meeting Fernando Alves","2022-05-21","Marinha Grande","CAMG","M",5,1077,"João Domingues","JV","SEN",40.14,39.01,40.14,"X","X","X","X"]
["DISCO20","Lan","Meeting Fernando Alves","2022-05-21","Marinha Grande","CAMG","M",6,13,"Diogo Meneses","JV","SUB-23",32.19,"X",31.16,32.19,31.97,32.14,"X"]
["TRIPLO","Sal","Meeting Fernando Alves","2022-05-21","Marinha Grande","CAMG","M",8,214,"André Rodrigues","CAMG","JUN",12.56,12.24,12.56,"X","X",12.45,"X"]
["100B084","Vel","Meeting Fernando Alves","2022-05-21","Marinha Grande","CAMG","F",2,142,"Raquel Lourenço","JV","SEN",14.83]
["200","Vel","Meeting Fernando Alves","2022-05-21","Marinha Grande","CAMG","M",5,1233,"Hélio Pedroso","CANAZ","JUN",23.78]
["200","Vel","Meeting Fernando Alves","2022-05-21","Marinha Grande","CAMG","M",7,853,"Eduardo Agualusa","CANAZ","JUN",24.23]
["PESO5","Lan","3.ª Jornada Campeonato Distrital Sub18","2022-05-22","Marinha Grande","ADAL","M",1,4,"Gabriel Cunha","GDP-L","INI",12.66,11.91,11.92,12.38,11.58,12.66,12]
["PESO5","Lan","3.ª Jornada Campeonato Distrital Sub18","2022-05-22","Marinha Grande","ADAL","M",2,74,"Denis Hrabar","JV","INI",12.43,11.58,11.46,12.35,12.43,11.67,11.77]
["PESO5","Lan","3.ª Jornada Campeonato Distrital Sub18","2022-05-22","Marinha Grande","ADAL","M",3,670,"Daniel Esgueira","CAOB","JUV",8.44,7.39,7.78,7.6,8.44,"-","-"]
["PESO5","Lan","3.ª Jornada Campeonato Distrital Sub18","2022-05-22","Marinha Grande","ADAL","M",4,785,"Carlos Santos","ACDRA","JUV",7.9,6.73,7.08,7.27,7.75,7.9,"X"]
["PESO5","Lan","3.ª Jornada Campeonato Distrital Sub18","2022-05-22","Marinha Grande","ADAL","M",6,1252,"André Martins","NDAP","JUV",7.22,"X",7.22,"X",5.77,"X",6.27]
["PESO5","Lan","3.ª Jornada Campeonato Distrital Sub18","2022-05-22","Marinha Grande","ADAL","M",7,1299,"Eliel","CANAZ","INI",6.96,6.65,6.84,6.63,6.81,6.77,6.96]
["PESO5","Lan","3.ª Jornada Campeonato Distrital Sub18","2022-05-22","Marinha Grande","ADAL","M",8,1253,"Eduardo Lourenço","NDAP","INI",4.9000000000000004,4.5199999999999996,4.62,4.4800000000000004,4.18,4.53,4.9000000000000004]
["TRIPLO","Sal","3.ª Jornada Campeonato Distrital Sub18","2022-05-22","Marinha Grande","ADAL","M",1,808,"Miguel Marques","CAMG","JUV",13.06,12.75,13.06,13.06,"-","-","-"]
["TRIPLO","Sal","3.ª Jornada Campeonato Distrital Sub18","2022-05-22","Marinha Grande","ADAL","M",2,374,"Diogo Chaves","ACDRA","JUV",12.9,"X",12.82,12.9,12.87,12.58,12.87]
["TRIPLO","Sal","3.ª Jornada Campeonato Distrital Sub18","2022-05-22","Marinha Grande","ADAL","M",3,157,"Tomás Monteiro","JV","INI",10.9,10.9,10.64,"X","-","-","-"]
["TRIPLO","Sal","3.ª Jornada Campeonato Distrital Sub18","2022-05-22","Marinha Grande","ADAL","M",4,776,"Pedro Nunes","AAADP","INI",10.38,10.38,10.039999999999999,10.25,10.19,9.85,"X"]
["200","Vel","3.ª Jornada Campeonato Distrital Sub18","2022-05-22","Marinha Grande","ADAL","F",1,149,"Sofia Santos","JV","INI",28.08]
["200","Vel","3.ª Jornada Campeonato Distrital Sub18","2022-05-22","Marinha Grande","ADAL","F",2,298,"Laura Gomes","GAC-L","INI",29.78]
["200","Vel","3.ª Jornada Campeonato Distrital Sub18","2022-05-22","Marinha Grande","ADAL","F",3,166,"Constança Anunciação","ACB-L","JUV",30.1]
["200","Vel","3.ª Jornada Campeonato Distrital Sub18","2022-05-22","Marinha Grande","ADAL","F",4,674,"Sofia Roberto","CAOB","JUV",31.1]
["200","Vel","3.ª Jornada Campeonato Distrital Sub18","2022-05-22","Marinha Grande","ADAL","F",5,895,"Ana Simões","AAADP","INI",31.64]
["200","Vel","3.ª Jornada Campeonato Distrital Sub18","2022-05-22","Marinha Grande","ADAL","F",6,380,"Isaura Correia","ACDRA","INI",31.65]
["200","Vel","3.ª Jornada Campeonato Distrital Sub18","2022-05-22","Marinha Grande","ADAL","F",7,1009,"Magda Vieira","ACDRA","JUV",32.68]
["200","Vel","3.ª Jornada Campeonato Distrital Sub18","2022-05-22","Marinha Grande","ADAL","F",1,896,"Eva Marques","AAADP","INI",28.77]
["200","Vel","3.ª Jornada Campeonato Distrital Sub18","2022-05-22","Marinha Grande","ADAL","F",2,811,"Inaya Yayo","CANAZ","JUV",30.44]
["200","Vel","3.ª Jornada Campeonato Distrital Sub18","2022-05-22","Marinha Grande","ADAL","F",3,53,"Anabela Silva","JV","JUV",30.81]
["200","Vel","3.ª Jornada Campeonato Distrital Sub18","2022-05-22","Marinha Grande","ADAL","F",4,277,"Nina Barreiros","NDAP","JUV",31.41]
["200","Vel","3.ª Jornada Campeonato Distrital Sub18","2022-05-22","Marinha Grande","ADAL","F",5,316,"Benedita Matias","GDP-L","INI",32.17]
["200","Vel","3.ª Jornada Campeonato Distrital Sub18","2022-05-22","Marinha Grande","ADAL","F",6,855,"Jennifer Carvalho","CANAZ","JUV",32.58]
["200","Vel","3.ª Jornada Campeonato Distrital Sub18","2022-05-22","Marinha Grande","ADAL","F",7,1284,"Bárbara Sophia","CANAZ","INI",34.86]
["200","Vel","3.ª Jornada Campeonato Distrital Sub18","2022-05-22","Marinha Grande","ADAL","F",1,105,"Katerina Quinn","JV","INI",26.72]
["200","Vel","3.ª Jornada Campeonato Distrital Sub18","2022-05-22","Marinha Grande","ADAL","F",2,336,"Rafaela Pires","GDP-L","JUV",27.06]
["200","Vel","3.ª Jornada Campeonato Distrital Sub18","2022-05-22","Marinha Grande","ADAL","F",3,370,"Beatriz Gonçalves","ACDRA","JUV",28.64]
["200","Vel","3.ª Jornada Campeonato Distrital Sub18","2022-05-22","Marinha Grande","ADAL","F",4,821,"Margarida Santos","JV","JUV",28.67]
["200","Vel","3.ª Jornada Campeonato Distrital Sub18","2022-05-22","Marinha Grande","ADAL","F",5,384,"Maria Vicente","ACDRA","INI",29.88]
["200","Vel","3.ª Jornada Campeonato Distrital Sub18","2022-05-22","Marinha Grande","ADAL","F",6,872,"Beatriz Luís","JV","JUV",30.04]
["200","Vel","3.ª Jornada Campeonato Distrital Sub18","2022-05-22","Marinha Grande","ADAL","F",1,699,"Mariana Videira","JV","JUN",26.72]
["VARA","Sal","3.ª Jornada Campeonato Distrital Sub18","2022-05-22","Marinha Grande","ADAL","F",1,85,"Filipa Dinis","JV","JUV",2.85]
["VARA","Sal","3.ª Jornada Campeonato Distrital Sub18","2022-05-22","Marinha Grande","ADAL","F",2,684,"Catarina Silva","JV","JUV",2.4]
["VARA","Sal","3.ª Jornada Campeonato Distrital Sub18","2022-05-22","Marinha Grande","ADAL","F",3,816,"Ana Carvalho","JV","JUV",2.2000000000000002]
["VARA","Sal","3.ª Jornada Campeonato Distrital Sub18","2022-05-22","Marinha Grande","ADAL","F",4,693,"Laura Baltazar","JV","JUV",2.2000000000000002]
["VARA","Sal","3.ª Jornada Campeonato Distrital Sub18","2022-05-22","Marinha Grande","ADAL","F",5,95,"Inês Figueiredo","JV","INI",2.1]
["VARA","Sal","3.ª Jornada Campeonato Distrital Sub18","2022-05-22","Marinha Grande","ADAL","F",6,132,"Miriam Machado","JV","INI",1.95]
["200","Vel","3.ª Jornada Campeonato Distrital Sub18","2022-05-22","Marinha Grande","ADAL","M",2,670,"Daniel Esgueira","CAOB","JUV",25.72]
["200","Vel","3.ª Jornada Campeonato Distrital Sub18","2022-05-22","Marinha Grande","ADAL","M",3,253,"Francisco Mota","NDAP","INI",26.02]
["200","Vel","3.ª Jornada Campeonato Distrital Sub18","2022-05-22","Marinha Grande","ADAL","M",4,387,"Rodrigo Martins","ACDRA","INI",30.86]
["200","Vel","3.ª Jornada Campeonato Distrital Sub18","2022-05-22","Marinha Grande","ADAL","M",1,317,"Bernardo Cunha","GDP-L","JUV",23.91]
["200","Vel","3.ª Jornada Campeonato Distrital Sub18","2022-05-22","Marinha Grande","ADAL","M",2,519,"Edson Dias","ACB-L","JUV",24.48]
["200","Vel","3.ª Jornada Campeonato Distrital Sub18","2022-05-22","Marinha Grande","ADAL","M",3,131,"Miguel Barros Campos","JV","INI",25.79]
["200","Vel","3.ª Jornada Campeonato Distrital Sub18","2022-05-22","Marinha Grande","ADAL","M",4,1126,"Amável Esgaio","CANAZ","JUV",26.17]
["200","Vel","3.ª Jornada Campeonato Distrital Sub18","2022-05-22","Marinha Grande","ADAL","M",5,924,"Martim Ribeiro","CANAZ","JUV",26.96]
["200","Vel","3.ª Jornada Campeonato Distrital Sub18","2022-05-22","Marinha Grande","ADAL","M",6,1245,"Afonso Martins","JV","INI",27.2]
["200","Vel","3.ª Jornada Campeonato Distrital Sub18","2022-05-22","Marinha Grande","ADAL","M",1,783,"Alexandre Babych","AAADP","JUV",22.97]
["200","Vel","3.ª Jornada Campeonato Distrital Sub18","2022-05-22","Marinha Grande","ADAL","M",2,378,"Hugo Tavares","ACDRA","JUV",23.42]
["200","Vel","3.ª Jornada Campeonato Distrital Sub18","2022-05-22","Marinha Grande","ADAL","M",3,894,"Bernardo Ferreira","NDAP","JUV",23.78]
["200","Vel","3.ª Jornada Campeonato Distrital Sub18","2022-05-22","Marinha Grande","ADAL","M",4,808,"Miguel Marques","CAMG","JUV",23.81]
["200","Vel","3.ª Jornada Campeonato Distrital Sub18","2022-05-22","Marinha Grande","ADAL","M",5,943,"Rodrigo Almeida","ACDRA","JUV",23.97]
["200","Vel","3.ª Jornada Campeonato Distrital Sub18","2022-05-22","Marinha Grande","ADAL","M",6,883,"Ernesto Rodrigues","JV","JUV",24.25]
["200","Vel","3.ª Jornada Campeonato Distrital Sub18","2022-05-22","Marinha Grande","ADAL","M",7,113,"Luca Cruz","JV","JUV",24.59]
["200","Vel","3.ª Jornada Campeonato Distrital Sub18, Extra","2022-05-22","Marinha Grande","ADAL","M",1,1007,"Floriano Brujan","ACDRA","JUN",24.66]
["200","Vel","3.ª Jornada Campeonato Distrital Sub18, Extra","2022-05-22","Marinha Grande","ADAL","M",2,1124,"Duarte Portugal","CANAZ","JUN",26.27]
["200","Vel","3.ª Jornada Campeonato Distrital Sub18, Extra","2022-05-22","Marinha Grande","ADAL","M",3,1010,"Miguel Calado","BA","SEN",26.73]
["200","Vel","3.ª Jornada Campeonato Distrital Sub18, Extra","2022-05-22","Marinha Grande","ADAL","M",4,1129,"Gustavo Portugal","CANAZ","JUN",27.86]
["1500","MF","3.ª Jornada Campeonato Distrital Sub18","2022-05-22","Marinha Grande","ADAL","F",1,189,"Maria Jesus","ACB-L","INI","00:05:08.430"]
["1500","MF","3.ª Jornada Campeonato Distrital Sub18","2022-05-22","Marinha Grande","ADAL","F",2,372,"Caetana Neves","ACDRA","INI","00:05:14.200"]
["1500","MF","3.ª Jornada Campeonato Distrital Sub18","2022-05-22","Marinha Grande","ADAL","F",3,146,"Sara Lopes","JV","JUV","00:05:26.570"]
["1500","MF","3.ª Jornada Campeonato Distrital Sub18","2022-05-22","Marinha Grande","ADAL","F",4,897,"Marta Araújo","AAADP","JUV","00:05:48.030"]
["1500","MF","3.ª Jornada Campeonato Distrital Sub18","2022-05-22","Marinha Grande","ADAL","M",1,152,"Tiago Jorge","JV","JUV","00:04:23.350"]
["1500","MF","3.ª Jornada Campeonato Distrital Sub18","2022-05-22","Marinha Grande","ADAL","M",2,1100,"Márcio Dias","AE-CA","JUV","00:04:28.770"]
["1500","MF","3.ª Jornada Campeonato Distrital Sub18","2022-05-22","Marinha Grande","ADAL","M",3,141,"Rafael Vieira","JV","JUV","00:04:29.920"]
["1500","MF","3.ª Jornada Campeonato Distrital Sub18","2022-05-22","Marinha Grande","ADAL","M",4,108,"Leonardo Jacinto","JV","JUV","00:04:33.920"]
["1500","MF","3.ª Jornada Campeonato Distrital Sub18","2022-05-22","Marinha Grande","ADAL","M",6,766,"Miguel Barros","CANAZ","INI","00:04:59.340"]
["1500","MF","3.ª Jornada Campeonato Distrital Sub18","2022-05-22","Marinha Grande","ADAL","M",7,100,"João Fernandes","JV","INI","00:05:12"]
["1500","MF","3.ª Jornada Campeonato Distrital Sub18","2022-05-22","Marinha Grande","ADAL","M",8,466,"Miguel Ferreira","CPRAB","INI","00:05:13.820"]
["1500","MF","3.ª Jornada Campeonato Distrital Sub18","2022-05-22","Marinha Grande","ADAL","M",9,848,"Francisco Figueirôa","ACDRA","JUV","00:05:39.480"]
["1500","MF","3.ª Jornada Campeonato Distrital Sub18, Extra","2022-05-22","Marinha Grande","ADAL","M",1,158,"Tomás Palma","JV","SUB-23","00:04:25.970"]
["PESO3","Lan","3.ª Jornada Campeonato Distrital Sub18","2022-05-22","Marinha Grande","ADAL","F",1,705,"Vera Goucha","JV","JUV",12.49,12.3,11.81,"-","-",12.13,12.49]
["PESO3","Lan","3.ª Jornada Campeonato Distrital Sub18","2022-05-22","Marinha Grande","ADAL","F",2,61,"Camila Patraboy","JV","INI",9.06,8.24,8.7899999999999991,9.06,8.2200000000000006,7.79,8.4700000000000006]
["PESO3","Lan","3.ª Jornada Campeonato Distrital Sub18","2022-05-22","Marinha Grande","ADAL","F",3,849,"Sofia Quintino","ACDRA","JUV",9.01,8.24,9.01,"-","-","-","-"]
["PESO3","Lan","3.ª Jornada Campeonato Distrital Sub18","2022-05-22","Marinha Grande","ADAL","F",4,1062,"Núria Carvalho","CAOB","INI",8.8800000000000008,7.46,"X",8.3000000000000007,7.59,8.4,8.8800000000000008]
["PESO3","Lan","3.ª Jornada Campeonato Distrital Sub18","2022-05-22","Marinha Grande","ADAL","F",5,763,"Vanessa Castravet","CANAZ","INI",8.4700000000000006,6.33,8.2200000000000006,7.9,7.89,8.4700000000000006,7.87]
["PESO3","Lan","3.ª Jornada Campeonato Distrital Sub18","2022-05-22","Marinha Grande","ADAL","F",6,674,"Sofia Roberto","CAOB","JUV",8.09,"X",7.91,"X",8.09,7.76,7.61]
["PESO3","Lan","3.ª Jornada Campeonato Distrital Sub18","2022-05-22","Marinha Grande","ADAL","F",7,331,"Mariana Custódio","GDP-L","INI",8.08,7.45,7.61,"X",7.89,7.47,8.08]
["PESO3","Lan","3.ª Jornada Campeonato Distrital Sub18","2022-05-22","Marinha Grande","ADAL","F",8,336,"Rafaela Pires","GDP-L","JUV",6.84,6.32,6.84,6.06,6.03,5.36,6.18]
["PESO3","Lan","3.ª Jornada Campeonato Distrital Sub18","2022-05-22","Marinha Grande","ADAL","F",9,318,"Carina Marto","GDP-L","INI",6.74,6.48,6.74,6.74]
["PESO3","Lan","3.ª Jornada Campeonato Distrital Sub18","2022-05-22","Marinha Grande","ADAL","F",10,1254,"Iara Pataco","NDAP","INI",6.74,4.83,6.74,"X"]
["PESO3","Lan","3.ª Jornada Campeonato Distrital Sub18","2022-05-22","Marinha Grande","ADAL","F",11,1008,"Maria Inês Silva","ACDRA","INI",5.17,5.17,"X",5.03]
["ALTURA","Sal","3.ª Jornada Campeonato Distrital Sub18, Extra","2022-05-22","Marinha Grande","ADAL","F",1,106,"Lara Duarte","JV","JUN",1.5]
["ALTURA","Sal","3.ª Jornada Campeonato Distrital Sub18, Extra","2022-05-22","Marinha Grande","ADAL","F",2,705,"Vera Goucha","JV","JUV",1.5]
["ALTURA","Sal","3.ª Jornada Campeonato Distrital Sub18, Extra","2022-05-22","Marinha Grande","ADAL","F",3,822,"Nadine Pires","JV","JUV",1.35]
["4X1234","Vel","3.ª Jornada Campeonato Distrital Sub18","2022-05-22","Marinha Grande","ADAL","F",1,10877,"JUV VIDIGALENSE","JV","JUV",148]
["4X1234","Vel","3.ª Jornada Campeonato Distrital Sub18","2022-05-22","Marinha Grande","ADAL","F",2,10166,"ATLÉTICO C BATALHA","ACB-L","JUV",158.47000000000003]
["4X1234","Vel","3.ª Jornada Campeonato Distrital Sub18","2022-05-22","Marinha Grande","ADAL","F",3,10219,"C A MARINHA GRANDE","CAMG","JUV",164.96]
["4X1234","Vel","3.ª Jornada Campeonato Distrital Sub18","2022-05-22","Marinha Grande","ADAL","F",1,10370,"A C D R ARNEIRENSE","ACDRA","JUV",164.89]
["4X1234","Vel","3.ª Jornada Campeonato Distrital Sub18","2022-05-22","Marinha Grande","ADAL","F",2,10266,"N D AMADOR POMBAL","NDAP","JUV",176.42]
["4X1234","Vel","3.ª Jornada Campeonato Distrital Sub18","2022-05-22","Marinha Grande","ADAL","F",3,10855,"C ATLETISMO NAZARÉ","CANAZ","JUV",176.61]
["4X1234","Vel","3.ª Jornada Campeonato Distrital Sub18","2022-05-22","Marinha Grande","ADAL","M",1,10074,"JUV VIDIGALENSE","JV","JUV",131.21]
["4X1234","Vel","3.ª Jornada Campeonato Distrital Sub18","2022-05-22","Marinha Grande","ADAL","M",2,10378,"A C D R ARNEIRENSE","ACDRA","JUV",136.51]
["4X1234","Vel","3.ª Jornada Campeonato Distrital Sub18","2022-05-22","Marinha Grande","ADAL","M",3,10924,"C ATLETISMO NAZARÉ","CANAZ","JUV",150.11000000000001]
["400","Vel","3.ª Jornada Campeonato Distrital Sub18, Extra","2022-05-22","Marinha Grande","ADAL","F",1,122,"Mariana Vidinha","JV","JUN",60.69]
["400","Vel","3.ª Jornada Campeonato Distrital Sub18, Extra","2022-05-22","Marinha Grande","ADAL","F",2,689,"Joana Gameiro","JV","JUN",61.39]
["400","Vel","3.ª Jornada Campeonato Distrital Sub18, Extra","2022-05-22","Marinha Grande","ADAL","F",3,106,"Lara Duarte","JV","JUN",61.71]
["400","Vel","3.ª Jornada Campeonato Distrital Sub18, Extra","2022-05-22","Marinha Grande","ADAL","F",1,691,"João Pinto","JV","SEN",50.37]
["400","Vel","3.ª Jornada Campeonato Distrital Sub18, Extra","2022-05-22","Marinha Grande","ADAL","F",2,1233,"Hélio Pedroso","CANAZ","JUN",53.74]
["400","Vel","3.ª Jornada Campeonato Distrital Sub18, Extra","2022-05-22","Marinha Grande","ADAL","F",3,871,"André Petriv","JV","JUN",55.06]
["400","Vel","3.ª Jornada Campeonato Distrital Sub18, Extra","2022-05-22","Marinha Grande","ADAL","F",4,1045,"Bruno Salustiano","ACDRA","JUN",55.75]
["400","Vel","3.ª Jornada Campeonato Distrital Sub18, Extra","2022-05-22","Marinha Grande","ADAL","F",5,853,"Eduardo Agualusa","CANAZ","JUN",56.2]
["400","Vel","3.ª Jornada Campeonato Distrital Sub18, Extra","2022-05-22","Marinha Grande","ADAL","F",6,1049,"Paulo Almeida","ACB-L","SEN",63.78]
["100","Vel","Campeonato Nacional de Clubes – Apuramento","2022-05-28","Leiria","FPA","F",2,1067,"Beatriz Castelhano","ACDRA","JUV",12.6]
["100","Vel","Campeonato Nacional de Clubes – Apuramento","2022-05-28","Leiria","FPA","F",5,1034,"Diana Duarte","ACB-L","JUN",13.81]
["100","Vel","Campeonato Nacional de Clubes – Apuramento","2022-05-28","Leiria","FPA","F",1,1499,"Joana Carlos","JV","SEN",12.32]
["100","Vel","Campeonato Nacional de Clubes – Apuramento","2022-05-28","Leiria","FPA","M",3,1157,"Rodrigo Agostinho","CAMG","SUB-23",11.98]
["100","Vel","Campeonato Nacional de Clubes – Apuramento","2022-05-28","Leiria","FPA","M",2,1086,"Floriano Brujan","ACDRA","JUN",11.58]
["100","Vel","Campeonato Nacional de Clubes – Apuramento","2022-05-28","Leiria","FPA","M",2,1523,"João Calhau","JV","SUB-23",11.11]
["100","Vel","Campeonato Nacional de Clubes – Apuramento","2022-05-28","Leiria","FPA","M",5,1066,"Tomás Areias","ACB-L","JUN",11.53]
["DARDO8","Lan","Campeonato Nacional de Clubes – Apuramento","2022-05-28","Leiria","FPA","M",1,1521,"Esmeraldino Trigo","JV","SEN",57.05,51.62,57.05,"-","-"]
["DARDO8","Lan","Campeonato Nacional de Clubes – Apuramento","2022-05-28","Leiria","FPA","M",4,1083,"Daniel Jerónimo","ACDRA","SEN",45.35,44.53,42.12,43.67,45.35]
["DARDO8","Lan","Campeonato Nacional de Clubes – Apuramento","2022-05-28","Leiria","FPA","M",6,1045,"Bernardo Coelho","ACB-L","SEN",44.15,43.3,"X","X",44.15]
["DARDO8","Lan","Campeonato Nacional de Clubes – Apuramento","2022-05-28","Leiria","FPA","M",9,1147,"Ernesto Santos","CAMG","VET 35",42.37,39.85,39.950000000000003,42.37,41]
["COMPRIM","Sal","Campeonato Nacional de Clubes – Apuramento","2022-05-28","Leiria","FPA","F",1,1509,"Raquel Lourenço","JV","SEN",5.5,5.48,5.5,5.0199999999999996,5.35]
["COMPRIM","Sal","Campeonato Nacional de Clubes – Apuramento","2022-05-28","Leiria","FPA","F",6,1078,"Sofia Quintino","ACDRA","JUV",5.03,5.03,"X",4.84,"X"]
["100","Vel","Campeonato Nacional de Clubes – Apuramento","2022-05-28","Leiria","FPA","M",3,1089,"Rodrigo Almeida","ACDRA","JUV",11.84]
["100","Vel","Campeonato Nacional de Clubes – Apuramento","2022-05-28","Leiria","FPA","F",1,1068,"Beatriz Gonçalves","ACDRA","JUV",13.78]
["ALTURA","Sal","Campeonato Nacional de Clubes – Apuramento","2022-05-28","Leiria","FPA","F",1,1503,"Luana Figueira","JV","JUV",1.55]
["1500","MF","Campeonato Nacional de Clubes – Apuramento","2022-05-28","Leiria","FPA","M",4,1515,"David Azevedo","JV","SUB-23","00:04:00.330"]
["1500","MF","Campeonato Nacional de Clubes – Apuramento","2022-05-28","Leiria","FPA","M",9,1143,"Bruno Gonçalves","CAMG","VET 35","00:04:15.810"]
["1500","MF","Campeonato Nacional de Clubes – Apuramento","2022-05-28","Leiria","FPA","M",14,1047,"Duarte F Rodrigues","ACB-L","JUN","00:04:35.670"]
["1500","MF","Campeonato Nacional de Clubes – Apuramento","2022-05-28","Leiria","FPA","F",1,1486,"Andreia Pingueiro","JV","SEN","00:04:39.460"]
["VARA","MF","Campeonato Nacional de Clubes – Apuramento","2022-05-28","Leiria","FPA","M",3,1517,"Diogo Meneses","JV","SUB-23",4.18]
["VARA","MF","Campeonato Nacional de Clubes – Apuramento","2022-05-28","Leiria","FPA","M",6,1154,"Pedro Fernandes","CAMG","SUB-23",3.7]
["400","Vel","Campeonato Nacional de Clubes – Apuramento","2022-05-28","Leiria","FPA","M",2,1085,"Diogo Nogueira","ACDRA","JUV",53.83]
["400","Vel","Campeonato Nacional de Clubes – Apuramento","2022-05-28","Leiria","FPA","M",3,1151,"Miguel Marques","CAMG","JUV",51.42]
["400","Vel","Campeonato Nacional de Clubes – Apuramento","2022-05-28","Leiria","FPA","M",4,1059,"Rafael Anunciação","ACB-L","SUB-23",52.55]
["400","Vel","Campeonato Nacional de Clubes – Apuramento","2022-05-28","Leiria","FPA","M",1,1531,"Paulo Soares","JV","SUB-23",49.46]
["DISCO10","Lan","Campeonato Nacional de Clubes – Apuramento","2022-05-28","Leiria","FPA","F",1,1508,"Raquel Gomes","JV","JUN",41.81,"X",39.6,41.81,"X"]
["PESO7","Lan","Campeonato Nacional de Clubes – Apuramento","2022-05-28","Leiria","FPA","M",2,1535,"Tomás Rodrigues","JV","SUB-23",13.91,13.69,"X","X",13.91]
["PESO7","Lan","Campeonato Nacional de Clubes – Apuramento","2022-05-28","Leiria","FPA","M",4,1144,"David Pereira","CAMG","JUN",12.09,11.53,11.63,12.09,11.88]
["PESO7","Lan","Campeonato Nacional de Clubes – Apuramento","2022-05-28","Leiria","FPA","M",8,1063,"Steve Patrício","ACB-L","SEN",10.82,9.93,10.74,10.62,10.82]
["400","Vel","Campeonato Nacional de Clubes – Apuramento","2022-05-28","Leiria","FPA","F",5,1507,"Mariana Vidinha","JV","JUN",60.27]
["COMPRIM","Sal","Campeonato Nacional de Clubes – Apuramento","2022-05-28","Leiria","FPA","M",4,1526,"João Pinto","JV","SEN",6.72,6.65,6.65,6.61,6.72]
["COMPRIM","Sal","Campeonato Nacional de Clubes – Apuramento","2022-05-28","Leiria","FPA","M",5,1141,"André Rodrigues","CAMG","JUN",6.5,6.47,6.5,"X","X"]
["COMPRIM","Sal","Campeonato Nacional de Clubes – Apuramento","2022-05-28","Leiria","FPA","M",10,1079,"Alexandre Cardeira","ACDRA","SEN",6.06,5.77,"X",6.06,5.87]
["COMPRIM","Sal","Campeonato Nacional de Clubes – Apuramento","2022-05-28","Leiria","FPA","M",12,1065,"Tiago Gomes","ACB-L","JUV",6.02,6.02,5.82]
["5000","MF","Campeonato Nacional de Clubes – Apuramento","2022-05-28","Leiria","FPA","M",2,1522,"Gonçalo Varela","JV","SEN","00:15:15.140"]
["5000","MF","Campeonato Nacional de Clubes – Apuramento","2022-05-28","Leiria","FPA","M",10,1080,"António Barros","ACDRA","SEN","00:16:57.970"]
["5000","MF","Campeonato Nacional de Clubes – Apuramento","2022-05-28","Leiria","FPA","M",11,1158,"Virgílio Bastos","CAMG","VET 40","00:17:06.360"]
["5000","MF","Campeonato Nacional de Clubes – Apuramento","2022-05-28","Leiria","FPA","M",13,1056,"Nuno Serrada","ACB-L","VET 40","00:17:40.910"]
["MARTEL4","Lan","Campeonato Nacional de Clubes – Apuramento","2022-05-28","Leiria","FPA","F",2,1504,"Márcia Maketa","JV","JUV",43.19,"X","X",43.19,"X"]
["MARTEL4","Lan","Campeonato Nacional de Clubes – Apuramento","2022-05-28","Leiria","FPA","F",5,1073,"Leonor Belchior","ACDRA","JUV",36.26,36.26,35.65,33.479999999999997,"X"]
["4X100","Vel","Campeonato Nacional de Clubes – Apuramento","2022-05-28","Leiria","FPA","M",2,10000,"C A MARINHA GRANDE","CAMG","SEN",44.47]
["4X100","Vel","Campeonato Nacional de Clubes – Apuramento","2022-05-28","Leiria","FPA","M",3,11089,"A C D R ARNEIRENSE","ACDRA","SEN",45.23]
["4X100","Vel","Campeonato Nacional de Clubes – Apuramento","2022-05-28","Leiria","FPA","M",4,11067,"ATLÉTICO C BATALHA","ACB-L","ND",45.4]
["4X100","Vel","Campeonato Nacional de Clubes – Apuramento","2022-05-28","Leiria","FPA","M",1,11534,"JUV VIDIGALENSE","JV","ND",42.88]
["4X100","Vel","Campeonato Nacional de Clubes – Apuramento","2022-05-28","Leiria","FPA","F",1,11510,"JUV VIDIGALENSE","JV","ND",48.18]
["3000O","MF","Campeonato Nacional de Clubes – Apuramento","2022-05-28","Leiria","FPA","F",1,1502,"Lília Martins","JV","SEN","00:10:43.930"]
["3000O","MF","Campeonato Nacional de Clubes – Apuramento","2022-05-28","Leiria","FPA","F",4,1036,"Joana Bagagem","ACB-L","SUB-23","00:12:00.250"]
["5000MX","MX","Campeonato Nacional de Clubes – Apuramento","2022-05-28","Leiria","FPA","M",5,1518,"Eduardo Camarate","JV","JUV",1.7441898148148147E-2]
["5000MX","MX","Campeonato Nacional de Clubes – Apuramento","2022-05-28","Leiria","FPA","M",9,1149,"Gustavo Gomes","CAMG","JUN",1.9054282407407409E-2]
["3000MX","MX","Campeonato Nacional de Clubes – Apuramento","2022-05-28","Leiria","FPA","F",1,1488,"Bruna Marques","JV","SUB-23",9.7320601851851856E-3]
["3000MX","MX","Campeonato Nacional de Clubes – Apuramento","2022-05-28","Leiria","FPA","F",8,1072,"Inês Belbute","ACDRA","JUV",1.2134490740740739E-2]
["MARTEL7","Lan","Campeonato Nacional de Clubes – Apuramento","2022-05-29","Leiria","FPA","M",1,1150,"Miguel Carreira","CAMG","SEN",66.349999999999994,66.349999999999994,"X","X","X"]
["MARTEL7","Lan","Campeonato Nacional de Clubes – Apuramento","2022-05-29","Leiria","FPA","M",3,1514,"Carlos Malaquias","JV","SUB-23",51.39,51.39,50.58,"X",50.26]
["MARTEL7","Lan","Campeonato Nacional de Clubes – Apuramento","2022-05-29","Leiria","FPA","M",11,1045,"Bernardo Coelho","ACB-L","SEN",16.62,13.75,14.3,"X",16.62]
["3000O","MF","Campeonato Nacional de Clubes – Apuramento","2022-05-29","Leiria","FPA","M",3,1511,"André Antunes","JV","SUB-23","00:09:36.050"]
["3000O","MF","Campeonato Nacional de Clubes – Apuramento","2022-05-29","Leiria","FPA","M",11,1156,"Ricardo Henriques","CAMG","VET 35","00:10:55.360"]
["3000O","MF","Campeonato Nacional de Clubes – Apuramento","2022-05-29","Leiria","FPA","M",12,1047,"Duarte F Rodrigues","ACB-L","JUN","00:10:58.160"]
["3000","MF","Campeonato Nacional de Clubes – Apuramento","2022-05-29","Leiria","FPA","M",2,1522,"Gonçalo Varela","JV","SEN","00:08:27.090"]
["3000","MF","Campeonato Nacional de Clubes – Apuramento","2022-05-29","Leiria","FPA","M",10,1146,"Emamuel Cardoso","CAMG","SEN","00:09:17.730"]
["3000","MF","Campeonato Nacional de Clubes – Apuramento","2022-05-29","Leiria","FPA","M",12,1056,"Nuno Serrada","ACB-L","VET 40","00:10:01.800"]
["TRIPLO","Sal","Campeonato Nacional de Clubes – Apuramento","2022-05-29","Leiria","FPA","F",2,1494,"Eduarda Ferreira","JV","SUB-23",11.72,"X",10.89,11.72,11.18]
["TRIPLO","Sal","Campeonato Nacional de Clubes – Apuramento","2022-05-29","Leiria","FPA","F",4,1078,"Sofia Quintino","ACDRA","JUV",11,10.87,10.97,11,10.83]
["TRIPLO","Sal","Campeonato Nacional de Clubes – Apuramento","2022-05-29","Leiria","FPA","F",10,1033,"Constança Anunciação","ACB-L","JUV",9.98,9.98,9.6999999999999993,9.98,9.7100000000000009]
["3000","MF","Campeonato Nacional de Clubes – Apuramento","2022-05-29","Leiria","FPA","F",1,1502,"Lília Martins","JV","SEN","00:10:05.960"]
["3000","MF","Campeonato Nacional de Clubes – Apuramento","2022-05-29","Leiria","FPA","F",9,1072,"Inês Belbute","ACDRA","JUV","00:12:38.070"]
["400B091","Vel","Campeonato Nacional de Clubes – Apuramento","2022-05-29","Leiria","FPA","M",6,1049,"Edson Dias","ACB-L","JUV",62.66]
["400B091","Vel","Campeonato Nacional de Clubes – Apuramento","2022-05-29","Leiria","FPA","M",1,1531,"Paulo Soares","JV","SUB-23",52.98]
["400B091","Vel","Campeonato Nacional de Clubes – Apuramento","2022-05-29","Leiria","FPA","M",6,1151,"Miguel Marques","CAMG","JUV",57.64]
["VARA","Sal","Campeonato Nacional de Clubes – Apuramento","2022-05-29","Leiria","FPA","F",2,1489,"Bruna Santos","JV","JUN",2.81]
["VARA","Sal","Campeonato Nacional de Clubes – Apuramento","2022-05-29","Leiria","FPA","F",6,1043,"Vera Duque","ACB-L","JUN",2.15]
["ALTURA","Sal","Campeonato Nacional de Clubes – Apuramento","2022-05-29","Leiria","FPA","M",1,1533,"Simão Pereira","JV","SUB-23",1.88]
["ALTURA","Sal","Campeonato Nacional de Clubes – Apuramento","2022-05-29","Leiria","FPA","M",6,1065,"Tiago Gomes","ACB-L","JUV",1.75]
["ALTURA","Sal","Campeonato Nacional de Clubes – Apuramento","2022-05-29","Leiria","FPA","M",14,1140,"Alexandre Lucas","CAMG","SEN",1.7]
["400B076","Vel","Campeonato Nacional de Clubes – Apuramento","2022-05-29","Leiria","FPA","F",2,1500,"Joana Gameiro","JV","JUN",64.94]
["DISCO20","Lan","Campeonato Nacional de Clubes – Apuramento","2022-05-29","Leiria","FPA","M",2,1524,"João Domingues","JV","SEN",40.81,39.33,39.83,40.81,40.74]
["DISCO20","Lan","Campeonato Nacional de Clubes – Apuramento","2022-05-29","Leiria","FPA","M",4,1142,"Bernardo Temudo","CAMG","SEN",37.94,31.85,"X",37.94,"X"]
["DISCO20","Lan","Campeonato Nacional de Clubes – Apuramento","2022-05-29","Leiria","FPA","M",15,1082,"Carlos Santos","ACDRA","JUV",12.63,12.63,12.59,12.02,12]
["200","Vel","Campeonato Nacional de Clubes – Apuramento","2022-05-29","Leiria","FPA","M",3,1153,"Pedro Chá-Chá","CAMG","SEN",23.82]
["200","Vel","Campeonato Nacional de Clubes – Apuramento","2022-05-29","Leiria","FPA","M",4,1089,"Rodrigo Almeida","ACDRA","JUV",23.7]
["200","Vel","Campeonato Nacional de Clubes – Apuramento","2022-05-29","Leiria","FPA","M",2,1526,"João Pinto","JV","SEN",22.47]
["200","Vel","Campeonato Nacional de Clubes – Apuramento","2022-05-29","Leiria","FPA","M",5,1066,"Tomás Areias","ACB-L","JUN",23.22]
["200","Vel","Campeonato Nacional de Clubes – Apuramento","2022-05-29","Leiria","FPA","F",5,1034,"Diana Duarte","ACB-L","JUN",29.07]
["200","Vel","Campeonato Nacional de Clubes – Apuramento","2022-05-29","Leiria","FPA","F",5,1506,"Mariana Videira","JV","JUN",26.57]
["TRIPLO","Sal","Campeonato Nacional de Clubes – Apuramento","2022-05-29","Leiria","FPA","M",3,1141,"André Rodrigues","CAMG","JUN",13.35,13.15,"X",13.35,"X"]
["TRIPLO","Sal","Campeonato Nacional de Clubes – Apuramento","2022-05-29","Leiria","FPA","M",5,1084,"Diogo Chaves","ACDRA","JUV",12.88,12.44,12.88,12.76,12.65]
["TRIPLO","Sal","Campeonato Nacional de Clubes – Apuramento","2022-05-29","Leiria","FPA","M",6,1048,"Edilson Martínez","ACB-L","SUB-23",12.75,12.11,12.43,12.75,"-"]
["TRIPLO","Sal","Campeonato Nacional de Clubes – Apuramento","2022-05-29","Leiria","FPA","M",7,1525,"João Martins","JV","JUV",12.64,"X",12.52,12.42,12.64]
["PESO4","Lan","Campeonato Nacional de Clubes – Apuramento","2022-05-29","Leiria","FPA","F",1,1498,"Inês Carreira","JV","SUB-23",12.48,12.42,12.38,12.48,"X"]
["800","MF","Campeonato Nacional de Clubes – Apuramento","2022-05-29","Leiria","FPA","M",4,1085,"Diogo Nogueira","ACDRA","JUV","00:02:09.790"]
["800","MF","Campeonato Nacional de Clubes – Apuramento","2022-05-29","Leiria","FPA","M",8,1050,"Francisco Brígido","ACB-L","VET 45","00:02:25.470"]
["800","MF","Campeonato Nacional de Clubes – Apuramento","2022-05-29","Leiria","FPA","M",6,1515,"David Azevedo","JV","SUB-23","00:01:56.400"]
["800","MF","Campeonato Nacional de Clubes – Apuramento","2022-05-29","Leiria","FPA","F",2,1486,"Andreia Pingueiro","JV","SEN","00:02:13.480"]
["110B091","Vel","Campeonato Nacional de Clubes – Apuramento","2022-05-29","Leiria","FPA","M",2,1051,"Gabriel Borges","ACB-L","JUN",17.47]
["110B091","Vel","Campeonato Nacional de Clubes – Apuramento","2022-05-29","Leiria","FPA","M",3,1157,"Rodrigo Agostinho","CAMG","SUB-23",18.440000000000001]
["110B091","Vel","Campeonato Nacional de Clubes – Apuramento","2022-05-29","Leiria","FPA","M",1,1532,"Rafael Correia","JV","SEN",15.28]
["DARDO6","Lan","Campeonato Nacional de Clubes – Apuramento","2022-05-29","Leiria","FPA","F",1,1497,"Flávia Costa","JV","SEN",41.54,36.270000000000003,39.85,39.24,41.54]
["100B084","Vel","Campeonato Nacional de Clubes – Apuramento","2022-05-29","Leiria","FPA","F",1,1509,"Raquel Lourenço","JV","SEN",14.25]
["4X400","Vel","Campeonato Nacional de Clubes – Apuramento","2022-05-29","Leiria","FPA","M",1,11526,"JUV VIDIGALENSE","JV","SEN","00:03:22.630"]
["4X400","Vel","Campeonato Nacional de Clubes – Apuramento","2022-05-29","Leiria","FPA","M",6,11051,"ATLÉTICO C BATALHA","ACB-L","SEN","00:03:54.200"]
["4X400","Vel","Campeonato Nacional de Clubes – Apuramento","2022-05-29","Leiria","FPA","F",2,11507,"JUV VIDIGALENSE","JV","SEN","00:03:59.860"]
["MARTEL3","Lan","Jornadas de lançamentos - Etapa 4","2022-06-04","Leiria","JV","F",1,61,"Camila Patraboy","JV","INI",34.450000000000003,27.31,33.799999999999997,34.450000000000003,"X",33.409999999999997,"X"]
["MARTEL3","Lan","Jornadas de lançamentos - Etapa 4","2022-06-04","Leiria","JV","F",2,738,"Beatriz Cordeiro","JV","JUV",32.42,32.42,29.78,"X",20.57,27.27,30.62]
["PESO5","Lan","Jornadas de lançamentos - Etapa 4","2022-06-04","Leiria","JV","M",1,1079,"Rúben Santos","JV","JUV",12.66,12.66,"X","X","X","X","X"]
["PESO5","Lan","Jornadas de lançamentos - Etapa 4","2022-06-04","Leiria","JV","M",2,1267,"Guilherme","ACB-L","JUV",12.11,12.02,12.11,11.29,"X",10.84,"X"]
["MARTEL5","Lan","Jornadas de lançamentos - Etapa 4","2022-06-04","Leiria","JV","M",1,133,"Nikita Miroshnyk","JV","INI",24.62,"X",24.62,"X","X","X","X"]
["PESO3","Lan","Jornadas de lançamentos - Etapa 4","2022-06-04","Leiria","JV","F",1,1062,"Núria Carvalho","CAOB","INI",9.98,7.66,9.98,8.26,8.6999999999999993,"X",7.56]
["PESO3","Lan","Jornadas de lançamentos - Etapa 4","2022-06-04","Leiria","JV","F",2,150,"Sofiia Chemyrys","JV","INI",8.41,7.88,8.0299999999999994,8.41,6.62,7.7,8.18]
["DISCO15","Lan","Jornadas de lançamentos - Etapa 4","2022-06-04","Leiria","JV","M",1,1079,"Rúben Santos","JV","JUV",36.54,36.54,"X",33.92,"X","X","X"]
["DISCO15","Lan","Jornadas de lançamentos - Etapa 4","2022-06-04","Leiria","JV","M",2,140,"Rafael Morgado","JV","INI",25.02,20.57,22.53,25.02,"X","X",19.850000000000001]
["DISCO15","Lan","Jornadas de lançamentos - Etapa 4","2022-06-04","Leiria","JV","M",3,133,"Nikita Miroshnyk","JV","INI",20.38,18.52,"X",20.38,"X",17.940000000000001,20.12]
["DARDO5","Lan","Jornadas de lançamentos - Etapa 4","2022-06-04","Leiria","JV","F",1,738,"Beatriz Cordeiro","JV","JUV",29.86,"X","X","X","X",29.86,"X"]
["DARDO5","Lan","Jornadas de lançamentos - Etapa 4","2022-06-04","Leiria","JV","F",3,150,"Sofiia Chemyrys","JV","INI",22.23,19.899999999999999,22.23,"X","X",21.13,20.29]
["DARDO5","Lan","Jornadas de lançamentos - Etapa 4","2022-06-04","Leiria","JV","F",4,266,"Lili Barreiro","NDAP","JUV",17.89,16.920000000000002,14.27,"X",17.09,17.14,17.89]
["DARDO5","Lan","Jornadas de lançamentos - Etapa 4","2022-06-04","Leiria","JV","F",5,1062,"Núria Carvalho","CAOB","INI",16.86,16.170000000000002,16.86,"X",15.66,16.53,15.17]
["DISCO10","Lan","Jornadas de lançamentos - Etapa 4","2022-06-04","Leiria","JV","F",1,61,"Camila Patraboy","JV","INI",27.76,20.5,"X","X","X",27.76,27.49]
["DARDO7","Lan","Jornadas de lançamentos - Etapa 4","2022-06-04","Leiria","JV","M",1,74,"Denis Hrabar","JV","INI",39.44,39.44,37.81,"X",38.229999999999997,38.770000000000003,34.979999999999997]
["DARDO7","Lan","Jornadas de lançamentos - Etapa 4","2022-06-04","Leiria","JV","M",2,140,"Rafael Morgado","JV","INI",37.79,"X",37.79,35.36,35.01,36.26,37.44]
["COMPRIM","Sal","1ª Jornada Camp. Distrital Absolutos","2022-06-04","Pombal","ADAL","M",2,214,"André Rodrigues","CAMG","JUN",6.8,6.2,6.36,6.32,"X","X",6.8]
["COMPRIM","Sal","1ª Jornada Camp. Distrital Absolutos","2022-06-04","Pombal","ADAL","M",3,317,"Bernardo Cunha","GDP-L","JUV",6.5,6.5,6.42,6.46,"X",4.42,6.49]
["COMPRIM","Sal","1ª Jornada Camp. Distrital Absolutos","2022-06-04","Pombal","ADAL","M",4,690,"João Martins","JV","JUV",6.5,"-",6.45,6.21,6.27,6.34,6.5]
["COMPRIM","Sal","1ª Jornada Camp. Distrital Absolutos","2022-06-04","Pombal","ADAL","M",5,871,"André Petriv","JV","JUN",6.12,3.66,5.78,6.12,5.95,6.1,"-"]
["COMPRIM","Sal","1ª Jornada Camp. Distrital Absolutos","2022-06-04","Pombal","ADAL","M",6,941,"Tiago Gomes","ACB-L","JUV",5.92,3.89,5.63,5.92,5.79,"X","-"]
["COMPRIM","Sal","1ª Jornada Camp. Distrital Absolutos","2022-06-04","Pombal","ADAL","M",7,1046,"Alexandre Cardeira","ACDRA","SEN",5.88,"-",5.81,"-","X",5.84,5.88]
["COMPRIM","Sal","1ª Jornada Camp. Distrital Absolutos","2022-06-04","Pombal","ADAL","M",8,519,"Edson Dias","ACB-L","JUV",5.63,5.22,5.36,4.91,5.07,5.46,5.63]
["COMPRIM","Sal","1ª Jornada Camp. Distrital Absolutos","2022-06-04","Pombal","ADAL","M",9,1005,"Rafael Jesus","ACB-L","SEN",5.43,5.23,5.42,5.35,5.43,"-","-"]
["COMPRIM","Sal","1ª Jornada Camp. Distrital Absolutos","2022-06-04","Pombal","ADAL","M",10,850,"Diogo Reis","NDAP","JUV",5.26,5.14,5.26,5.16]
["COMPRIM","Sal","1ª Jornada Camp. Distrital Absolutos","2022-06-04","Pombal","ADAL","M",11,245,"Pedro Silva","CAMG","SEN",4.91,4.91,"X",4.9000000000000004]
["COMPRIM","Sal","1ª Jornada Camp. Distrital Absolutos","2022-06-04","Pombal","ADAL","M",12,1326,"Miguel Rosalino","CANAZ","JUV",4.59,4.59,"X",4.53]
["ALTURA","Sal","1ª Jornada Camp. Distrital Absolutos","2022-06-04","Pombal","ADAL","F",1,697,"Luana Figueira","JV","JUV",1.55]
["ALTURA","Sal","1ª Jornada Camp. Distrital Absolutos","2022-06-04","Pombal","ADAL","F",2,106,"Lara Duarte","JV","JUN",1.5]
["ALTURA","Sal","1ª Jornada Camp. Distrital Absolutos","2022-06-04","Pombal","ADAL","F",3,817,"Ana Reis","JV","JUN",1.45]
["ALTURA","Sal","1ª Jornada Camp. Distrital Absolutos","2022-06-04","Pombal","ADAL","F",3,818,"Eduarda Ferreira","JV","SUB-23",1.45]
["ALTURA","Sal","1ª Jornada Camp. Distrital Absolutos","2022-06-04","Pombal","ADAL","F",5,822,"Nadine Pires","JV","JUV",1.39]
["ALTURA","Sal","1ª Jornada Camp. Distrital Absolutos","2022-06-04","Pombal","ADAL","F",6,821,"Margarida Santos","JV","JUV",1.39]
["100","Vel","1ª Jornada Camp. Distrital Absolutos","2022-06-04","Pombal","ADAL","M",1,210,"Tomás Areias","ACB-L","JUN",11.85]
["100","Vel","1ª Jornada Camp. Distrital Absolutos","2022-06-04","Pombal","ADAL","M",2,77,"Diogo Camacho","JV","JUN",12.05]
["100","Vel","1ª Jornada Camp. Distrital Absolutos","2022-06-04","Pombal","ADAL","M",3,178,"Ivo Gomes","ACB-L","JUV",12.73]
["100","Vel","1ª Jornada Camp. Distrital Absolutos","2022-06-04","Pombal","ADAL","M",4,1124,"Duarte Portugal","CANAZ","JUN",13.09]
["100","Vel","1ª Jornada Camp. Distrital Absolutos","2022-06-04","Pombal","ADAL","M",5,898,"João Santos","GCA","VET 50",13.28]
["100","Vel","1ª Jornada Camp. Distrital Absolutos","2022-06-04","Pombal","ADAL","M",6,1049,"Paulo Almeida","ACB-L","SEN",13.47]
["100","Vel","1ª Jornada Camp. Distrital Absolutos","2022-06-04","Pombal","ADAL","M",1,783,"Alexandre Babych","AAADP","JUV",11.61]
["100","Vel","1ª Jornada Camp. Distrital Absolutos","2022-06-04","Pombal","ADAL","M",2,113,"Luca Cruz","JV","JUV",11.84]
["100","Vel","1ª Jornada Camp. Distrital Absolutos","2022-06-04","Pombal","ADAL","M",3,1046,"Alexandre Cardeira","ACDRA","SEN",12]
["100","Vel","1ª Jornada Camp. Distrital Absolutos","2022-06-04","Pombal","ADAL","M",4,1316,"Simão Cerejo","ACB-L","JUV",12.59]
["100","Vel","1ª Jornada Camp. Distrital Absolutos","2022-06-04","Pombal","ADAL","M",5,1126,"Amável Esgaio","CANAZ","JUV",13.13]
["100","Vel","1ª Jornada Camp. Distrital Absolutos","2022-06-04","Pombal","ADAL","M",1,690,"João Martins","JV","JUV",11.59]
["100","Vel","1ª Jornada Camp. Distrital Absolutos","2022-06-04","Pombal","ADAL","M",2,588,"Duarte Neves","GAUB","JUN",11.89]
["100","Vel","1ª Jornada Camp. Distrital Absolutos","2022-06-04","Pombal","ADAL","M",3,1233,"Hélio Pedroso","CANAZ","JUN",11.9]
["100","Vel","1ª Jornada Camp. Distrital Absolutos","2022-06-04","Pombal","ADAL","M",4,777,"Afonso Marques","AAADP","JUN",11.97]
["100","Vel","1ª Jornada Camp. Distrital Absolutos","2022-06-04","Pombal","ADAL","M",5,924,"Martim Ribeiro","CANAZ","JUV",13.18]
["100","Vel","1ª Jornada Camp. Distrital Absolutos","2022-06-04","Pombal","ADAL","M",1,883,"Ernesto Rodrigues","JV","JUV",11.76]
["100","Vel","1ª Jornada Camp. Distrital Absolutos","2022-06-04","Pombal","ADAL","M",2,1045,"Bruno Salustiano","ACDRA","JUN",12.4]
["100","Vel","1ª Jornada Camp. Distrital Absolutos","2022-06-04","Pombal","ADAL","M",3,1129,"Gustavo Portugal","CANAZ","JUN",13.09]
["100","Vel","1ª Jornada Camp. Distrital Absolutos","2022-06-04","Pombal","ADAL","M",4,1260,"Alexandre Ferreira","CAMR","SEN",13.18]
["100","Vel","1ª Jornada Camp. Distrital Absolutos","2022-06-04","Pombal","ADAL","M",5,572,"Pedro Rocha","CANAZ","JUV",15.18]
["100","Vel","1ª Jornada Camp. Distrital Absolutos","2022-06-04","Pombal","ADAL","M",1,894,"Bernardo Ferreira","NDAP","JUV",11.96]
["100","Vel","1ª Jornada Camp. Distrital Absolutos","2022-06-04","Pombal","ADAL","M",2,853,"Eduardo Agualusa","CANAZ","JUN",12.08]
["100","Vel","1ª Jornada Camp. Distrital Absolutos","2022-06-04","Pombal","ADAL","M",3,162,"Afonso Mourão","ACB-L","JUN",12.95]
["100","Vel","1ª Jornada Camp. Distrital Absolutos","2022-06-04","Pombal","ADAL","M",4,703,"Rafael Pereira","JV","JUN",12.97]
["100","Vel","1ª Jornada Camp. Distrital Absolutos","2022-06-04","Pombal","ADAL","M",5,1010,"Miguel Calado","BA","SEN",13.2]
["100","Vel","1ª Jornada Camp. Distrital Absolutos","2022-06-04","Pombal","ADAL","F",1,877,"Carolina Castro","JV","JUV",13.16]
["100","Vel","1ª Jornada Camp. Distrital Absolutos","2022-06-04","Pombal","ADAL","F",2,878,"Carolina Gaspar","JV","JUN",13.4]
["100","Vel","1ª Jornada Camp. Distrital Absolutos","2022-06-04","Pombal","ADAL","F",3,684,"Catarina Silva","JV","JUV",13.75]
["100","Vel","1ª Jornada Camp. Distrital Absolutos","2022-06-04","Pombal","ADAL","F",4,855,"Jennifer Carvalho","CANAZ","JUV",15.48]
["100","Vel","1ª Jornada Camp. Distrital Absolutos","2022-06-04","Pombal","ADAL","F",2,2,"Sara Brites","JV","JUV",13.71]
["100","Vel","1ª Jornada Camp. Distrital Absolutos","2022-06-04","Pombal","ADAL","F",3,282,"Vitoria Chornohor","NDAP","JUV",14.21]
["100","Vel","1ª Jornada Camp. Distrital Absolutos","2022-06-04","Pombal","ADAL","F",4,872,"Beatriz Luís","JV","JUV",14.75]
["100","Vel","1ª Jornada Camp. Distrital Absolutos","2022-06-04","Pombal","ADAL","F",5,1016,"Bárbara Leal","CAMR","SUB-23",17.63]
["100","Vel","1ª Jornada Camp. Distrital Absolutos","2022-06-04","Pombal","ADAL","F",1,336,"Rafaela Pires","GDP-L","JUV",13.27]
["100","Vel","1ª Jornada Camp. Distrital Absolutos","2022-06-04","Pombal","ADAL","F",3,370,"Beatriz Gonçalves","ACDRA","JUV",14.01]
["100","Vel","1ª Jornada Camp. Distrital Absolutos","2022-06-04","Pombal","ADAL","F",4,277,"Nina Barreiros","NDAP","JUV",14.97]
["400B091","Vel","1ª Jornada Camp. Distrital Absolutos","2022-06-04","Pombal","ADAL","M",1,704,"Tiago Pereira","JV","JUN",68.37]
["400B091","Vel","1ª Jornada Camp. Distrital Absolutos","2022-06-04","Pombal","ADAL","M",2,1326,"Miguel Rosalino","CANAZ","JUV",74.489999999999995]
["400B091","Vel","1ª Jornada Camp. Distrital Absolutos","2022-06-04","Pombal","ADAL","M",3,893,"Bruno Júnior","CANAZ","JUN",75.67]
["400B076","Vel","1ª Jornada Camp. Distrital Absolutos","2022-06-04","Pombal","ADAL","M",1,808,"Miguel Marques","CAMG","JUV",56.57]
["400B076","Vel","1ª Jornada Camp. Distrital Absolutos","2022-06-04","Pombal","ADAL","F",2,683,"Carlota Ferreira","JV","JUV",74.69]
["400B076","Vel","1ª Jornada Camp. Distrital Absolutos","2022-06-04","Pombal","ADAL","F",3,166,"Constança Anunciação","ACB-L","JUV",75.59]
["400B076","Vel","1ª Jornada Camp. Distrital Absolutos","2022-06-04","Pombal","ADAL","F",5,211,"Vera Duque","ACB-L","JUN",84.53]
["3000","MF","1ª Jornada Camp. Distrital Absolutos","2022-06-04","Pombal","ADAL","F",1,3,"Joana Bagagem","ACB-L","SUB-23","00:10:56.830"]
["3000","MF","1ª Jornada Camp. Distrital Absolutos","2022-06-04","Pombal","ADAL","F",3,379,"Inês Belbute","ACDRA","JUV","00:13:27.560"]
["3000","MF","1ª Jornada Camp. Distrital Absolutos","2022-06-04","Pombal","ADAL","M",2,914,"Pedro Rodrigues","NDAP","JUV","00:09:42.460"]
["3000","MF","1ª Jornada Camp. Distrital Absolutos","2022-06-04","Pombal","ADAL","M",3,685,"Dinis Santos","JV","JUV","00:10:49.500"]
["3000","MF","1ª Jornada Camp. Distrital Absolutos","2022-06-04","Pombal","ADAL","M",4,698,"Marco Gameiro","JV","SUB-23","00:11:07.750"]
["ALTURA","Sal","1ª Jornada Camp. Distrital Absolutos","2022-06-04","Pombal","ADAL","M",1,871,"André Petriv","JV","JUN",1.8]
["ALTURA","Sal","1ª Jornada Camp. Distrital Absolutos","2022-06-04","Pombal","ADAL","M",2,810,"Dorin Repesciuc","CANAZ","SUB-23",1.8]
["ALTURA","Sal","1ª Jornada Camp. Distrital Absolutos","2022-06-04","Pombal","ADAL","M",3,517,"Gabriel Borges","ACB-L","JUN",1.8]
["COMPRIM","Sal","1ª Jornada Camp. Distrital Absolutos","2022-06-04","Pombal","ADAL","F",1,818,"Eduarda Ferreira","JV","SUB-23",5.19,5,5.04,5.19,5.08,"X","X"]
["COMPRIM","Sal","1ª Jornada Camp. Distrital Absolutos","2022-06-04","Pombal","ADAL","F",2,689,"Joana Gameiro","JV","JUN",5.17,"X",4.8499999999999996,5.17,4.84,5.1100000000000003,5.1100000000000003]
["COMPRIM","Sal","1ª Jornada Camp. Distrital Absolutos","2022-06-04","Pombal","ADAL","F",3,817,"Ana Reis","JV","JUN",5.1100000000000003,4.84,5.08,5.1100000000000003,4.79,5.1100000000000003,"X"]
["COMPRIM","Sal","1ª Jornada Camp. Distrital Absolutos","2022-06-04","Pombal","ADAL","F",4,697,"Luana Figueira","JV","JUV",5.05,"X","X","X",4.82,4.74,5.05]
["COMPRIM","Sal","1ª Jornada Camp. Distrital Absolutos","2022-06-04","Pombal","ADAL","F",5,684,"Catarina Silva","JV","JUV",5.0199999999999996,4.72,4.72,4.8,4.93,4.95,5.0199999999999996]
["COMPRIM","Sal","1ª Jornada Camp. Distrital Absolutos","2022-06-04","Pombal","ADAL","F",7,282,"Vitoria Chornohor","NDAP","JUV",4.91,4.6100000000000003,"X",4.91,4.7699999999999996,"-","X"]
["COMPRIM","Sal","1ª Jornada Camp. Distrital Absolutos","2022-06-04","Pombal","ADAL","F",8,563,"Liliana Jorge","CAMG","SEN",4.63,4.1399999999999997,4.63,4.5199999999999996,4.21,4.47,"X"]
["COMPRIM","Sal","1ª Jornada Camp. Distrital Absolutos","2022-06-04","Pombal","ADAL","F",9,218,"Camélia Terentiy","CAMG","JUN",4.42,4.28,4.4000000000000004,4.37,4.3600000000000003,4.42,4.38]
["300","Vel","1ª Jornada Camp. Distrital Absolutos","2022-06-04","Pombal","ADAL","F",1,95,"Inês Figueiredo","JV","INI",47.91]
["300","Vel","1ª Jornada Camp. Distrital Absolutos","2022-06-04","Pombal","ADAL","F",2,297,"Lara Pereira","GAC-L","INI",49.89]
["300","Vel","1ª Jornada Camp. Distrital Absolutos","2022-06-04","Pombal","ADAL","F",3,277,"Nina Barreiros","NDAP","JUV",49.93]
["300","Vel","1ª Jornada Camp. Distrital Absolutos","2022-06-04","Pombal","ADAL","F",4,1254,"Iara Pataco","NDAP","INI",56.69]
["300","Vel","1ª Jornada Camp. Distrital Absolutos","2022-06-04","Pombal","ADAL","F",5,1313,"Vera Gaspar","NDAP","INI",58.35]
["300","Vel","1ª Jornada Camp. Distrital Absolutos","2022-06-04","Pombal","ADAL","F",1,774,"Marta Carriço","ACDRA","INI",42.29]
["300","Vel","1ª Jornada Camp. Distrital Absolutos","2022-06-04","Pombal","ADAL","F",2,105,"Katerina Quinn","JV","INI",44.37]
["300","Vel","1ª Jornada Camp. Distrital Absolutos","2022-06-04","Pombal","ADAL","F",3,149,"Sofia Santos","JV","INI",44.7]
["300","Vel","1ª Jornada Camp. Distrital Absolutos","2022-06-04","Pombal","ADAL","F",4,123,"Marta Feliciano","JV","INI",46.99]
["300","Vel","1ª Jornada Camp. Distrital Absolutos","2022-06-04","Pombal","ADAL","F",5,279,"Oleksandra Sliposhch","NDAP","INI",53.66]
["300","Vel","1ª Jornada Camp. Distrital Absolutos","2022-06-04","Pombal","ADAL","F",1,146,"Sara Lopes","JV","JUV",46.65]
["300","Vel","1ª Jornada Camp. Distrital Absolutos","2022-06-04","Pombal","ADAL","F",2,372,"Caetana Neves","ACDRA","INI",48.45]
["300","Vel","1ª Jornada Camp. Distrital Absolutos","2022-06-04","Pombal","ADAL","F",3,298,"Laura Gomes","GAC-L","INI",48.83]
["100","Vel","1ª Jornada Camp. Distrital Absolutos","2022-06-04","Pombal","ADAL","M",1,783,"Alexandre Babych","AAADP","JUV",11.29]
["100","Vel","1ª Jornada Camp. Distrital Absolutos","2022-06-04","Pombal","ADAL","M",2,210,"Tomás Areias","ACB-L","JUN",11.46]
["100","Vel","1ª Jornada Camp. Distrital Absolutos","2022-06-04","Pombal","ADAL","M",3,883,"Ernesto Rodrigues","JV","JUV",11.5]
["100","Vel","1ª Jornada Camp. Distrital Absolutos","2022-06-04","Pombal","ADAL","M",4,690,"João Martins","JV","JUV",11.52]
["100","Vel","1ª Jornada Camp. Distrital Absolutos","2022-06-04","Pombal","ADAL","M",5,113,"Luca Cruz","JV","JUV",11.82]
["100","Vel","1ª Jornada Camp. Distrital Absolutos","2022-06-04","Pombal","ADAL","F",1,877,"Carolina Castro","JV","JUV",12.92]
["100","Vel","1ª Jornada Camp. Distrital Absolutos","2022-06-04","Pombal","ADAL","F",2,336,"Rafaela Pires","GDP-L","JUV",13.17]
["100","Vel","1ª Jornada Camp. Distrital Absolutos","2022-06-04","Pombal","ADAL","F",3,878,"Carolina Gaspar","JV","JUN",13.25]
["100","Vel","1ª Jornada Camp. Distrital Absolutos","2022-06-04","Pombal","ADAL","F",4,2,"Sara Brites","JV","JUV",13.62]
["100","Vel","1ª Jornada Camp. Distrital Absolutos","2022-06-04","Pombal","ADAL","F",5,684,"Catarina Silva","JV","JUV",13.64]
["100","Vel","1ª Jornada Camp. Distrital Absolutos","2022-06-04","Pombal","ADAL","F",6,370,"Beatriz Gonçalves","ACDRA","JUV",13.67]
["4X100","Vel","1ª Jornada Camp. Distrital Absolutos","2022-06-04","Pombal","ADAL","F",1,10002,"JUV VIDIGALENSE","JV","SEN",51.9]
["4X100","Vel","1ª Jornada Camp. Distrital Absolutos","2022-06-04","Pombal","ADAL","M",1,10703,"JUV VIDIGALENSE","JV","SEN",46.55]
["4X100","Vel","1ª Jornada Camp. Distrital Absolutos","2022-06-04","Pombal","ADAL","M",2,9003,"CANAZ A","CANAZ","SEN",47.54]
["4X100","Vel","1ª Jornada Camp. Distrital Absolutos","2022-06-04","Pombal","ADAL","M",3,9004,"CANAZ B","CANAZ","SEN",51.64]
["DISCO10","Lan","2ª Jornada Camp. Distrital Absolutos","2022-06-05","Pombal","ADAL","F",1,218,"Camélia Terentiy","CAMG","JUN",32.83,31.24,29.77,32.020000000000003,32.83,30.92,30.14]
["DISCO10","Lan","2ª Jornada Camp. Distrital Absolutos","2022-06-05","Pombal","ADAL","F",2,573,"Rita Oliveira","CANAZ","JUV",31.45,29.33,31.45,29.71,30.13,30.5,"X"]
["DISCO10","Lan","2ª Jornada Camp. Distrital Absolutos","2022-06-05","Pombal","ADAL","F",3,854,"Eva Varela","CANAZ","JUV",28.41,"X",21.96,26.06,28.41,27.85,26.42]
["DISCO10","Lan","2ª Jornada Camp. Distrital Absolutos","2022-06-05","Pombal","ADAL","F",4,738,"Beatriz Cordeiro","JV","JUV",25.91,24.95,24.03,"X",25.14,"X",25.91]
["DISCO10","Lan","2ª Jornada Camp. Distrital Absolutos","2022-06-05","Pombal","ADAL","F",5,874,"Beatriz Silva","JV","JUN",17.54,"X",17.010000000000002,13.36,"X",14.87,17.54]
["PESO7","Lan","2ª Jornada Camp. Distrital Absolutos","2022-06-05","Pombal","ADAL","M",1,1077,"João Domingues","JV","SEN",11.19,11.18,11.19,"X","X","X","X"]
["PESO7","Lan","2ª Jornada Camp. Distrital Absolutos","2022-06-05","Pombal","ADAL","M",2,321,"Daniel Raposo","GDP-L","JUN",10.23,"X",9.8699999999999992,9.94,9.83,10.23,9.51]
["PESO7","Lan","2ª Jornada Camp. Distrital Absolutos","2022-06-05","Pombal","ADAL","M",3,810,"Dorin Repesciuc","CANAZ","SUB-23",9.67,9.25,8.59,9.16,9.25,9.5299999999999994,9.67]
["PESO7","Lan","2ª Jornada Camp. Distrital Absolutos","2022-06-05","Pombal","ADAL","M",4,523,"Casimiro Gomes","ACB-L","VET 40",9.2200000000000006,8.85,8.84,8.67,8.8699999999999992,8.98,9.2200000000000006]
["PESO7","Lan","2ª Jornada Camp. Distrital Absolutos","2022-06-05","Pombal","ADAL","M",5,1300,"Bernardo Coelho","ACB-L","SEN",8.6300000000000008,8.6300000000000008,8.49,8.5,"X",8.33,"X"]
["110B106","Vel","2ª Jornada Camp. Distrital Absolutos","2022-06-05","Pombal","ADAL","M",1,517,"Gabriel Borges","ACB-L","JUN",17.3]
["110B106","Vel","2ª Jornada Camp. Distrital Absolutos","2022-06-05","Pombal","ADAL","M",3,1233,"Hélio Pedroso","CANAZ","JUN",19.88]
["110B106","Vel","2ª Jornada Camp. Distrital Absolutos","2022-06-05","Pombal","ADAL","M",4,893,"Bruno Júnior","CANAZ","JUN",24.86]
["100B084","Vel","2ª Jornada Camp. Distrital Absolutos","2022-06-05","Pombal","ADAL","F",1,106,"Lara Duarte","JV","JUN",15.83]
["VARA","Sal","2ª Jornada Camp. Distrital Absolutos","2022-06-05","Pombal","ADAL","F",1,682,"Bruna Santos","JV","JUN",3.2]
["VARA","Sal","2ª Jornada Camp. Distrital Absolutos","2022-06-05","Pombal","ADAL","F",2,684,"Catarina Silva","JV","JUV",2.4]
["VARA","Sal","2ª Jornada Camp. Distrital Absolutos","2022-06-05","Pombal","ADAL","F",3,211,"Vera Duque","ACB-L","JUN",2.4]
["VARA","Sal","2ª Jornada Camp. Distrital Absolutos","2022-06-05","Pombal","ADAL","M",1,509,"George Silva","ACB-L","VET 45",3.6]
["VARA","Sal","2ª Jornada Camp. Distrital Absolutos","2022-06-05","Pombal","ADAL","M",3,113,"Luca Cruz","JV","JUV",3]
["60","Vel","2ª Jornada Camp. Distrital Absolutos","2022-06-05","Pombal","ADAL","F",1,1188,"Luana Alexandre","CPRAB","INF",9.08]
["60","Vel","2ª Jornada Camp. Distrital Absolutos","2022-06-05","Pombal","ADAL","F",2,1328,"Ana Santos","GAC-L","INF",9.25]
["60","Vel","2ª Jornada Camp. Distrital Absolutos","2022-06-05","Pombal","ADAL","F",3,1246,"Carolina Brígido","JV","INF",9.75]
["60","Vel","2ª Jornada Camp. Distrital Absolutos","2022-06-05","Pombal","ADAL","F",4,1235,"Joana Martins","CANAZ","INF",10.6]
["60","Vel","2ª Jornada Camp. Distrital Absolutos","2022-06-05","Pombal","ADAL","F",1,1125,"Constança Figueira","CANAZ","INF",10.84]
["60","Vel","2ª Jornada Camp. Distrital Absolutos","2022-06-05","Pombal","ADAL","F",2,1133,"Beatriz Guitti","CANAZ","INF",11.19]
["60","Vel","2ª Jornada Camp. Distrital Absolutos","2022-06-05","Pombal","ADAL","F",3,1059,"Diva Vidal","CANAZ","INF",11.23]
["60","Vel","2ª Jornada Camp. Distrital Absolutos","2022-06-05","Pombal","ADAL","F",1,118,"Margarida Godinho","JV","INF",8.67]
["60","Vel","2ª Jornada Camp. Distrital Absolutos","2022-06-05","Pombal","ADAL","F",2,258,"Jéssica Joaninho","NDAP","INF",8.8800000000000008]
["60","Vel","2ª Jornada Camp. Distrital Absolutos","2022-06-05","Pombal","ADAL","F",3,842,"Eva Nunes","AAADP","INF",9.11]
["60","Vel","2ª Jornada Camp. Distrital Absolutos","2022-06-05","Pombal","ADAL","F",4,569,"Alícia Almeida","CANAZ","INF",9.52]
["60","Vel","2ª Jornada Camp. Distrital Absolutos","2022-06-05","Pombal","ADAL","F",5,857,"Luna Delgado","CANAZ","INF",9.69]
["60","Vel","2ª Jornada Camp. Distrital Absolutos","2022-06-05","Pombal","ADAL","M",1,127,"Matias Góis","JV","INF",7.96]
["60","Vel","2ª Jornada Camp. Distrital Absolutos","2022-06-05","Pombal","ADAL","M",2,1238,"Rafael Escolástico","CANAZ","INF",8.52]
["60","Vel","2ª Jornada Camp. Distrital Absolutos","2022-06-05","Pombal","ADAL","M",3,55,"André Ribeiro","JV","INF",9.09]
["60","Vel","2ª Jornada Camp. Distrital Absolutos","2022-06-05","Pombal","ADAL","M",4,459,"André Ferreira","CPRAB","INF",10.48]
["60","Vel","2ª Jornada Camp. Distrital Absolutos","2022-06-05","Pombal","ADAL","M",5,1247,"Mateus Butori","JV","INF",10.81]
["80","Vel","2ª Jornada Camp. Distrital Absolutos","2022-06-05","Pombal","ADAL","F",1,899,"Constança Abreu","AAADP","INI",10.97]
["80","Vel","2ª Jornada Camp. Distrital Absolutos","2022-06-05","Pombal","ADAL","F",2,279,"Oleksandra Sliposhch","NDAP","INI",12]
["80","Vel","2ª Jornada Camp. Distrital Absolutos","2022-06-05","Pombal","ADAL","F",3,1313,"Vera Gaspar","NDAP","INI",12.75]
["80","Vel","2ª Jornada Camp. Distrital Absolutos","2022-06-05","Pombal","ADAL","F",4,1254,"Iara Pataco","NDAP","INI",13.19]
["80","Vel","2ª Jornada Camp. Distrital Absolutos","2022-06-05","Pombal","ADAL","F",1,105,"Katerina Quinn","JV","INI",10.57]
["80","Vel","2ª Jornada Camp. Distrital Absolutos","2022-06-05","Pombal","ADAL","F",2,95,"Inês Figueiredo","JV","INI",11.49]
["80","Vel","2ª Jornada Camp. Distrital Absolutos","2022-06-05","Pombal","ADAL","F",1,149,"Sofia Santos","JV","INI",10.64]
["80","Vel","2ª Jornada Camp. Distrital Absolutos","2022-06-05","Pombal","ADAL","F",2,123,"Marta Feliciano","JV","INI",10.82]
["80","Vel","2ª Jornada Camp. Distrital Absolutos","2022-06-05","Pombal","ADAL","F",3,896,"Eva Marques","AAADP","INI",11.09]
["80","Vel","2ª Jornada Camp. Distrital Absolutos","2022-06-05","Pombal","ADAL","F",4,298,"Laura Gomes","GAC-L","INI",11.42]
["80","Vel","2ª Jornada Camp. Distrital Absolutos","2022-06-05","Pombal","ADAL","F",5,285,"Beatriz Gomes","GAC-L","INI",11.55]
["80","Vel","2ª Jornada Camp. Distrital Absolutos","2022-06-05","Pombal","ADAL","M",1,100,"João Fernandes","JV","INI",11.22]
["80","Vel","2ª Jornada Camp. Distrital Absolutos","2022-06-05","Pombal","ADAL","M",2,1299,"Eliel","CANAZ","INI",11.82]
["80","Vel","2ª Jornada Camp. Distrital Absolutos","2022-06-05","Pombal","ADAL","M",3,1253,"Eduardo Lourenço","NDAP","INI",13.08]
["80","Vel","2ª Jornada Camp. Distrital Absolutos","2022-06-05","Pombal","ADAL","M",1,74,"Denis Hrabar","JV","INI",9.51]
["80","Vel","2ª Jornada Camp. Distrital Absolutos","2022-06-05","Pombal","ADAL","M",2,274,"Martim Antunes","NDAP","INI",9.75]
["80","Vel","2ª Jornada Camp. Distrital Absolutos","2022-06-05","Pombal","ADAL","M",3,160,"Rafael Dias","JV","INI",10.01]
["80","Vel","2ª Jornada Camp. Distrital Absolutos","2022-06-05","Pombal","ADAL","M",4,253,"Francisco Mota","NDAP","INI",10.37]
["80","Vel","2ª Jornada Camp. Distrital Absolutos","2022-06-05","Pombal","ADAL","M",5,1265,"Cristóvão Gonçalves","AAADP","INI",10.38]
["DISCO20","Lan","2ª Jornada Camp. Distrital Absolutos","2022-06-05","Pombal","ADAL","M",1,1077,"João Domingues","JV","SEN",39.880000000000003,39.85,"X",39.880000000000003,"X","X","X"]
["DISCO20","Lan","2ª Jornada Camp. Distrital Absolutos","2022-06-05","Pombal","ADAL","M",2,321,"Daniel Raposo","GDP-L","JUN",28.13,"X","X","X",22.99,27.89,28.13]
["DISCO20","Lan","2ª Jornada Camp. Distrital Absolutos","2022-06-05","Pombal","ADAL","M",3,1300,"Bernardo Coelho","ACB-L","SEN",24.46,22.44,23.26,24.46,22.75,22.07,22.5]
["PESO4","Lan","2ª Jornada Camp. Distrital Absolutos","2022-06-05","Pombal","ADAL","F",1,905,"Inês Carreira","JV","SUB-23",12.83,12.55,"X",12.66,"X",12.83,12.58]
["PESO4","Lan","2ª Jornada Camp. Distrital Absolutos","2022-06-05","Pombal","ADAL","F",2,1078,"Raquel Gonçalves","JV","SUB-23",9.49,9.26,9.43,9.49,"X",8.99,9.02]
["1500","MF","2ª Jornada Camp. Distrital Absolutos","2022-06-05","Pombal","ADAL","F",2,82,"Eduarda Silva","JV","JUV","00:05:03.690"]
["1500","MF","2ª Jornada Camp. Distrital Absolutos","2022-06-05","Pombal","ADAL","F",3,505,"Joana Duarte","BA","JUN","00:05:10.520"]
["1500","MF","2ª Jornada Camp. Distrital Absolutos","2022-06-05","Pombal","ADAL","F",4,146,"Sara Lopes","JV","JUV","00:05:30.020"]
["1500","MF","2ª Jornada Camp. Distrital Absolutos","2022-06-05","Pombal","ADAL","F",5,1250,"Filipa Pigarro","NDA","JUN","00:05:36.400"]
["1500","MF","2ª Jornada Camp. Distrital Absolutos","2022-06-05","Pombal","ADAL","M",1,914,"Pedro Rodrigues","NDAP","JUV","00:04:29.070"]
["1500","MF","2ª Jornada Camp. Distrital Absolutos","2022-06-05","Pombal","ADAL","M",2,246,"Ricardo Henriques","CAMG","VET 35","00:04:37.260"]
["1500","MF","2ª Jornada Camp. Distrital Absolutos","2022-06-05","Pombal","ADAL","M",3,289,"Diogo Pereira","GAC-L","JUV","00:05:19.850"]
["1500","MF","2ª Jornada Camp. Distrital Absolutos","2022-06-05","Pombal","ADAL","M",4,599,"Martinho Pedrosa","GAUB","VET 55","00:05:22.960"]
["1500","MF","2ª Jornada Camp. Distrital Absolutos","2022-06-05","Pombal","ADAL","M",5,572,"Pedro Rocha","CANAZ","JUV","00:05:40.060"]
["1500","MF","2ª Jornada Camp. Distrital Absolutos","2022-06-05","Pombal","ADAL","M",1,158,"Tomás Palma","JV","SUB-23","00:04:10.930"]
["1500","MF","2ª Jornada Camp. Distrital Absolutos","2022-06-05","Pombal","ADAL","M",2,585,"Daniel Cabecinhas","GAUB","SUB-23","00:04:12.920"]
["1500","MF","2ª Jornada Camp. Distrital Absolutos","2022-06-05","Pombal","ADAL","M",3,595,"Licínio Silva","GAUB","SEN","00:04:13.880"]
["1500","MF","2ª Jornada Camp. Distrital Absolutos","2022-06-05","Pombal","ADAL","M",4,152,"Tiago Jorge","JV","JUV","00:04:14.730"]
["1500","MF","2ª Jornada Camp. Distrital Absolutos","2022-06-05","Pombal","ADAL","M",5,1100,"Márcio Dias","AE-CA","JUV","00:04:15.160"]
["1500","MF","2ª Jornada Camp. Distrital Absolutos","2022-06-05","Pombal","ADAL","M",6,504,"Rodrigo Ribeiro","NDA","JUN","00:04:15.640"]
["1500","MF","2ª Jornada Camp. Distrital Absolutos","2022-06-05","Pombal","ADAL","M",7,108,"Leonardo Jacinto","JV","JUV","00:04:25.870"]
["1500","MF","2ª Jornada Camp. Distrital Absolutos","2022-06-05","Pombal","ADAL","M",8,227,"Emamuel Cardoso","CAMG","SEN","00:04:27.660"]
["1500","MF","2ª Jornada Camp. Distrital Absolutos","2022-06-05","Pombal","ADAL","M",9,852,"Bruno Branco","CANAZ","JUN","00:04:32.150"]
["1500","MF","2ª Jornada Camp. Distrital Absolutos","2022-06-05","Pombal","ADAL","M",10,810,"Dorin Repesciuc","CANAZ","SUB-23","00:04:53.110"]
["600","MF","2ª Jornada Camp. Distrital Absolutos","2022-06-05","Pombal","ADAL","F",1,258,"Jéssica Joaninho","NDAP","INF","00:02:01.010"]
["600","MF","2ª Jornada Camp. Distrital Absolutos","2022-06-05","Pombal","ADAL","F",2,1246,"Carolina Brígido","JV","INF","00:02:03.960"]
["600","MF","2ª Jornada Camp. Distrital Absolutos","2022-06-05","Pombal","ADAL","F",3,842,"Eva Nunes","AAADP","INF","00:02:04.910"]
["600","MF","2ª Jornada Camp. Distrital Absolutos","2022-06-05","Pombal","ADAL","F",4,118,"Margarida Godinho","JV","INF","00:02:05.150"]
["600","MF","2ª Jornada Camp. Distrital Absolutos","2022-06-05","Pombal","ADAL","F",5,1202,"Íris Conde","NDA","INF","00:02:06.040"]
["600","MF","2ª Jornada Camp. Distrital Absolutos","2022-06-05","Pombal","ADAL","F",6,1188,"Luana Alexandre","CPRAB","INF","00:02:10.380"]
["600","MF","2ª Jornada Camp. Distrital Absolutos","2022-06-05","Pombal","ADAL","F",7,569,"Alícia Almeida","CANAZ","INF","00:02:10.520"]
["600","MF","2ª Jornada Camp. Distrital Absolutos","2022-06-05","Pombal","ADAL","F",8,255,"Inês Pereira","NDAP","INF","00:02:11.840"]
["600","MF","2ª Jornada Camp. Distrital Absolutos","2022-06-05","Pombal","ADAL","F",9,857,"Luna Delgado","CANAZ","INF","00:02:15.160"]
["600","MF","2ª Jornada Camp. Distrital Absolutos","2022-06-05","Pombal","ADAL","F",10,1125,"Constança Figueira","CANAZ","INF","00:02:27.800"]
["600","MF","2ª Jornada Camp. Distrital Absolutos","2022-06-05","Pombal","ADAL","F",11,1235,"Joana Martins","CANAZ","INF","00:02:30.100"]
["600","MF","2ª Jornada Camp. Distrital Absolutos","2022-06-05","Pombal","ADAL","F",12,1133,"Beatriz Guitti","CANAZ","INF","00:02:37.960"]
["600","MF","2ª Jornada Camp. Distrital Absolutos","2022-06-05","Pombal","ADAL","F",13,1059,"Diva Vidal","CANAZ","INF","00:02:39.900"]
["600","MF","2ª Jornada Camp. Distrital Absolutos","2022-06-05","Pombal","ADAL","M",1,127,"Matias Góis","JV","INF","00:01:42.430"]
["600","MF","2ª Jornada Camp. Distrital Absolutos","2022-06-05","Pombal","ADAL","M",2,1168,"Axel Dos Santos","NDA","INF","00:01:51.040"]
["600","MF","2ª Jornada Camp. Distrital Absolutos","2022-06-05","Pombal","ADAL","M",3,55,"André Ribeiro","JV","INF","00:01:54.280"]
["600","MF","2ª Jornada Camp. Distrital Absolutos","2022-06-05","Pombal","ADAL","M",4,1238,"Rafael Escolástico","CANAZ","INF","00:01:57.730"]
["600","MF","2ª Jornada Camp. Distrital Absolutos","2022-06-05","Pombal","ADAL","M",5,459,"André Ferreira","CPRAB","INF","00:02:20.750"]
["600","MF","2ª Jornada Camp. Distrital Absolutos","2022-06-05","Pombal","ADAL","M",6,1247,"Mateus Butori","JV","INF","00:02:24.550"]
["1000","MF","2ª Jornada Camp. Distrital Absolutos","2022-06-05","Pombal","ADAL","F",1,63,"Carolina Ferreira","JV","INI","00:03:16.670"]
["1000","MF","2ª Jornada Camp. Distrital Absolutos","2022-06-05","Pombal","ADAL","F",2,297,"Lara Pereira","GAC-L","INI","00:03:20.750"]
["1000","MF","2ª Jornada Camp. Distrital Absolutos","2022-06-05","Pombal","ADAL","F",3,132,"Miriam Machado","JV","INI","00:03:23.100"]
["1000","MF","2ª Jornada Camp. Distrital Absolutos","2022-06-05","Pombal","ADAL","F",4,1295,"Lara Alho","JV","INI","00:03:31.250"]
["1000","MF","2ª Jornada Camp. Distrital Absolutos","2022-06-05","Pombal","ADAL","F",5,285,"Beatriz Gomes","GAC-L","INI","00:04:01.970"]
["1000","MF","2ª Jornada Camp. Distrital Absolutos","2022-06-05","Pombal","ADAL","F",6,279,"Oleksandra Sliposhch","NDAP","INI","00:04:12.460"]
["1000","MF","2ª Jornada Camp. Distrital Absolutos","2022-06-05","Pombal","ADAL","F",7,1254,"Iara Pataco","NDAP","INI","00:04:36.580"]
["1000","MF","2ª Jornada Camp. Distrital Absolutos","2022-06-05","Pombal","ADAL","F",8,1313,"Vera Gaspar","NDAP","INI","00:04:49.870"]
["1000","MF","2ª Jornada Camp. Distrital Absolutos","2022-06-05","Pombal","ADAL","M",1,140,"Rafael Morgado","JV","INI","00:03:02.800"]
["1000","MF","2ª Jornada Camp. Distrital Absolutos","2022-06-05","Pombal","ADAL","M",2,253,"Francisco Mota","NDAP","INI","00:03:03.750"]
["1000","MF","2ª Jornada Camp. Distrital Absolutos","2022-06-05","Pombal","ADAL","M",3,100,"João Fernandes","JV","INI","00:03:06.880"]
["1000","MF","2ª Jornada Camp. Distrital Absolutos","2022-06-05","Pombal","ADAL","M",4,466,"Miguel Ferreira","CPRAB","INI","00:03:14.460"]
["1000","MF","2ª Jornada Camp. Distrital Absolutos","2022-06-05","Pombal","ADAL","M",5,274,"Martim Antunes","NDAP","INI","00:03:16"]
["1000","MF","2ª Jornada Camp. Distrital Absolutos","2022-06-05","Pombal","ADAL","M",6,160,"Rafael Dias","JV","INI","00:03:24.750"]
["1000","MF","2ª Jornada Camp. Distrital Absolutos","2022-06-05","Pombal","ADAL","M",7,1299,"Eliel","CANAZ","INI","00:03:57.940"]
["VARA","Sal","Prova de Preparação Salto Com Vara","2022-06-08","Leiria","ADAL","M",1,140,"Rafael Morgado","JV","INI",3.35]
["VARA","Sal","Prova de Preparação Salto Com Vara","2022-06-08","Leiria","ADAL","M",2,160,"Rafael Dias","JV","INI",1.95]
["VARA","Sal","Prova de Preparação Salto Com Vara","2022-06-08","Leiria","ADAL","F",1,85,"Filipa Dinis","JV","JUV",2.9]
["VARA","Sal","Prova de Preparação Salto Com Vara","2022-06-08","Leiria","ADAL","F",2,684,"Catarina Silva","JV","JUV",2.5]
["VARA","Sal","Prova de Preparação Salto Com Vara","2022-06-08","Leiria","ADAL","F",3,816,"Ana Carvalho","JV","JUV",2.25]
["VARA","Sal","Prova de Preparação Salto Com Vara","2022-06-08","Leiria","ADAL","F",4,693,"Laura Baltazar","JV","JUV",2.25]
["VARA","Sal","Prova de Preparação Salto Com Vara","2022-06-08","Leiria","ADAL","F",5,95,"Inês Figueiredo","JV","INI",1.95]
["DISCO07","Lan","Campeonato Regional Sub 16","2022-06-05","Fátima","AAS","F",1,883,"Carolina D Santos","CAMG","INI",35.979999999999997,"X",35.83,"X",32.86,35.979999999999997,34.950000000000003]
["800","MF","Campeonato Regional Sub 16","2022-06-05","Fátima","AAS","F",1,886,"Matilde Angélico","CAMG","INI","00:02:37.440"]
["ALTURA","Sal","Campeonato Regional Sub 16","2022-06-05","Fátima","AAS","M",2,881,"António Constâncio","CAMG","INF",1.35]
["MARTEL4","Lan","Hammerwurfmeeting Fränkich-Crumbach","2022-06-06","Alemanha",null,"F",5,null,"Márcia Maketa","JV","JUV",55.55]
["MARTEL5","Lan","Hammerwurfmeeting Fränkich-Crumbach","2022-06-06","Alemanha",null,"M",2,null,"Francisco Calhau","JV","JUV",66.16]
["800","MF","Meeting Salamanca","2022-06-04","Espanha",null,"F",3,102,"Andreia Pingueiro","JV","SEN","00:02:15.520"]
["400B091","Vel","Meeting Salamanca","2022-06-04","Espanha",null,"M",6,13,"Paulo Soares","JV","SUB-23",52.85]
["Hep-Juv","Comb","Meeting Elite Défi Athlon de Montpellier","2022-06-04","França",null,"F",null,null,"Vera Goucha","JV","JUV",4674]
["100B076","Vel","Meeting Elite Défi Athlon de Montpellier","2022-06-04","França",null,"F",null,null,"Vera Goucha","JV","JUV",15.03]
["ALTURA","Sal","Meeting Elite Défi Athlon de Montpellier","2022-06-04","França",null,"F",null,null,"Vera Goucha","JV","JUV",1.54]
["PESO3","Lan","Meeting Elite Défi Athlon de Montpellier","2022-06-04","França",null,"F",null,null,"Vera Goucha","JV","JUV",13.07]
["200","Vel","Meeting Elite Défi Athlon de Montpellier","2022-06-04","França",null,"F",null,null,"Vera Goucha","JV","JUV",26.06]
["COMPRIM","Sal","Meeting Elite Défi Athlon de Montpellier","2022-06-04","França",null,"F",null,null,"Vera Goucha","JV","JUV",4.9800000000000004]
["DARDO5","Lan","Meeting Elite Défi Athlon de Montpellier","2022-06-04","França",null,"F",null,null,"Vera Goucha","JV","JUV",29.25]
["800","MF","Meeting Elite Défi Athlon de Montpellier","2022-06-04","França",null,"F",null,null,"Vera Goucha","JV","JUV","00:02:35.090"]
["800","MF","Campeonato Distrital Sub20","2022-06-05","Coimbra","ADAC","M",5,2206,"Nuno Cordeiro","JV","JUV","00:01:57.730"]
["800","MF","Campeonato Distrital Sub20","2022-06-05","Coimbra","ADAC","M",8,2207,"Rafael Vieira","JV","JUV","00:02:07.110"]
["100B084","Vel","Memorial Moniz Pereira","2022-06-10","Lisboa","AAL","F",4,231,"Raquel Lourenço","JV","SEN",13.87]
["100B084","Vel","Memorial Moniz Pereira","2022-06-10","Lisboa","AAL","F",13,225,"Lara Duarte","JV","JUN",15.17]
["100","Vel","Memorial Moniz Pereira","2022-06-10","Lisboa","AAL","F",12,227,"Mariana Videira","JV","JUN",12.42]
["PESO4","Lan","Memorial Moniz Pereira","2022-06-10","Lisboa","AAL","F",4,218,"Inês Carreira","JV","SUB-23",12.48,11.22,12.03,"X",12.48,12.3,12.11]
["PESO7","Lan","Memorial Moniz Pereira","2022-06-10","Lisboa","AAL","M",4,233,"Tomás Rodrigues","JV","SUB-23",14.56,"X","X","X",14.39,14.56,"X"]
["800","MF","Memorial Moniz Pereira","2022-06-10","Lisboa","AAL","M",8,228,"Nuno Cordeiro","JV","JUV","00:01:59.920"]
["100","Vel","Memorial Moniz Pereira","2022-06-10","Lisboa","AAL","F",10,219,"Joana Carlos","JV","SEN",12.32]
["DISCO10","Lan","Memorial Moniz Pereira","2022-06-10","Lisboa","AAL","F",3,230,"Raquel Gomes","JV","JUN",42.7,"X","X","X","X","X",42.7]
["DISCO10","Lan","Memorial Moniz Pereira","2022-06-10","Lisboa","AAL","F",6,218,"Inês Carreira","JV","SUB-23",35.49,"X",35.49,"X","X",33.14,34.369999999999997]
["DISCO20","Lan","Memorial Moniz Pereira","2022-06-10","Lisboa","AAL","M",4,233,"Tomás Rodrigues","JV","SUB-23",41.39,38.700000000000003,"X",40.090000000000003,"X","X",41.39]
["DISCO20","Lan","Memorial Moniz Pereira","2022-06-10","Lisboa","AAL","M",6,222,"João Domingues","JV","SEN",40.19,39.47,"X","X","X",40.19,"X"]
["1500","MF","Memorial Moniz Pereira","2022-06-10","Lisboa","AAL","F",3,213,"Andreia Pingueiro","JV","SEN","00:04:34.250"]
["1500","MF","Memorial Moniz Pereira","2022-06-10","Lisboa","AAL","F",5,216,"Cátia Pereira","JV","SUB-23","00:04:36.720"]
["200","Vel","Memorial Moniz Pereira","2022-06-10","Lisboa","AAL","F",3,227,"Mariana Videira","JV","JUN",26.27]
["200","Vel","Memorial Moniz Pereira","2022-06-10","Lisboa","AAL","F",4,231,"Raquel Lourenço","JV","SEN",26.52]
["200","Vel","Memorial Moniz Pereira","2022-06-10","Lisboa","AAL","M",1,232,"Simão Pereira","JV","SUB-23",21.65]
["200","Vel","Memorial Moniz Pereira","2022-06-10","Lisboa","AAL","M",3,223,"João Pinto","JV","SEN",22.17]
["400B091","Vel","Memorial Moniz Pereira","2022-06-10","Lisboa","AAL","M",3,229,"Paulo Soares","JV","SUB-23",52.92]
["1500","MF","Memorial Moniz Pereira","2022-06-10","Lisboa","AAL","M",8,217,"Gonçalo Varela","JV","SEN","00:03:58.430"]
["3000O","MF","Memorial Moniz Pereira","2022-06-10","Lisboa","AAL","M",3,212,"André Antunes","JV","SUB-23","00:09:44.970"]
["MARTEL3","Lan","Meeting Jovem António Pinho 2022","2022-06-10","Cucujães","AAA","F",2,2911,"Camila Patraboy","JV","INI",21.44,"X",21.44,"X","X"]
["MARTEL5","Lan","Meeting Jovem António Pinho 2022","2022-06-10","Cucujães","AAA","M",1,2912,"Francisco Calhau","JV","JUV",61.97,"X",61.97,"X","X"]
["DISCO10","Lan","Meeting Jovem António Pinho 2022","2022-06-10","Cucujães","AAA","F",2,2890,"Beatriz Cordeiro","JV","JUV",26.92,23.23,22.94,26.92,23.41]
["DISCO15","Lan","Meeting Jovem António Pinho 2022","2022-06-10","Cucujães","AAA","M",1,2912,"Francisco Calhau","JV","JUV",42.88,42.88,"X",42.52,42.38]
["DARDO5","Lan","Meeting Jovem António Pinho 2022","2022-06-10","Cucujães","AAA","F",1,2913,"Sofiia Chemyrys","JV","INI",24.39,24.39,"X","X","X"]
["MARTEL3","Lan","Campeonato Regional Sub16 e Sub18","2022-06-11","Lisboa","AAL","F",1,5148,"Leonor Belchior","ACDRA","JUV","42.05","X","X","32.75","X","42.05","X"]
["COMPRIM","Sal","1.ª JORNADA CAMPEONATO DISTRITAL SUB 14","2022-06-11","Leiria","ADAL","M",1,203,"Rafael Alves","ACB-L","INF",5.31,"X","X",5.21,"X","X",5.31]
["COMPRIM","Sal","1.ª JORNADA CAMPEONATO DISTRITAL SUB 14","2022-06-11","Leiria","ADAL","M",2,127,"Matias Góis","JV","INF",4.6900000000000004,4.3099999999999996,4.3,4.6900000000000004,4.38,4.63,4.66]
["COMPRIM","Sal","1.ª JORNADA CAMPEONATO DISTRITAL SUB 14","2022-06-11","Leiria","ADAL","M",3,1238,"Rafael Escolástico","CANAZ","INF",4.33,4.2699999999999996,"X","-",4.33,"X",3.93]
["COMPRIM","Sal","1.ª JORNADA CAMPEONATO DISTRITAL SUB 14","2022-06-11","Leiria","ADAL","M",4,558,"António Constâncio","CAMG","INF",4.2,3.67,3.87,4.01,4.2,3.99,4.17]
["COMPRIM","Sal","1.ª JORNADA CAMPEONATO DISTRITAL SUB 14","2022-06-11","Leiria","ADAL","M",5,161,"Afonso Marques","ACB-L","INF",4.07,3.87,"X",3.87,4.07,2.69,"X"]
["COMPRIM","Sal","1.ª JORNADA CAMPEONATO DISTRITAL SUB 14","2022-06-11","Leiria","ADAL","M",6,155,"Tomás Lopes","JV","INF",3.91,3.45,3.73,"X",3.79,3.21,3.91]
["COMPRIM","Sal","1.ª JORNADA CAMPEONATO DISTRITAL SUB 14","2022-06-11","Leiria","ADAL","M",7,80,"Diogo Tavares","JV","INF",3.7,"X","X",3.57,3.7,"X","X"]
["COMPRIM","Sal","1.ª JORNADA CAMPEONATO DISTRITAL SUB 14","2022-06-11","Leiria","ADAL","M",9,1179,"Diogo Clérigo","CAMR","INF",3.43,3.43,"X",3.4]
["COMPRIM","Sal","1.ª JORNADA CAMPEONATO DISTRITAL SUB 14","2022-06-11","Leiria","ADAL","M",10,154,"Tiago Reis Domingues","JV","INF",3.12,3.12,2.87,"X"]
["COMPRIM","Sal","1.ª JORNADA CAMPEONATO DISTRITAL SUB 14","2022-06-11","Leiria","ADAL","M",13,343,"Afonso Machado","CDBBR","INF",2.92,2.4500000000000002,2.81,2.92]
["COMPRIM","Sal","1.ª JORNADA CAMPEONATO DISTRITAL SUB 14","2022-06-11","Leiria","ADAL","M",14,1247,"Mateus Butori","JV","INF",2.87,2.79,2.72,2.87]
["COMPRIM","Sal","1.ª JORNADA CAMPEONATO DISTRITAL SUB 14","2022-06-11","Leiria","ADAL","M",15,668,"Martim Falcão","CAMG","INF",2.76,2.73,2.71,2.76]
["COMPRIM","Sal","1.ª JORNADA CAMPEONATO DISTRITAL SUB 14","2022-06-11","Leiria","ADAL","M",16,91,"Francisco Gregório","JV","INF",2.75,2,2.19,2.75]
["COMPRIM","Sal","1.ª JORNADA CAMPEONATO DISTRITAL SUB 14","2022-06-11","Leiria","ADAL","M",17,342,"Afonso Gomes","CDBBR","INF",2.4900000000000002,2.4500000000000002,2.4900000000000002,2.4500000000000002]
["COMPRIM","Sal","1.ª JORNADA CAMPEONATO DISTRITAL SUB 14","2022-06-11","Leiria","ADAL","M",18,174,"Francisco Marçalo","ACB-L","INF",2.27,2.08,2.0699999999999998,2.27]
["COMPRIM","Sal","1.ª JORNADA CAMPEONATO DISTRITAL SUB 14","2022-06-11","Leiria","ADAL","M",20,1116,"Francisco Vieira","CAMR","INF",2.1,2.1,"X","X"]
["MARTEL2","Lan","1.ª JORNADA CAMPEONATO DISTRITAL SUB 14","2022-06-11","Leiria","ADAL","F",1,571,"Patrícia Barqueiro","CANAZ","INF",23.6,23.6,22.96,22.72,22.29,23.14,22.89]
["MARTEL2","Lan","1.ª JORNADA CAMPEONATO DISTRITAL SUB 14","2022-06-11","Leiria","ADAL","F",2,112,"Liliana Teotónio","JV","INF",22.68,"X",22.68,"X",22.62,20.9,22.06]
["MARTEL2","Lan","1.ª JORNADA CAMPEONATO DISTRITAL SUB 14","2022-06-11","Leiria","ADAL","F",3,566,"Mariana Peralta","CAMG","INF",19.25,"X",19.25,16.510000000000002,18.95,"X","X"]
["MARTEL2","Lan","1.ª JORNADA CAMPEONATO DISTRITAL SUB 14","2022-06-11","Leiria","ADAL","F",4,341,"Violeta Santos","GDP-L","INF",16.82,"X",14.72,16.82,"X",14.96,"X"]
["MARTEL3","Lan","1.ª JORNADA CAMPEONATO DISTRITAL SUB 14","2022-06-11","Leiria","ADAL","M",1,104,"José Martins","JV","INF",16,14.18,16,14.75,14.85,14.89,14.51]
["MARTEL3","Lan","1.ª JORNADA CAMPEONATO DISTRITAL SUB 14","2022-06-11","Leiria","ADAL","M",2,561,"Edson Mendes","CAMG","INF",13.03,"X",13.03,12.47,11.3,11.58,11.13]
["60","Vel","1.ª JORNADA CAMPEONATO DISTRITAL SUB 14","2022-06-11","Leiria","ADAL","M",1,127,"Matias Góis","JV","INF",8.06]
["60","Vel","1.ª JORNADA CAMPEONATO DISTRITAL SUB 14","2022-06-11","Leiria","ADAL","M",2,767,"Michel Vatula","CAMG","INF",9]
["60","Vel","1.ª JORNADA CAMPEONATO DISTRITAL SUB 14","2022-06-11","Leiria","ADAL","M",3,357,"Lourenço Nunes","CDBBR","INF",9.4499999999999993]
["60","Vel","1.ª JORNADA CAMPEONATO DISTRITAL SUB 14","2022-06-11","Leiria","ADAL","M",5,348,"Dinis Vitorino","CDBBR","INF",11.89]
["60","Vel","1.ª JORNADA CAMPEONATO DISTRITAL SUB 14","2022-06-11","Leiria","ADAL","M",1,203,"Rafael Alves","ACB-L","INF",8.3800000000000008]
["60","Vel","1.ª JORNADA CAMPEONATO DISTRITAL SUB 14","2022-06-11","Leiria","ADAL","M",2,83,"Eduardo Camacho","JV","INF",8.5500000000000007]
["60","Vel","1.ª JORNADA CAMPEONATO DISTRITAL SUB 14","2022-06-11","Leiria","ADAL","M",3,1238,"Rafael Escolástico","CANAZ","INF",8.89]
["60","Vel","1.ª JORNADA CAMPEONATO DISTRITAL SUB 14","2022-06-11","Leiria","ADAL","M",4,161,"Afonso Marques","ACB-L","INF",8.94]
["60","Vel","1.ª JORNADA CAMPEONATO DISTRITAL SUB 14","2022-06-11","Leiria","ADAL","M",5,918,"Henrique Silva","CPRAB","INF",10.34]
["60","Vel","1.ª JORNADA CAMPEONATO DISTRITAL SUB 14","2022-06-11","Leiria","ADAL","M",6,343,"Afonso Machado","CDBBR","INF",10.7]
["60","Vel","1.ª JORNADA CAMPEONATO DISTRITAL SUB 14","2022-06-11","Leiria","ADAL","M",7,1116,"Francisco Vieira","CAMR","INF",10.84]
["60","Vel","1.ª JORNADA CAMPEONATO DISTRITAL SUB 14","2022-06-11","Leiria","ADAL","F",2,1328,"Ana Santos","GAC-L","INF",9.34]
["60","Vel","1.ª JORNADA CAMPEONATO DISTRITAL SUB 14","2022-06-11","Leiria","ADAL","F",3,1185,"Sara Pereira","CAMR","INF",9.6300000000000008]
["60","Vel","1.ª JORNADA CAMPEONATO DISTRITAL SUB 14","2022-06-11","Leiria","ADAL","F",5,1259,"Laura Morais","Sismaria","INF",10.32]
["60","Vel","1.ª JORNADA CAMPEONATO DISTRITAL SUB 14","2022-06-11","Leiria","ADAL","F",2,567,"Marta Ferreira","CAMG","INF",10.64]
["60","Vel","1.ª JORNADA CAMPEONATO DISTRITAL SUB 14","2022-06-11","Leiria","ADAL","F",1,1257,"Beatriz Vitorino","SISMARIA","INF",9.66]
["60","Vel","1.ª JORNADA CAMPEONATO DISTRITAL SUB 14","2022-06-11","Leiria","ADAL","F",1,116,"Madalena Salgueiro","JV","INF",9.5500000000000007]
["60","Vel","1.ª JORNADA CAMPEONATO DISTRITAL SUB 14","2022-06-11","Leiria","ADAL","F",2,1136,"Ashley Jorge","JV","INF",9.69]
["60","Vel","1.ª JORNADA CAMPEONATO DISTRITAL SUB 14","2022-06-11","Leiria","ADAL","F",3,809,"Camila Barbosa","CANAZ","INF",9.7799999999999994]
["60","Vel","1.ª JORNADA CAMPEONATO DISTRITAL SUB 14","2022-06-11","Leiria","ADAL","F",4,364,"Sofia Ferromau","CDBBR","INF",10.69]
["60","Vel","1.ª JORNADA CAMPEONATO DISTRITAL SUB 14","2022-06-11","Leiria","ADAL","F",5,1125,"Constança Figueira","CANAZ","INF",11.04]
["60","Vel","1.ª JORNADA CAMPEONATO DISTRITAL SUB 14","2022-06-11","Leiria","ADAL","F",6,1059,"Diva Vidal","CANAZ","INF",11.17]
["60","Vel","1.ª JORNADA CAMPEONATO DISTRITAL SUB 14","2022-06-11","Leiria","ADAL","F",7,356,"Leonor Ferreira","CDBBR","INF",11.61]
["60","Vel","1.ª JORNADA CAMPEONATO DISTRITAL SUB 14","2022-06-11","Leiria","ADAL","F",1,1019,"Bruna Silva","CAMR","INF",8.5399999999999991]
["60","Vel","1.ª JORNADA CAMPEONATO DISTRITAL SUB 14","2022-06-11","Leiria","ADAL","F",2,107,"Lara Simões","JV","INF",8.5500000000000007]
["60","Vel","1.ª JORNADA CAMPEONATO DISTRITAL SUB 14","2022-06-11","Leiria","ADAL","F",3,118,"Margarida Godinho","JV","INF",8.7899999999999991]
["60","Vel","1.ª JORNADA CAMPEONATO DISTRITAL SUB 14","2022-06-11","Leiria","ADAL","F",4,1188,"Luana Alexandre","CPRAB","INF",8.9700000000000006]
["60","Vel","1.ª JORNADA CAMPEONATO DISTRITAL SUB 14","2022-06-11","Leiria","ADAL","F",5,326,"Inês Marques","GDP-L","INF",9.11]
["60","Vel","1.ª JORNADA CAMPEONATO DISTRITAL SUB 14","2022-06-11","Leiria","ADAL","F",6,90,"Francisca Reis","JV","INF",9.1199999999999992]
["60","Vel","1.ª JORNADA CAMPEONATO DISTRITAL SUB 14","2022-06-11","Leiria","ADAL","F",7,66,"Carolina Silva","JV","INF",9.24]
["60","Vel","1.ª JORNADA CAMPEONATO DISTRITAL SUB 14","2022-06-11","Leiria","ADAL","F",8,172,"Francisca Paulo","ACB-L","INF",9.57]
["200","Vel","1.ª JORNADA CAMPEONATO DISTRITAL SUB 14","2022-06-11","Leiria","ADAL","F",1,370,"Beatriz Gonçalves","ACDRA","JUV",28.59]
["200","Vel","1.ª JORNADA CAMPEONATO DISTRITAL SUB 14","2022-06-11","Leiria","ADAL","F",2,298,"Laura Gomes","GAC-L","INI",29.27]
["200","Vel","1.ª JORNADA CAMPEONATO DISTRITAL SUB 14","2022-06-11","Leiria","ADAL","F",3,769,"Diana Vatula","CAMG","INI",29.29]
["200","Vel","1.ª JORNADA CAMPEONATO DISTRITAL SUB 14","2022-06-11","Leiria","ADAL","F",4,53,"Anabela Silva","JV","JUV",31.2]
["200","Vel","1.ª JORNADA CAMPEONATO DISTRITAL SUB 14","2022-06-11","Leiria","ADAL","F",5,1196,"Débora Pedras","JV","INI",33.19]
["200","Vel","1.ª JORNADA CAMPEONATO DISTRITAL SUB 14","2022-06-11","Leiria","ADAL","F",1,5,"Beatriz Castelhano","ACDRA","JUV",26.54]
["200","Vel","1.ª JORNADA CAMPEONATO DISTRITAL SUB 14","2022-06-11","Leiria","ADAL","F",2,336,"Rafaela Pires","GDP-L","JUV",27.06]
["200","Vel","1.ª JORNADA CAMPEONATO DISTRITAL SUB 14","2022-06-11","Leiria","ADAL","F",3,2,"Sara Brites","JV","JUV",27.67]
["200","Vel","1.ª JORNADA CAMPEONATO DISTRITAL SUB 14","2022-06-11","Leiria","ADAL","F",4,149,"Sofia Santos","JV","INI",28.07]
["200","Vel","1.ª JORNADA CAMPEONATO DISTRITAL SUB 14","2022-06-11","Leiria","ADAL","F",5,849,"Sofia Quintino","ACDRA","JUV",28.27]
["200","Vel","1.ª JORNADA CAMPEONATO DISTRITAL SUB 14","2022-06-11","Leiria","ADAL","M",1,690,"João Martins","JV","JUV",23.19]
["200","Vel","1.ª JORNADA CAMPEONATO DISTRITAL SUB 14","2022-06-11","Leiria","ADAL","M",2,894,"Bernardo Ferreira","NDAP","JUV",23.76]
["200","Vel","1.ª JORNADA CAMPEONATO DISTRITAL SUB 14","2022-06-11","Leiria","ADAL","M",3,374,"Diogo Chaves","ACDRA","JUV",24]
["200","Vel","1.ª JORNADA CAMPEONATO DISTRITAL SUB 14","2022-06-11","Leiria","ADAL","M",4,943,"Rodrigo Almeida","ACDRA","JUV",24.18]
["200","Vel","1.ª JORNADA CAMPEONATO DISTRITAL SUB 14","2022-06-11","Leiria","ADAL","M",5,160,"Rafael Dias","JV","INI",25.37]
["200","Vel","1.ª JORNADA CAMPEONATO DISTRITAL SUB 14","2022-06-11","Leiria","ADAL","M",6,1120,"Artur Macedo","CAMR","INI",26.14]
["200","Vel","1.ª JORNADA CAMPEONATO DISTRITAL SUB 14","2022-06-11","Leiria","ADAL","M",7,56,"António Vasconcelos","JV","INI",26.35]
["200","Vel","1.ª JORNADA CAMPEONATO DISTRITAL SUB 14","2022-06-11","Leiria","ADAL","M",8,133,"Nikita Miroshnyk","JV","INI",26.76]
["COMPRIM","Sal","1.ª JORNADA CAMPEONATO DISTRITAL SUB 14","2022-06-11","Leiria","ADAL","F",1,1019,"Bruna Silva","CAMR","INF",4.41,4.08,4.34,4.41,4.34,4.3099999999999996,4.4000000000000004]
["COMPRIM","Sal","1.ª JORNADA CAMPEONATO DISTRITAL SUB 14","2022-06-11","Leiria","ADAL","F",2,255,"Inês Pereira","NDAP","INF",4.1900000000000004,4.0199999999999996,3.98,4.09,4.1900000000000004,"X",4]
["COMPRIM","Sal","1.ª JORNADA CAMPEONATO DISTRITAL SUB 14","2022-06-11","Leiria","ADAL","F",3,51,"Alessandra Santos","JV","INF",4.17,3.76,"X",3.66,"X",4.17,4.08]
["COMPRIM","Sal","1.ª JORNADA CAMPEONATO DISTRITAL SUB 14","2022-06-11","Leiria","ADAL","F",4,107,"Lara Simões","JV","INF",4.1500000000000004,3.92,4.04,4.1500000000000004,"X",3.95,3.87]
["COMPRIM","Sal","1.ª JORNADA CAMPEONATO DISTRITAL SUB 14","2022-06-11","Leiria","ADAL","F",5,1018,"Beatriz Silva","CAMR","INF",4.1399999999999997,4.1399999999999997,4.09,4.0599999999999996,3.9,3.66,"-"]
["COMPRIM","Sal","1.ª JORNADA CAMPEONATO DISTRITAL SUB 14","2022-06-11","Leiria","ADAL","F",6,172,"Francisca Paulo","ACB-L","INF",3.93,3.87,3.93,3.79,3.85,3.75,3.92]
["COMPRIM","Sal","1.ª JORNADA CAMPEONATO DISTRITAL SUB 14","2022-06-11","Leiria","ADAL","F",7,326,"Inês Marques","GDP-L","INF",3.89,3.6,3.63,3.89,3.87,3.68,3.63]
["COMPRIM","Sal","1.ª JORNADA CAMPEONATO DISTRITAL SUB 14","2022-06-11","Leiria","ADAL","F",8,236,"Leonor Bonita","CAMG","INF",3.82,3.81,3.8,3.7,3.82,"X","X"]
["COMPRIM","Sal","1.ª JORNADA CAMPEONATO DISTRITAL SUB 14","2022-06-11","Leiria","ADAL","F",9,1328,"Ana Santos","GAC-L","INF",3.71,3.71,3.58,3.61]
["COMPRIM","Sal","1.ª JORNADA CAMPEONATO DISTRITAL SUB 14","2022-06-11","Leiria","ADAL","F",10,1185,"Sara Pereira","CAMR","INF",3.68,3.63,3.48,3.68]
["COMPRIM","Sal","1.ª JORNADA CAMPEONATO DISTRITAL SUB 14","2022-06-11","Leiria","ADAL","F",11,258,"Jéssica Joaninho","NDAP","INF",3.57,3.57,"-","-"]
["COMPRIM","Sal","1.ª JORNADA CAMPEONATO DISTRITAL SUB 14","2022-06-11","Leiria","ADAL","F",12,1188,"Luana Alexandre","CPRAB","INF",3.56,3.56,"X","X"]
["COMPRIM","Sal","1.ª JORNADA CAMPEONATO DISTRITAL SUB 14","2022-06-11","Leiria","ADAL","F",15,99,"Joana Reis","JV","INF",3.44,"X",3.44,3.16]
["COMPRIM","Sal","1.ª JORNADA CAMPEONATO DISTRITAL SUB 14","2022-06-11","Leiria","ADAL","F",16,569,"Alícia Almeida","CANAZ","INF",3.42,3.3,3.42,3.1]
["COMPRIM","Sal","1.ª JORNADA CAMPEONATO DISTRITAL SUB 14","2022-06-11","Leiria","ADAL","F",17,1246,"Carolina Brígido","JV","INF",3.23,2.71,3.23,"X"]
["COMPRIM","Sal","1.ª JORNADA CAMPEONATO DISTRITAL SUB 14","2022-06-11","Leiria","ADAL","F",18,1258,"Laura Morais","Sismaria","INF",3.18,3.18,3.08,3.11]
["COMPRIM","Sal","1.ª JORNADA CAMPEONATO DISTRITAL SUB 14","2022-06-11","Leiria","ADAL","F",19,1257,"Beatriz Vitorino","SISMARIA","INF",3.17,3.16,2.85,3.17]
["COMPRIM","Sal","1.ª JORNADA CAMPEONATO DISTRITAL SUB 14","2022-06-11","Leiria","ADAL","F",24,1059,"Diva Vidal","CANAZ","INF",2.85,2.85,"X",2.77]
["COMPRIM","Sal","1.ª JORNADA CAMPEONATO DISTRITAL SUB 14","2022-06-11","Leiria","ADAL","F",29,1235,"Joana Martins","CANAZ","INF",2.1,1.72,"X",2.1]
["300","Vel","1.ª JORNADA CAMPEONATO DISTRITAL SUB 14","2022-06-11","Leiria","ADAL","F",1,821,"Margarida Santos","JV","JUV",44.71]
["300","Vel","1.ª JORNADA CAMPEONATO DISTRITAL SUB 14","2022-06-11","Leiria","ADAL","F",2,123,"Marta Feliciano","JV","INI",45.53]
["300","Vel","1.ª JORNADA CAMPEONATO DISTRITAL SUB 14","2022-06-11","Leiria","ADAL","F",3,219,"Carolina D Santos","CAMG","INI",47.66]
["300","Vel","1.ª JORNADA CAMPEONATO DISTRITAL SUB 14","2022-06-11","Leiria","ADAL","M",2,375,"Diogo Nogueira","ACDRA","JUV",38.47]
["300","Vel","1.ª JORNADA CAMPEONATO DISTRITAL SUB 14","2022-06-11","Leiria","ADAL","M",3,103,"João Mota","JV","INI",41.49]
["60","Vel","1.ª JORNADA CAMPEONATO DISTRITAL SUB 14","2022-06-11","Leiria","ADAL","M",1,127,"Matias Góis","JV","INF",8.01]
["60","Vel","1.ª JORNADA CAMPEONATO DISTRITAL SUB 14","2022-06-11","Leiria","ADAL","M",2,203,"Rafael Alves","ACB-L","INF",8.3000000000000007]
["60","Vel","1.ª JORNADA CAMPEONATO DISTRITAL SUB 14","2022-06-11","Leiria","ADAL","M",3,83,"Eduardo Camacho","JV","INF",8.56]
["60","Vel","1.ª JORNADA CAMPEONATO DISTRITAL SUB 14","2022-06-11","Leiria","ADAL","M",4,161,"Afonso Marques","ACB-L","INF",8.89]
["60","Vel","1.ª JORNADA CAMPEONATO DISTRITAL SUB 14","2022-06-11","Leiria","ADAL","M",5,767,"Michel Vatula","CAMG","INF",8.99]
["60","Vel","1.ª JORNADA CAMPEONATO DISTRITAL SUB 14","2022-06-11","Leiria","ADAL","M",6,357,"Lourenço Nunes","CDBBR","INF",9.25]
["60","Vel","1.ª JORNADA CAMPEONATO DISTRITAL SUB 14","2022-06-11","Leiria","ADAL","M",7,918,"Henrique Silva","CPRAB","INF",10.7]
["60","Vel","1.ª JORNADA CAMPEONATO DISTRITAL SUB 14","2022-06-11","Leiria","ADAL","F",1,1019,"Bruna Silva","CAMR","INF",8.5399999999999991]
["60","Vel","1.ª JORNADA CAMPEONATO DISTRITAL SUB 14","2022-06-11","Leiria","ADAL","F",2,118,"Margarida Godinho","JV","INF",8.64]
["60","Vel","1.ª JORNADA CAMPEONATO DISTRITAL SUB 14","2022-06-11","Leiria","ADAL","F",3,107,"Lara Simões","JV","INF",8.77]
["60","Vel","1.ª JORNADA CAMPEONATO DISTRITAL SUB 14","2022-06-11","Leiria","ADAL","F",4,1188,"Luana Alexandre","CPRAB","INF",9.0299999999999994]
["60","Vel","1.ª JORNADA CAMPEONATO DISTRITAL SUB 14","2022-06-11","Leiria","ADAL","F",5,326,"Inês Marques","GDP-L","INF",9.0399999999999991]
["60","Vel","1.ª JORNADA CAMPEONATO DISTRITAL SUB 14","2022-06-11","Leiria","ADAL","F",6,66,"Carolina Silva","JV","INF",9.07]
["60","Vel","1.ª JORNADA CAMPEONATO DISTRITAL SUB 14","2022-06-11","Leiria","ADAL","F",8,90,"Francisca Reis","JV","INF",9.14]
["600","MF","1.ª JORNADA CAMPEONATO DISTRITAL SUB 14","2022-06-11","Leiria","ADAL","F",1,236,"Leonor Bonita","CAMG","INF","00:01:56.600"]
["600","MF","1.ª JORNADA CAMPEONATO DISTRITAL SUB 14","2022-06-11","Leiria","ADAL","F",2,129,"Matilde Silva","JV","INF","00:01:59.640"]
["600","MF","1.ª JORNADA CAMPEONATO DISTRITAL SUB 14","2022-06-11","Leiria","ADAL","F",3,128,"Matilde Joaquim","JV","INF","00:01:59.690"]
["600","MF","1.ª JORNADA CAMPEONATO DISTRITAL SUB 14","2022-06-11","Leiria","ADAL","F",4,258,"Jéssica Joaninho","NDAP","INF","00:02:11.830"]
["600","MF","1.ª JORNADA CAMPEONATO DISTRITAL SUB 14","2022-06-11","Leiria","ADAL","F",5,567,"Marta Ferreira","CAMG","INF","00:02:18.490"]
["600","MF","1.ª JORNADA CAMPEONATO DISTRITAL SUB 14","2022-06-11","Leiria","ADAL","F",6,1128,"Francisca Filipe","CANAZ","INF","00:02:28.550"]
["600","MF","1.ª JORNADA CAMPEONATO DISTRITAL SUB 14","2022-06-11","Leiria","ADAL","F",7,1235,"Joana Martins","CANAZ","INF","00:02:37.450"]
["600","MF","1.ª JORNADA CAMPEONATO DISTRITAL SUB 14","2022-06-11","Leiria","ADAL","M",1,1312,"Rodrigo Ramos","JV","INF","00:01:46.630"]
["600","MF","1.ª JORNADA CAMPEONATO DISTRITAL SUB 14","2022-06-11","Leiria","ADAL","M",2,767,"Michel Vatula","CAMG","INF","00:02:01.740"]
["600","MF","1.ª JORNADA CAMPEONATO DISTRITAL SUB 14","2022-06-11","Leiria","ADAL","M",3,104,"José Martins","JV","INF","00:02:06.970"]
["600","MF","1.ª JORNADA CAMPEONATO DISTRITAL SUB 14","2022-06-11","Leiria","ADAL","M",4,668,"Martim Falcão","CAMG","INF","00:02:15.540"]
["DARDO4","Lan","1.ª JORNADA CAMPEONATO DISTRITAL SUB 14","2022-06-11","Leiria","ADAL","F",1,1018,"Beatriz Silva","CAMR","INF",25.6,24.72,25.6,18.93,"X",23.17,23.21]
["DARDO4","Lan","1.ª JORNADA CAMPEONATO DISTRITAL SUB 14","2022-06-11","Leiria","ADAL","F",2,569,"Alícia Almeida","CANAZ","INF",20.63,18.29,19.18,20.170000000000002,20.63,20.04,19.39]
["DARDO4","Lan","1.ª JORNADA CAMPEONATO DISTRITAL SUB 14","2022-06-11","Leiria","ADAL","F",3,112,"Liliana Teotónio","JV","INF",15.42,15.42,14.62,13.59,14.45,13.52,14.32]
["DARDO4","Lan","1.ª JORNADA CAMPEONATO DISTRITAL SUB 14","2022-06-11","Leiria","ADAL","F",4,566,"Mariana Peralta","CAMG","INF",14.45,10.19,"X",10.28,10,14.45,"X"]
["DARDO4","Lan","1.ª JORNADA CAMPEONATO DISTRITAL SUB 14","2022-06-11","Leiria","ADAL","F",5,341,"Violeta Santos","GDP-L","INF",12.15,12.15,9.23,10.83,"-","-","-"]
["DARDO4","Lan","1.ª JORNADA CAMPEONATO DISTRITAL SUB 14","2022-06-11","Leiria","ADAL","F",6,364,"Sofia Ferromau","CDBBR","INF",12.1,10.42,10.41,"X","X",10.62,12.1]
["DARDO4","Lan","1.ª JORNADA CAMPEONATO DISTRITAL SUB 14","2022-06-11","Leiria","ADAL","F",9,356,"Leonor Ferreira","CDBBR","INF",8.84,7.62,7.89,8.84]
["DARDO4","Lan","1.ª JORNADA CAMPEONATO DISTRITAL SUB 14","2022-06-11","Leiria","ADAL","F",10,1136,"Ashley Jorge","JV","INF",8.5,7.85,6.46,8.5]
["DARDO5","Lan","1.ª JORNADA CAMPEONATO DISTRITAL SUB 14","2022-06-11","Leiria","ADAL","M",1,561,"Edson Mendes","CAMG","INF",24.05,18.88,20.82,19.309999999999999,16.600000000000001,20.21,24.05]
["DARDO5","Lan","1.ª JORNADA CAMPEONATO DISTRITAL SUB 14","2022-06-11","Leiria","ADAL","M",2,83,"Eduardo Camacho","JV","INF",22.03,14.48,21.17,18.25,18.690000000000001,18.57,22.03]
["DARDO5","Lan","1.ª JORNADA CAMPEONATO DISTRITAL SUB 14","2022-06-11","Leiria","ADAL","M",3,357,"Lourenço Nunes","CDBBR","INF",20.239999999999998,17.190000000000001,20.239999999999998,18.239999999999998,18.22,17.48,19.350000000000001]
["DARDO5","Lan","1.ª JORNADA CAMPEONATO DISTRITAL SUB 14","2022-06-11","Leiria","ADAL","M",5,155,"Tomás Lopes","JV","INF",19.329999999999998,16.39,19.329999999999998,16.95,16.190000000000001,"X",18.989999999999998]
["DARDO5","Lan","1.ª JORNADA CAMPEONATO DISTRITAL SUB 14","2022-06-11","Leiria","ADAL","M",6,1179,"Diogo Clérigo","CAMR","INF",14.46,11.34,10.78,14.46,13.54,14.27,11.64]
["DARDO5","Lan","1.ª JORNADA CAMPEONATO DISTRITAL SUB 14","2022-06-11","Leiria","ADAL","M",7,1241,"Gabriel Silva","CDBBR","INF",14.02,10.72,13.25,"X",12.89,12.53,14.02]
["DARDO5","Lan","1.ª JORNADA CAMPEONATO DISTRITAL SUB 14","2022-06-11","Leiria","ADAL","M",8,342,"Afonso Gomes","CDBBR","INF",12.16,8.41,9.7799999999999994,9.61,9.69,11.34,12.16]
["DARDO5","Lan","1.ª JORNADA CAMPEONATO DISTRITAL SUB 14","2022-06-11","Leiria","ADAL","M",9,348,"Dinis Vitorino","CDBBR","INF",8.1999999999999993,7.54,8.1999999999999993,7.47]
["DARDO5","Lan","1.ª JORNADA CAMPEONATO DISTRITAL SUB 14","2022-06-11","Leiria","ADAL","M",10,558,"António Constâncio","CAMG","INF",7.37,"X","X",7.37]
["4X60","Vel","1.ª JORNADA CAMPEONATO DISTRITAL SUB 14","2022-06-11","Leiria","ADAL","F",1,9001,"JV A","JV","INF",35.08]
["4X60","Vel","1.ª JORNADA CAMPEONATO DISTRITAL SUB 14","2022-06-11","Leiria","ADAL","F",2,9002,"JV B","JV","INF",37.75]
["4X60","Vel","1.ª JORNADA CAMPEONATO DISTRITAL SUB 14","2022-06-11","Leiria","ADAL","F",3,10734,"C A MARINHA GRANDE","CAMG","INF",44.82]
["4X60","Vel","1.ª JORNADA CAMPEONATO DISTRITAL SUB 14","2022-06-11","Leiria","ADAL","M",1,10198,"ATLÉTICO C BATALHA","ACB-L","INF",49.72]
["800","MF","1.ª JORNADA CAMPEONATO DISTRITAL SUB 14","2022-06-11","Leiria","ADAL","F",1,146,"Sara Lopes","JV","JUV","00:02:38.580"]
["800","MF","1.ª JORNADA CAMPEONATO DISTRITAL SUB 14","2022-06-11","Leiria","ADAL","F",2,1295,"Lara Alho","JV","INI","00:02:41.700"]
["800","MF","1.ª JORNADA CAMPEONATO DISTRITAL SUB 14","2022-06-11","Leiria","ADAL","M",1,141,"Rafael Vieira","JV","JUV","00:02:03.790"]
["800","MF","1.ª JORNADA CAMPEONATO DISTRITAL SUB 14","2022-06-11","Leiria","ADAL","M",2,914,"Pedro Rodrigues","NDAP","JUV","00:02:06.330"]
["800","MF","1.ª JORNADA CAMPEONATO DISTRITAL SUB 14","2022-06-11","Leiria","ADAL","M",3,253,"Francisco Mota","NDAP","INI","00:02:13.660"]
["800","MF","1.ª JORNADA CAMPEONATO DISTRITAL SUB 14","2022-06-11","Leiria","ADAL","M",4,806,"Leonardo Sousa","CAMG","INI","00:02:23.340"]
["800","MF","1.ª JORNADA CAMPEONATO DISTRITAL SUB 14","2022-06-11","Leiria","ADAL","M",5,135,"Nuno Guilherme Dias","JV","INI","00:02:27.120"]
["100","Vel","Torneio de Provas Combinadas","2022-06-11","Leiria","ADAL","M",1,317,"Bernardo Cunha","GDP-L","JUV",11.64]
["100","Vel","Torneio de Provas Combinadas","2022-06-11","Leiria","ADAL","M",2,74,"Denis Hrabar","JV","INI",11.97]
["100","Vel","Torneio de Provas Combinadas","2022-06-11","Leiria","ADAL","M",3,4,"Gabriel Cunha","GDP-L","INI",12.17]
["100","Vel","Torneio de Provas Combinadas","2022-06-11","Leiria","ADAL","M",1,214,"André Rodrigues","CAMG","JUN",11.72]
["100","Vel","Torneio de Provas Combinadas","2022-06-11","Leiria","ADAL","M",2,871,"André Petriv","JV","JUN",11.95]
["100","Vel","Torneio de Provas Combinadas","2022-06-11","Leiria","ADAL","F",1,705,"Vera Goucha","JV","JUV",15.58]
["100","Vel","Torneio de Provas Combinadas","2022-06-11","Leiria","ADAL","F",2,105,"Katerina Quinn","JV","INI",16.739999999999998]
["100","Vel","Torneio de Provas Combinadas","2022-06-11","Leiria","ADAL","F",3,697,"Luana Figueira","JV","JUV",19.21]
["100","Vel","Torneio de Provas Combinadas","2022-06-11","Leiria","ADAL","F",4,241,"Matilde Soares","CAMG","INI",19.96]
["COMPRIM","Sal","Torneio de Provas Combinadas","2022-06-11","Leiria","ADAL","M",1,214,"André Rodrigues","CAMG","JUN",6.65,6.65,"X","X"]
["COMPRIM","Sal","Torneio de Provas Combinadas","2022-06-11","Leiria","ADAL","M",2,317,"Bernardo Cunha","GDP-L","JUV",6.41,6.22,"X",6.41]
["COMPRIM","Sal","Torneio de Provas Combinadas","2022-06-11","Leiria","ADAL","M",3,4,"Gabriel Cunha","GDP-L","INI",6.37,6.33,6.33,6.37]
["COMPRIM","Sal","Torneio de Provas Combinadas","2022-06-11","Leiria","ADAL","M",4,74,"Denis Hrabar","JV","INI",6.12,6.12,6.1,5.81]
["COMPRIM","Sal","Torneio de Provas Combinadas","2022-06-11","Leiria","ADAL","M",6,871,"André Petriv","JV","JUN",5.88,5.81,5.01,5.88]
["ALTURA","Sal","Torneio de Provas Combinadas","2022-06-11","Leiria","ADAL","F",1,697,"Luana Figueira","JV","JUV",1.54]
["ALTURA","Sal","Torneio de Provas Combinadas","2022-06-11","Leiria","ADAL","F",2,705,"Vera Goucha","JV","JUV",1.54]
["ALTURA","Sal","Torneio de Provas Combinadas","2022-06-11","Leiria","ADAL","F",3,816,"Ana Carvalho","JV","JUV",1.39]
["ALTURA","Sal","Torneio de Provas Combinadas","2022-06-11","Leiria","ADAL","F",4,241,"Matilde Soares","CAMG","INI",1.33]
["ALTURA","Sal","Torneio de Provas Combinadas","2022-06-11","Leiria","ADAL","F",5,105,"Katerina Quinn","JV","INI",1.3]
["PESO5","Lan","Torneio de Provas Combinadas","2022-06-11","Leiria","ADAL","M",1,74,"Denis Hrabar","JV","INI",13.38,10.88,13.38,12.89]
["PESO5","Lan","Torneio de Provas Combinadas","2022-06-11","Leiria","ADAL","M",2,4,"Gabriel Cunha","GDP-L","INI",12.85,"X",12.85,12.77]
["PESO5","Lan","Torneio de Provas Combinadas","2022-06-11","Leiria","ADAL","M",3,317,"Bernardo Cunha","GDP-L","JUV",12.81,"X",12.81,12.58]
["PESO6","Lan","Torneio de Provas Combinadas","2022-06-11","Leiria","ADAL","M",1,871,"André Petriv","JV","JUN",11.02]
["PESO3","Lan","Torneio de Provas Combinadas","2022-06-11","Leiria","ADAL","F",1,705,"Vera Goucha","JV","JUV",13.02,12.99,13.02,13]
["PESO3","Lan","Torneio de Provas Combinadas","2022-06-11","Leiria","ADAL","F",2,697,"Luana Figueira","JV","JUV",10.14,10.14,9.92,10.07]
["PESO3","Lan","Torneio de Provas Combinadas","2022-06-11","Leiria","ADAL","F",3,684,"Catarina Silva","JV","JUV",9.7799999999999994,9.4499999999999993,8.69,9.7799999999999994]
["PESO3","Lan","Torneio de Provas Combinadas","2022-06-11","Leiria","ADAL","F",4,816,"Ana Carvalho","JV","JUV",7.18,7.16,7.18,7]
["PESO3","Lan","Torneio de Provas Combinadas","2022-06-11","Leiria","ADAL","F",5,105,"Katerina Quinn","JV","INI",6.29,5.94,5.96,6.29]
["PESO3","Lan","Torneio de Provas Combinadas","2022-06-11","Leiria","ADAL","F",6,241,"Matilde Soares","CAMG","INI",5.96,5.49,5.96,5.32]
["ALTURA","Sal","Torneio de Provas Combinadas","2022-06-11","Leiria","ADAL","M",1,317,"Bernardo Cunha","GDP-L","JUV",1.9]
["ALTURA","Sal","Torneio de Provas Combinadas","2022-06-11","Leiria","ADAL","M",2,4,"Gabriel Cunha","GDP-L","INI",1.9]
["ALTURA","Sal","Torneio de Provas Combinadas","2022-06-11","Leiria","ADAL","M",3,1675,"Leandro Matos","CPA-S","JUN",1.81]
["ALTURA","Sal","Torneio de Provas Combinadas","2022-06-11","Leiria","ADAL","M",4,871,"André Petriv","JV","JUN",1.72]
["ALTURA","Sal","Torneio de Provas Combinadas","2022-06-11","Leiria","ADAL","M",5,74,"Denis Hrabar","JV","INI",1.69]
["200","Vel","Torneio de Provas Combinadas","2022-06-11","Leiria","ADAL","F",1,705,"Vera Goucha","JV","JUV",26.65]
["200","Vel","Torneio de Provas Combinadas","2022-06-11","Leiria","ADAL","F",2,105,"Katerina Quinn","JV","INI",27.09]
["200","Vel","Torneio de Provas Combinadas","2022-06-11","Leiria","ADAL","F",3,241,"Matilde Soares","CAMG","INI",29.37]
["400","Vel","Torneio de Provas Combinadas","2022-06-11","Leiria","ADAL","M",1,317,"Bernardo Cunha","GDP-L","JUV",52.39]
["400","Vel","Torneio de Provas Combinadas","2022-06-11","Leiria","ADAL","M",2,74,"Denis Hrabar","JV","INI",54.54]
["400","Vel","Torneio de Provas Combinadas","2022-06-11","Leiria","ADAL","M",3,4,"Gabriel Cunha","GDP-L","INI",55.51]
["400","Vel","Torneio de Provas Combinadas","2022-06-11","Leiria","ADAL","M",1,871,"André Petriv","JV","JUN",54.03]
["TRIPLO","Sal","Campeonato Regional Sub 18 (Juvenis)","2022-06-11","Fátima","AAS","F",2,922,"Vitoria Chornohor","NDAP","JUV",10.44,10.119999999999999,10,10.41,10.44,10.210000000000001,"X"]
["100","Vel","Campeonato Regional Sub 18 (Juvenis)","2022-06-11","Fátima","AAS","M",3,917,"Bernardo Ferreira","NDAP","JUV",11.54]
["100","Vel","Campeonato Regional Sub 18 (Juvenis)","2022-06-11","Fátima","AAS","F",2,887,"Beatriz Alves","ACB-L","INI",13.51]
["100","Vel","Campeonato Regional Sub 18 (Juvenis)","2022-06-11","Fátima","AAS","F",5,912,"Mariana Carvalho","ACB-L","INI",14.86]
["100","Vel","Campeonato Regional Sub 18 (Juvenis)","2022-06-11","Fátima","AAS","F",2,913,"Neidiceila Tavares","ACB-L","INI",13.45]
["ALTURA","Sal","Campeonato Regional Sub 18 (Juvenis)","2022-06-11","Fátima","AAS","F",2,908,"Joana Seixas","ACB-L","INI",1.3]
["4X100","Vel","Campeonato Regional Sub 18 (Juvenis)","2022-06-11","Fátima","AAS","F",2,10887,"ATLÉTICO C BATALHA","ACB-L","JUV",55.43]
["1500","MF","Campeonato Regional Sub 18 (Juvenis)","2022-06-11","Fátima","AAS","F",1,911,"Maria Jesus","ACB-L","INI","00:05:09.220"]
["300","Vel","Campeonato Regional Sub 18 (Juvenis)","2022-06-11","Fátima","AAS","M",4,915,"Simão Cerejo","ACB-L","JUV",40.56]
["5000MX","MX","Campeonato Regional Sub 18 (Juvenis)","2022-06-11","Fátima","AAS","F",1,907,"Isa Ferreira","GDP-L","JUV",1.8760185185185185E-2]
["5000MX","MX","Campeonato Regional Sub 18 (Juvenis)","2022-06-11","Fátima","AAS","F",3,925,"Lara Beato","GDP-L","INI",2.1725810185185185E-2]
["110B091","Vel","Torneio de Provas Combinadas","2022-06-12","Leiria","ADAL","M",1,317,"Bernardo Cunha","GDP-L","JUV",15.49]
["110B091","Vel","Torneio de Provas Combinadas","2022-06-12","Leiria","ADAL","M",2,74,"Denis Hrabar","JV","INI",16.010000000000002]
["110B091","Vel","Torneio de Provas Combinadas","2022-06-12","Leiria","ADAL","M",3,4,"Gabriel Cunha","GDP-L","INI",16.32]
["COMPRIM","Sal","Torneio de Provas Combinadas","2022-06-12","Leiria","ADAL","F",1,705,"Vera Goucha","JV","JUV",5.14,"X","X",5.14]
["COMPRIM","Sal","Torneio de Provas Combinadas","2022-06-12","Leiria","ADAL","F",2,105,"Katerina Quinn","JV","INI",4.96,4.63,4.84,4.96]
["COMPRIM","Sal","Torneio de Provas Combinadas","2022-06-12","Leiria","ADAL","F",3,697,"Luana Figueira","JV","JUV",4.9000000000000004,"X",4.9000000000000004,"X"]
["COMPRIM","Sal","Torneio de Provas Combinadas","2022-06-12","Leiria","ADAL","F",4,816,"Ana Carvalho","JV","JUV",4.6900000000000004,4.58,"X",4.6900000000000004]
["110B100","Vel","Torneio de Provas Combinadas","2022-06-12","Leiria","ADAL","M",1,871,"André Petriv","JV","JUN",16.91]
["DISCO15","Lan","Torneio de Provas Combinadas","2022-06-12","Leiria","ADAL","M",1,317,"Bernardo Cunha","GDP-L","JUV",37.35,37.35,36.72,36.479999999999997]
["DISCO15","Lan","Torneio de Provas Combinadas","2022-06-12","Leiria","ADAL","M",2,74,"Denis Hrabar","JV","INI",35.11,30.4,35.11,"X"]
["DISCO15","Lan","Torneio de Provas Combinadas","2022-06-12","Leiria","ADAL","M",3,4,"Gabriel Cunha","GDP-L","INI",33.04,"X",33.04,"X"]
["DISCO17","Lan","Torneio de Provas Combinadas","2022-06-12","Leiria","ADAL","M",1,871,"André Petriv","JV","JUN",34.96,34.96,34,"X"]
["DARDO5","Lan","Torneio de Provas Combinadas","2022-06-12","Leiria","ADAL","F",1,684,"Catarina Silva","JV","JUV",29.88,25.76,29.72,29.88]
["DARDO5","Lan","Torneio de Provas Combinadas","2022-06-12","Leiria","ADAL","F",2,705,"Vera Goucha","JV","JUV",28.99,27.98,27.83,28.99]
["DARDO5","Lan","Torneio de Provas Combinadas","2022-06-12","Leiria","ADAL","F",3,697,"Luana Figueira","JV","JUV",23.67,23.67,"X",23.22]
["DARDO5","Lan","Torneio de Provas Combinadas","2022-06-12","Leiria","ADAL","F",4,105,"Katerina Quinn","JV","INI",13,13,11.89,10.87]
["VARA","Sal","Torneio de Provas Combinadas","2022-06-12","Leiria","ADAL","M",1,317,"Bernardo Cunha","GDP-L","JUV",3.8]
["VARA","Sal","Torneio de Provas Combinadas","2022-06-12","Leiria","ADAL","M",2,74,"Denis Hrabar","JV","INI",3.7]
["VARA","Sal","Torneio de Provas Combinadas","2022-06-12","Leiria","ADAL","M",3,871,"André Petriv","JV","JUN",3]
["VARA","Sal","Torneio de Provas Combinadas","2022-06-12","Leiria","ADAL","M",4,4,"Gabriel Cunha","GDP-L","INI",2.8]
["DARDO7","Lan","Torneio de Provas Combinadas","2022-06-12","Leiria","ADAL","M",1,317,"Bernardo Cunha","GDP-L","JUV",46.77,46.77,45.11,46.37]
["DARDO7","Lan","Torneio de Provas Combinadas","2022-06-12","Leiria","ADAL","M",2,4,"Gabriel Cunha","GDP-L","INI",41.33,39.01,"X",41.33]
["DARDO7","Lan","Torneio de Provas Combinadas","2022-06-12","Leiria","ADAL","M",3,74,"Denis Hrabar","JV","INI",40.299999999999997,39.65,"X",40.299999999999997]
["DARDO8","Lan","Torneio de Provas Combinadas","2022-06-12","Leiria","ADAL","M",2,871,"André Petriv","JV","JUN",32.840000000000003,32.840000000000003,"X","-"]
["800","MF","Torneio de Provas Combinadas","2022-06-12","Leiria","ADAL","F",1,105,"Katerina Quinn","JV","INI","00:02:44.960"]
["1500","MF","Torneio de Provas Combinadas","2022-06-12","Leiria","ADAL","M",1,871,"André Petriv","JV","JUN","00:05:21.420"]
["1500","MF","Torneio de Provas Combinadas","2022-06-12","Leiria","ADAL","M",1,317,"Bernardo Cunha","GDP-L","JUV","00:04:46.940"]
["1500","MF","Torneio de Provas Combinadas","2022-06-12","Leiria","ADAL","M",2,74,"Denis Hrabar","JV","INI","00:04:48.080"]
["1500","MF","Torneio de Provas Combinadas","2022-06-12","Leiria","ADAL","M",3,4,"Gabriel Cunha","GDP-L","INI","00:04:53.580"]
["Hep-Juv","Comb","Torneio de Provas Combinadas","2022-06-12","Leiria","ADAL","F",1,705,"Vera Goucha","JV","JUV",3958]
["Hep-Juv","Comb","Torneio de Provas Combinadas","2022-06-12","Leiria","ADAL","F",2,105,"Katerina Quinn","JV","INI",3254]
["DEC-Jun","Comb","Torneio de Provas Combinadas","2022-06-12","Leiria","ADAL","M",1,871,"André Petriv","JV","JUN",5303]
["DEC-JUV","Comb","Torneio de Provas Combinadas","2022-06-12","Leiria","ADAL","M",1,317,"Bernardo Cunha","GDP-L","JUV",6620]
["DEC-JUV","Comb","Torneio de Provas Combinadas","2022-06-12","Leiria","ADAL","M",2,74,"Denis Hrabar","JV","INI",6022]
["DEC-JUV","Comb","Torneio de Provas Combinadas","2022-06-12","Leiria","ADAL","M",3,4,"Gabriel Cunha","GDP-L","INI",5825]
["110B091","Vel","4.ª Jornada Campeonato Distrital Sub18","2022-06-12","Leiria","ADAL","M",2,519,"Edson Dias","ACB-L","JUV",16.760000000000002]
["110B091","Vel","4.ª Jornada Campeonato Distrital Sub18","2022-06-12","Leiria","ADAL","M",3,140,"Rafael Morgado","JV","INI",18.22]
["110B091","Vel","4.ª Jornada Campeonato Distrital Sub18","2022-06-12","Leiria","ADAL","M",4,103,"João Mota","JV","INI",19.16]
["110B091","Vel","4.ª Jornada Campeonato Distrital Sub18","2022-06-12","Leiria","ADAL","M",5,334,"Matias Ferreira","GDP-L","INI",20.440000000000001]
["110B091","Vel","4.ª Jornada Campeonato Distrital Sub18","2022-06-12","Leiria","ADAL","M",6,1326,"Miguel Rosalino","CANAZ","JUV",21.85]
["ALTURA","Sal","4.ª Jornada Campeonato Distrital Sub18","2022-06-12","Leiria","ADAL","F",1,180,"Joana Seixas","ACB-L","INI",1.39]
["ALTURA","Sal","4.ª Jornada Campeonato Distrital Sub18","2022-06-12","Leiria","ADAL","F",2,109,"Leonor Ascenso","JV","INI",1.33]
["ALTURA","Sal","4.ª Jornada Campeonato Distrital Sub18","2022-06-12","Leiria","ADAL","F",3,336,"Rafaela Pires","GDP-L","JUV",1.33]
["ALTURA","Sal","4.ª Jornada Campeonato Distrital Sub18","2022-06-12","Leiria","ADAL","F",4,199,"Neidiceila Tavares","ACB-L","INI",1.33]
["COMPRIM","Sal","4.ª Jornada Campeonato Distrital Sub18","2022-06-12","Leiria","ADAL","M",1,374,"Diogo Chaves","ACDRA","JUV",6.17,6.17,6.16,6.03,6.16,"X",6.15]
["COMPRIM","Sal","4.ª Jornada Campeonato Distrital Sub18","2022-06-12","Leiria","ADAL","M",2,103,"João Mota","JV","INI",5.28,5.09,5.27,5.01,5.17,"X",5.28]
["COMPRIM","Sal","4.ª Jornada Campeonato Distrital Sub18","2022-06-12","Leiria","ADAL","M",3,178,"Ivo Gomes","ACB-L","JUV",5.08,"X",4.76,4.91,"X",5.08,5]
["COMPRIM","Sal","4.ª Jornada Campeonato Distrital Sub18","2022-06-12","Leiria","ADAL","M",4,315,"André Moreira","GDP-L","JUV",4.99,4.79,4.99,4.79,4.5,4.95,4.82]
["COMPRIM","Sal","4.ª Jornada Campeonato Distrital Sub18","2022-06-12","Leiria","ADAL","M",5,79,"Diogo Ramalho","JV","INI",4.99,4.8,4.83,4.92,4.99,4.82,"X"]
["COMPRIM","Sal","4.ª Jornada Campeonato Distrital Sub18","2022-06-12","Leiria","ADAL","M",6,160,"Rafael Dias","JV","INI",4.95,4.83,4.75,4.8899999999999997,4.62,4.8,4.95]
["COMPRIM","Sal","4.ª Jornada Campeonato Distrital Sub18","2022-06-12","Leiria","ADAL","M",7,1332,"Tomás Sousa","GDP-L","INI",4.55,4.54,4.4000000000000004,4.16,4.55,4.0599999999999996,"X"]
["COMPRIM","Sal","4.ª Jornada Campeonato Distrital Sub18","2022-06-12","Leiria","ADAL","M",8,56,"António Vasconcelos","JV","INI",4.43,4.3499999999999996,4.21,4.43,4.0999999999999996,4.33,"-"]
["COMPRIM","Sal","4.ª Jornada Campeonato Distrital Sub18","2022-06-12","Leiria","ADAL","M",9,766,"Miguel Barros","CANAZ","INI",3.88,3.88,3.75,3.86]
["COMPRIM","Sal","4.ª Jornada Campeonato Distrital Sub18","2022-06-12","Leiria","ADAL","M",10,924,"Martim Ribeiro","CANAZ","JUV",3.76,3.76,"X","X"]
["100B076","Vel","4.ª Jornada Campeonato Distrital Sub18","2022-06-12","Leiria","ADAL","F",2,166,"Constança Anunciação","ACB-L","JUV",17.48]
["100B076","Vel","4.ª Jornada Campeonato Distrital Sub18","2022-06-12","Leiria","ADAL","F",3,316,"Benedita Matias","GDP-L","INI",21.24]
["100B076","Vel","4.ª Jornada Campeonato Distrital Sub18","2022-06-12","Leiria","ADAL","F",4,762,"Leonor Estorninho","CANAZ","INI",22.03]
["300B076","Vel","4.ª Jornada Campeonato Distrital Sub18","2022-06-12","Leiria","ADAL","F",1,821,"Margarida Santos","JV","JUV",48.02]
["300B076","Vel","4.ª Jornada Campeonato Distrital Sub18","2022-06-12","Leiria","ADAL","F",3,166,"Constança Anunciação","ACB-L","JUV",51.89]
["300B076","Vel","4.ª Jornada Campeonato Distrital Sub18","2022-06-12","Leiria","ADAL","F",4,855,"Jennifer Carvalho","CANAZ","JUV",60.65]
["300B076","Vel","4.ª Jornada Campeonato Distrital Sub18","2022-06-12","Leiria","ADAL","F",5,316,"Benedita Matias","GDP-L","INI",65.39]
["300B084","Vel","4.ª Jornada Campeonato Distrital Sub18","2022-06-12","Leiria","ADAL","M",1,274,"Martim Antunes","NDAP","INI",46.71]
["300B084","Vel","4.ª Jornada Campeonato Distrital Sub18","2022-06-12","Leiria","ADAL","M",2,79,"Diogo Ramalho","JV","INI",50.93]
["300B084","Vel","4.ª Jornada Campeonato Distrital Sub18","2022-06-12","Leiria","ADAL","M",3,766,"Miguel Barros","CANAZ","INI",54.86]
["300B084","Vel","4.ª Jornada Campeonato Distrital Sub18","2022-06-12","Leiria","ADAL","M",1,519,"Edson Dias","ACB-L","JUV",43.91]
["300B084","Vel","4.ª Jornada Campeonato Distrital Sub18","2022-06-12","Leiria","ADAL","M",2,160,"Rafael Dias","JV","INI",47.18]
["300B084","Vel","4.ª Jornada Campeonato Distrital Sub18","2022-06-12","Leiria","ADAL","M",3,178,"Ivo Gomes","ACB-L","JUV",49.23]
["300B084","Vel","4.ª Jornada Campeonato Distrital Sub18","2022-06-12","Leiria","ADAL","M",4,1332,"Tomás Sousa","GDP-L","INI",49.38]
["300B084","Vel","4.ª Jornada Campeonato Distrital Sub18","2022-06-12","Leiria","ADAL","M",5,924,"Martim Ribeiro","CANAZ","JUV",52.51]
["ALTURA","Sal","4.ª Jornada Campeonato Distrital Sub18","2022-06-12","Leiria","ADAL","M",1,157,"Tomás Monteiro","JV","INI",1.72]
["ALTURA","Sal","4.ª Jornada Campeonato Distrital Sub18","2022-06-12","Leiria","ADAL","M",2,1326,"Miguel Rosalino","CANAZ","JUV",1.52]
["ALTURA","Sal","4.ª Jornada Campeonato Distrital Sub18","2022-06-12","Leiria","ADAL","M",2,140,"Rafael Morgado","JV","INI",1.52]
["ALTURA","Sal","4.ª Jornada Campeonato Distrital Sub18","2022-06-12","Leiria","ADAL","M",4,315,"André Moreira","GDP-L","JUV",1.46]
["ALTURA","Sal","4.ª Jornada Campeonato Distrital Sub18","2022-06-12","Leiria","ADAL","M",5,334,"Matias Ferreira","GDP-L","INI",1.46]
["10000MX","MX","3.ª Jornada Campeonato Distrital Absoluto","2022-06-16","Leiria","ADAL","F",2,498,"Joana Pontes","LMA-L","SUB-23",3.5704166666666669E-2]
["10000MX","MX","3.ª Jornada Campeonato Distrital Absoluto","2022-06-16","Leiria","ADAL","M",1,1296,"Anderson Callejas","LMA-L","SUB-23",2.9236226851851854E-2]
["10000MX","MX","3.ª Jornada Campeonato Distrital Absoluto","2022-06-16","Leiria","ADAL","M",2,497,"Hélder Santos","LMA-L","SEN",2.9761574074074076E-2]
["5000","MF","3.ª Jornada Campeonato Distrital Absoluto","2022-06-16","Leiria","ADAL","M",1,305,"Nuno Ferreira","GAC-L","SUB-23","00:15:28.130"]
["5000","MF","3.ª Jornada Campeonato Distrital Absoluto","2022-06-16","Leiria","ADAL","M",2,312,"Valter Costa","GAC-L","SEN","00:15:58.740"]
["5000","MF","3.ª Jornada Campeonato Distrital Absoluto","2022-06-16","Leiria","ADAL","M",3,595,"Licínio Silva","GAUB","SEN","00:16:09.140"]
["5000","MF","3.ª Jornada Campeonato Distrital Absoluto","2022-06-16","Leiria","ADAL","M",4,504,"Rodrigo Ribeiro","NDA","JUN","00:16:10.270"]
["5000","MF","3.ª Jornada Campeonato Distrital Absoluto","2022-06-16","Leiria","ADAL","M",5,398,"Joel Couto","GAUB","VET 40","00:16:32.400"]
["5000","MF","3.ª Jornada Campeonato Distrital Absoluto","2022-06-16","Leiria","ADAL","M",6,247,"Virgílio Bastos","CAMG","VET 40","00:16:59.010"]
["5000","MF","3.ª Jornada Campeonato Distrital Absoluto","2022-06-16","Leiria","ADAL","M",7,313,"Vítor Dinis","GAC-L","VET 45","00:17:15.220"]
["5000","MF","3.ª Jornada Campeonato Distrital Absoluto","2022-06-16","Leiria","ADAL","M",8,500,"Paulo Pontes","LMA-L","VET 50","00:17:38.390"]
["5000","MF","3.ª Jornada Campeonato Distrital Absoluto","2022-06-16","Leiria","ADAL","M",9,760,"Ricardo Carreira","GAUB","VET 40","00:19:46.250"]
["5000","MF","3.ª Jornada Campeonato Distrital Absoluto","2022-06-16","Leiria","ADAL","M",10,698,"Marco Gameiro","JV","SUB-23","00:20:14.960"]
["400","Vel","3.ª Jornada Campeonato Distrital Absoluto","2022-06-16","Leiria","ADAL","M",1,1283,"Francisco Morgado","NDAP","JUN",55.31]
["400","Vel","3.ª Jornada Campeonato Distrital Absoluto","2022-06-16","Leiria","ADAL","M",2,703,"Rafael Pereira","JV","JUN",60.54]
["400","Vel","3.ª Jornada Campeonato Distrital Absoluto","2022-06-16","Leiria","ADAL","M",3,1049,"Paulo Almeida","ACB-L","SEN",61.43]
["400","Vel","3.ª Jornada Campeonato Distrital Absoluto","2022-06-16","Leiria","ADAL","M",1,1233,"Hélio Pedroso","CANAZ","JUN",54.63]
["400","Vel","3.ª Jornada Campeonato Distrital Absoluto","2022-06-16","Leiria","ADAL","M",2,141,"Rafael Vieira","JV","JUV",55.2]
["400","Vel","3.ª Jornada Campeonato Distrital Absoluto","2022-06-16","Leiria","ADAL","M",3,704,"Tiago Pereira","JV","JUN",56.27]
["400","Vel","3.ª Jornada Campeonato Distrital Absoluto","2022-06-16","Leiria","ADAL","F",1,106,"Lara Duarte","JV","JUN",60.37]
["400","Vel","3.ª Jornada Campeonato Distrital Absoluto","2022-06-16","Leiria","ADAL","F",2,689,"Joana Gameiro","JV","JUN",62.49]
["400","Vel","3.ª Jornada Campeonato Distrital Absoluto","2022-06-16","Leiria","ADAL","F",3,310,"Tatiana Francisco","GAC-L","SUB-23",65.430000000000007]
["400","Vel","3.ª Jornada Campeonato Distrital Absoluto","2022-06-16","Leiria","ADAL","F",4,146,"Sara Lopes","JV","JUV",66.81]
["400","Vel","3.ª Jornada Campeonato Distrital Absoluto","2022-06-16","Leiria","ADAL","F",5,855,"Jennifer Carvalho","CANAZ","JUV",70.69]
["400","Vel","3.ª Jornada Campeonato Distrital Absoluto","2022-06-16","Leiria","ADAL","F",6,583,"Benedita Ferreira","GAUB","JUV",73.58]
["400","Vel","3.ª Jornada Campeonato Distrital Absoluto","2022-06-16","Leiria","ADAL","F",7,755,"Maria Cabecinhas","GAUB","JUN",84.74]
["800","MF","3.ª Jornada Campeonato Distrital Absoluto","2022-06-16","Leiria","ADAL","M",1,585,"Daniel Cabecinhas","GAUB","SUB-23","00:02:01.090"]
["800","MF","3.ª Jornada Campeonato Distrital Absoluto","2022-06-16","Leiria","ADAL","M",2,158,"Tomás Palma","JV","SUB-23","00:02:02.540"]
["800","MF","3.ª Jornada Campeonato Distrital Absoluto","2022-06-16","Leiria","ADAL","M",3,595,"Licínio Silva","GAUB","SEN","00:02:05.400"]
["800","MF","3.ª Jornada Campeonato Distrital Absoluto","2022-06-16","Leiria","ADAL","M",4,1276,"Tiago Vieira","CAMR","SEN","00:02:08.050"]
["800","MF","3.ª Jornada Campeonato Distrital Absoluto","2022-06-16","Leiria","ADAL","M",5,292,"Guilherme Ferreira","GAC-L","JUN","00:02:11.740"]
["800","MF","3.ª Jornada Campeonato Distrital Absoluto","2022-06-16","Leiria","ADAL","M",6,1326,"Miguel Rosalino","CANAZ","JUV","00:02:41.770"]
["800","MF","3.ª Jornada Campeonato Distrital Absoluto","2022-06-16","Leiria","ADAL","M",7,572,"Pedro Rocha","CANAZ","JUV","00:02:47.890"]
["800","MF","3.ª Jornada Campeonato Distrital Absoluto","2022-06-16","Leiria","ADAL","F",2,1026,"Mónica Rosa","CAMR","VET 40","00:03:04.300"]
["QUADINF","Sal","2.ª Jornada Campeonato Distrital Sub14","2022-06-16","Leiria","ADAL","M",1,127,"Matias Góis","JV","INF",12.13,12,"X","X",12.13,11.97,12]
["QUADINF","Sal","2.ª Jornada Campeonato Distrital Sub14","2022-06-16","Leiria","ADAL","M",3,55,"André Ribeiro","JV","INF",11.34,11,10.89,11.25,11.17,11.34,10.7]
["QUADINF","Sal","2.ª Jornada Campeonato Distrital Sub14","2022-06-16","Leiria","ADAL","M",4,750,"Vasco Carreira","GAUB","INF",10.79,10.41,10.52,10.67,10.210000000000001,10.79,10.72]
["ALTURA","Sal","2.ª Jornada Campeonato Distrital Sub14","2022-06-16","Leiria","ADAL","F",1,51,"Alessandra Santos","JV","INF",1.4]
["ALTURA","Sal","2.ª Jornada Campeonato Distrital Sub14","2022-06-16","Leiria","ADAL","F",2,236,"Leonor Bonita","CAMG","INF",1.27]
["ALTURA","Sal","2.ª Jornada Campeonato Distrital Sub14","2022-06-16","Leiria","ADAL","F",3,1136,"Ashley Jorge","JV","INF",1.24]
["ALTURA","Sal","2.ª Jornada Campeonato Distrital Sub14","2022-06-16","Leiria","ADAL","F",5,128,"Matilde Joaquim","JV","INF",1.24]
["ALTURA","Sal","2.ª Jornada Campeonato Distrital Sub14","2022-06-16","Leiria","ADAL","F",6,857,"Luna Delgado","CANAZ","INF",1.18]
["ALTURA","Sal","2.ª Jornada Campeonato Distrital Sub14","2022-06-16","Leiria","ADAL","F",7,172,"Francisca Paulo","ACB-L","INF",1.18]
["ALTURA","Sal","2.ª Jornada Campeonato Distrital Sub14","2022-06-16","Leiria","ADAL","F",8,569,"Alícia Almeida","CANAZ","INF",1.1000000000000001]
["ALTURA","Sal","2.ª Jornada Campeonato Distrital Sub14","2022-06-16","Leiria","ADAL","F",8,1185,"Sara Pereira","CAMR","INF",1.1000000000000001]
["ALTURA","Sal","2.ª Jornada Campeonato Distrital Sub14","2022-06-16","Leiria","ADAL","F",12,1059,"Diva Vidal","CANAZ","INF",1.05]
["PESO2","Lan","2.ª Jornada Campeonato Distrital Sub14","2022-06-16","Leiria","ADAL","F",1,1018,"Beatriz Silva","CAMR","INF",9.86,"X",8.85,9.0500000000000007,9.86,9.61,9.4499999999999993]
["PESO2","Lan","2.ª Jornada Campeonato Distrital Sub14","2022-06-16","Leiria","ADAL","F",2,112,"Liliana Teotónio","JV","INF",9.48,9.08,9.23,8.27,9.43,9.48,9.07]
["PESO2","Lan","2.ª Jornada Campeonato Distrital Sub14","2022-06-16","Leiria","ADAL","F",3,566,"Mariana Peralta","CAMG","INF",8.5,8.5,6.77,7.99,8.0500000000000007,8.0500000000000007,7.75]
["PESO2","Lan","2.ª Jornada Campeonato Distrital Sub14","2022-06-16","Leiria","ADAL","F",4,171,"Érica Medeiros","ACB-L","INF",7.93,7.48,7.44,7.04,7.93,7.3,6.91]
["PESO2","Lan","2.ª Jornada Campeonato Distrital Sub14","2022-06-16","Leiria","ADAL","F",5,341,"Violeta Santos","GDP-L","INF",7.18,6.86,6.96,7.18,7.04,6.8,"X"]
["PESO2","Lan","2.ª Jornada Campeonato Distrital Sub14","2022-06-16","Leiria","ADAL","F",6,1188,"Luana Alexandre","CPRAB","INF",6.76,"X",6.14,6.76,6.6,6.72,6.5]
["PESO2","Lan","2.ª Jornada Campeonato Distrital Sub14","2022-06-16","Leiria","ADAL","F",7,1328,"Ana Santos","GAC-L","INF",6.76,6.76,6.63,6.34,5.89,5.76,6.54]
["PESO2","Lan","2.ª Jornada Campeonato Distrital Sub14","2022-06-16","Leiria","ADAL","F",8,147,"Sofia Carvalho","JV","INF",6.57,6.5,6.07,6.57,6.17,6.08,5.72]
["PESO2","Lan","2.ª Jornada Campeonato Distrital Sub14","2022-06-16","Leiria","ADAL","F",10,1256,"Ana Leal Carreira","SISMARIA","INF",3.74,3.74,"X",3.72]
["PESO3","Lan","2.ª Jornada Campeonato Distrital Sub14","2022-06-16","Leiria","ADAL","M",1,80,"Diogo Tavares","JV","INF",7.36,7.36,7.27,7.25,6.56,6.51,6.47]
["PESO3","Lan","2.ª Jornada Campeonato Distrital Sub14","2022-06-16","Leiria","ADAL","M",2,83,"Eduardo Camacho","JV","INF",7.22,7.22,"X",6.59,6.79,6.5,6.98]
["PESO3","Lan","2.ª Jornada Campeonato Distrital Sub14","2022-06-16","Leiria","ADAL","M",3,104,"José Martins","JV","INF",6.25,6.25,5.69,5.82,6,5.79,5.73]
["PESO3","Lan","2.ª Jornada Campeonato Distrital Sub14","2022-06-16","Leiria","ADAL","M",4,558,"António Constâncio","CAMG","INF",6.24,4.92,6.24,5.74,5.61,5.62,5.98]
["PESO3","Lan","2.ª Jornada Campeonato Distrital Sub14","2022-06-16","Leiria","ADAL","M",5,561,"Edson Mendes","CAMG","INF",5.4,4.67,5.4,5.4,4.9000000000000004,3.54,5.1100000000000003]
["PESO3","Lan","2.ª Jornada Campeonato Distrital Sub14","2022-06-16","Leiria","ADAL","M",6,342,"Afonso Gomes","CDBBR","INF",5.0999999999999996,4.62,"X",4.59,4.47,4.22,5.0999999999999996]
["PESO3","Lan","2.ª Jornada Campeonato Distrital Sub14","2022-06-16","Leiria","ADAL","M",8,1241,"Gabriel Silva","CDBBR","INF",4.37,4.16,4.25,4.1399999999999997,4.01,4.37,4.26]
["PESO3","Lan","2.ª Jornada Campeonato Distrital Sub14","2022-06-16","Leiria","ADAL","M",9,348,"Dinis Vitorino","CDBBR","INF",4.1399999999999997,3.47,"X",3.64,3.07,3.51,4.1399999999999997]
["3000MX","MX","2.ª Jornada Campeonato Distrital Sub14","2022-06-16","Leiria","ADAL","F",1,503,"Matilde Bento","GACV","INF",1.3093402777777778E-2]
["3000MX","MX","2.ª Jornada Campeonato Distrital Sub14","2022-06-16","Leiria","ADAL","F",2,1075,"Eva Cardoso","JV","INF",1.7637962962962963E-2]
["3000MX","MX","2.ª Jornada Campeonato Distrital Sub14","2022-06-16","Leiria","ADAL","M",1,88,"Filipe Almeida","JV","INF",1.6489699074074073E-2]
["3000MX","MX","2.ª Jornada Campeonato Distrital Sub14","2022-06-16","Leiria","ADAL","M",2,1247,"Mateus Butori","JV","INF",1.7818287037037039E-2]
["3000MX","MX","2.ª Jornada Campeonato Distrital Sub14, Extra","2022-06-16","Leiria","ADAL","F",1,239,"Matilde Angélico","CAMG","INI",1.192476851851852E-2]
["3000MX","MX","2.ª Jornada Campeonato Distrital Sub14, Extra","2022-06-16","Leiria","ADAL","F",2,502,"Filipa Nunes","GACV","INI",1.3096875000000001E-2]
["3000MX","MX","2.ª Jornada Campeonato Distrital Sub14, Extra","2022-06-16","Leiria","ADAL","M",1,143,"Rodrigo Fidalgo","JV","INI",1.5249768518518518E-2]
["QUADINF","Sal","2.ª Jornada Campeonato Distrital Sub14","2022-06-16","Leiria","ADAL","F",2,1019,"Bruna Silva","CAMR","INF",12.06,11.82,12.05,11.82,11.59,11.77,12.06]
["QUADINF","Sal","2.ª Jornada Campeonato Distrital Sub14","2022-06-16","Leiria","ADAL","F",3,107,"Lara Simões","JV","INF",12.05,"X",12.05,"X","X","X","X"]
["QUADINF","Sal","2.ª Jornada Campeonato Distrital Sub14","2022-06-16","Leiria","ADAL","F",4,51,"Alessandra Santos","JV","INF",11.77,11.77,11.57,11.32,11.21,11.16,11.16]
["QUADINF","Sal","2.ª Jornada Campeonato Distrital Sub14","2022-06-16","Leiria","ADAL","F",5,1018,"Beatriz Silva","CAMR","INF",10.92,10.92,9.9600000000000009,9.9600000000000009,"X",9.9600000000000009,9.9700000000000006]
["QUADINF","Sal","2.ª Jornada Campeonato Distrital Sub14","2022-06-16","Leiria","ADAL","F",6,129,"Matilde Silva","JV","INF",10.75,10.5,10.6,10.57,10.220000000000001,10.75,10.74]
["QUADINF","Sal","2.ª Jornada Campeonato Distrital Sub14","2022-06-16","Leiria","ADAL","F",7,172,"Francisca Paulo","ACB-L","INF",10.53,9.6999999999999993,10.52,9.9700000000000006,10.53,"X",9.7799999999999994]
["QUADINF","Sal","2.ª Jornada Campeonato Distrital Sub14","2022-06-16","Leiria","ADAL","F",8,596,"Mara Couto","GAUB","INF",10.47,10.1,10.210000000000001,10.47,9.67,9.8000000000000007,9.4]
["QUADINF","Sal","2.ª Jornada Campeonato Distrital Sub14","2022-06-16","Leiria","ADAL","F",9,589,"Iara Pereira","GAUB","INF",10.25,"X","X",10.25,"X","-","-"]
["QUADINF","Sal","2.ª Jornada Campeonato Distrital Sub14","2022-06-16","Leiria","ADAL","F",10,258,"Jéssica Joaninho","NDAP","INF",10.14,10.02,10.14,10.01]
["QUADINF","Sal","2.ª Jornada Campeonato Distrital Sub14","2022-06-16","Leiria","ADAL","F",12,1246,"Carolina Brígido","JV","INF",10.07,9.9499999999999993,9.73,10.07]
["QUADINF","Sal","2.ª Jornada Campeonato Distrital Sub14","2022-06-16","Leiria","ADAL","F",13,1257,"Beatriz Vitorino","SISMARIA","INF",10.050000000000001,9.8000000000000007,10.050000000000001,10.01]
["QUADINF","Sal","2.ª Jornada Campeonato Distrital Sub14","2022-06-16","Leiria","ADAL","F",14,1258,"Laura Morais","SISMARIA","INF",9.86,9.5500000000000007,9.32,9.86]
["DISCO06","Lan","2.ª Jornada Campeonato Distrital Sub14","2022-06-16","Leiria","ADAL","F",1,569,"Alícia Almeida","CANAZ","INF",20.04,"X",17.05,16.47,16.920000000000002,17.77,20.04]
["DISCO06","Lan","2.ª Jornada Campeonato Distrital Sub14","2022-06-16","Leiria","ADAL","F",2,171,"Érica Medeiros","ACB-L","INF",19.54,"X",11.65,"X",17.61,19.54,15.69]
["DISCO06","Lan","2.ª Jornada Campeonato Distrital Sub14","2022-06-16","Leiria","ADAL","F",3,809,"Camila Barbosa","CANAZ","INF",19.079999999999998,19.079999999999998,17.510000000000002,17.350000000000001,"X","X",16.600000000000001]
["DISCO06","Lan","2.ª Jornada Campeonato Distrital Sub14","2022-06-16","Leiria","ADAL","F",4,566,"Mariana Peralta","CAMG","INF",18.239999999999998,"X",16.12,18.170000000000002,17.23,"X",18.239999999999998]
["DISCO06","Lan","2.ª Jornada Campeonato Distrital Sub14","2022-06-16","Leiria","ADAL","F",5,147,"Sofia Carvalho","JV","INF",14.5,"X",11.14,14.5,12.94,13.99,13.74]
["DISCO06","Lan","2.ª Jornada Campeonato Distrital Sub14","2022-06-16","Leiria","ADAL","F",6,364,"Sofia Ferromau","CDBBR","INF",12.94,10.4,"X","-","-","-","-"]
["DISCO06","Lan","2.ª Jornada Campeonato Distrital Sub14","2022-06-16","Leiria","ADAL","F",8,1136,"Ashley Jorge","JV","INF",11.8,9.92,11.8,"X",9.8800000000000008,9.8800000000000008,9.07]
["DISCO06","Lan","2.ª Jornada Campeonato Distrital Sub14","2022-06-16","Leiria","ADAL","F",9,356,"Leonor Ferreira","CDBBR","INF",8.01,8.01,7.37,"-"]
["DISCO07","Lan","2.ª Jornada Campeonato Distrital Sub14","2022-06-16","Leiria","ADAL","M",1,1238,"Rafael Escolástico","CANAZ","INF",23.84,23.57,23.84,23.26,22.34,22.85,21.75]
["DISCO07","Lan","2.ª Jornada Campeonato Distrital Sub14","2022-06-16","Leiria","ADAL","M",3,138,"Pedro Marcelino","JV","INF",21.12,19.489999999999998,21.12,19.3,17.850000000000001,20.36,19.62]
["DISCO07","Lan","2.ª Jornada Campeonato Distrital Sub14","2022-06-16","Leiria","ADAL","M",4,561,"Edson Mendes","CAMG","INF",16.309999999999999,14.53,14.47,16.309999999999999,14.42,13.6,15.51]
["DISCO07","Lan","2.ª Jornada Campeonato Distrital Sub14","2022-06-16","Leiria","ADAL","M",5,104,"José Martins","JV","INF",15.72,13.07,15.47,"X",15.34,13.81,15.72]
["DISCO07","Lan","2.ª Jornada Campeonato Distrital Sub14","2022-06-16","Leiria","ADAL","M",6,342,"Afonso Gomes","CDBBR","INF",14.66,13.88,14.66,"X",14.06,12.57,13.94]
["DISCO07","Lan","2.ª Jornada Campeonato Distrital Sub14","2022-06-16","Leiria","ADAL","M",7,357,"Lourenço Nunes","CDBBR","INF",14.29,14,"-","-","-",14.29,"X"]
["DISCO07","Lan","2.ª Jornada Campeonato Distrital Sub14","2022-06-16","Leiria","ADAL","M",9,343,"Afonso Machado","CDBBR","INF",10.87,9.4499999999999993,"-","-",10.87,10.1,9.82]
["DISCO07","Lan","2.ª Jornada Campeonato Distrital Sub14","2022-06-16","Leiria","ADAL","M",10,1241,"Gabriel Silva","CDBBR","INF",7.68,7.21,7.68,"X"]
["ALTURA","Sal","2.ª Jornada Campeonato Distrital Sub14","2022-06-16","Leiria","ADAL","M",1,203,"Rafael Alves","ACB-L","INF",1.44]
["ALTURA","Sal","2.ª Jornada Campeonato Distrital Sub14","2022-06-16","Leiria","ADAL","M",2,558,"António Constâncio","CAMG","INF",1.41]
["ALTURA","Sal","2.ª Jornada Campeonato Distrital Sub14","2022-06-16","Leiria","ADAL","M",3,161,"Afonso Marques","ACB-L","INF",1.19]
["ALTURA","Sal","2.ª Jornada Campeonato Distrital Sub14","2022-06-16","Leiria","ADAL","M",4,55,"André Ribeiro","JV","INF",1.19]
["ALTURA","Sal","2.ª Jornada Campeonato Distrital Sub14","2022-06-16","Leiria","ADAL","M",6,337,"Rafael Pena","GDP-L","INF",1.1499999999999999]
["ALTURA","Sal","2.ª Jornada Campeonato Distrital Sub14","2022-06-16","Leiria","ADAL","M",7,155,"Tomás Lopes","JV","INF",1.1499999999999999]
["60B076","Vel","2.ª Jornada Campeonato Distrital Sub14","2022-06-16","Leiria","ADAL","M",1,83,"Eduardo Camacho","JV","INF",10.98]
["60B076","Vel","2.ª Jornada Campeonato Distrital Sub14","2022-06-16","Leiria","ADAL","M",4,668,"Martim Falcão","CAMG","INF",14.03]
["60B076","Vel","2.ª Jornada Campeonato Distrital Sub14","2022-06-16","Leiria","ADAL","F",1,112,"Liliana Teotónio","JV","INF",11.47]
["60B076","Vel","2.ª Jornada Campeonato Distrital Sub14","2022-06-16","Leiria","ADAL","F",2,236,"Leonor Bonita","CAMG","INF",12.56]
["60B076","Vel","2.ª Jornada Campeonato Distrital Sub14","2022-06-16","Leiria","ADAL","F",3,1125,"Constança Figueira","CANAZ","INF",17.43]
["60B076","Vel","2.ª Jornada Campeonato Distrital Sub14","2022-06-16","Leiria","ADAL","F",1,128,"Matilde Joaquim","JV","INF",11.36]
["60B076","Vel","2.ª Jornada Campeonato Distrital Sub14","2022-06-16","Leiria","ADAL","F",2,326,"Inês Marques","GDP-L","INF",11.78]
["60B076","Vel","2.ª Jornada Campeonato Distrital Sub14","2022-06-16","Leiria","ADAL","F",3,129,"Matilde Silva","JV","INF",12.36]
["60B076","Vel","2.ª Jornada Campeonato Distrital Sub14","2022-06-16","Leiria","ADAL","F",4,118,"Margarida Godinho","JV","INF",13.94]
["60B076","Vel","2.ª Jornada Campeonato Distrital Sub14","2022-06-16","Leiria","ADAL","F",5,1059,"Diva Vidal","CANAZ","INF",16.09]
["60B076","Vel","2.ª Jornada Campeonato Distrital Sub14","2022-06-16","Leiria","ADAL","F",1,112,"Liliana Teotónio","JV","INF",10.89]
["60B076","Vel","2.ª Jornada Campeonato Distrital Sub14","2022-06-16","Leiria","ADAL","F",2,236,"Leonor Bonita","CAMG","INF",12.05]
["60B076","Vel","2.ª Jornada Campeonato Distrital Sub14","2022-06-16","Leiria","ADAL","F",3,129,"Matilde Silva","JV","INF",12.24]
["60B076","Vel","2.ª Jornada Campeonato Distrital Sub14","2022-06-16","Leiria","ADAL","F",4,128,"Matilde Joaquim","JV","INF",12.25]
["150","Vel","2.ª Jornada Campeonato Distrital Sub14","2022-06-16","Leiria","ADAL","M",1,1168,"Axel Dos Santos","NDA","INF",22.68]
["150","Vel","2.ª Jornada Campeonato Distrital Sub14","2022-06-16","Leiria","ADAL","M",2,343,"Afonso Machado","CDBBR","INF",25.44]
["150","Vel","2.ª Jornada Campeonato Distrital Sub14","2022-06-16","Leiria","ADAL","M",5,1116,"Francisco Vieira","CAMR","INF",27.14]
["150","Vel","2.ª Jornada Campeonato Distrital Sub14","2022-06-16","Leiria","ADAL","M",1,767,"Michel Vatula","CAMG","INF",22.51]
["150","Vel","2.ª Jornada Campeonato Distrital Sub14","2022-06-16","Leiria","ADAL","M",2,750,"Vasco Carreira","GAUB","INF",23.61]
["150","Vel","2.ª Jornada Campeonato Distrital Sub14","2022-06-16","Leiria","ADAL","M",3,80,"Diogo Tavares","JV","INF",24.68]
["150","Vel","2.ª Jornada Campeonato Distrital Sub14","2022-06-16","Leiria","ADAL","M",1,357,"Lourenço Nunes","CDBBR","INF",22.53]
["150","Vel","2.ª Jornada Campeonato Distrital Sub14","2022-06-16","Leiria","ADAL","M",4,155,"Tomás Lopes","JV","INF",22.99]
["150","Vel","2.ª Jornada Campeonato Distrital Sub14","2022-06-16","Leiria","ADAL","M",6,337,"Rafael Pena","GDP-L","INF",24.01]
["150","Vel","2.ª Jornada Campeonato Distrital Sub14","2022-06-16","Leiria","ADAL","M",1,127,"Matias Góis","JV","INF",19.43]
["150","Vel","2.ª Jornada Campeonato Distrital Sub14","2022-06-16","Leiria","ADAL","M",2,203,"Rafael Alves","ACB-L","INF",20.99]
["150","Vel","2.ª Jornada Campeonato Distrital Sub14","2022-06-16","Leiria","ADAL","M",3,238,"Mateus Vinagre","CAMG","INF",22.71]
["150","Vel","2.ª Jornada Campeonato Distrital Sub14","2022-06-16","Leiria","ADAL","F",2,1257,"Beatriz Vitorino","SISMARIA","INF",23.24]
["150","Vel","2.ª Jornada Campeonato Distrital Sub14","2022-06-16","Leiria","ADAL","F",3,1258,"Laura Morais","SISMARIA","INF",25.5]
["150","Vel","2.ª Jornada Campeonato Distrital Sub14","2022-06-16","Leiria","ADAL","F",4,1256,"Ana Leal Carreira","SISMARIA","INF",27.68]
["150","Vel","2.ª Jornada Campeonato Distrital Sub14","2022-06-16","Leiria","ADAL","F",2,1188,"Luana Alexandre","CPRAB","INF",21.98]
["150","Vel","2.ª Jornada Campeonato Distrital Sub14","2022-06-16","Leiria","ADAL","F",4,1189,"Maria Flor Filipe","CPRAB","INF",25.29]
["150","Vel","2.ª Jornada Campeonato Distrital Sub14","2022-06-16","Leiria","ADAL","F",6,567,"Marta Ferreira","CAMG","INF",26.46]
["150","Vel","2.ª Jornada Campeonato Distrital Sub14","2022-06-16","Leiria","ADAL","F",7,975,"Maria Inês Sabino","CPRAB","INF",26.84]
["150","Vel","2.ª Jornada Campeonato Distrital Sub14","2022-06-16","Leiria","ADAL","F",1,118,"Margarida Godinho","JV","INF",21.35]
["150","Vel","2.ª Jornada Campeonato Distrital Sub14","2022-06-16","Leiria","ADAL","F",2,1328,"Ana Santos","GAC-L","INF",23.05]
["150","Vel","2.ª Jornada Campeonato Distrital Sub14","2022-06-16","Leiria","ADAL","F",4,589,"Iara Pereira","GAUB","INF",23.95]
["150","Vel","2.ª Jornada Campeonato Distrital Sub14","2022-06-16","Leiria","ADAL","F",5,596,"Mara Couto","GAUB","INF",24.98]
["150","Vel","2.ª Jornada Campeonato Distrital Sub14","2022-06-16","Leiria","ADAL","F",7,1235,"Joana Martins","CANAZ","INF",27.2]
["150","Vel","2.ª Jornada Campeonato Distrital Sub14","2022-06-16","Leiria","ADAL","F",3,364,"Sofia Ferromau","CDBBR","INF",27.12]
["150","Vel","2.ª Jornada Campeonato Distrital Sub14","2022-06-16","Leiria","ADAL","F",4,1125,"Constança Figueira","CANAZ","INF",28.58]
["150","Vel","2.ª Jornada Campeonato Distrital Sub14","2022-06-16","Leiria","ADAL","F",6,356,"Leonor Ferreira","CDBBR","INF",29.81]
["150","Vel","2.ª Jornada Campeonato Distrital Sub14","2022-06-16","Leiria","ADAL","F",1,1019,"Bruna Silva","CAMR","INF",21.22]
["150","Vel","2.ª Jornada Campeonato Distrital Sub14","2022-06-16","Leiria","ADAL","F",2,107,"Lara Simões","JV","INF",21.65]
["150","Vel","2.ª Jornada Campeonato Distrital Sub14","2022-06-16","Leiria","ADAL","F",3,326,"Inês Marques","GDP-L","INF",22.27]
["150","Vel","2.ª Jornada Campeonato Distrital Sub14","2022-06-16","Leiria","ADAL","F",4,1185,"Sara Pereira","CAMR","INF",23.65]
["150","Vel","2.ª Jornada Campeonato Distrital Sub14","2022-06-16","Leiria","ADAL","F",5,1246,"Carolina Brígido","JV","INF",24.68]
["150","Vel","2.ª Jornada Campeonato Distrital Sub14","2022-06-16","Leiria","ADAL","F",6,857,"Luna Delgado","CANAZ","INF",25.03]
["DARDO8","Lan","4.ª Jornada Campeonato Distrital Absoluto","2022-06-18","Leiria","ADAL","M",1,1300,"Bernardo Coelho","ACB-L","SEN",44.05,43.56,"X",43.18,44.05,43.65,42.74]
["DARDO8","Lan","4.ª Jornada Campeonato Distrital Absoluto","2022-06-18","Leiria","ADAL","M",2,69,"Daniel Rizzi","JV","JUN",41.7,"X",38.729999999999997,"X",41.7,"X",35.53]
["DARDO8","Lan","4.ª Jornada Campeonato Distrital Absoluto","2022-06-18","Leiria","ADAL","M",3,810,"Dorin Repesciuc","CANAZ","SUB-23",38.83,37.18,38.79,"X",37,38.83,35.06]
["DARDO8","Lan","4.ª Jornada Campeonato Distrital Absoluto","2022-06-18","Leiria","ADAL","M",4,871,"André Petriv","JV","JUN",35.61,"-",35.61,34.54,"X",32.909999999999997,34.26]
["DARDO8","Lan","4.ª Jornada Campeonato Distrital Absoluto","2022-06-18","Leiria","ADAL","M",5,1260,"Alexandre Ferreira","CAMR","SEN",27.45,26.07,27.45,"X",26.09,26.66,25.39]
["DARDO8","Lan","4.ª Jornada Campeonato Distrital Absoluto","2022-06-18","Leiria","ADAL","M",6,245,"Pedro Silva","CAMG","SEN",26.21,"X",22.75,24,23.16,"X",26.21]
["MARTEL4","Lan","4.ª Jornada Campeonato Distrital Absoluto","2022-06-18","Leiria","ADAL","F",1,874,"Beatriz Silva","JV","JUN",41.58,39.56,40.130000000000003,41.58,36.51,39.880000000000003,39.96]
["MARTEL4","Lan","4.ª Jornada Campeonato Distrital Absoluto","2022-06-18","Leiria","ADAL","F",2,1078,"Raquel Gonçalves","JV","SUB-23",22.57,17.39,17.420000000000002,19.899999999999999,22.57,21.85,22.45]
["TRIPLO","Sal","4.ª Jornada Campeonato Distrital Absoluto","2022-06-18","Leiria","ADAL","M",1,214,"André Rodrigues","CAMG","JUN",12.81,"X",12.75,"X","X","X",12.81]
["TRIPLO","Sal","4.ª Jornada Campeonato Distrital Absoluto","2022-06-18","Leiria","ADAL","M",2,871,"André Petriv","JV","JUN",12.24,12.24,11.32,"X",12.08,"-","X"]
["200","Vel","4.ª Jornada Campeonato Distrital Absoluto","2022-06-18","Leiria","ADAL","F",1,689,"Joana Gameiro","JV","JUN",26.25]
["200","Vel","4.ª Jornada Campeonato Distrital Absoluto","2022-06-18","Leiria","ADAL","F",2,310,"Tatiana Francisco","GAC-L","SUB-23",27.71]
["200","Vel","4.ª Jornada Campeonato Distrital Absoluto","2022-06-18","Leiria","ADAL","F",3,872,"Beatriz Luís","JV","JUV",30.17]
["200","Vel","4.ª Jornada Campeonato Distrital Absoluto","2022-06-18","Leiria","ADAL","F",4,583,"Benedita Ferreira","GAUB","JUV",31.44]
["200","Vel","4.ª Jornada Campeonato Distrital Absoluto","2022-06-18","Leiria","ADAL","F",5,755,"Maria Cabecinhas","GAUB","JUN",34.35]
["200","Vel","4.ª Jornada Campeonato Distrital Absoluto","2022-06-18","Leiria","ADAL","F",6,1026,"Mónica Rosa","CAMR","VET 40",35.43]
["200","Vel","4.ª Jornada Campeonato Distrital Absoluto","2022-06-18","Leiria","ADAL","M",1,588,"Duarte Neves","GAUB","JUN",23.93]
["200","Vel","4.ª Jornada Campeonato Distrital Absoluto","2022-06-18","Leiria","ADAL","M",2,585,"Daniel Cabecinhas","GAUB","SUB-23",24.15]
["200","Vel","4.ª Jornada Campeonato Distrital Absoluto","2022-06-18","Leiria","ADAL","M",3,704,"Tiago Pereira","JV","JUN",25.55]
["200","Vel","4.ª Jornada Campeonato Distrital Absoluto","2022-06-18","Leiria","ADAL","M",4,924,"Martim Ribeiro","CANAZ","JUV",25.9]
["200","Vel","4.ª Jornada Campeonato Distrital Absoluto","2022-06-18","Leiria","ADAL","M",5,703,"Rafael Pereira","JV","JUN",26.41]
["200","Vel","4.ª Jornada Campeonato Distrital Absoluto","2022-06-18","Leiria","ADAL","M",6,572,"Pedro Rocha","CANAZ","JUV",31.73]
["200","Vel","4.ª Jornada Campeonato Distrital Absoluto","2022-06-18","Leiria","ADAL","M",1,210,"Tomás Areias","ACB-L","JUN",23.41]
["200","Vel","4.ª Jornada Campeonato Distrital Absoluto","2022-06-18","Leiria","ADAL","M",3,1233,"Hélio Pedroso","CANAZ","JUN",23.86]
["200","Vel","4.ª Jornada Campeonato Distrital Absoluto","2022-06-18","Leiria","ADAL","M",4,77,"Diogo Camacho","JV","JUN",24.27]
["200","Vel","4.ª Jornada Campeonato Distrital Absoluto","2022-06-18","Leiria","ADAL","M",5,1126,"Amável Esgaio","CANAZ","JUV",26.15]
["200","Vel","4.ª Jornada Campeonato Distrital Absoluto","2022-06-18","Leiria","ADAL","M",6,1010,"Miguel Calado","BA","SEN",26.36]
["200","Vel","4.ª Jornada Campeonato Distrital Absoluto","2022-06-18","Leiria","ADAL","M",7,1124,"Duarte Portugal","CANAZ","JUN",26.72]
["200","Vel","4.ª Jornada Campeonato Distrital Absoluto","2022-06-18","Leiria","ADAL","M",8,1326,"Miguel Rosalino","CANAZ","JUV",27.15]
["3000O","MF","4.ª Jornada Campeonato Distrital Absoluto","2022-06-18","Leiria","ADAL","F",1,3,"Joana Bagagem","ACB-L","SUB-23","00:11:56.870"]
["3000O","MF","4.ª Jornada Campeonato Distrital Absoluto","2022-06-18","Leiria","ADAL","F",2,70,"Daria Melnyk","JV","SUB-23","00:12:02.590"]
["3000O","MF","4.ª Jornada Campeonato Distrital Absoluto","2022-06-18","Leiria","ADAL","M",1,595,"Licínio Silva","GAUB","SEN","00:10:35.270"]
["3000O","MF","4.ª Jornada Campeonato Distrital Absoluto","2022-06-18","Leiria","ADAL","M",2,852,"Bruno Branco","CANAZ","JUN","00:10:46.170"]
["3000O","MF","4.ª Jornada Campeonato Distrital Absoluto","2022-06-18","Leiria","ADAL","M",3,168,"Duarte F Rodrigues","ACB-L","JUN","00:11:20.570"]
["MILHA","MF","4.ª Jornada Campeonato Distrital Absoluto, Extra","2022-06-18","Leiria","ADAL","M",1,667,"Bruno Gonçalves","CAMG","VET 35","00:04:44.240"]
["MILHA","MF","4.ª Jornada Campeonato Distrital Absoluto, Extra","2022-06-18","Leiria","ADAL","M",2,227,"Emamuel Cardoso","CAMG","SEN","00:04:46.380"]
["MILHA","MF","4.ª Jornada Campeonato Distrital Absoluto, Extra","2022-06-18","Leiria","ADAL","M",3,247,"Virgílio Bastos","CAMG","VET 40","00:04:47.290"]
["MILHA","MF","4.ª Jornada Campeonato Distrital Absoluto, Extra","2022-06-18","Leiria","ADAL","M",4,572,"Pedro Rocha","CANAZ","JUV","00:06:15.170"]
["DARDO6","Lan","4.ª Jornada Campeonato Distrital Absoluto","2022-06-18","Leiria","ADAL","F",1,346,"Carolina Patrício","CDBBR","SUB-23",32.9,32.9,31.36,"X",32.15,31.82,32.549999999999997]
["DARDO6","Lan","4.ª Jornada Campeonato Distrital Absoluto","2022-06-18","Leiria","ADAL","F",2,1078,"Raquel Gonçalves","JV","SUB-23",26.09,24.6,23.42,"X",26.09,25.87,"X"]
["MARTEL7","Lan","4.ª Jornada Campeonato Distrital Absoluto","2022-06-18","Leiria","ADAL","M",1,876,"Carlos Malaquias","JV","SUB-23",53.75,52.89,53.75,"X",52.17,"X",53.26]
["MARTEL7","Lan","4.ª Jornada Campeonato Distrital Absoluto","2022-06-18","Leiria","ADAL","M",2,321,"Daniel Raposo","GDP-L","JUN",34.090000000000003,29.52,33.47,34.090000000000003,"X",32.340000000000003,33.92]
["MARTEL7","Lan","4.ª Jornada Campeonato Distrital Absoluto","2022-06-18","Leiria","ADAL","M",3,1300,"Bernardo Coelho","ACB-L","SEN",20.14,18.239999999999998,20.14,19.03,17.170000000000002,18.36,20.010000000000002]
["MARTEL7","Lan","4.ª Jornada Campeonato Distrital Absoluto","2022-06-18","Leiria","ADAL","M",4,810,"Dorin Repesciuc","CANAZ","SUB-23",15.75,15.12,15.16,"X",15.75,"X",12.93]
["TRIPLO","Sal","4.ª Jornada Campeonato Distrital Absoluto","2022-06-18","Leiria","ADAL","F",1,820,"Margarida Santos","JV","JUN",11.27,11.27,9.32,"-","-","-","X"]
["TRIPLO","Sal","4.ª Jornada Campeonato Distrital Absoluto","2022-06-18","Leiria","ADAL","F",2,818,"Eduarda Ferreira","JV","SUB-23",11.24,10.84,"X","X",10.69,11.24,"X"]
["TRIPLO","Sal","4.ª Jornada Campeonato Distrital Absoluto","2022-06-18","Leiria","ADAL","F",3,888,"Juliana Brites","JV","SUB-23",11.12,"X",11.12,"X",11.06,11.06,"X"]
["TRIPLO","Sal","4.ª Jornada Campeonato Distrital Absoluto","2022-06-18","Leiria","ADAL","F",4,563,"Liliana Jorge","CAMG","SEN",10.27,9.6300000000000008,10.09,10.27,10.24,10.17,10.119999999999999]
["TRIPLO","Sal","4.ª Jornada Campeonato Distrital Absoluto","2022-06-18","Leiria","ADAL","F",5,282,"Vitoria Chornohor","NDAP","JUV",9.9,9.7200000000000006,9.58,9.32,9.7799999999999994,9.7799999999999994,9.9]
["4X400","Vel","4.ª Jornada Campeonato Distrital Absoluto","2022-06-18","Leiria","ADAL","F",1,10604,"G A U BAJOUCA","GAUB","SEN","00:05:24.730"]
["4X400","Vel","4.ª Jornada Campeonato Distrital Absoluto","2022-06-18","Leiria","ADAL","M",1,10585,"G A U BAJOUCA","GAUB","SEN","00:03:47.580"]
["4X400","Vel","4.ª Jornada Campeonato Distrital Absoluto","2022-06-18","Leiria","ADAL","M",2,11233,"C ATLETISMO NAZARÉ","CANAZ","SEN","00:03:55.360"]
["4X400","Vel","4.ª Jornada Campeonato Distrital Absoluto","2022-06-18","Leiria","ADAL","M",3,10077,"JUV VIDIGALENSE","JV","SEN","00:03:57.530"]
["Hep-Juv","Comb","Campeonatos Nacionais de Sub-18","2022-06-17","Viana Castelo","FPA","F",1,364,"Vera Goucha","JV","JUV",4805]
["Hep-Juv","Comb","Campeonatos Nacionais de Sub-18","2022-06-17","Viana Castelo","FPA","F",6,354,"Sara Brites","JV","JUV",3644]
["Hep-Juv","Comb","Campeonatos Nacionais de Sub-18","2022-06-17","Viana Castelo","FPA","F",7,43,"Sofia Quintino","ACDRA","JUV",3627]
["Hep-Juv","Comb","Campeonatos Nacionais de Sub-18","2022-06-17","Viana Castelo","FPA","F",10,291,"Rafaela Pires","GDP-L","JUV",3351]
["Hep-Juv","Comb","Campeonatos Nacionais de Sub-18","2022-06-17","Viana Castelo","FPA","F",12,334,"Catarina Silva","JV","JUV",3271]
["DEC-JUV","Comb","Campeonatos Nacionais de Sub-18","2022-06-17","Viana Castelo","FPA","M",1,294,"Bernardo Cunha","GDP-L","JUV",6020]
["DEC-JUV","Comb","Campeonatos Nacionais de Sub-18","2022-06-17","Viana Castelo","FPA","M",4,350,"Denis Hrabar","JV","INI",5828]
["DEC-JUV","Comb","Campeonatos Nacionais de Sub-18","2022-06-17","Viana Castelo","FPA","M",7,338,"João Martins","JV","JUV",4805]
["DEC-JUV","Comb","Campeonatos Nacionais de Sub-18","2022-06-17","Viana Castelo","FPA","M",9,337,"Luca Cruz","JV","JUV",4580]
["MARTEL3","Lan","Campeonatos Nacionais de Sub-18","2022-06-17","Viana Castelo","FPA","F",2,358,"Márcia Maketa","JV","JUV",57.26,57.26,"X",55.69,56.4,"X",53.69]
["MARTEL3","Lan","Campeonatos Nacionais de Sub-18","2022-06-17","Viana Castelo","FPA","F",5,38,"Leonor Belchior","ACDRA","JUV",45.16,39.78,"X",43.73,40.94,45.16,40.78]
["MARTEL3","Lan","Campeonatos Nacionais de Sub-18","2022-06-17","Viana Castelo","FPA","F",6,135,"Inaya Yayo","CANAZ","JUV",44.97,"X",41.95,41.84,43.69,"X",44.97]
["MARTEL3","Lan","Campeonatos Nacionais de Sub-18","2022-06-17","Viana Castelo","FPA","F",8,133,"Rita Oliveira","CANAZ","JUV",38.47,36.950000000000003,35.78,38.47,37.19,"X",36.799999999999997]
["COMPRIM","Sal","Campeonatos Nacionais de Sub-18","2022-06-17","Viana Castelo","FPA","F",5,43,"Sofia Quintino","ACDRA","JUV",5.51,4.9800000000000004,5,5.44,5.38,5.4,5.51]
["COMPRIM","Sal","Campeonatos Nacionais de Sub-18","2022-06-17","Viana Castelo","FPA","F",10,44,"Marta Carriço","ACDRA","INI",5.15,5,5.15,5.0599999999999996]
["100","Vel","Campeonatos Nacionais de Sub-18","2022-06-17","Viana Castelo","FPA","M",2,362,"Ernesto Rodrigues","JV","JUV",11.36]
["100","Vel","Campeonatos Nacionais de Sub-18","2022-06-17","Viana Castelo","FPA","M",5,42,"Rodrigo Almeida","ACDRA","JUV",11.71]
["100","Vel","Campeonatos Nacionais de Sub-18","2022-06-17","Viana Castelo","FPA","M",2,13,"Alexandre Babych","AAADP","JUV",11.31]
["ALTURA","Sal","Campeonatos Nacionais de Sub-18","2022-06-17","Viana Castelo","FPA","F",2,333,"Luana Figueira","JV","JUV",1.59]
["100","Vel","Campeonatos Nacionais de Sub-18","2022-06-17","Viana Castelo","FPA","F",1,45,"Beatriz Castelhano","ACDRA","JUV",12.52]
["100","Vel","Campeonatos Nacionais de Sub-18","2022-06-17","Viana Castelo","FPA","F",3,365,"Katerina Quinn","JV","INI",12.87]
["300","Vel","Campeonatos Nacionais de Sub-18","2022-06-17","Viana Castelo","FPA","M",4,400,"Bernardo Ferreira","NDAP","JUV",37.869999999999997]
["300","Vel","Campeonatos Nacionais de Sub-18","2022-06-17","Viana Castelo","FPA","M",5,345,"Nuno Cordeiro","JV","JUV",37.4]
["300","Vel","Campeonatos Nacionais de Sub-18","2022-06-17","Viana Castelo","FPA","F",4,291,"Rafaela Pires","GDP-L","JUV",43.78]
["300","Vel","Campeonatos Nacionais de Sub-18","2022-06-17","Viana Castelo","FPA","F",6,344,"Carolina Castro","JV","JUV",44.95]
["1500","MF","Campeonatos Nacionais de Sub-18","2022-06-17","Viana Castelo","FPA","M",13,82,"Márcio Dias","AE-CA","JUV","00:04:21.280"]
["DISCO10","Lan","Campeonatos Nacionais de Sub-18","2022-06-17","Viana Castelo","FPA","F",2,358,"Márcia Maketa","JV","JUV",34.72,34.229999999999997,34.72,"X","X","-","-"]
["DISCO10","Lan","Campeonatos Nacionais de Sub-18","2022-06-17","Viana Castelo","FPA","F",4,133,"Rita Oliveira","CANAZ","JUV",31.64,31.64,31.55,28.12,27.5,29.34,29.03]
["DISCO10","Lan","Campeonatos Nacionais de Sub-18","2022-06-17","Viana Castelo","FPA","F",6,131,"Eva Varela","CANAZ","JUV",29.89,"X",28.84,29.89,"X",26.6,29.84]
["DISCO10","Lan","Campeonatos Nacionais de Sub-18","2022-06-17","Viana Castelo","FPA","F",8,363,"Camila Patraboy","JV","INI",28.54,27.44,27.6,28.54,"X","X","X"]
["DISCO10","Lan","Campeonatos Nacionais de Sub-18","2022-06-17","Viana Castelo","FPA","F",11,128,"Carolina D Santos","CAMG","INI",26.3,26.3,26.24,25.11]
["VARA","Sal","Campeonatos Nacionais de Sub-18","2022-06-17","Viana Castelo","FPA","M",2,294,"Bernardo Cunha","GDP-L","JUV",3.9]
["VARA","Sal","Campeonatos Nacionais de Sub-18","2022-06-17","Viana Castelo","FPA","M",5,350,"Denis Hrabar","JV","INI",3.65]
["VARA","Sal","Campeonatos Nacionais de Sub-18","2022-06-17","Viana Castelo","FPA","M",6,337,"Luca Cruz","JV","JUV",3.55]
["VARA","Sal","Campeonatos Nacionais de Sub-18","2022-06-17","Viana Castelo","FPA","M",8,341,"Rafael Morgado","JV","INI",3.4]
["PESO5","Lan","Campeonatos Nacionais de Sub-18","2022-06-17","Viana Castelo","FPA","M",6,361,"Rúben Santos","JV","JUV",12.49,12.49,12.01,"X","X","X","X"]
["PESO5","Lan","Campeonatos Nacionais de Sub-18","2022-06-17","Viana Castelo","FPA","M",7,356,"Francisco Calhau","JV","JUV",12.46,"X","X",11.72,"X","X",12.46]
["100","Vel","Campeonatos Nacionais de Sub-18","2022-06-17","Viana Castelo","FPA","M",5,13,"Alexandre Babych","AAADP","JUV",11.25]
["100","Vel","Campeonatos Nacionais de Sub-18","2022-06-17","Viana Castelo","FPA","M",6,362,"Ernesto Rodrigues","JV","JUV",11.39]
["100","Vel","Campeonatos Nacionais de Sub-18","2022-06-17","Viana Castelo","FPA","F",2,45,"Beatriz Castelhano","ACDRA","JUV",12.37]
["100","Vel","Campeonatos Nacionais de Sub-18","2022-06-17","Viana Castelo","FPA","F",7,365,"Katerina Quinn","JV","INI",12.83]
["COMPRIM","Sal","Campeonatos Nacionais de Sub-18","2022-06-17","Viana Castelo","FPA","M",2,296,"Gabriel Cunha","GDP-L","INI",6.99,6.8,6.99,6.78,5.0999999999999996,"X",6.89]
["COMPRIM","Sal","Campeonatos Nacionais de Sub-18","2022-06-17","Viana Castelo","FPA","M",3,338,"João Martins","JV","JUV",6.84,6.57,6.79,"X",6.84,"X","X"]
["COMPRIM","Sal","Campeonatos Nacionais de Sub-18","2022-06-17","Viana Castelo","FPA","M",4,127,"Miguel Marques","CAMG","JUV",6.8,6.42,6.8,6.56,6.31,6.57,6.65]
["2000O","MF","Campeonatos Nacionais de Sub-18","2022-06-17","Viana Castelo","FPA","M",5,352,"Tiago Jorge","JV","JUV","00:06:15.450"]
["2000O","MF","Campeonatos Nacionais de Sub-18","2022-06-17","Viana Castelo","FPA","M",10,403,"Pedro Rodrigues","NDAP","JUV","00:06:37.340"]
["2000O","MF","Campeonatos Nacionais de Sub-18","2022-06-17","Viana Castelo","FPA","F",2,355,"Carlota Ferreira","JV","JUV","00:07:26.990"]
["2000O","MF","Campeonatos Nacionais de Sub-18","2022-06-17","Viana Castelo","FPA","F",4,342,"Eduarda Silva","JV","JUV","00:07:36.330"]
["4X100","Vel","Campeonatos Nacionais de Sub-18","2022-06-17","Viana Castelo","FPA","M",3,10402,"N D AMADOR POMBAL","NDAP","JUV",47.1]
["4X100","Vel","Campeonatos Nacionais de Sub-18","2022-06-17","Viana Castelo","FPA","M",5,10021,"ATLÉTICO C BATALHA","ACB-L","JUV",48.16]
["4X100","Vel","Campeonatos Nacionais de Sub-18","2022-06-17","Viana Castelo","FPA","M",4,10351,"JUV VIDIGALENSE","JV","JUV",45.23]
["DARDO7","Lan","Campeonatos Nacionais de Sub-18","2022-06-17","Viana Castelo","FPA","M",7,360,"João Santos","JV","JUV",45.57,41.31,42.96,39.69,43.75,45.57,42.62]
["DARDO7","Lan","Campeonatos Nacionais de Sub-18","2022-06-17","Viana Castelo","FPA","M",8,361,"Rúben Santos","JV","JUV",44.43,37.11,41.91,44.43,"-","X","X"]
["DARDO7","Lan","Campeonatos Nacionais de Sub-18","2022-06-17","Viana Castelo","FPA","M",12,134,"Duarte Santos","CANAZ","JUV",34.340000000000003,"X","X",34.340000000000003]
["4X100","Vel","Campeonatos Nacionais de Sub-18","2022-06-17","Viana Castelo","FPA","F",1,10344,"JUV VIDIGALENSE","JV","JUV",49.78]
["4X100","Vel","Campeonatos Nacionais de Sub-18","2022-06-17","Viana Castelo","FPA","F",5,10025,"ATLÉTICO C BATALHA","ACB-L","JUV",55.64]
["4X100","Vel","Campeonatos Nacionais de Sub-18","2022-06-17","Viana Castelo","FPA","F",2,10044,"A C D R ARNEIRENSE","ACDRA","JUV",49.84]
["5000MX","MX","Campeonatos Nacionais de Sub-18","2022-06-17","Viana Castelo","FPA","F",3,292,"Isa Ferreira","GDP-L","JUV",1.7855092592592593E-2]
["5000MX","MX","Campeonatos Nacionais de Sub-18","2022-06-17","Viana Castelo","FPA","F",8,126,"Matilde Angélico","CAMG","INI",1.9773958333333331E-2]
["5000MX","MX","Campeonatos Nacionais de Sub-18","2022-06-17","Viana Castelo","FPA","M",3,335,"David Gregório","JV","JUV",1.7160995370370372E-2]
["5000MX","MX","Campeonatos Nacionais de Sub-18","2022-06-17","Viana Castelo","FPA","M",4,346,"Eduardo Camarate","JV","JUV",1.7200115740740738E-2]
["5000MX","MX","Campeonatos Nacionais de Sub-18","2022-06-17","Viana Castelo","FPA","M",7,293,"André Moreira","GDP-L","JUV",1.7830787037037037E-2]
["5000MX","MX","Campeonatos Nacionais de Sub-18","2022-06-17","Viana Castelo","FPA","M",9,180,"Francisco Lima","CDBBR","JUV",1.8670370370370368E-2]
["MARTEL5","Lan","Campeonatos Nacionais de Sub-18","2022-06-18","Viana Castelo","FPA","M",1,356,"Francisco Calhau","JV","JUV",68.73,"X","X",60.03,"X",66.66,68.73]
["MARTEL5","Lan","Campeonatos Nacionais de Sub-18","2022-06-18","Viana Castelo","FPA","M",8,295,"Rodrigo Esteves","GDP-L","INI",39.08,"X",39.08,37.82,"X","X","X"]
["TRIPLO","Sal","Campeonatos Nacionais de Sub-18","2022-06-18","Viana Castelo","FPA","M",4,46,"Diogo Chaves","ACDRA","JUV",13.07,12.78,"X",12.31,"X","X",13.07]
["TRIPLO","Sal","Campeonatos Nacionais de Sub-18","2022-06-18","Viana Castelo","FPA","M",5,338,"João Martins","JV","JUV",12.85,12.71,12.85,11.4,"X",12.71,"X"]
["100B076","Vel","Campeonatos Nacionais de Sub-18","2022-06-18","Viana Castelo","FPA","F",2,364,"Vera Goucha","JV","JUV",15.12]
["100B076","Vel","Campeonatos Nacionais de Sub-18","2022-06-18","Viana Castelo","FPA","F",7,354,"Sara Brites","JV","JUV",19.079999999999998]
["VARA","Sal","Campeonatos Nacionais de Sub-18","2022-06-18","Viana Castelo","FPA","F",2,357,"Filipa Dinis","JV","JUV",2.85]
["VARA","Sal","Campeonatos Nacionais de Sub-18","2022-06-18","Viana Castelo","FPA","F",4,334,"Catarina Silva","JV","JUV",2.4]
["VARA","Sal","Campeonatos Nacionais de Sub-18","2022-06-18","Viana Castelo","FPA","F",13,349,"Ana Carvalho","JV","JUV",2.1]
["VARA","Sal","Campeonatos Nacionais de Sub-18","2022-06-18","Viana Castelo","FPA","F",13,340,"Inês Figueiredo","JV","INI",2.1]
["VARA","Sal","Campeonatos Nacionais de Sub-18","2022-06-18","Viana Castelo","FPA","F",13,336,"Laura Baltazar","JV","JUV",2.1]
["PESO3","Lan","Campeonatos Nacionais de Sub-18","2022-06-18","Viana Castelo","FPA","F",1,364,"Vera Goucha","JV","JUV",13.03,12.04,13.03,12.23,11.45,12.03,12.49]
["PESO3","Lan","Campeonatos Nacionais de Sub-18","2022-06-18","Viana Castelo","FPA","F",3,358,"Márcia Maketa","JV","JUV",12.21,11.38,12.21,"X","X","X",11.42]
["3000","MF","Campeonatos Nacionais de Sub-18","2022-06-18","Viana Castelo","FPA","M",3,352,"Tiago Jorge","JV","JUV","00:08:51.090"]
["3000","MF","Campeonatos Nacionais de Sub-18","2022-06-18","Viana Castelo","FPA","M",10,347,"Leonardo Jacinto","JV","JUV","00:09:30.420"]
["ALTURA","Sal","Campeonatos Nacionais de Sub-18","2022-06-18","Viana Castelo","FPA","M",4,294,"Bernardo Cunha","GDP-L","JUV",1.82]
["ALTURA","Sal","Campeonatos Nacionais de Sub-18","2022-06-18","Viana Castelo","FPA","M",5,296,"Gabriel Cunha","GDP-L","INI",1.72]
["ALTURA","Sal","Campeonatos Nacionais de Sub-18","2022-06-18","Viana Castelo","FPA","M",12,21,"Tiago Gomes","ACB-L","JUV",1.62]
["ALTURA","Sal","Campeonatos Nacionais de Sub-18","2022-06-18","Viana Castelo","FPA","M",18,351,"Tomás Monteiro","JV","INI",1.62]
["200","Vel","Campeonatos Nacionais de Sub-18","2022-06-18","Viana Castelo","FPA","M",8,42,"Rodrigo Almeida","ACDRA","JUV",24.29]
["200","Vel","Campeonatos Nacionais de Sub-18","2022-06-18","Viana Castelo","FPA","M",3,13,"Alexandre Babych","AAADP","JUV",22.82]
["100B076","Vel","Campeonatos Nacionais de Sub-18","2022-06-18","Viana Castelo","FPA","F",3,364,"Vera Goucha","JV","JUV",15.68]
["DISCO15","Lan","Campeonatos Nacionais de Sub-18","2022-06-18","Viana Castelo","FPA","M",3,356,"Francisco Calhau","JV","JUV",40.76,"X",35.909999999999997,37.119999999999997,"X",40.76,"X"]
["DISCO15","Lan","Campeonatos Nacionais de Sub-18","2022-06-18","Viana Castelo","FPA","M",6,350,"Denis Hrabar","JV","INI",35.44,31.62,32.78,"X",31.52,35.44,"X"]
["DISCO15","Lan","Campeonatos Nacionais de Sub-18","2022-06-18","Viana Castelo","FPA","M",11,181,"Rodrigo Silva","CDBBR","JUV",31.05,28.94,31.05,28.59]
["200","Vel","Campeonatos Nacionais de Sub-18","2022-06-18","Viana Castelo","FPA","F",1,44,"Marta Carriço","ACDRA","INI",26.57]
["200","Vel","Campeonatos Nacionais de Sub-18","2022-06-18","Viana Castelo","FPA","F",4,344,"Carolina Castro","JV","JUV",27.57]
["200","Vel","Campeonatos Nacionais de Sub-18","2022-06-18","Viana Castelo","FPA","F",5,45,"Beatriz Castelhano","ACDRA","JUV",27.1]
["TRIPLO","Sal","Campeonatos Nacionais de Sub-18","2022-06-18","Viana Castelo","FPA","F",5,43,"Sofia Quintino","ACDRA","JUV",11.03,10.6,"X",9.8800000000000008,10.82,10.82,11.03]
["TRIPLO","Sal","Campeonatos Nacionais de Sub-18","2022-06-18","Viana Castelo","FPA","F",7,365,"Katerina Quinn","JV","INI",10.89,9.99,"X",10.74,"X","X",10.89]
["TRIPLO","Sal","Campeonatos Nacionais de Sub-18","2022-06-18","Viana Castelo","FPA","F",16,333,"Luana Figueira","JV","JUV",10.130000000000001,"X",10.039999999999999,10.130000000000001]
["TRIPLO","Sal","Campeonatos Nacionais de Sub-18","2022-06-18","Viana Castelo","FPA","F",18,41,"Maria Vicente","ACDRA","INI",9.93,"X",9.93,9.73]
["800","MF","Campeonatos Nacionais de Sub-18","2022-06-18","Viana Castelo","FPA","M",3,345,"Nuno Cordeiro","JV","JUV","00:01:57.700"]
["DARDO5","Lan","Campeonatos Nacionais de Sub-18","2022-06-18","Viana Castelo","FPA","F",3,131,"Eva Varela","CANAZ","JUV",35.08,33.83,33.090000000000003,33.94,32.99,35.08,34.19]
["DARDO5","Lan","Campeonatos Nacionais de Sub-18","2022-06-18","Viana Castelo","FPA","F",4,339,"Beatriz Cordeiro","JV","JUV",35.07,34.85,29.41,35.07,31.91,35.01,33.43]
["DARDO5","Lan","Campeonatos Nacionais de Sub-18","2022-06-18","Viana Castelo","FPA","F",7,334,"Catarina Silva","JV","JUV",29.46,26.27,29.46,28.8,28.75,26.72,25.71]
["300B076","Vel","Campeonatos Nacionais de Sub-18","2022-06-18","Viana Castelo","FPA","F",5,353,"Margarida Santos","JV","JUV",48.97]
["300B084","Vel","Campeonatos Nacionais de Sub-18","2022-06-18","Viana Castelo","FPA","M",1,18,"Edson Dias","ACB-L","JUV",41.86]
["300B084","Vel","Campeonatos Nacionais de Sub-18","2022-06-18","Viana Castelo","FPA","M",2,127,"Miguel Marques","CAMG","JUV",38.96]
["4X1234","Vel","Campeonatos Nacionais de Sub-18","2022-06-18","Viana Castelo","FPA","M",4,10348,"JUV VIDIGALENSE","JV","JUV","00:02:09.250"]
["4X1234","Vel","Campeonatos Nacionais de Sub-18","2022-06-18","Viana Castelo","FPA","F",6,10023,"ATLÉTICO C BATALHA","ACB-L","JUV","00:02:35.790"]
["4X1234","Vel","Campeonatos Nacionais de Sub-18","2022-06-18","Viana Castelo","FPA","F",1,10344,"JUV VIDIGALENSE","JV","JUV","00:02:28.590"]
["4X1234","Vel","Campeonatos Nacionais de Sub-18","2022-06-18","Viana Castelo","FPA","F",6,10040,"A C D R ARNEIRENSE","ACDRA","JUV","00:02:41.800"]
["4X1234","Vel","Campeonatos Nacionais de Sub-18","2022-06-18","Viana Castelo","FPA","F",7,10126,"C A MARINHA GRANDE","CAMG","JUV","00:02:42.530"]
["OCT-Juv","Comb","Atleta Completo Regional 2022","2022-06-25","Fátima","ADAL","M",1,null,"Luca Cruz","JV","JUV",4633]
["OCT-Juv","Comb","Atleta Completo Regional 2022","2022-06-25","Fátima","ADAL","M",2,null,"Diogo Chaves","ACDRA","JUV",4142]
["OCT-Juv","Comb","Atleta Completo Regional 2022","2022-06-25","Fátima","ADAL","M",5,null,"Rodrigo Almeida","ACDRA","JUV",759]
["HEP-Juv","Comb","Atleta Completo Regional 2022","2022-06-25","Fátima","ADAL","F",2,null,"Sara Brites","JV","JUV",3798]
["HEP-Juv","Comb","Atleta Completo Regional 2022","2022-06-25","Fátima","ADAL","F",3,null,"Rafaela Pires","GDP-L","JUV",3370]
["HEP-Juv","Comb","Atleta Completo Regional 2022","2022-06-25","Fátima","ADAL","F",5,null,"Laura Baltazar","JV","JUV",2862]
["HEP-Ini","Comb","Atleta Completo Regional 2022","2022-06-25","Fátima","ADAL","M",1,null,"Gabriel Cunha","GDP-L","INI",4270]
["HEP-Ini","Comb","Atleta Completo Regional 2022","2022-06-25","Fátima","ADAL","M",2,null,"Rafael Morgado","JV","INI",3649]
["HEP-Ini","Comb","Atleta Completo Regional 2022","2022-06-25","Fátima","ADAL","M",3,null,"Tomás Monteiro","JV","INI",3266]
["HEP-Ini","Comb","Atleta Completo Regional 2022","2022-06-25","Fátima","ADAL","M",4,null,"Rafael Dias","JV","INI",2751]
["HEP-Ini","Comb","Atleta Completo Regional 2022","2022-06-25","Fátima","ADAL","M",6,null,"Matias Ferreira","GDP-L","INI",2456]
["HEP-Ini","Comb","Atleta Completo Regional 2022","2022-06-25","Fátima","ADAL","M",7,null,"Ricardo Santos","CAMG","INI",2361]
["HEP-Ini","Comb","Atleta Completo Regional 2022","2022-06-25","Fátima","ADAL","M",8,null,"Tomás Sousa","GDP-L","INI",2220]
["HEP-Ini","Comb","Atleta Completo Regional 2022","2022-06-25","Fátima","ADAL","M",9,null,"Leonardo Sousa","CAMG","INI",2119]
["HEP-Ini","Comb","Atleta Completo Regional 2022","2022-06-25","Fátima","ADAL","M",10,null,"Dani Saab","JV","INI",2071]
["HEP-Ini","Comb","Atleta Completo Regional 2022","2022-06-25","Fátima","ADAL","M",11,null,"João Fernandes","JV","INI",1873]
["HEP-Ini","Comb","Atleta Completo Regional 2022","2022-06-25","Fátima","ADAL","M",13,null,"Afonso Martins","JV","INI",1811]
["HEP-Ini","Comb","Atleta Completo Regional 2022","2022-06-25","Fátima","ADAL","F",1,null,"Marta Carriço","ACDRA","INI",3842]
["HEP-Ini","Comb","Atleta Completo Regional 2022","2022-06-25","Fátima","ADAL","F",2,null,"Sofia Santos","JV","INI",3206]
["HEP-Ini","Comb","Atleta Completo Regional 2022","2022-06-25","Fátima","ADAL","F",3,null,"Marta Feliciano","JV","INI",3126]
["HEP-Ini","Comb","Atleta Completo Regional 2022","2022-06-25","Fátima","ADAL","F",5,null,"Alice Varino","GDP-L","INI",2735]
["HEP-Ini","Comb","Atleta Completo Regional 2022","2022-06-25","Fátima","ADAL","F",6,null,"Leonor Ascenso","JV","INI",2696]
["HEP-Ini","Comb","Atleta Completo Regional 2022","2022-06-25","Fátima","ADAL","F",7,null,"Maria Vicente","ACDRA","INI",2694]
["HEP-Ini","Comb","Atleta Completo Regional 2022","2022-06-25","Fátima","ADAL","F",8,null,"Diana Vatula","CAMG","INI",2666]
["HEP-Ini","Comb","Atleta Completo Regional 2022","2022-06-25","Fátima","ADAL","F",9,null,"Inês Figueiredo","JV","INI",2665]
["HEP-Ini","Comb","Atleta Completo Regional 2022","2022-06-25","Fátima","ADAL","F",10,null,"Matilde Soares","CAMG","INI",2644]
["HEP-Ini","Comb","Atleta Completo Regional 2022","2022-06-25","Fátima","ADAL","F",11,null,"Carolina D Santos","CAMG","INI",2612]
["HEP-Ini","Comb","Atleta Completo Regional 2022","2022-06-25","Fátima","ADAL","F",15,null,"Matilde Batista","CAMG","INI",1818]
["HEP-Ini","Comb","Atleta Completo Regional 2022","2022-06-25","Fátima","ADAL","F",16,null,"Benedita Matias","GDP-L","INI",1782]
["PEN-Inf","Comb","Atleta Completo Regional 2022","2022-06-25","Fátima","ADAL","M",1,null,"Matias Góis","JV","INF",2217]
["PEN-Inf","Comb","Atleta Completo Regional 2022","2022-06-25","Fátima","ADAL","M",2,null,"Eduardo Camacho","JV","INF",1644]
["PEN-Inf","Comb","Atleta Completo Regional 2022","2022-06-25","Fátima","ADAL","M",8,null,"José Martins","JV","INF",880]
["PEN-Inf","Comb","Atleta Completo Regional 2022","2022-06-25","Fátima","ADAL","F",4,null,"Alessandra Santos","JV","INF",2022]
["PEN-Inf","Comb","Atleta Completo Regional 2022","2022-06-25","Fátima","ADAL","F",5,null,"Lara Simões","JV","INF",1995]
["PEN-Inf","Comb","Atleta Completo Regional 2022","2022-06-25","Fátima","ADAL","F",7,null,"Matilde Silva","JV","INF",1891]
["PEN-Inf","Comb","Atleta Completo Regional 2022","2022-06-25","Fátima","ADAL","F",8,null,"Liliana Teotónio","JV","INF",1868]
["PEN-Inf","Comb","Atleta Completo Regional 2022","2022-06-25","Fátima","ADAL","F",9,null,"Francisca Reis","JV","INF",1724]
["100","Vel","Atleta Completo Regional 2022","2022-06-25","Fátima","ADAL","M",1,945,"Luca Cruz","JV","JUV",11.4]
["100","Vel","Atleta Completo Regional 2022","2022-06-25","Fátima","ADAL","M",2,975,"Diogo Chaves","ACDRA","JUV",11.43]
["100","Vel","Atleta Completo Regional 2022","2022-06-25","Fátima","ADAL","M",3,978,"Rodrigo Almeida","ACDRA","JUV",11.47]
["80","Vel","Atleta Completo Regional 2022","2022-06-25","Fátima","ADAL","M",1,956,"Tomás Monteiro","JV","INI",9.92]
["80","Vel","Atleta Completo Regional 2022","2022-06-25","Fátima","ADAL","M",4,970,"Leonardo Sousa","CAMG","INI",10.72]
["80","Vel","Atleta Completo Regional 2022","2022-06-25","Fátima","ADAL","M",5,962,"Matias Ferreira","GDP-L","INI",10.79]
["80","Vel","Atleta Completo Regional 2022","2022-06-25","Fátima","ADAL","M",6,974,"Ricardo Santos","CAMG","INI",10.82]
["80","Vel","Atleta Completo Regional 2022","2022-06-25","Fátima","ADAL","M",7,938,"João Fernandes","JV","INI",11.5]
["80","Vel","Atleta Completo Regional 2022","2022-06-25","Fátima","ADAL","M",1,960,"Gabriel Cunha","GDP-L","INI",9.57]
["80","Vel","Atleta Completo Regional 2022","2022-06-25","Fátima","ADAL","M",2,951,"Rafael Dias","JV","INI",9.8000000000000007]
["80","Vel","Atleta Completo Regional 2022","2022-06-25","Fátima","ADAL","M",3,952,"Rafael Morgado","JV","INI",10.220000000000001]
["80","Vel","Atleta Completo Regional 2022","2022-06-25","Fátima","ADAL","M",4,927,"Afonso Martins","JV","INI",10.49]
["80","Vel","Atleta Completo Regional 2022","2022-06-25","Fátima","ADAL","M",5,967,"Tomás Sousa","GDP-L","INI",10.66]
["80","Vel","Atleta Completo Regional 2022","2022-06-25","Fátima","ADAL","M",6,933,"Dani Saab","JV","INI",11.13]
["100B076","Vel","Atleta Completo Regional 2022","2022-06-25","Fátima","ADAL","F",2,953,"Sara Brites","JV","JUV",15.73]
["100B076","Vel","Atleta Completo Regional 2022","2022-06-25","Fátima","ADAL","F",4,965,"Rafaela Pires","GDP-L","JUV",16.690000000000001]
["100B076","Vel","Atleta Completo Regional 2022","2022-06-25","Fátima","ADAL","F",5,941,"Laura Baltazar","JV","JUV",17.47]
["80B076","Vel","Atleta Completo Regional 2022","2022-06-25","Fátima","ADAL","F",1,969,"Diana Vatula","CAMG","INI",14.99]
["80B076","Vel","Atleta Completo Regional 2022","2022-06-25","Fátima","ADAL","F",3,972,"Matilde Batista","CAMG","INI",16.190000000000001]
["80B076","Vel","Atleta Completo Regional 2022","2022-06-25","Fátima","ADAL","F",1,977,"Marta Carriço","ACDRA","INI",13.06]
["80B076","Vel","Atleta Completo Regional 2022","2022-06-25","Fátima","ADAL","F",2,936,"Inês Figueiredo","JV","INI",13.96]
["80B076","Vel","Atleta Completo Regional 2022","2022-06-25","Fátima","ADAL","F",3,973,"Matilde Soares","CAMG","INI",14.64]
["80B076","Vel","Atleta Completo Regional 2022","2022-06-25","Fátima","ADAL","F",5,968,"Carolina D Santos","CAMG","INI",15.57]
["80B076","Vel","Atleta Completo Regional 2022","2022-06-25","Fátima","ADAL","F",1,947,"Marta Feliciano","JV","INI",14.53]
["80B076","Vel","Atleta Completo Regional 2022","2022-06-25","Fátima","ADAL","F",2,957,"Alice Varino","GDP-L","INI",14.84]
["80B076","Vel","Atleta Completo Regional 2022","2022-06-25","Fátima","ADAL","F",3,954,"Sofia Santos","JV","INI",14.88]
["80B076","Vel","Atleta Completo Regional 2022","2022-06-25","Fátima","ADAL","F",4,976,"Maria Vicente","ACDRA","INI",15.65]
["80B076","Vel","Atleta Completo Regional 2022","2022-06-25","Fátima","ADAL","F",5,959,"Benedita Matias","GDP-L","INI",17.149999999999999]
["80B076","Vel","Atleta Completo Regional 2022","2022-06-25","Fátima","ADAL","F",7,942,"Leonor Ascenso","JV","INI",17.739999999999998]
["COMPRIM","Sal","Atleta Completo Regional 2022","2022-06-25","Fátima","ADAL","M",1,960,"Gabriel Cunha","GDP-L","INI",5.88,5.88,"-","-"]
["COMPRIM","Sal","Atleta Completo Regional 2022","2022-06-25","Fátima","ADAL","M",2,952,"Rafael Morgado","JV","INI",5.64,5.64,5.31,"X"]
["COMPRIM","Sal","Atleta Completo Regional 2022","2022-06-25","Fátima","ADAL","M",3,956,"Tomás Monteiro","JV","INI",5.45,5.45,5.26,5.38]
["COMPRIM","Sal","Atleta Completo Regional 2022","2022-06-25","Fátima","ADAL","M",4,974,"Ricardo Santos","CAMG","INI",5,5,4.5,4.95]
["COMPRIM","Sal","Atleta Completo Regional 2022","2022-06-25","Fátima","ADAL","M",5,927,"Afonso Martins","JV","INI",4.76,4.76,"X","X"]
["COMPRIM","Sal","Atleta Completo Regional 2022","2022-06-25","Fátima","ADAL","M",7,951,"Rafael Dias","JV","INI",4.7300000000000004,4.7300000000000004,4.58,4.54]
["COMPRIM","Sal","Atleta Completo Regional 2022","2022-06-25","Fátima","ADAL","M",8,967,"Tomás Sousa","GDP-L","INI",4.6500000000000004,4.22,4.0999999999999996,4.6500000000000004]
["COMPRIM","Sal","Atleta Completo Regional 2022","2022-06-25","Fátima","ADAL","M",9,962,"Matias Ferreira","GDP-L","INI",4.53,4.46,4.34,4.53]
["COMPRIM","Sal","Atleta Completo Regional 2022","2022-06-25","Fátima","ADAL","M",10,970,"Leonardo Sousa","CAMG","INI",4.3499999999999996,4.28,4.3499999999999996,4.1100000000000003]
["COMPRIM","Sal","Atleta Completo Regional 2022","2022-06-25","Fátima","ADAL","M",11,933,"Dani Saab","JV","INI",4.26,3.57,4.16,4.26]
["COMPRIM","Sal","Atleta Completo Regional 2022","2022-06-25","Fátima","ADAL","M",13,938,"João Fernandes","JV","INI",4.18,4.18,"X",4.05]
["60","Vel","Atleta Completo Regional 2022","2022-06-25","Fátima","ADAL","M",1,948,"Matias Góis","JV","INF",7.98]
["60","Vel","Atleta Completo Regional 2022","2022-06-25","Fátima","ADAL","M",2,934,"Eduardo Camacho","JV","INF",8.44]
["60","Vel","Atleta Completo Regional 2022","2022-06-25","Fátima","ADAL","M",7,937,"José Martins","JV","INF",9.5500000000000007]
["ALTURA","Sal","Atleta Completo Regional 2022","2022-06-25","Fátima","ADAL","F",4,941,"Laura Baltazar","JV","JUV",1.35]
["ALTURA","Sal","Atleta Completo Regional 2022","2022-06-25","Fátima","ADAL","F",5,965,"Rafaela Pires","GDP-L","JUV",1.35]
["ALTURA","Sal","Atleta Completo Regional 2022","2022-06-25","Fátima","ADAL","F",6,953,"Sara Brites","JV","JUV",1.35]
["60","Vel","Atleta Completo Regional 2022","2022-06-25","Fátima","ADAL","F",2,950,"Matilde Silva","JV","INF",9.4700000000000006]
["60","Vel","Atleta Completo Regional 2022","2022-06-25","Fátima","ADAL","F",2,935,"Francisca Reis","JV","INF",9.08]
["60","Vel","Atleta Completo Regional 2022","2022-06-25","Fátima","ADAL","F",3,943,"Liliana Teotónio","JV","INF",9.15]
["60","Vel","Atleta Completo Regional 2022","2022-06-25","Fátima","ADAL","F",4,928,"Alessandra Santos","JV","INF",9.26]
["60","Vel","Atleta Completo Regional 2022","2022-06-25","Fátima","ADAL","F",2,940,"Lara Simões","JV","INF",8.5]
["PESO5","Lan","Atleta Completo Regional 2022","2022-06-25","Fátima","ADAL","M",1,945,"Luca Cruz","JV","JUV",10.119999999999999,9.7200000000000006,10.119999999999999,9.59]
["PESO5","Lan","Atleta Completo Regional 2022","2022-06-25","Fátima","ADAL","M",2,975,"Diogo Chaves","ACDRA","JUV",9.3000000000000007,9.3000000000000007,8.49,"X"]
["DARDO5","Lan","Atleta Completo Regional 2022","2022-06-25","Fátima","ADAL","F",2,936,"Inês Figueiredo","JV","INI",20.57,18.2,19.84,20.57]
["DARDO5","Lan","Atleta Completo Regional 2022","2022-06-25","Fátima","ADAL","F",3,976,"Maria Vicente","ACDRA","INI",17.809999999999999,13.25,17.809999999999999,17.5]
["DARDO5","Lan","Atleta Completo Regional 2022","2022-06-25","Fátima","ADAL","F",5,957,"Alice Varino","GDP-L","INI",15.69,12.74,15.41,15.69]
["DARDO5","Lan","Atleta Completo Regional 2022","2022-06-25","Fátima","ADAL","F",6,968,"Carolina D Santos","CAMG","INI",15.64,12.55,15.64,"X"]
["DARDO5","Lan","Atleta Completo Regional 2022","2022-06-25","Fátima","ADAL","F",7,969,"Diana Vatula","CAMG","INI",15.5,14.9,15.5,13.47]
["DARDO5","Lan","Atleta Completo Regional 2022","2022-06-25","Fátima","ADAL","F",9,954,"Sofia Santos","JV","INI",14.96,12.99,14.96,"X"]
["DARDO5","Lan","Atleta Completo Regional 2022","2022-06-25","Fátima","ADAL","F",10,977,"Marta Carriço","ACDRA","INI",14.93,11.75,14.23,14.93]
["DARDO5","Lan","Atleta Completo Regional 2022","2022-06-25","Fátima","ADAL","F",12,972,"Matilde Batista","CAMG","INI",12.84,8.67,12.84,12.71]
["DARDO5","Lan","Atleta Completo Regional 2022","2022-06-25","Fátima","ADAL","F",13,947,"Marta Feliciano","JV","INI",12.83,10.47,12.83,"X"]
["DARDO5","Lan","Atleta Completo Regional 2022","2022-06-25","Fátima","ADAL","F",17,942,"Leonor Ascenso","JV","INI",10.28,10.28,"X",9.81]
["DARDO6","Lan","Atleta Completo Regional 2022","2022-06-25","Fátima","ADAL","M",1,960,"Gabriel Cunha","GDP-L","INI",41.96,41.96,37.549999999999997,"-"]
["DARDO6","Lan","Atleta Completo Regional 2022","2022-06-25","Fátima","ADAL","M",2,952,"Rafael Morgado","JV","INI",39.25,39.25,37.53,33.07]
["DARDO6","Lan","Atleta Completo Regional 2022","2022-06-25","Fátima","ADAL","M",3,951,"Rafael Dias","JV","INI",32.659999999999997,25.89,31.86,32.659999999999997]
["DARDO6","Lan","Atleta Completo Regional 2022","2022-06-25","Fátima","ADAL","M",4,974,"Ricardo Santos","CAMG","INI",25.73,12.54,22.63,25.73]
["DARDO6","Lan","Atleta Completo Regional 2022","2022-06-25","Fátima","ADAL","M",5,956,"Tomás Monteiro","JV","INI",25.66,25.66,23.57,24.2]
["DARDO6","Lan","Atleta Completo Regional 2022","2022-06-25","Fátima","ADAL","M",6,933,"Dani Saab","JV","INI",19.329999999999998,18.34,19.329999999999998,12.65]
["DARDO6","Lan","Atleta Completo Regional 2022","2022-06-25","Fátima","ADAL","M",8,962,"Matias Ferreira","GDP-L","INI",17.54,14.88,17.54,16.89]
["DARDO6","Lan","Atleta Completo Regional 2022","2022-06-25","Fátima","ADAL","M",9,938,"João Fernandes","JV","INI",17.28,"X",14.3,17.28]
["DARDO6","Lan","Atleta Completo Regional 2022","2022-06-25","Fátima","ADAL","M",10,970,"Leonardo Sousa","CAMG","INI",16.13,16.13,13.85,16.03]
["DARDO6","Lan","Atleta Completo Regional 2022","2022-06-25","Fátima","ADAL","M",12,927,"Afonso Martins","JV","INI",12.2,12.06,9.02,12.2]
["DARDO6","Lan","Atleta Completo Regional 2022","2022-06-25","Fátima","ADAL","M",13,967,"Tomás Sousa","GDP-L","INI",10.83,10.83,2.71,"X"]
["COMPRIM","Sal","Atleta Completo Regional 2022","2022-06-25","Fátima","ADAL","M",1,948,"Matias Góis","JV","INF",4.74,4.74,4.7300000000000004,4.5999999999999996]
["COMPRIM","Sal","Atleta Completo Regional 2022","2022-06-25","Fátima","ADAL","M",4,934,"Eduardo Camacho","JV","INF",3.81,3.78,3.23,3.81]
["COMPRIM","Sal","Atleta Completo Regional 2022","2022-06-25","Fátima","ADAL","M",7,937,"José Martins","JV","INF",3.59,3.59,3.28,3.53]
["300","Vel","Atleta Completo Regional 2022","2022-06-25","Fátima","ADAL","M",1,975,"Diogo Chaves","ACDRA","JUV",39.520000000000003]
["300","Vel","Atleta Completo Regional 2022","2022-06-25","Fátima","ADAL","M",2,945,"Luca Cruz","JV","JUV",39.65]
["PESO2","Lan","Atleta Completo Regional 2022","2022-06-25","Fátima","ADAL","F",1,943,"Liliana Teotónio","JV","INF",9.43,9.1199999999999992,9,9.43]
["PESO2","Lan","Atleta Completo Regional 2022","2022-06-25","Fátima","ADAL","F",4,928,"Alessandra Santos","JV","INF",7.64,6.85,7.64,6.84]
["PESO2","Lan","Atleta Completo Regional 2022","2022-06-25","Fátima","ADAL","F",8,950,"Matilde Silva","JV","INF",6.42,6.42,6.32,"X"]
["PESO2","Lan","Atleta Completo Regional 2022","2022-06-25","Fátima","ADAL","F",9,940,"Lara Simões","JV","INF",6.39,5.84,6.36,6.39]
["PESO2","Lan","Atleta Completo Regional 2022","2022-06-25","Fátima","ADAL","F",15,935,"Francisca Reis","JV","INF",5.74,5.4,5.74,"X"]
["PESO3","Lan","Atleta Completo Regional 2022","2022-06-25","Fátima","ADAL","F",7,965,"Rafaela Pires","GDP-L","JUV",6.3,6.01,6.3,5.64]
["PESO3","Lan","Atleta Completo Regional 2022","2022-06-25","Fátima","ADAL","F",1,941,"Laura Baltazar","JV","JUV",9.5500000000000007,"X",8.8800000000000008,9.5500000000000007]
["PESO3","Lan","Atleta Completo Regional 2022","2022-06-25","Fátima","ADAL","F",6,953,"Sara Brites","JV","JUV",8.65,8.19,8.56,8.65]
["ALTURA","Sal","Atleta Completo Regional 2022","2022-06-25","Fátima","ADAL","F",1,977,"Marta Carriço","ACDRA","INI",1.45]
["ALTURA","Sal","Atleta Completo Regional 2022","2022-06-25","Fátima","ADAL","F",2,942,"Leonor Ascenso","JV","INI",1.41]
["ALTURA","Sal","Atleta Completo Regional 2022","2022-06-25","Fátima","ADAL","F",3,957,"Alice Varino","GDP-L","INI",1.37]
["ALTURA","Sal","Atleta Completo Regional 2022","2022-06-25","Fátima","ADAL","F",4,947,"Marta Feliciano","JV","INI",1.33]
["ALTURA","Sal","Atleta Completo Regional 2022","2022-06-25","Fátima","ADAL","F",7,969,"Diana Vatula","CAMG","INI",1.29]
["ALTURA","Sal","Atleta Completo Regional 2022","2022-06-25","Fátima","ADAL","F",8,976,"Maria Vicente","ACDRA","INI",1.25]
["ALTURA","Sal","Atleta Completo Regional 2022","2022-06-25","Fátima","ADAL","F",9,954,"Sofia Santos","JV","INI",1.25]
["ALTURA","Sal","Atleta Completo Regional 2022","2022-06-25","Fátima","ADAL","F",10,959,"Benedita Matias","GDP-L","INI",1.25]
["ALTURA","Sal","Atleta Completo Regional 2022","2022-06-25","Fátima","ADAL","F",10,973,"Matilde Soares","CAMG","INI",1.25]
["ALTURA","Sal","Atleta Completo Regional 2022","2022-06-25","Fátima","ADAL","F",12,936,"Inês Figueiredo","JV","INI",1.21]
["ALTURA","Sal","Atleta Completo Regional 2022","2022-06-25","Fátima","ADAL","F",13,968,"Carolina D Santos","CAMG","INI",1.21]
["200","Vel","Atleta Completo Regional 2022","2022-06-25","Fátima","ADAL","F",1,965,"Rafaela Pires","GDP-L","JUV",27.06]
["200","Vel","Atleta Completo Regional 2022","2022-06-25","Fátima","ADAL","F",3,953,"Sara Brites","JV","JUV",27.38]
["200","Vel","Atleta Completo Regional 2022","2022-06-25","Fátima","ADAL","F",5,941,"Laura Baltazar","JV","JUV",30.2]
["80","Vel","Atleta Completo Regional 2022","2022-06-26","Fátima","ADAL","F",1,968,"Carolina D Santos","CAMG","INI",11.33]
["80","Vel","Atleta Completo Regional 2022","2022-06-26","Fátima","ADAL","F",2,959,"Benedita Matias","GDP-L","INI",11.78]
["80","Vel","Atleta Completo Regional 2022","2022-06-26","Fátima","ADAL","F",3,972,"Matilde Batista","CAMG","INI",12.01]
["80","Vel","Atleta Completo Regional 2022","2022-06-26","Fátima","ADAL","F",1,942,"Leonor Ascenso","JV","INI",10.79]
["80","Vel","Atleta Completo Regional 2022","2022-06-26","Fátima","ADAL","F",2,973,"Matilde Soares","CAMG","INI",10.94]
["80","Vel","Atleta Completo Regional 2022","2022-06-26","Fátima","ADAL","F",6,976,"Maria Vicente","ACDRA","INI",11.33]
["80","Vel","Atleta Completo Regional 2022","2022-06-26","Fátima","ADAL","F",1,977,"Marta Carriço","ACDRA","INI",10.33]
["80","Vel","Atleta Completo Regional 2022","2022-06-26","Fátima","ADAL","F",2,954,"Sofia Santos","JV","INI",10.54]
["80","Vel","Atleta Completo Regional 2022","2022-06-26","Fátima","ADAL","F",3,947,"Marta Feliciano","JV","INI",10.8]
["80","Vel","Atleta Completo Regional 2022","2022-06-26","Fátima","ADAL","F",4,936,"Inês Figueiredo","JV","INI",11.27]
["80","Vel","Atleta Completo Regional 2022","2022-06-26","Fátima","ADAL","F",5,957,"Alice Varino","GDP-L","INI",11.46]
["80","Vel","Atleta Completo Regional 2022","2022-06-26","Fátima","ADAL","F",7,969,"Diana Vatula","CAMG","INI",11.85]
["COMPRIM","Sal","Atleta Completo Regional 2022","2022-06-26","Fátima","ADAL","F",5,965,"Rafaela Pires","GDP-L","JUV",4.47,"X",4,4.47]
["COMPRIM","Sal","Atleta Completo Regional 2022","2022-06-26","Fátima","ADAL","F",3,953,"Sara Brites","JV","JUV",4.9000000000000004,4.8499999999999996,4.9000000000000004,4.72]
["COMPRIM","Sal","Atleta Completo Regional 2022","2022-06-26","Fátima","ADAL","F",6,941,"Laura Baltazar","JV","JUV",4.38,4.38,4.3,4.37]
["110B091","Vel","Atleta Completo Regional 2022","2022-06-26","Fátima","ADAL","M",1,945,"Luca Cruz","JV","JUV",17.05]
["110B091","Vel","Atleta Completo Regional 2022","2022-06-26","Fátima","ADAL","M",2,975,"Diogo Chaves","ACDRA","JUV",19.760000000000002]
["100B084","Vel","Atleta Completo Regional 2022","2022-06-26","Fátima","ADAL","M",1,960,"Gabriel Cunha","GDP-L","INI",14.78]
["100B084","Vel","Atleta Completo Regional 2022","2022-06-26","Fátima","ADAL","M",2,952,"Rafael Morgado","JV","INI",15.51]
["100B084","Vel","Atleta Completo Regional 2022","2022-06-26","Fátima","ADAL","M",3,956,"Tomás Monteiro","JV","INI",15.88]
["100B084","Vel","Atleta Completo Regional 2022","2022-06-26","Fátima","ADAL","M",5,951,"Rafael Dias","JV","INI",16.45]
["100B084","Vel","Atleta Completo Regional 2022","2022-06-26","Fátima","ADAL","M",7,938,"João Fernandes","JV","INI",21.08]
["100B084","Vel","Atleta Completo Regional 2022","2022-06-26","Fátima","ADAL","M",1,962,"Matias Ferreira","GDP-L","INI",17.36]
["100B084","Vel","Atleta Completo Regional 2022","2022-06-26","Fátima","ADAL","M",2,933,"Dani Saab","JV","INI",18.579999999999998]
["100B084","Vel","Atleta Completo Regional 2022","2022-06-26","Fátima","ADAL","M",3,967,"Tomás Sousa","GDP-L","INI",18.73]
["100B084","Vel","Atleta Completo Regional 2022","2022-06-26","Fátima","ADAL","M",4,974,"Ricardo Santos","CAMG","INI",19.82]
["100B084","Vel","Atleta Completo Regional 2022","2022-06-26","Fátima","ADAL","M",5,970,"Leonardo Sousa","CAMG","INI",20.27]
["100B084","Vel","Atleta Completo Regional 2022","2022-06-26","Fátima","ADAL","M",6,927,"Afonso Martins","JV","INI",20.440000000000001]
["60B076","Vel","Atleta Completo Regional 2022","2022-06-26","Fátima","ADAL","F",1,928,"Alessandra Santos","JV","INF",11.37]
["60B076","Vel","Atleta Completo Regional 2022","2022-06-26","Fátima","ADAL","F",2,950,"Matilde Silva","JV","INF",11.78]
["60B076","Vel","Atleta Completo Regional 2022","2022-06-26","Fátima","ADAL","F",2,940,"Lara Simões","JV","INF",11.79]
["60B076","Vel","Atleta Completo Regional 2022","2022-06-26","Fátima","ADAL","F",3,935,"Francisca Reis","JV","INF",11.94]
["60B076","Vel","Atleta Completo Regional 2022","2022-06-26","Fátima","ADAL","F",4,943,"Liliana Teotónio","JV","INF",11.94]
["60B076","Vel","Atleta Completo Regional 2022","2022-06-26","Fátima","ADAL","M",1,948,"Matias Góis","JV","INF",10.28]
["60B076","Vel","Atleta Completo Regional 2022","2022-06-26","Fátima","ADAL","M",2,934,"Eduardo Camacho","JV","INF",10.29]
["60B076","Vel","Atleta Completo Regional 2022","2022-06-26","Fátima","ADAL","M",8,937,"José Martins","JV","INF",13.62]
["COMPRIM","Sal","Atleta Completo Regional 2022","2022-06-26","Fátima","ADAL","F",1,977,"Marta Carriço","ACDRA","INI",5.23,5.12,5.16,5.23]
["COMPRIM","Sal","Atleta Completo Regional 2022","2022-06-26","Fátima","ADAL","F",2,954,"Sofia Santos","JV","INI",4.93,4.55,4.83,4.93]
["COMPRIM","Sal","Atleta Completo Regional 2022","2022-06-26","Fátima","ADAL","F",3,942,"Leonor Ascenso","JV","INI",4.8499999999999996,4.71,4.55,4.8499999999999996]
["COMPRIM","Sal","Atleta Completo Regional 2022","2022-06-26","Fátima","ADAL","F",5,973,"Matilde Soares","CAMG","INI",4.66,"X",4.3600000000000003,4.66]
["COMPRIM","Sal","Atleta Completo Regional 2022","2022-06-26","Fátima","ADAL","F",6,947,"Marta Feliciano","JV","INI",4.62,"X",4.2699999999999996,4.62]
["COMPRIM","Sal","Atleta Completo Regional 2022","2022-06-26","Fátima","ADAL","F",7,976,"Maria Vicente","ACDRA","INI",4.55,"X",4.41,4.55]
["COMPRIM","Sal","Atleta Completo Regional 2022","2022-06-26","Fátima","ADAL","F",8,936,"Inês Figueiredo","JV","INI",4.5,4.5,4.45,4.3600000000000003]
["COMPRIM","Sal","Atleta Completo Regional 2022","2022-06-26","Fátima","ADAL","F",9,969,"Diana Vatula","CAMG","INI",4.47,"X","X",4.47]
["COMPRIM","Sal","Atleta Completo Regional 2022","2022-06-26","Fátima","ADAL","F",11,972,"Matilde Batista","CAMG","INI",4.0999999999999996,4.0999999999999996,3.79,3.81]
["COMPRIM","Sal","Atleta Completo Regional 2022","2022-06-26","Fátima","ADAL","F",12,968,"Carolina D Santos","CAMG","INI",4.0599999999999996,3.75,4.0599999999999996,4.04]
["COMPRIM","Sal","Atleta Completo Regional 2022","2022-06-26","Fátima","ADAL","F",14,957,"Alice Varino","GDP-L","INI",3.98,3.96,3.96,3.98]
["COMPRIM","Sal","Atleta Completo Regional 2022","2022-06-26","Fátima","ADAL","F",17,959,"Benedita Matias","GDP-L","INI",3.6,3.6,"X","X"]
["ALTURA","Sal","Atleta Completo Regional 2022","2022-06-26","Fátima","ADAL","M",2,975,"Diogo Chaves","ACDRA","JUV",1.55]
["ALTURA","Sal","Atleta Completo Regional 2022","2022-06-26","Fátima","ADAL","M",3,945,"Luca Cruz","JV","JUV",1.51]
["PESO4","Lan","Atleta Completo Regional 2022","2022-06-26","Fátima","ADAL","M",2,975,"Diogo Chaves","ACDRA","JUV",1.55]
["PESO4","Lan","Atleta Completo Regional 2022","2022-06-26","Fátima","ADAL","M",3,945,"Luca Cruz","JV","JUV",1.51]
["PESO4","Lan","Atleta Completo Regional 2022","2022-06-26","Fátima","ADAL","M",1,960,"Gabriel Cunha","GDP-L","INI",13.18,12.48,13.18,"-"]
["PESO4","Lan","Atleta Completo Regional 2022","2022-06-26","Fátima","ADAL","M",2,952,"Rafael Morgado","JV","INI",9.76,9.1199999999999992,9.69,9.76]
["PESO4","Lan","Atleta Completo Regional 2022","2022-06-26","Fátima","ADAL","M",3,956,"Tomás Monteiro","JV","INI",8.93,"X",8.93,8.83]
["PESO4","Lan","Atleta Completo Regional 2022","2022-06-26","Fátima","ADAL","M",4,951,"Rafael Dias","JV","INI",8.42,8.42,8.2799999999999994,"X"]
["PESO4","Lan","Atleta Completo Regional 2022","2022-06-26","Fátima","ADAL","M",5,962,"Matias Ferreira","GDP-L","INI",7.94,7.42,7.94,7.27]
["PESO4","Lan","Atleta Completo Regional 2022","2022-06-26","Fátima","ADAL","M",6,933,"Dani Saab","JV","INI",7.83,7.18,7.83,6.48]
["PESO4","Lan","Atleta Completo Regional 2022","2022-06-26","Fátima","ADAL","M",8,927,"Afonso Martins","JV","INI",7.34,7.12,"X",7.34]
["PESO4","Lan","Atleta Completo Regional 2022","2022-06-26","Fátima","ADAL","M",9,974,"Ricardo Santos","CAMG","INI",7.22,5.56,6.43,7.22]
["PESO4","Lan","Atleta Completo Regional 2022","2022-06-26","Fátima","ADAL","M",10,967,"Tomás Sousa","GDP-L","INI",7.15,5.51,6.55,7.15]
["PESO4","Lan","Atleta Completo Regional 2022","2022-06-26","Fátima","ADAL","M",11,970,"Leonardo Sousa","CAMG","INI",6.97,6.97,6.78,6.4]
["PESO4","Lan","Atleta Completo Regional 2022","2022-06-26","Fátima","ADAL","M",13,938,"João Fernandes","JV","INI",6.4,6.19,5.97,6.4]
["DARDO5","Lan","Atleta Completo Regional 2022","2022-06-26","Fátima","ADAL","F",1,953,"Sara Brites","JV","JUV",24.34,23.88,24.34,23.25]
["DARDO5","Lan","Atleta Completo Regional 2022","2022-06-26","Fátima","ADAL","F",5,941,"Laura Baltazar","JV","JUV",16.940000000000001,14.93,15.75,16.940000000000001]
["DARDO5","Lan","Atleta Completo Regional 2022","2022-06-26","Fátima","ADAL","F",6,965,"Rafaela Pires","GDP-L","JUV",20.28,"X",20.28,15.18]
["COMPRIM","Sal","Atleta Completo Regional 2022","2022-06-26","Fátima","ADAL","F",3,928,"Alessandra Santos","JV","INF",4.08,3.85,4.08,3.6]
["COMPRIM","Sal","Atleta Completo Regional 2022","2022-06-26","Fátima","ADAL","F",6,950,"Matilde Silva","JV","INF",3.87,3.47,3.77,3.87]
["COMPRIM","Sal","Atleta Completo Regional 2022","2022-06-26","Fátima","ADAL","F",7,940,"Lara Simões","JV","INF",3.86,3.86,"X","X"]
["COMPRIM","Sal","Atleta Completo Regional 2022","2022-06-26","Fátima","ADAL","F",8,935,"Francisca Reis","JV","INF",3.83,3.83,3.6,3.56]
["COMPRIM","Sal","Atleta Completo Regional 2022","2022-06-26","Fátima","ADAL","F",10,943,"Liliana Teotónio","JV","INF",3.65,3.51,3.65,3.43]
["PESO3","Lan","Atleta Completo Regional 2022","2022-06-26","Fátima","ADAL","M",1,948,"Matias Góis","JV","INF",8.02,5.8,8.02,6.73]
["PESO3","Lan","Atleta Completo Regional 2022","2022-06-26","Fátima","ADAL","M",3,934,"Eduardo Camacho","JV","INF",6.52,"X",6.38,6.52]
["PESO3","Lan","Atleta Completo Regional 2022","2022-06-26","Fátima","ADAL","M",5,937,"José Martins","JV","INF",5.38,5.2,4.5199999999999996,5.38]
["ALTURA","Sal","Atleta Completo Regional 2022","2022-06-26","Fátima","ADAL","M",1,956,"Tomás Monteiro","JV","INI",1.68]
["ALTURA","Sal","Atleta Completo Regional 2022","2022-06-26","Fátima","ADAL","M",2,960,"Gabriel Cunha","GDP-L","INI",1.6]
["ALTURA","Sal","Atleta Completo Regional 2022","2022-06-26","Fátima","ADAL","M",4,952,"Rafael Morgado","JV","INI",1.48]
["ALTURA","Sal","Atleta Completo Regional 2022","2022-06-26","Fátima","ADAL","M",5,933,"Dani Saab","JV","INI",1.44]
["ALTURA","Sal","Atleta Completo Regional 2022","2022-06-26","Fátima","ADAL","M",6,962,"Matias Ferreira","GDP-L","INI",1.4]
["ALTURA","Sal","Atleta Completo Regional 2022","2022-06-26","Fátima","ADAL","M",7,974,"Ricardo Santos","CAMG","INI",1.4]
["ALTURA","Sal","Atleta Completo Regional 2022","2022-06-26","Fátima","ADAL","M",9,927,"Afonso Martins","JV","INI",1.32]
["ALTURA","Sal","Atleta Completo Regional 2022","2022-06-26","Fátima","ADAL","M",10,967,"Tomás Sousa","GDP-L","INI",1.28]
["ALTURA","Sal","Atleta Completo Regional 2022","2022-06-26","Fátima","ADAL","M",11,938,"João Fernandes","JV","INI",1.24]
["ALTURA","Sal","Atleta Completo Regional 2022","2022-06-26","Fátima","ADAL","M",13,970,"Leonardo Sousa","CAMG","INI",1.24]
["PESO3","Lan","Atleta Completo Regional 2022","2022-06-26","Fátima","ADAL","F",1,968,"Carolina D Santos","CAMG","INI",8.34,6.69,8.34,7.78]
["PESO3","Lan","Atleta Completo Regional 2022","2022-06-26","Fátima","ADAL","F",2,977,"Marta Carriço","ACDRA","INI",7.92,7.48,7.5,7.92]
["PESO3","Lan","Atleta Completo Regional 2022","2022-06-26","Fátima","ADAL","F",4,936,"Inês Figueiredo","JV","INI",7.78,7.78,7.37,7.75]
["PESO3","Lan","Atleta Completo Regional 2022","2022-06-26","Fátima","ADAL","F",5,954,"Sofia Santos","JV","INI",7.62,6.87,7.28,7.62]
["PESO3","Lan","Atleta Completo Regional 2022","2022-06-26","Fátima","ADAL","F",6,969,"Diana Vatula","CAMG","INI",7.52,7.52,7.2,7.38]
["PESO3","Lan","Atleta Completo Regional 2022","2022-06-26","Fátima","ADAL","F",9,976,"Maria Vicente","ACDRA","INI",6.98,6.74,6.98,6.17]
["PESO3","Lan","Atleta Completo Regional 2022","2022-06-26","Fátima","ADAL","F",11,947,"Marta Feliciano","JV","INI",6.78,6.58,6.78,6.27]
["PESO3","Lan","Atleta Completo Regional 2022","2022-06-26","Fátima","ADAL","F",13,972,"Matilde Batista","CAMG","INI",6.2,5.97,6.2,6.1]
["PESO3","Lan","Atleta Completo Regional 2022","2022-06-26","Fátima","ADAL","F",14,957,"Alice Varino","GDP-L","INI",5.97,5.93,5.97,5.48]
["PESO3","Lan","Atleta Completo Regional 2022","2022-06-26","Fátima","ADAL","F",15,959,"Benedita Matias","GDP-L","INI",5.57,5.57,5.3,4.59]
["PESO3","Lan","Atleta Completo Regional 2022","2022-06-26","Fátima","ADAL","F",16,973,"Matilde Soares","CAMG","INI",5.42,5.42,4.95,4.49]
["PESO3","Lan","Atleta Completo Regional 2022","2022-06-26","Fátima","ADAL","F",18,942,"Leonor Ascenso","JV","INI",5,4.29,"X",5]
["DARDO7","Lan","Atleta Completo Regional 2022","2022-06-26","Fátima","ADAL","M",1,945,"Luca Cruz","JV","JUV",27.96,"X",27.03,27.96]
["800","MF","Atleta Completo Regional 2022","2022-06-26","Fátima","ADAL","F",2,953,"Sara Brites","JV","JUV","00:02:40.560"]
["800","MF","Atleta Completo Regional 2022","2022-06-26","Fátima","ADAL","F",3,965,"Rafaela Pires","GDP-L","JUV","00:02:40.560"]
["800","MF","Atleta Completo Regional 2022","2022-06-26","Fátima","ADAL","F",5,941,"Laura Baltazar","JV","JUV","00:03:12.200"]
["1000","MF","Atleta Completo Regional 2022","2022-06-26","Fátima","ADAL","F",5,950,"Matilde Silva","JV","INF","00:03:51.680"]
["1000","MF","Atleta Completo Regional 2022","2022-06-26","Fátima","ADAL","F",7,928,"Alessandra Santos","JV","INF","00:04:05.680"]
["1000","MF","Atleta Completo Regional 2022","2022-06-26","Fátima","ADAL","F",9,940,"Lara Simões","JV","INF","00:04:10.650"]
["1000","MF","Atleta Completo Regional 2022","2022-06-26","Fátima","ADAL","F",11,935,"Francisca Reis","JV","INF","00:04:17.900"]
["1000","MF","Atleta Completo Regional 2022","2022-06-26","Fátima","ADAL","F",12,943,"Liliana Teotónio","JV","INF","00:04:23.930"]
["1000","MF","Atleta Completo Regional 2022","2022-06-26","Fátima","ADAL","M",1,948,"Matias Góis","JV","INF","00:03:22.270"]
["1000","MF","Atleta Completo Regional 2022","2022-06-26","Fátima","ADAL","M",5,934,"Eduardo Camacho","JV","INF","00:03:49.550"]
["1000","MF","Atleta Completo Regional 2022","2022-06-26","Fátima","ADAL","M",6,937,"José Martins","JV","INF","00:03:49.580"]
["800","MF","Atleta Completo Regional 2022","2022-06-26","Fátima","ADAL","F",1,957,"Alice Varino","GDP-L","INI","00:02:57.150"]
["800","MF","Atleta Completo Regional 2022","2022-06-26","Fátima","ADAL","F",8,959,"Benedita Matias","GDP-L","INI","00:03:22.420"]
["800","MF","Atleta Completo Regional 2022","2022-06-26","Fátima","ADAL","F",3,968,"Carolina D Santos","CAMG","INI","00:03:05.370"]
["800","MF","Atleta Completo Regional 2022","2022-06-26","Fátima","ADAL","F",7,972,"Matilde Batista","CAMG","INI","00:03:17.320"]
["800","MF","Atleta Completo Regional 2022","2022-06-26","Fátima","ADAL","F",1,977,"Marta Carriço","ACDRA","INI","00:02:46.500"]
["800","MF","Atleta Completo Regional 2022","2022-06-26","Fátima","ADAL","F",7,976,"Maria Vicente","ACDRA","INI","00:03:07.610"]
["800","MF","Atleta Completo Regional 2022","2022-06-26","Fátima","ADAL","F",8,969,"Diana Vatula","CAMG","INI","00:03:09.220"]
["800","MF","Atleta Completo Regional 2022","2022-06-26","Fátima","ADAL","F",9,973,"Matilde Soares","CAMG","INI","00:03:17.500"]
["800","MF","Atleta Completo Regional 2022","2022-06-26","Fátima","ADAL","F",2,947,"Marta Feliciano","JV","INI","00:02:47.170"]
["800","MF","Atleta Completo Regional 2022","2022-06-26","Fátima","ADAL","F",3,954,"Sofia Santos","JV","INI","00:02:49.940"]
["800","MF","Atleta Completo Regional 2022","2022-06-26","Fátima","ADAL","F",4,942,"Leonor Ascenso","JV","INI","00:02:55.530"]
["1000","MF","Atleta Completo Regional 2022","2022-06-26","Fátima","ADAL","M",1,952,"Rafael Morgado","JV","INI","00:03:02.320"]
["1000","MF","Atleta Completo Regional 2022","2022-06-26","Fátima","ADAL","M",4,938,"João Fernandes","JV","INI","00:03:13.280"]
["1000","MF","Atleta Completo Regional 2022","2022-06-26","Fátima","ADAL","M",6,951,"Rafael Dias","JV","INI","00:03:20.500"]
["1000","MF","Atleta Completo Regional 2022","2022-06-26","Fátima","ADAL","M",9,956,"Tomás Monteiro","JV","INI","00:03:35.430"]
["1000","MF","Atleta Completo Regional 2022","2022-06-26","Fátima","ADAL","M",11,933,"Dani Saab","JV","INI","00:03:54.020"]
["1000","MF","Atleta Completo Regional 2022","2022-06-26","Fátima","ADAL","M",14,927,"Afonso Martins","JV","INI","00:04:19.410"]
["1000","MF","Atleta Completo Regional 2022","2022-06-26","Fátima","ADAL","M",2,960,"Gabriel Cunha","GDP-L","INI","00:03:02.360"]
["1000","MF","Atleta Completo Regional 2022","2022-06-26","Fátima","ADAL","M",5,967,"Tomás Sousa","GDP-L","INI","00:03:18.540"]
["1000","MF","Atleta Completo Regional 2022","2022-06-26","Fátima","ADAL","M",7,962,"Matias Ferreira","GDP-L","INI","00:03:24.740"]
["1000","MF","Atleta Completo Regional 2022","2022-06-26","Fátima","ADAL","M",3,970,"Leonardo Sousa","CAMG","INI","00:03:13.040"]
["1000","MF","Atleta Completo Regional 2022","2022-06-26","Fátima","ADAL","M",8,974,"Ricardo Santos","CAMG","INI","00:03:29.310"]
["1000","MF","Atleta Completo Regional 2022","2022-06-26","Fátima","ADAL","M",2,945,"Luca Cruz","JV","JUV","00:03:18.160"]
["1000","MF","Atleta Completo Regional 2022","2022-06-26","Fátima","ADAL","M",3,975,"Diogo Chaves","ACDRA","JUV","00:03:32.390"]
["MARTEL6","Lan","Jornadas de lançamentos - Etapa 5","2022-06-23","Leiria","JV","M",1,321,"Daniel Raposo","GDP-L","JUN",42.66,39.729999999999997,"X","X",42.66,"X","X"]
["MARTEL7","Lan","Jornadas de lançamentos - Etapa 5","2022-06-23","Leiria","JV","M",2,807,"Miguel Carreira","CAMG","SEN",67.45,"X",67.45,"X",66.83,"X",66.66]
["MARTEL7","Lan","Jornadas de lançamentos - Etapa 5","2022-06-23","Leiria","JV","M",3,1040,"Michael Fonseca","JV","SEN",52.66,51.02,48.48,51.99,52.66,"X",51.32]
["MARTEL7","Lan","Jornadas de lançamentos - Etapa 5","2022-06-23","Leiria","JV","M",4,876,"Carlos Malaquias","JV","SUB-23",51.4,"X","X",50.68,"X","X",51.4]
["DARDO6","Lan","Jornadas de lançamentos - Etapa 5","2022-06-23","Leiria","JV","F",2,738,"Beatriz Cordeiro","JV","JUV",31.91,26.58,31.91,29.69,28.29,28.84,28.31]
["DARDO6","Lan","Jornadas de lançamentos - Etapa 5","2022-06-23","Leiria","JV","F",3,684,"Catarina Silva","JV","JUV",28.05,26.47,23.7,23.96,27.32,28.05,24.46]
["DARDO8","Lan","Jornadas de lançamentos - Etapa 5","2022-06-23","Leiria","JV","M",2,692,"João Santos","JV","JUV",45.66,41.89,39.659999999999997,45.66,43.28,42.74,42.68]
["DARDO8","Lan","Jornadas de lançamentos - Etapa 5","2022-06-23","Leiria","JV","M",3,69,"Daniel Rizzi","JV","JUN",42.92,"X",42.92,41.09,41,"X",33.08]
["DARDO8","Lan","Jornadas de lançamentos - Etapa 5","2022-06-23","Leiria","JV","M",5,228,"Ernesto Santos","CAMG","VET 35",40.28,40.28,39.549999999999997,"X",39.72,37.72,38.58]
["DARDO8","Lan","Jornadas de lançamentos - Etapa 5","2022-06-23","Leiria","JV","M",6,1042,"Vadym Skafaryk","JV","JUV",26.37,20.91,24.06,26.37,25.41,"X",21.89]
["DISCO10","Lan","Jornadas de lançamentos - Etapa 5","2022-06-23","Leiria","JV","F",4,218,"Camélia Terentiy","CAMG","JUN",32.049999999999997,31.63,27.69,32.049999999999997,30.44,29.88,30.3]
["PESO6","Lan","Jornadas de lançamentos - Etapa 5","2022-06-23","Leiria","JV","M",1,560,"David Pereira","CAMG","JUN",14.15,13.14,13.56,13.9,13.49,14.15,13.58]
["PESO6","Lan","Jornadas de lançamentos - Etapa 5","2022-06-23","Leiria","JV","M",2,321,"Daniel Raposo","GDP-L","JUN",11.9,10.3,11.9,11.74,10.74,11.18,11.46]
["PESO6","Lan","Jornadas de lançamentos - Etapa 5","2022-06-23","Leiria","JV","M",3,1079,"Rúben Santos","JV","JUV",10.54,"X","X",10.050000000000001,10.36,10.47,10.54]
["MARTEL3","Lan","Jornadas de lançamentos - Etapa 5","2022-06-23","Leiria","JV","F",1,890,"Márcia Maketa","JV","JUV",56.97,"X",54.71,55.27,52.82,56.97,"X"]
["MARTEL3","Lan","Jornadas de lançamentos - Etapa 5","2022-06-23","Leiria","JV","F",2,811,"Inaya Yayo","CANAZ","JUV",46.82,"X","X",46.61,46.82,"X",43.85]
["MARTEL3","Lan","Jornadas de lançamentos - Etapa 5","2022-06-23","Leiria","JV","F",4,94,"Helena Alípio","JV","INI",21.81,21.81,"X",20.37,19.78,20.22,"X"]
["MARTEL5","Lan","Jornadas de lançamentos - Etapa 5","2022-06-23","Leiria","JV","M",1,1079,"Rúben Santos","JV","JUV",32.35,"X",29.7,"X","X",32.35,"X"]
["PESO4","Lan","Jornadas de lançamentos - Etapa 5","2022-06-23","Leiria","JV","F",3,905,"Inês Carreira","JV","SUB-23",12.61,12.23,12.59,"X",12.61,"X","X"]
["PESO4","Lan","Jornadas de lançamentos - Etapa 5","2022-06-23","Leiria","JV","F",4,1070,"Clara Rodrigues","SCP","JUN",11.19,10.199999999999999,10.09,10.34,11.19,10.45,"X"]
["PESO4","Lan","Jornadas de lançamentos - Etapa 5","2022-06-23","Leiria","JV","F",5,1078,"Raquel Gonçalves","JV","SUB-23",9.65,6.83,"X",9.11,9.24,9.65,8.67]
["MARTEL7","Lan","VI Torneio Inter de Lanç de Laranjeiro e Feijó","2022-06-16","Almada","ASAS","M",1,1409,"Miguel Carreira","CAMG","SEN",66.06,64.97,65.33,64.5,"X","X",66.06]
["MARTEL7","Lan","VI Torneio Inter de Lanç de Laranjeiro e Feijó","2022-06-16","Almada","ASAS","M",3,1441,"Michael Fonseca","JV","SEN",50.79,49.24,50.26,50.79,"X",49.82,"X"]
["PESO4","Lan","VI Torneio Inter de Lanç de Laranjeiro e Feijó","2022-06-16","Almada","ASAS","F",1,1443,"Inês Carreira","JV","SUB-23",12.15,12.15,12.15,"X","X",12.13,12.1]
["PESO4","Lan","VI Torneio Inter de Lanç de Laranjeiro e Feijó","2022-06-16","Almada","ASAS","F",3,1446,"Raquel Gonçalves","JV","SUB-23",8.99,"X",8.99,8.52,"X","X",8.67]
["PESO4","Lan","VI Torneio Inter de Lanç de Laranjeiro e Feijó","2022-06-16","Almada","ASAS","F",4,1152,"Raquel Lourenço","JV","SEN",8.86,8.0500000000000007,8.86,8.34,8.6300000000000008,8.82,8.18]
["MARTEL4","Lan","VI Torneio Inter de Lanç de Laranjeiro e Feijó","2022-06-16","Almada","ASAS","F",2,1445,"Beatriz Silva","JV","JUN",39.53,39.200000000000003,39.53,"X",31.15,"X","X"]
["PESO6","Lan","VI Torneio Inter de Lanç de Laranjeiro e Feijó","2022-06-16","Almada","ASAS","M",1,1410,"David Pereira","CAMG","JUN",13.74,13.53,13.6,13.74,"X","X",12.85]
["PESO7","Lan","VI Torneio Inter de Lanç de Laranjeiro e Feijó","2022-06-16","Almada","ASAS","M",3,1444,"Tomás Rodrigues","JV","SUB-23",14.18,13.55,13.94,14.18,13.83,13.81,"X"]
["DARDO6","Lan","VI Torneio Inter de Lanç de Laranjeiro e Feijó","2022-06-16","Almada","ASAS","F",1,1448,"Carolina Caseiro","JV","JUN",35.700000000000003,35.700000000000003,33.47,"X",33.54,33.520000000000003,33.229999999999997]
["DARDO6","Lan","VI Torneio Inter de Lanç de Laranjeiro e Feijó","2022-06-16","Almada","ASAS","F",2,1414,"Carolina Patrício","CDBBR","SUB-23",30.61,30.61,"X","X",30.33,"X",29.13]
["DARDO6","Lan","VI Torneio Inter de Lanç de Laranjeiro e Feijó","2022-06-16","Almada","ASAS","F",3,1152,"Raquel Lourenço","JV","SEN",26.47,23.57,25.79,24.02,24.52,24.14,26.47]
["DISCO20","Lan","VI Torneio Inter de Lanç de Laranjeiro e Feijó","2022-06-16","Almada","ASAS","M",5,1444,"Tomás Rodrigues","JV","SUB-23",40.32,38.26,39.76,40.32,"X",40.03]
["DISCO20","Lan","VI Torneio Inter de Lanç de Laranjeiro e Feijó","2022-06-16","Almada","ASAS","M",6,1447,"João Domingues","JV","SEN",39.74,38.57,39.74,"X","X","X"]
["MARTEL5","Lan","VI Torneio Inter de Lanç de Laranjeiro e Feijó","2022-06-16","Almada","ASAS","M",1,1450,"Francisco Calhau","JV","JUV",69.09,58.58,"X","X","X",69.09,"X"]
["DARDO8","Lan","VI Torneio Inter de Lanç de Laranjeiro e Feijó","2022-06-16","Almada","ASAS","M",3,1440,"Daniel Rizzi","JV","JUN",43,40.65,41.9,"X",42.35,43,39.58]
["DISCO10","Lan","VI Torneio Inter de Lanç de Laranjeiro e Feijó","2022-06-16","Almada","ASAS","F",1,1449,"Raquel Gomes","JV","JUN",41.29,40.03,41.29,"X",40.159999999999997,"X","X"]
["MARTEL3","Lan","VI Torneio Inter de Lanç de Laranjeiro e Feijó","2022-06-16","Almada","ASAS","F",1,1452,"Márcia Maketa","JV","JUV",59.69,57.88,57.48,59.69,58.63,57.51,58.95]
["DARDO6","Lan","Torneio São João","2022-06-22","Torres Vedras","AAL","F",1,5171,"CAROLINA PATRÍCIO","CDBBR","SUB-23",33.83,30.67,33.83,"X",29.44,31.17,27.99]
["HEP-Sen","Comb","Campeonatos de Portugal","2022-06-25","Leiria","FPA","F",5,290,"Raquel Lourenço","JV","SEN",4428]
["HEP-Sen","Comb","Campeonatos de Portugal","2022-06-25","Leiria","FPA","F",6,309,"Lara Duarte","JV","JUN",4201]
["DEC-Sen","Comb","Campeonatos de Portugal","2022-06-25","Leiria","FPA","M",5,314,"André Petriv","JV","JUN",5221]
["100","Vel","Campeonatos de Portugal","2022-06-25","Leiria","FPA","M",4,314,"André Petriv","JV","JUN",11.83]
["100B084","Vel","Campeonatos de Portugal","2022-06-25","Leiria","FPA","F",2,290,"Raquel Lourenço","JV","SEN",14.13]
["100B084","Vel","Campeonatos de Portugal","2022-06-25","Leiria","FPA","F",5,309,"Lara Duarte","JV","JUN",15.62]
["COMPRIM","Sal","Campeonatos de Portugal","2022-06-25","Leiria","FPA","M",6,314,"André Petriv","JV","JUN",6.01,6.01,5.93,5.85]
["ALTURA","Sal","Campeonatos de Portugal","2022-06-25","Leiria","FPA","F",4,309,"Lara Duarte","JV","JUN",1.55]
["ALTURA","Sal","Campeonatos de Portugal","2022-06-25","Leiria","FPA","F",9,290,"Raquel Lourenço","JV","SEN",1.43]
["100","Vel","Campeonatos de Portugal","2022-06-25","Leiria","FPA","M",5,299,"João Calhau","JV","SUB-23",11.22]
["100","Vel","Campeonatos de Portugal","2022-06-25","Leiria","FPA","F",4,300,"Joana Carlos","JV","SEN",12.39]
["PESO7","Lan","Campeonatos de Portugal","2022-06-25","Leiria","FPA","M",7,314,"André Petriv","JV","JUN",9.68,8.15,8.89,9.68]
["400","Vel","Campeonatos de Portugal","2022-06-25","Leiria","FPA","M",3,294,"João Pinto","JV","SEN",49.71]
["1500","MF","Campeonatos de Portugal","2022-06-25","Leiria","FPA","F",7,291,"Andreia Pingueiro","JV","SEN","00:04:37.890"]
["PESO4","Lan","Campeonatos de Portugal","2022-06-25","Leiria","FPA","F",6,290,"Raquel Lourenço","JV","SEN",8.8800000000000008,8.24,8.8800000000000008,"X"]
["PESO4","Lan","Campeonatos de Portugal","2022-06-25","Leiria","FPA","F",9,309,"Lara Duarte","JV","JUN",7.38,7.38,"X",6.57]
["ALTURA","Sal","Campeonatos de Portugal","2022-06-25","Leiria","FPA","M",3,314,"André Petriv","JV","JUN",1.78]
["3000O","MF","Campeonatos de Portugal","2022-06-25","Leiria","FPA","M",12,298,"André Antunes","JV","SUB-23","00:09:42.500"]
["3000O","MF","Campeonatos de Portugal","2022-06-25","Leiria","FPA","F",3,296,"Lília Martins","JV","SEN","00:10:35.010"]
["3000O","MF","Campeonatos de Portugal","2022-06-25","Leiria","FPA","F",10,287,"Daria Melnyk","JV","SUB-23","00:11:51.380"]
["3000O","MF","Campeonatos de Portugal","2022-06-25","Leiria","FPA","F",8,11,"Joana Bagagem","ACB-L","SUB-23","00:11:47.840"]
["VARA","Sal","Campeonatos de Portugal","2022-06-25","Leiria","FPA","M",7,93,"Pedro Fernandes","CAMG","SUB-23",4.2]
["PESO7","Lan","Campeonatos de Portugal","2022-06-25","Leiria","FPA","M",5,293,"Tomás Rodrigues","JV","SUB-23",15.32,13.59,14.13,"X",14.31,14.01,15.32]
["DISCO10","Lan","Campeonatos de Portugal","2022-06-25","Leiria","FPA","F",6,306,"Raquel Gomes","JV","JUN",41.34,41.34,40.28,"X","X",40.26,40.92]
["DISCO10","Lan","Campeonatos de Portugal","2022-06-25","Leiria","FPA","F",8,292,"Inês Carreira","JV","SUB-23",35.81,35.81,32.86,"X","X",34.07,"X"]
["4X100","Vel","Campeonatos de Portugal","2022-06-25","Leiria","FPA","F",3,10305,"JUV VIDIGALENSE","JV","SEN",49.24]
["200","Vel","Campeonatos de Portugal","2022-06-25","Leiria","FPA","F",2,309,"Lara Duarte","JV","JUN",26.63]
["200","Vel","Campeonatos de Portugal","2022-06-25","Leiria","FPA","F",4,290,"Raquel Lourenço","JV","SEN",27.02]
["400","Vel","Campeonatos de Portugal","2022-06-25","Leiria","FPA","M",4,314,"André Petriv","JV","JUN",53.75]
["10000MX","MX","Campeonatos de Portugal","2022-06-25","Leiria","FPA","F",4,312,"Bruna Marques","JV","SUB-23",3.2829861111111108E-2]
["10000MX","MX","Campeonatos de Portugal","2022-06-25","Leiria","FPA","F",6,318,"Joana Pontes","LMA-L","SUB-23",3.4266087962962967E-2]
["10000MX","MX","Campeonatos de Portugal","2022-06-25","Leiria","FPA","M",2,316,"Anderson Callejas","LMA-L","SUB-23",2.885914351851852E-2]
["10000MX","MX","Campeonatos de Portugal","2022-06-25","Leiria","FPA","M",3,317,"Hélder Santos","LMA-L","SEN",2.947071759259259E-2]
["110B106","Vel","Campeonatos de Portugal","2022-06-26","Leiria","FPA","M",6,314,"André Petriv","JV","JUN",18.7]
["DISCO20","Lan","Campeonatos de Portugal","2022-06-26","Leiria","FPA","M",4,314,"André Petriv","JV","JUN",29.31,28.79,29.31,27.69]
["VARA","Sal","Campeonatos de Portugal","2022-06-26","Leiria","FPA","M",6,314,"André Petriv","JV","JUN",2.7]
["MARTEL7","Lan","Campeonatos de Portugal","2022-06-26","Leiria","FPA","M",3,94,"Miguel Carreira","CAMG","SEN",68.150000000000006,66.67,67.17,"X",68.150000000000006,"X","X"]
["MARTEL7","Lan","Campeonatos de Portugal","2022-06-26","Leiria","FPA","M",6,313,"Carlos Malaquias","JV","SUB-23",53.64,"X",49.31,51.61,51.89,53.64,"X"]
["MARTEL7","Lan","Campeonatos de Portugal","2022-06-26","Leiria","FPA","M",7,288,"Michael Fonseca","JV","SEN",52.46,48.62,52.28,"X",52.46,"X",52.21]
["COMPRIM","Sal","Campeonatos de Portugal","2022-06-26","Leiria","FPA","F",2,290,"Raquel Lourenço","JV","SEN",5.48,5.48,5.26,5.26]
["COMPRIM","Sal","Campeonatos de Portugal","2022-06-26","Leiria","FPA","F",6,309,"Lara Duarte","JV","JUN",5.25,5.25,5.0199999999999996,5.0999999999999996]
["DARDO6","Lan","Campeonatos de Portugal","2022-06-26","Leiria","FPA","F",6,290,"Raquel Lourenço","JV","SEN",24.45,24.45,22.1,19.28]
["DARDO6","Lan","Campeonatos de Portugal","2022-06-26","Leiria","FPA","F",8,309,"Lara Duarte","JV","JUN",20.309999999999999,19.46,14,20.309999999999999]
["800","MF","Campeonatos de Portugal","2022-06-26","Leiria","FPA","F",2,309,"Lara Duarte","JV","JUN","00:02:26.640"]
["800","MF","Campeonatos de Portugal","2022-06-26","Leiria","FPA","F",5,290,"Raquel Lourenço","JV","SEN","00:02:30.100"]
["200","Vel","Campeonatos de Portugal","2022-06-26","Leiria","FPA","M",5,294,"João Pinto","JV","SEN",22.72]
["DARDO6","Lan","Campeonatos de Portugal","2022-06-26","Leiria","FPA","F",3,289,"Flávia Costa","JV","SEN",45.72]
["DARDO6","Lan","Campeonatos de Portugal","2022-06-26","Leiria","FPA","F",6,303,"Carolina Caseiro","JV","JUN",37.25,34.43,37.25,"X",34.17,"X",34.71]
["400B091","Vel","Campeonatos de Portugal","2022-06-26","Leiria","FPA","M",4,308,"Paulo Soares","JV","SUB-23",54.8]
["800","MF","Campeonatos de Portugal","2022-06-26","Leiria","FPA","M",6,307,"Jorge Pereira","JV","SUB-23","00:01:54.450"]
["DARDO8","Lan","Campeonatos de Portugal","2022-06-26","Leiria","FPA","M",5,314,"André Petriv","JV","JUN",34.5,34.5,"X",32.86]
["800","MF","Campeonatos de Portugal","2022-06-26","Leiria","FPA","F",4,291,"Andreia Pingueiro","JV","SEN","00:02:12.990"]
["PESO4","Lan","Campeonatos de Portugal","2022-06-26","Leiria","FPA","F",6,292,"Inês Carreira","JV","SUB-23",12.63,12.14,12.61,12.6,12.33,12.63,12.38]
["1500","MF","Campeonatos de Portugal","2022-06-26","Leiria","FPA","M",1,314,"André Petriv","JV","JUN","00:04:42.850"]
["DISCO20","Lan","Campeonatos de Portugal","2022-06-26","Leiria","FPA","M",6,297,"João Domingues","JV","SEN",40.42,38.96,38.92,39.61,40.200000000000003,40.36,40.42]
["VARA","Sal","Campeonatos de Portugal","2022-06-26","Leiria","FPA","F",3,305,"Bruna Santos","JV","JUN",3.2]
["5000","MF","Campeonatos de Portugal","2022-06-26","Leiria","FPA","F",6,296,"Lília Martins","JV","SEN","00:16:59.360"]
["5000","MF","Campeonatos de Portugal","2022-06-26","Leiria","FPA","F",8,301,"Cátia Pereira","JV","SUB-23","00:17:07.560"]
["4X400","Vel","Campeonatos de Portugal","2022-06-26","Leiria","FPA","M",2,10308,"JUV VIDIGALENSE","JV","SEN","00:03:29.510"]
["ALTURA","Sal","Campeonato Distrital Sub 20","2022-07-02","Marinha Grande","ADAL","M",1,871,"André Petriv"," JV","JUN",1.75]
["ALTURA","Sal","Campeonato Distrital Sub 20","2022-07-02","Marinha Grande","ADAL","M",2,517,"Gabriel Borges"," ACB-L","JUN",1.65]
["ALTURA","Sal","Campeonato Distrital Sub 20","2022-07-02","Marinha Grande","ADAL","M",3,1326,"Miguel Rosalino"," CANAZ","JUV",1.5]
["MARTEL4","Lan","Campeonato Distrital Sub 20","2022-07-02","Marinha Grande","ADAL","F",1,890,"Márcia Maketa"," JV","JUV",46.75,"X",45.89,46.67,"X",46.75,"X"]
["MARTEL4","Lan","Campeonato Distrital Sub 20","2022-07-02","Marinha Grande","ADAL","F",2,382,"Leonor Belchior"," ACDRA","JUV",38.31,32.380000000000003,32.42,38.18,36.58,37.94,38.31]
["MARTEL4","Lan","Campeonato Distrital Sub 20","2022-07-02","Marinha Grande","ADAL","F",3,811,"Inaya Yayo"," CANAZ","JUV",37.14,"X","X",34.96,37.14,"X","X"]
["MARTEL4","Lan","Campeonato Distrital Sub 20","2022-07-02","Marinha Grande","ADAL","F",4,874,"Beatriz Silva"," JV","JUN",35.479999999999997,35.479999999999997,32.700000000000003,32.94,"X",34.53,"X"]
["MARTEL6","Lan","Campeonato Distrital Sub 20","2022-07-02","Marinha Grande","ADAL","M",1,321,"Daniel Raposo"," GDP-L","JUN",39.89,"X","X",34.840000000000003,"X",37.549999999999997,39.89]
["MARTEL6","Lan","Campeonato Distrital Sub 20","2022-07-02","Marinha Grande","ADAL","M",2,1267,"Guilherme Ferreira"," ACB-L","JUV",24.26,"X","X",24.26,23.92,"-","-"]
["COMPRIM","Sal","Campeonato Distrital Sub 20","2022-07-02","Marinha Grande","ADAL","F",1,820,"Margarida Santos"," JV","JUN",5.41,4.99,5.37,5.32,3.82,5.24,5.41]
["COMPRIM","Sal","Campeonato Distrital Sub 20","2022-07-02","Marinha Grande","ADAL","F",2,106,"Lara Duarte"," JV","JUN",5.38,5.25,5.38,5.3,"X",5.16,5.29]
["COMPRIM","Sal","Campeonato Distrital Sub 20","2022-07-02","Marinha Grande","ADAL","F",3,849,"Sofia Quintino"," ACDRA","JUV",5.14,5.14,5.08,4.97,"X",5.05,"X"]
["COMPRIM","Sal","Campeonato Distrital Sub 20","2022-07-02","Marinha Grande","ADAL","F",4,817,"Ana Reis"," JV","JUN",5.14,"X","X",5.01,5.14,4.96,4.66]
["COMPRIM","Sal","Campeonato Distrital Sub 20","2022-07-02","Marinha Grande","ADAL","F",5,282,"Vitoria Chornohor"," NDAP","JUV",4.8499999999999996,4.59,4.83,4.84,4.68,4.75,4.8499999999999996]
["COMPRIM","Sal","Campeonato Distrital Sub 20","2022-07-02","Marinha Grande","ADAL","F",6,166,"Constança Anunciação"," ACB-L","JUV",4.46,4.46,4.05,4.37,"X",4.41,"X"]
["COMPRIM","Sal","Campeonato Distrital Sub 20","2022-07-02","Marinha Grande","ADAL","F",7,218,"Camélia Terentiy"," CAMG","JUN",4.4400000000000004,4.16,4.29,"X",4.3,4.41,4.4400000000000004]
["100","Vel","Campeonato Distrital Sub 20","2022-07-02","Marinha Grande","ADAL","F",1,53,"Anabela Silva"," JV","JUV",14.26]
["100","Vel","Campeonato Distrital Sub 20","2022-07-02","Marinha Grande","ADAL","F",2,1309,"Margarida Baptista"," JV","JUN",14.57]
["100","Vel","Campeonato Distrital Sub 20","2022-07-02","Marinha Grande","ADAL","F",3,583,"Benedita Ferreira"," GAUB","JUV",14.97]
["100","Vel","Campeonato Distrital Sub 20","2022-07-02","Marinha Grande","ADAL","F",4,855,"Jennifer Carvalho"," CANAZ","JUV",15.06]
["100","Vel","Campeonato Distrital Sub 20","2022-07-02","Marinha Grande","ADAL","F",1,5,"Beatriz Castelhano"," ACDRA","JUV",12.63]
["100","Vel","Campeonato Distrital Sub 20","2022-07-02","Marinha Grande","ADAL","F",2,877,"Carolina Castro"," JV","JUV",12.92]
["100","Vel","Campeonato Distrital Sub 20","2022-07-02","Marinha Grande","ADAL","F",3,2,"Sara Brites"," JV","JUV",13.34]
["100","Vel","Campeonato Distrital Sub 20","2022-07-02","Marinha Grande","ADAL","F",4,872,"Beatriz Luís"," JV","JUV",14.48]
["100","Vel","Campeonato Distrital Sub 20","2022-07-02","Marinha Grande","ADAL","F",5,277,"Nina Barreiros"," NDAP","JUV",15.08]
["100","Vel","Campeonato Distrital Sub 20, Extra","2022-07-02","Marinha Grande","ADAL","M",1,1304,"Pedro Chá-Chá"," CAMG","SEN",11.67]
["100","Vel","Campeonato Distrital Sub 20","2022-07-02","Marinha Grande","ADAL","M",2,588,"Duarte Neves"," GAUB","JUN",11.91]
["100","Vel","Campeonato Distrital Sub 20","2022-07-02","Marinha Grande","ADAL","M",3,924,"Martim Ribeiro"," CANAZ","JUV",12.76]
["100","Vel","Campeonato Distrital Sub 20","2022-07-02","Marinha Grande","ADAL","M",4,685,"Dinis Santos"," JV","JUV",12.8]
["100","Vel","Campeonato Distrital Sub 20","2022-07-02","Marinha Grande","ADAL","M",5,893,"Bruno Júnior"," CANAZ","JUN",13.59]
["100","Vel","Campeonato Distrital Sub 20","2022-07-02","Marinha Grande","ADAL","M",1,853,"Eduardo Agualusa"," CANAZ","JUN",12.16]
["100","Vel","Campeonato Distrital Sub 20","2022-07-02","Marinha Grande","ADAL","M",2,1316,"Simão Cerejo"," ACB-L","JUV",12.28]
["100","Vel","Campeonato Distrital Sub 20","2022-07-02","Marinha Grande","ADAL","M",3,704,"Tiago Pereira"," JV","JUN",12.29]
["100","Vel","Campeonato Distrital Sub 20","2022-07-02","Marinha Grande","ADAL","M",4,703,"Rafael Pereira"," JV","JUN",12.37]
["100","Vel","Campeonato Distrital Sub 20, Extra","2022-07-02","Marinha Grande","ADAL","M",5,1010,"Miguel Calado"," BA","SEN",12.55]
["100","Vel","Campeonato Distrital Sub 20","2022-07-02","Marinha Grande","ADAL","M",6,1126,"Amável Esgaio"," CANAZ","JUV",12.8]
["100","Vel","Campeonato Distrital Sub 20, Extra","2022-07-02","Marinha Grande","ADAL","M",7,898,"João Santos"," GCA","VET 50",12.94]
["100","Vel","Campeonato Distrital Sub 20","2022-07-02","Marinha Grande","ADAL","M",1,883,"Ernesto Rodrigues"," JV","JUV",11.3]
["100","Vel","Campeonato Distrital Sub 20","2022-07-02","Marinha Grande","ADAL","M",2,1007,"Floriano Brujan"," ACDRA","JUN",11.53]
["100","Vel","Campeonato Distrital Sub 20","2022-07-02","Marinha Grande","ADAL","M",3,894,"Bernardo Ferreira"," NDAP","JUV",11.6]
["100","Vel","Campeonato Distrital Sub 20","2022-07-02","Marinha Grande","ADAL","M",4,943,"Rodrigo Almeida"," ACDRA","JUV",11.63]
["100","Vel","Campeonato Distrital Sub 20","2022-07-02","Marinha Grande","ADAL","M",5,808,"Miguel Marques"," CAMG","JUV",11.67]
["100","Vel","Campeonato Distrital Sub 20","2022-07-02","Marinha Grande","ADAL","M",6,1233,"Hélio Pedroso"," CANAZ","JUN",11.75]
["100","Vel","Campeonato Distrital Sub 20","2022-07-02","Marinha Grande","ADAL","M",7,77,"Diogo Camacho"," JV","JUN",11.89]
["VARA","Sal","Campeonato Distrital Sub 20","2022-07-02","Marinha Grande","ADAL","F",1,85,"Filipa Dinis"," JV","JUV",2.7]
["VARA","Sal","Campeonato Distrital Sub 20","2022-07-02","Marinha Grande","ADAL","F",2,684,"Catarina Silva"," JV","JUV",2.5]
["VARA","Sal","Campeonato Distrital Sub 20","2022-07-02","Marinha Grande","ADAL","F",3,693,"Laura Baltazar"," JV","JUV",2.2000000000000002]
["VARA","Sal","Campeonato Distrital Sub 20","2022-07-02","Marinha Grande","ADAL","F",3,211,"Vera Duque"," ACB-L","JUN",2.2000000000000002]
["VARA","Sal","Campeonato Distrital Sub 20, Extra","2022-07-02","Marinha Grande","ADAL","M",1,244,"Pedro Fernandes"," CAMG","SUB-23",4.4000000000000004]
["1500","MF","Campeonato Distrital Sub 20","2022-07-02","Marinha Grande","ADAL","F",1,505,"Joana Duarte"," BA","JUN","00:05:02.500"]
["TRIPLO","Sal","Campeonato Distrital Sub 20","2022-07-02","Marinha Grande","ADAL","M",1,690,"João Martins"," JV","JUV",12.84,12.75,"X",12.84,"X",12.71,"X"]
["TRIPLO","Sal","Campeonato Distrital Sub 20","2022-07-02","Marinha Grande","ADAL","M",2,374,"Diogo Chaves"," ACDRA","JUV",12.76,11.7,12.5,"X","X","X",12.76]
["TRIPLO","Sal","Campeonato Distrital Sub 20","2022-07-02","Marinha Grande","ADAL","M",3,517,"Gabriel Borges"," ACB-L","JUN",11.46,"X",11.36,11.46,"X","-","-"]
["1500","MF","Campeonato Distrital Sub 20, Extra","2022-07-02","Marinha Grande","ADAL","M",1,585,"Daniel Cabecinhas"," GAUB","SUB-23","00:04:14.250"]
["1500","MF","Campeonato Distrital Sub 20","2022-07-02","Marinha Grande","ADAL","M",2,152,"Tiago Jorge"," JV","JUV","00:04:17.290"]
["1500","MF","Campeonato Distrital Sub 20","2022-07-02","Marinha Grande","ADAL","M",3,504,"Rodrigo Ribeiro"," NDA","JUN","00:04:18.170"]
["1500","MF","Campeonato Distrital Sub 20","2022-07-02","Marinha Grande","ADAL","M",4,914,"Pedro Rodrigues"," NDAP","JUV","00:04:18.500"]
["1500","MF","Campeonato Distrital Sub 20","2022-07-02","Marinha Grande","ADAL","M",5,1100,"Márcio Dias"," AE-CA","JUV","00:04:33.160"]
["1500","MF","Campeonato Distrital Sub 20","2022-07-02","Marinha Grande","ADAL","M",6,572,"Pedro Rocha"," CANAZ","JUV","00:05:37.570"]
["ALTURA","Sal","Campeonato Distrital Sub 20","2022-07-02","Marinha Grande","ADAL","F",1,697,"Luana Figueira"," JV","JUV",1.5]
["ALTURA","Sal","Campeonato Distrital Sub 20","2022-07-02","Marinha Grande","ADAL","F",2,817,"Ana Reis"," JV","JUN",1.35]
["DISCO10","Lan","Campeonato Distrital Sub 20","2022-07-02","Marinha Grande","ADAL","F",1,989,"Raquel Gomes"," JV","JUN",42.52,"X","X",41.18,"X",40.799999999999997,42.52]
["DISCO10","Lan","Campeonato Distrital Sub 20","2022-07-02","Marinha Grande","ADAL","F",2,218,"Camélia Terentiy"," CAMG","JUN",33.19,33.19,33.07,"X",32.06,31.98,32.72]
["DISCO10","Lan","Campeonato Distrital Sub 20","2022-07-02","Marinha Grande","ADAL","F",3,573,"Rita Oliveira"," CANAZ","JUV",31.66,30.81,31.12,30.9,"X",31.66,29.79]
["DISCO10","Lan","Campeonato Distrital Sub 20","2022-07-02","Marinha Grande","ADAL","F",4,738,"Beatriz Cordeiro"," JV","JUV",27.7,23.29,23.44,27.24,27.17,"X",27.7]
["DISCO10","Lan","Campeonato Distrital Sub 20","2022-07-02","Marinha Grande","ADAL","F",5,874,"Beatriz Silva"," JV","JUN",18.2,18.2,"X",15.87,"X",15.27,17.760000000000002]
["DISCO17","Lan","Campeonato Distrital Sub 20","2022-07-02","Marinha Grande","ADAL","M",1,560,"David Pereira"," CAMG","JUN",31.85,"X",29.46,31.85,"X","X",31.45]
["DISCO17","Lan","Campeonato Distrital Sub 20","2022-07-02","Marinha Grande","ADAL","M",2,321,"Daniel Raposo"," GDP-L","JUN",31.37,23.08,29.03,26.49,28.42,31.37,30.62]
["DISCO17","Lan","Campeonato Distrital Sub 20","2022-07-02","Marinha Grande","ADAL","M",3,69,"Daniel Rizzi"," JV","JUN",25.45,19.52,22.47,"X",22.75,"X",25.45]
["DISCO17","Lan","Campeonato Distrital Sub 20","2022-07-02","Marinha Grande","ADAL","M",4,1326,"Miguel Rosalino"," CANAZ","JUV",24.22,24.07,"X",24.22,"X","X","X"]
["DISCO17","Lan","Campeonato Distrital Sub 20","2022-07-02","Marinha Grande","ADAL","M",5,978,"José Luz"," CSPPVI","JUV",24.15,20.25,"X","X","X",22.73,24.15]
["DISCO17","Lan","Campeonato Distrital Sub 20","2022-07-02","Marinha Grande","ADAL","M",6,1267,"Guilherme Ferreira"," ACB-L","JUV",19.559999999999999,18.34,19.559999999999999,18.940000000000001,"-","-","-"]
["400","Vel","Campeonato Distrital Sub 20","2022-07-02","Marinha Grande","ADAL","F",1,683,"Carlota Ferreira"," JV","JUV",63.86]
["400","Vel","Campeonato Distrital Sub 20","2022-07-02","Marinha Grande","ADAL","F",2,855,"Jennifer Carvalho"," CANAZ","JUV",71.709999999999994]
["400","Vel","Campeonato Distrital Sub 20","2022-07-02","Marinha Grande","ADAL","F",3,277,"Nina Barreiros"," NDAP","JUV",74.650000000000006]
["400","Vel","Campeonato Distrital Sub 20","2022-07-02","Marinha Grande","ADAL","F",4,266,"Lili Barreiro"," NDAP","JUV",79.650000000000006]
["400","Vel","Campeonato Distrital Sub 20, Extra","2022-07-02","Marinha Grande","ADAL","F",1,148,"Sofia Duarte"," JV","SUB-23",60.06]
["400","Vel","Campeonato Distrital Sub 20","2022-07-02","Marinha Grande","ADAL","F",2,689,"Joana Gameiro"," JV","JUN",61.82]
["400","Vel","Campeonato Distrital Sub 20, Extra","2022-07-02","Marinha Grande","ADAL","F",3,310,"Tatiana Francisco"," GAC-L","SUB-23",64.819999999999993]
["400","Vel","Campeonato Distrital Sub 20","2022-07-02","Marinha Grande","ADAL","F",4,336,"Rafaela Pires"," GDP-L","JUV",65.180000000000007]
["400","Vel","Campeonato Distrital Sub 20","2022-07-02","Marinha Grande","ADAL","F",5,821,"Margarida Santos"," JV","JUV",65.260000000000005]
["400","Vel","Campeonato Distrital Sub 20","2022-07-02","Marinha Grande","ADAL","M",1,1233,"Hélio Pedroso"," CANAZ","JUN",53.14]
["400","Vel","Campeonato Distrital Sub 20","2022-07-02","Marinha Grande","ADAL","M",2,519,"Edson Dias"," ACB-L","JUV",54]
["400","Vel","Campeonato Distrital Sub 20","2022-07-02","Marinha Grande","ADAL","M",3,141,"Rafael Vieira"," JV","JUV",55.66]
["400","Vel","Campeonato Distrital Sub 20","2022-07-02","Marinha Grande","ADAL","M",4,685,"Dinis Santos"," JV","JUV",58.67]
["400","Vel","Campeonato Distrital Sub 20, Extra","2022-07-02","Marinha Grande","ADAL","M",5,1344,"Murassi Mario"," NDAP","SEN",61.04]
["100","Vel","Campeonato Distrital Sub 20","2022-07-02","Marinha Grande","ADAL","F",1,5,"Beatriz Castelhano"," ACDRA","JUV",12.71]
["100","Vel","Campeonato Distrital Sub 20","2022-07-02","Marinha Grande","ADAL","F",2,877,"Carolina Castro"," JV","JUV",13]
["100","Vel","Campeonato Distrital Sub 20","2022-07-02","Marinha Grande","ADAL","F",3,2,"Sara Brites"," JV","JUV",13.35]
["100","Vel","Campeonato Distrital Sub 20","2022-07-02","Marinha Grande","ADAL","F",4,53,"Anabela Silva"," JV","JUV",14.39]
["100","Vel","Campeonato Distrital Sub 20","2022-07-02","Marinha Grande","ADAL","F",5,872,"Beatriz Luís"," JV","JUV",14.4]
["100","Vel","Campeonato Distrital Sub 20","2022-07-02","Marinha Grande","ADAL","F",6,1309,"Margarida Baptista"," JV","JUN",14.77]
["100","Vel","Campeonato Distrital Sub 20","2022-07-02","Marinha Grande","ADAL","F",7,583,"Benedita Ferreira"," GAUB","JUV",15.1]
["100","Vel","Campeonato Distrital Sub 20","2022-07-02","Marinha Grande","ADAL","F",8,855,"Jennifer Carvalho"," CANAZ","JUV",15.51]
["100","Vel","Campeonato Distrital Sub 20","2022-07-02","Marinha Grande","ADAL","M",1,883,"Ernesto Rodrigues"," JV","JUV",11.28]
["100","Vel","Campeonato Distrital Sub 20","2022-07-02","Marinha Grande","ADAL","M",2,1007,"Floriano Brujan"," ACDRA","JUN",11.34]
["100","Vel","Campeonato Distrital Sub 20","2022-07-02","Marinha Grande","ADAL","M",3,943,"Rodrigo Almeida"," ACDRA","JUV",11.48]
["100","Vel","Campeonato Distrital Sub 20","2022-07-02","Marinha Grande","ADAL","M",4,894,"Bernardo Ferreira"," NDAP","JUV",11.49]
["100","Vel","Campeonato Distrital Sub 20","2022-07-02","Marinha Grande","ADAL","M",5,77,"Diogo Camacho"," JV","JUN",11.66]
["100","Vel","Campeonato Distrital Sub 20","2022-07-02","Marinha Grande","ADAL","M",6,808,"Miguel Marques"," CAMG","JUV",11.68]
["100","Vel","Campeonato Distrital Sub 20","2022-07-02","Marinha Grande","ADAL","M",7,1233,"Hélio Pedroso"," CANAZ","JUN",11.85]
["100","Vel","Campeonato Distrital Sub 20","2022-07-02","Marinha Grande","ADAL","M",8,588,"Duarte Neves"," GAUB","JUN",11.85]
["5000","MF","Campeonato Distrital Sub 20, Extra","2022-07-02","Marinha Grande","ADAL","M",1,312,"Valter Costa"," GAC-L","SEN","00:16:07"]
["5000","MF","Campeonato Distrital Sub 20, Extra","2022-07-02","Marinha Grande","ADAL","M",2,1692,"Pedro Venâncio"," CCRPM","SEN","00:17:11.090"]
["5000","MF","Campeonato Distrital Sub 20","2022-07-02","Marinha Grande","ADAL","M",3,1129,"Gustavo Portugal"," CANAZ","JUN","00:25:21.960"]
["4X100","Vel","Campeonato Distrital Sub 20","2022-07-02","Marinha Grande","ADAL","F",1,10053,"JUV VIDIGALENSE"," JV","JUN",53.26]
["4X100","Vel","Campeonato Distrital Sub 20","2022-07-02","Marinha Grande","ADAL","M",1,11124,"C ATLETISMO NAZARÉ"," CANAZ","JUN",49.59]
["4X100","Vel","Campeonato Distrital Sub 20","2022-07-02","Marinha Grande","ADAL","M",2,10077,"JUV VIDIGALENSE"," JV","JUN",52.17]
["5000MX","MX","Campeonato Distrital Sub 20","2022-07-02","Marinha Grande","ADAL","F",1,327,"Isa Ferreira"," GDP-L","JUV",1.8327314814814814E-2]
["5000MX","MX","Campeonato Distrital Sub 20","2022-07-02","Marinha Grande","ADAL","M",1,84,"Eduardo Camarate"," JV","JUV",1.6996759259259257E-2]
["5000MX","MX","Campeonato Distrital Sub 20","2022-07-02","Marinha Grande","ADAL","M",2,72,"David Gregório"," JV","JUV",1.702037037037037E-2]
["5000MX","MX","Campeonato Distrital Sub 20","2022-07-02","Marinha Grande","ADAL","M",3,315,"André Moreira"," GDP-L","JUV",1.8377662037037036E-2]
["100B076","Vel","Torneio Atleta Completo Nacional","2022-07-02","Elvas","FPA","F",4,72,"Vera Goucha"," ADAL","JUV",16.25]
["60B076","Vel","Torneio Atleta Completo Nacional","2022-07-02","Elvas","FPA","F",1,71,"Marta Carriço"," ADAL","INI",13.2]
["100","Vel","Torneio Atleta Completo Nacional","2022-07-02","Elvas","FPA","M",3,74,"Luca Cruz"," ADAL","JUV",11.98]
["ALTURA","Sal","Torneio Atleta Completo Nacional","2022-07-02","Elvas","FPA","F",1,71,"Marta Carriço"," ADAL","INI",1.49]
["80","Vel","Torneio Atleta Completo Nacional","2022-07-02","Elvas","FPA","M",1,73,"Gabriel Cunha"," ADAL","INI",9.85]
["DARDO5","Lan","Torneio Atleta Completo Nacional","2022-07-02","Elvas","FPA","F",5,71,"Marta Carriço"," ADAL","INI",15.13,13.8,14.56,15.13]
["COMPRIM","Sal","Torneio Atleta Completo Nacional","2022-07-02","Elvas","FPA","M",4,74,"Luca Cruz"," ADAL","JUV",5.55,5.4,5.55,4.78]
["COMPRIM","Sal","Torneio Atleta Completo Nacional","2022-07-02","Elvas","FPA","M",1,73,"Gabriel Cunha"," ADAL","INI",6.41,6.41,"X","X"]
["ALTURA","Sal","Torneio Atleta Completo Nacional","2022-07-02","Elvas","FPA","F",2,72,"Vera Goucha"," ADAL","JUV",1.52]
["PESO3","Lan","Torneio Atleta Completo Nacional","2022-07-02","Elvas","FPA","F",1,72,"Vera Goucha"," ADAL","JUV",13.01]
["PESO5","Lan","Torneio Atleta Completo Nacional","2022-07-02","Elvas","FPA","M",3,74,"Luca Cruz"," ADAL","JUV",9.9,9.6,9.9,9.82]
["DARDO6","Lan","Torneio Atleta Completo Nacional","2022-07-02","Elvas","FPA","M",1,73,"Gabriel Cunha"," ADAL","INI",48.45,43.42,48.45,"X"]
["200","Vel","Torneio Atleta Completo Nacional","2022-07-02","Elvas","FPA","F",2,72,"Vera Goucha"," ADAL","JUV",26.95]
["300","Vel","Torneio Atleta Completo Nacional","2022-07-02","Elvas","FPA","M",2,74,"Luca Cruz"," ADAL","JUV",39.5]
["COMPRIM","Sal","Campeonato Distrital Sub 20","2022-07-03","Marinha Grande","ADAL","M",1,853,"Eduardo Agualusa"," CANAZ","JUN",6.32,6.11,6.31,6.32,"X",5.62,6.15]
["COMPRIM","Sal","Campeonato Distrital Sub 20","2022-07-03","Marinha Grande","ADAL","M",2,808,"Miguel Marques"," CAMG","JUV",6.16,6.16,6.16,5.83,"-","-",6.07]
["COMPRIM","Sal","Campeonato Distrital Sub 20","2022-07-03","Marinha Grande","ADAL","M",3,374,"Diogo Chaves"," ACDRA","JUV",5.96,5.95,5.96,5.93,"X","X","-"]
["COMPRIM","Sal","Campeonato Distrital Sub 20","2022-07-03","Marinha Grande","ADAL","M",4,517,"Gabriel Borges"," ACB-L","JUN",5.67,5.43,5.67,5.26,"-","-","-"]
["COMPRIM","Sal","Campeonato Distrital Sub 20","2022-07-03","Marinha Grande","ADAL","M",5,850,"Diogo Reis"," NDAP","JUV",5.34,5.34,5,3.95,4.7300000000000004,4.58,4.8600000000000003]
["COMPRIM","Sal","Campeonato Distrital Sub 20","2022-07-03","Marinha Grande","ADAL","M",6,685,"Dinis Santos"," JV","JUV",5.16,5.09,4.82,5.16,4.6900000000000004,4.72,4.62]
["DARDO6","Lan","Campeonato Distrital Sub 20","2022-07-03","Marinha Grande","ADAL","F",1,7,"Carolina Caseiro"," JV","JUN",34.18,30.5,32.950000000000003,33.19,30.92,34.18,34.06]
["DARDO6","Lan","Campeonato Distrital Sub 20","2022-07-03","Marinha Grande","ADAL","F",2,854,"Eva Varela"," CANAZ","JUV",32.86,26.85,32.01,30.51,30.32,31.93,32.86]
["DARDO6","Lan","Campeonato Distrital Sub 20","2022-07-03","Marinha Grande","ADAL","F",3,738,"Beatriz Cordeiro"," JV","JUV",32.590000000000003,29.74,32.590000000000003,"X","X",30.45,"X"]
["DARDO6","Lan","Campeonato Distrital Sub 20","2022-07-03","Marinha Grande","ADAL","F",4,684,"Catarina Silva"," JV","JUV",27.26,24.64,"X",27.26,22.48,23.37,22.72]
["DARDO8","Lan","Campeonato Distrital Sub 20","2022-07-03","Marinha Grande","ADAL","M",1,692,"João Santos"," JV","JUV",42.32,39.090000000000003,40.950000000000003,42.32,40.54,40.78,39.270000000000003]
["DARDO8","Lan","Campeonato Distrital Sub 20","2022-07-03","Marinha Grande","ADAL","M",2,69,"Daniel Rizzi"," JV","JUN",38.4,36.96,38.4,37.549999999999997,"X",33.86,35.68]
["DARDO8","Lan","Campeonato Distrital Sub 20","2022-07-03","Marinha Grande","ADAL","M",3,1326,"Miguel Rosalino"," CANAZ","JUV",30.01,"X",29.29,"X","X",30.01,29.72]
["DARDO8","Lan","Campeonato Distrital Sub 20","2022-07-03","Marinha Grande","ADAL","M",4,1042,"Vadym Skafaryk"," JV","JUV",24.66,"X","X",24.66,22.95,"X","X"]
["400B091","Vel","Campeonato Distrital Sub 20","2022-07-03","Marinha Grande","ADAL","M",1,871,"André Petriv"," JV","JUN",60.83]
["400B091","Vel","Campeonato Distrital Sub 20","2022-07-03","Marinha Grande","ADAL","M",2,519,"Edson Dias"," ACB-L","JUV",61.93]
["400B091","Vel","Campeonato Distrital Sub 20","2022-07-03","Marinha Grande","ADAL","M",3,1124,"Duarte Portugal"," CANAZ","JUN",68.53]
["400B091","Vel","Campeonato Distrital Sub 20","2022-07-03","Marinha Grande","ADAL","M",4,704,"Tiago Pereira"," JV","JUN",69.11]
["110B100","Vel","Campeonato Distrital Sub 20","2022-07-03","Marinha Grande","ADAL","M",1,808,"Miguel Marques"," CAMG","JUV",15.36]
["110B100","Vel","Campeonato Distrital Sub 20","2022-07-03","Marinha Grande","ADAL","M",2,1087,"José Pedro Francisco"," CANAZ","JUN",20.85]
["110B100","Vel","Campeonato Distrital Sub 20","2022-07-03","Marinha Grande","ADAL","M",3,893,"Bruno Júnior"," CANAZ","JUN",21.78]
["100B084","Vel","Campeonato Distrital Sub 20","2022-07-03","Marinha Grande","ADAL","F",1,166,"Constança Anunciação"," ACB-L","JUV",17.47]
["3000O","MF","Campeonato Distrital Sub 20","2022-07-03","Marinha Grande","ADAL","M",1,168,"Duarte F Rodrigues"," ACB-L","JUN","00:11:40.260"]
["1500O","MF","Campeonato Distrital Sub 20, Extra","2022-07-03","Marinha Grande","ADAL","M",1,253,"Francisco Mota"," NDAP","INI","00:04:57.730"]
["1500O","MF","Campeonato Distrital Sub 20, Extra","2022-07-03","Marinha Grande","ADAL","M",2,766,"Miguel Barros"," CANAZ","INI","00:04:58.080"]
["1500O","MF","Campeonato Distrital Sub 20, Extra","2022-07-03","Marinha Grande","ADAL","M",3,100,"João Fernandes"," JV","INI","00:05:07.500"]
["TRIPLO","Sal","Campeonato Distrital Sub 20","2022-07-03","Marinha Grande","ADAL","F",1,849,"Sofia Quintino"," ACDRA","JUV",11.33,10.85,11.18,11.32,"X",11.33,11.26]
["TRIPLO","Sal","Campeonato Distrital Sub 20","2022-07-03","Marinha Grande","ADAL","F",2,817,"Ana Reis"," JV","JUN",11.14,10.72,"X","X",10.92,9.31,11.14]
["TRIPLO","Sal","Campeonato Distrital Sub 20","2022-07-03","Marinha Grande","ADAL","F",3,820,"Margarida Santos"," JV","JUN",11.13,10.85,11.13,"-","-",9.69,"-"]
["TRIPLO","Sal","Campeonato Distrital Sub 20","2022-07-03","Marinha Grande","ADAL","F",4,684,"Catarina Silva"," JV","JUV",10.23,9.77,"-",10.23,9.98,9.31,10.08]
["TRIPLO","Sal","Campeonato Distrital Sub 20","2022-07-03","Marinha Grande","ADAL","F",5,282,"Vitoria Chornohor"," NDAP","JUV",10.220000000000001,10.220000000000001,"X",9.7799999999999994,9.86,9.31,9.9700000000000006]
["TRIPLO","Sal","Campeonato Distrital Sub 20","2022-07-03","Marinha Grande","ADAL","F",6,166,"Constança Anunciação"," ACB-L","JUV",9.31,9.3000000000000007,"X","X","X",9.31,"X"]
["PESO4","Lan","Campeonato Distrital Sub 20","2022-07-03","Marinha Grande","ADAL","F",1,890,"Márcia Maketa"," JV","JUV",11.29,9.11,10.029999999999999,10.5,11.29,"-","-"]
["PESO6","Lan","Campeonato Distrital Sub 20","2022-07-03","Marinha Grande","ADAL","M",1,560,"David Pereira"," CAMG","JUN",14.03,13.65,13.7,13.49,14.03,"X",13.87]
["PESO6","Lan","Campeonato Distrital Sub 20","2022-07-03","Marinha Grande","ADAL","M",2,69,"Daniel Rizzi"," JV","JUN",10.84,8.8699999999999992,10.53,10.220000000000001,10.84,"X",10.5]
["PESO6","Lan","Campeonato Distrital Sub 20","2022-07-03","Marinha Grande","ADAL","M",3,321,"Daniel Raposo"," GDP-L","JUN",10.72,10.57,"X",10.07,"X",9.9700000000000006,10.72]
["1500O","MF","Campeonato Distrital Sub 20, Extra","2022-07-03","Marinha Grande","ADAL","F",3,372,"Caetana Neves"," ACDRA","INI","00:06:03.770"]
["3000","MF","Campeonato Distrital Sub 20, Extra","2022-07-03","Marinha Grande","ADAL","F",1,3,"Joana Bagagem"," ACB-L","SUB-23","00:10:56.950"]
["3000","MF","Campeonato Distrital Sub 20","2022-07-03","Marinha Grande","ADAL","M",1,504,"Rodrigo Ribeiro"," NDA","JUN","00:09:24.640"]
["3000","MF","Campeonato Distrital Sub 20","2022-07-03","Marinha Grande","ADAL","M",2,108,"Leonardo Jacinto"," JV","JUV","00:09:24.720"]
["3000","MF","Campeonato Distrital Sub 20","2022-07-03","Marinha Grande","ADAL","M",3,572,"Pedro Rocha"," CANAZ","JUV","00:12:33.140"]
["200","Vel","Campeonato Distrital Sub 20","2022-07-03","Marinha Grande","ADAL","F",1,5,"Beatriz Castelhano"," ACDRA","JUV",27]
["200","Vel","Campeonato Distrital Sub 20","2022-07-03","Marinha Grande","ADAL","F",2,877,"Carolina Castro"," JV","JUV",27.51]
["200","Vel","Campeonato Distrital Sub 20, Extra","2022-07-03","Marinha Grande","ADAL","F",3,310,"Tatiana Francisco"," GAC-L","SUB-23",27.87]
["200","Vel","Campeonato Distrital Sub 20","2022-07-03","Marinha Grande","ADAL","F",4,2,"Sara Brites"," JV","JUV",28.69]
["200","Vel","Campeonato Distrital Sub 20","2022-07-03","Marinha Grande","ADAL","F",5,53,"Anabela Silva"," JV","JUV",31.07]
["200","Vel","Campeonato Distrital Sub 20","2022-07-03","Marinha Grande","ADAL","F",6,855,"Jennifer Carvalho"," CANAZ","JUV",31.77]
["200","Vel","Campeonato Distrital Sub 20","2022-07-03","Marinha Grande","ADAL","F",7,583,"Benedita Ferreira"," GAUB","JUV",31.78]
["200","Vel","Campeonato Distrital Sub 20","2022-07-03","Marinha Grande","ADAL","M",1,1007,"Floriano Brujan"," ACDRA","JUN",24.35]
["200","Vel","Campeonato Distrital Sub 20","2022-07-03","Marinha Grande","ADAL","M",2,77,"Diogo Camacho"," JV","JUN",24.8]
["200","Vel","Campeonato Distrital Sub 20","2022-07-03","Marinha Grande","ADAL","M",3,703,"Rafael Pereira"," JV","JUN",25.96]
["200","Vel","Campeonato Distrital Sub 20","2022-07-03","Marinha Grande","ADAL","M",4,1126,"Amável Esgaio"," CANAZ","JUV",26.02]
["200","Vel","Campeonato Distrital Sub 20","2022-07-03","Marinha Grande","ADAL","M",5,924,"Martim Ribeiro"," CANAZ","JUV",26.03]
["200","Vel","Campeonato Distrital Sub 20, Extra","2022-07-03","Marinha Grande","ADAL","M",6,1010,"Miguel Calado"," BA","SEN",26.57]
["200","Vel","Campeonato Distrital Sub 20","2022-07-03","Marinha Grande","ADAL","M",1,690,"João Martins"," JV","JUV",23.24]
["200","Vel","Campeonato Distrital Sub 20","2022-07-03","Marinha Grande","ADAL","M",2,210,"Tomás Areias"," ACB-L","JUN",23.72]
["200","Vel","Campeonato Distrital Sub 20","2022-07-03","Marinha Grande","ADAL","M",3,883,"Ernesto Rodrigues"," JV","JUV",23.89]
["200","Vel","Campeonato Distrital Sub 20","2022-07-03","Marinha Grande","ADAL","M",4,894,"Bernardo Ferreira"," NDAP","JUV",23.92]
["200","Vel","Campeonato Distrital Sub 20","2022-07-03","Marinha Grande","ADAL","M",5,943,"Rodrigo Almeida"," ACDRA","JUV",24.14]
["200","Vel","Campeonato Distrital Sub 20","2022-07-03","Marinha Grande","ADAL","M",6,1233,"Hélio Pedroso"," CANAZ","JUN",24.29]
["200","Vel","Campeonato Distrital Sub 20","2022-07-03","Marinha Grande","ADAL","M",7,374,"Diogo Chaves"," ACDRA","JUV",24.42]
["200","Vel","Campeonato Distrital Sub 20","2022-07-03","Marinha Grande","ADAL","M",8,588,"Duarte Neves"," GAUB","JUN",24.49]
["800","MF","Campeonato Distrital Sub 20, Extra","2022-07-03","Marinha Grande","ADAL","F",1,148,"Sofia Duarte"," JV","SUB-23","00:02:23.550"]
["800","MF","Campeonato Distrital Sub 20","2022-07-03","Marinha Grande","ADAL","F",2,1250,"Filipa Pigarro"," NDA","JUN","00:02:30.290"]
["800","MF","Campeonato Distrital Sub 20","2022-07-03","Marinha Grande","ADAL","F",3,683,"Carlota Ferreira"," JV","JUV","00:02:43.720"]
["800","MF","Campeonato Distrital Sub 20, Extra","2022-07-03","Marinha Grande","ADAL","M",1,585,"Daniel Cabecinhas"," GAUB","SUB-23","00:01:57.960"]
["800","MF","Campeonato Distrital Sub 20, Extra","2022-07-03","Marinha Grande","ADAL","M",2,291,"Fábio Francisco"," GAC-L","SUB-23","00:02:05.160"]
["800","MF","Campeonato Distrital Sub 20","2022-07-03","Marinha Grande","ADAL","M",3,141,"Rafael Vieira"," JV","JUV","00:02:05.300"]
["800","MF","Campeonato Distrital Sub 20","2022-07-03","Marinha Grande","ADAL","M",4,292,"Guilherme Ferreira"," GAC-L","JUN","00:02:09.060"]
["800","MF","Campeonato Distrital Sub 20, Extra","2022-07-03","Marinha Grande","ADAL","M",5,1344,"Murassi Mario"," NDAP","SEN","00:02:20.820"]
["4X400","Vel","Campeonato Distrital Sub 20","2022-07-03","Marinha Grande","ADAL","F",1,10877,"JUV VIDIGALENSE"," JV","JUN","00:04:40.990"]
["4X400","Vel","Campeonato Distrital Sub 20","2022-07-03","Marinha Grande","ADAL","M",1,10685,"JUV VIDIGALENSE"," JV","ND","04:03.57"]
["4X400","Vel","Campeonato Distrital Sub 20","2022-07-03","Marinha Grande","ADAL","M",2,10893,"C ATLETISMO NAZARÉ"," CANAZ","ND","04:06.73"]
["COMPRIM","Sal","Torneio Atleta Completo Nacional","2022-07-03","Elvas","FPA","F",1,72,"Vera Goucha"," ADAL","JUV",5.2,4.84,5.2,"X"]
["110B091","Vel","Torneio Atleta Completo Nacional","2022-07-03","Elvas","FPA","M",3,74,"Luca Cruz"," ADAL","JUV",18.16]
["100B084","Vel","Torneio Atleta Completo Nacional","2022-07-03","Elvas","FPA","M",2,73,"Gabriel Cunha"," ADAL","INI",15.06]
["80","Vel","Torneio Atleta Completo Nacional","2022-07-03","Elvas","FPA","F",1,71,"Marta Carriço"," ADAL","INI",10.53]
["ALTURA","Sal","Torneio Atleta Completo Nacional","2022-07-03","Elvas","FPA","M",6,74,"Luca Cruz"," ADAL","JUV",1.54]
["PESO4","Lan","Torneio Atleta Completo Nacional","2022-07-03","Elvas","FPA","M",1,73,"Gabriel Cunha"," ADAL","INI",13.81,13.68,13.81,"X"]
["DARDO6","Lan","Torneio Atleta Completo Nacional","2022-07-03","Elvas","FPA","F",1,72,"Vera Goucha"," ADAL","JUV",28.61,28.45,28.3,28.61]
["COMPRIM","Sal","Torneio Atleta Completo Nacional","2022-07-03","Elvas","FPA","F",1,71,"Marta Carriço"," ADAL","INI",5.37,5.08,5.0599999999999996,5.37]
["DARDO7","Lan","Torneio Atleta Completo Nacional","2022-07-03","Elvas","FPA","M",6,74,"Luca Cruz"," ADAL","JUV",24.69,"X",23,24.69]
["PESO3","Lan","Torneio Atleta Completo Nacional","2022-07-03","Elvas","FPA","F",1,71,"Marta Carriço"," ADAL","INI",8.3000000000000007,7.66,7.81,8.3000000000000007]
["800","MF","Torneio Atleta Completo Nacional","2022-07-03","Elvas","FPA","F",3,72,"Vera Goucha"," ADAL","JUV","00:02:36.220"]
["800","MF","Torneio Atleta Completo Nacional","2022-07-03","Elvas","FPA","F",1,71,"Marta Carriço"," ADAL","INI","00:02:38.020"]
["1000","MF","Torneio Atleta Completo Nacional","2022-07-03","Elvas","FPA","M",7,74,"Luca Cruz"," ADAL","JUV","00:03:15.110"]
["1000","MF","Torneio Atleta Completo Nacional","2022-07-03","Elvas","FPA","M",2,73,"Gabriel Cunha"," ADAL","INI","00:02:59.180"]
["HEP-Ini","Comb","Torneio Atleta Completo Nacional","2022-07-03","Elvas","FPA","F",1,71,"Marta Carriço"," ADAL","INI",3984]
["HEP-Juv","Comb","Torneio Atleta Completo Nacional","2022-07-03","Elvas","FPA","F",1,72,"Vera Goucha"," ADAL","JUV",3809]
["HEP-Ini","Comb","Torneio Atleta Completo Nacional","2022-07-03","Elvas","FPA","M",1,73,"Gabriel Cunha"," ADAL","INI",4607]
["OCT-Juv","Comb","Torneio Atleta Completo Nacional","2022-07-03","Elvas","FPA","M",9,74,"Luca Cruz"," ADAL","JUV",3921]
["MARTEL7","Lan","Meeting de Abrantes 2022","2022-07-03","Abrantes","AAS","M",1,1313,"Miguel Carreira"," CAMG","SEN",69.260000000000005,67.78,69,"X",68.89,"X",69.260000000000005]
["3000O","MF","Meeting de Abrantes 2022","2022-07-03","Abrantes","AAS","F",1,1269,"Daria Melnyk"," JV","SUB-23","00:11:53.510"]
["3000O","MF","Meeting de Abrantes 2022","2022-07-03","Abrantes","AAS","M",5,1268,"André Antunes"," JV","SUB-23","00:09:03.470"]
["3000O","MF","Meeting de Abrantes 2022","2022-07-03","Abrantes","AAS","M",7,1312,"Emamuel Cardoso"," CAMG","SEN","00:09:27.930"]
["3000O","MF","Meeting de Abrantes 2022","2022-07-03","Abrantes","AAS","M",8,1293,"Nuno Ferreira"," GAC-L","SUB-23","00:09:34.070"]
["PESO5","Lan","CAMPEONATO REG. SUB16/SUB18","2022-01-29","Cruz Quebrada","AAL","M",1,3164,"Rúben Santos","JV","JUV",12.99,12.99,11.56,"X",11.89,12.18,"X"]
["60","Vel","CAMPEONATO REG. SUB16/SUB18","2022-01-29","Cruz Quebrada","AAL","M",2,3153,"Ernesto Rodrigues","JV","JUV",7.52]
["60","Vel","CAMPEONATO REG. SUB16/SUB18","2022-01-29","Cruz Quebrada","AAL","M",5,3154,"Luca Cruz","JV","JUV",7.66]
["60B076","Vel","CAMPEONATO REG. SUB16/SUB18","2022-01-29","Cruz Quebrada","AAL","F",2,3155,"Catarina Silva","JV","JUV",10.41]
["60B076","Vel","CAMPEONATO REG. SUB16/SUB18","2022-01-29","Cruz Quebrada","AAL","F",5,3156,"Margarida Santos","JV","JUV",10.48]
["ALTURA","Sal","Salto em altura em Sala Distrital 2022","2022-07-05","Batalha","ADAL","M",1,558,"António Constâncio"," CAMG","INF",1.35]
["ALTURA","Sal","Salto em altura em Sala Distrital 2022","2022-07-05","Batalha","ADAL","M",2,357,"Lourenço Nunes"," CDBBR","INF",1.35]
["ALTURA","Sal","Salto em altura em Sala Distrital 2022","2022-07-05","Batalha","ADAL","M",3,83,"Eduardo Camacho"," JV","INF",1.23]
["ALTURA","Sal","Salto em altura em Sala Distrital 2022","2022-07-05","Batalha","ADAL","M",3,161,"Afonso Marques"," ACB-L","INF",1.23]
["ALTURA","Sal","Salto em altura em Sala Distrital 2022","2022-07-05","Batalha","ADAL","M",5,175,"Francisco Pereira"," ACB-L","INF",1.23]
["ALTURA","Sal","Salto em altura em Sala Distrital 2022","2022-07-05","Batalha","ADAL","M",6,104,"José Martins"," JV","INF",1.23]
["ALTURA","Sal","Salto em altura em Sala Distrital 2022","2022-07-05","Batalha","ADAL","M",1,74,"Denis Hrabar"," JV","INI",1.71]
["ALTURA","Sal","Salto em altura em Sala Distrital 2022","2022-07-05","Batalha","ADAL","M",2,157,"Tomás Monteiro"," JV","INI",1.63]
["ALTURA","Sal","Salto em altura em Sala Distrital 2022","2022-07-05","Batalha","ADAL","M",3,1308,"Dani Saab"," JV","INI",1.47]
["ALTURA","Sal","Salto em altura em Sala Distrital 2022","2022-07-05","Batalha","ADAL","M",4,140,"Rafael Morgado"," JV","INI",1.47]
["ALTURA","Sal","Salto em altura em Sala Distrital 2022","2022-07-05","Batalha","ADAL","M",5,1245,"Afonso Martins"," JV","INI",1.35]
["ALTURA","Sal","Salto em altura em Sala Distrital 2022","2022-07-05","Batalha","ADAL","M",6,160,"Rafael Dias"," JV","INI",1.3]
["ALTURA","Sal","Salto em altura em Sala Distrital 2022","2022-07-05","Batalha","ADAL","M",7,806,"Leonardo Sousa"," CAMG","INI",1.25]
["ALTURA","Sal","Salto em altura em Sala Distrital 2022","2022-07-05","Batalha","ADAL","M",1,941,"Tiago Gomes"," ACB-L","JUV",1.9]
["ALTURA","Sal","Salto em altura em Sala Distrital 2022","2022-07-05","Batalha","ADAL","M",2,690,"João Martins"," JV","JUV",1.75]
["ALTURA","Sal","Salto em altura em Sala Distrital 2022","2022-07-05","Batalha","ADAL","M",3,1042,"Vadym Skafaryk"," JV","JUV",1.59]
["ALTURA","Sal","Salto em altura em Sala Distrital 2022","2022-07-05","Batalha","ADAL","M",4,519,"Edson Dias"," ACB-L","JUV",1.51]
["ALTURA","Sal","Salto em altura em Sala Distrital 2022","2022-07-05","Batalha","ADAL","F",1,128,"Matilde Joaquim"," JV","INF",1.36]
["ALTURA","Sal","Salto em altura em Sala Distrital 2022","2022-07-05","Batalha","ADAL","F",2,51,"Alessandra Santos"," JV","INF",1.33]
["ALTURA","Sal","Salto em altura em Sala Distrital 2022","2022-07-05","Batalha","ADAL","F",3,107,"Lara Simões"," JV","INF",1.27]
["ALTURA","Sal","Salto em altura em Sala Distrital 2022","2022-07-05","Batalha","ADAL","F",4,236,"Leonor Bonita"," CAMG","INF",1.21]
["ALTURA","Sal","Salto em altura em Sala Distrital 2022","2022-07-05","Batalha","ADAL","F",4,129,"Matilde Silva"," JV","INF",1.21]
["ALTURA","Sal","Salto em altura em Sala Distrital 2022","2022-07-05","Batalha","ADAL","F",4,172,"Francisca Paulo"," ACB-L","INF",1.21]
["ALTURA","Sal","Salto em altura em Sala Distrital 2022","2022-07-05","Batalha","ADAL","F",7,90,"Francisca Reis"," JV","INF",1.18]
["ALTURA","Sal","Salto em altura em Sala Distrital 2022","2022-07-05","Batalha","ADAL","F",8,1257,"Beatriz Vitorino"," SISMARIA","INF",1.1399999999999999]
["ALTURA","Sal","Salto em altura em Sala Distrital 2022","2022-07-05","Batalha","ADAL","F",9,1258,"Laura Morais"," SISMARIA","INF",1]
["ALTURA","Sal","Salto em altura em Sala Distrital 2022","2022-07-05","Batalha","ADAL","F",1,180,"Joana Seixas"," ACB-L","INI",1.41]
["ALTURA","Sal","Salto em altura em Sala Distrital 2022","2022-07-05","Batalha","ADAL","F",2,109,"Leonor Ascenso"," JV","INI",1.37]
["ALTURA","Sal","Salto em altura em Sala Distrital 2022","2022-07-05","Batalha","ADAL","F",3,241,"Matilde Soares"," CAMG","INI",1.37]
["ALTURA","Sal","Salto em altura em Sala Distrital 2022","2022-07-05","Batalha","ADAL","F",4,199,"Neidiceila Tavares"," ACB-L","INI",1.33]
["ALTURA","Sal","Salto em altura em Sala Distrital 2022","2022-07-05","Batalha","ADAL","F",5,123,"Marta Feliciano"," JV","INI",1.29]
["ALTURA","Sal","Salto em altura em Sala Distrital 2022","2022-07-05","Batalha","ADAL","F",6,769,"Diana Vatula"," CAMG","INI",1.25]
["ALTURA","Sal","Salto em altura em Sala Distrital 2022","2022-07-05","Batalha","ADAL","F",7,150,"Sofiia Chemyrys"," JV","INI",1.25]
["ALTURA","Sal","Salto em altura em Sala Distrital 2022","2022-07-05","Batalha","ADAL","F",1,697,"Luana Figueira"," JV","JUV",1.5]
["ALTURA","Sal","Salto em altura em Sala Distrital 2022","2022-07-05","Batalha","ADAL","F",2,2,"Sara Brites"," JV","JUV",1.37]
["ALTURA","Sal","Salto em altura em Sala Distrital 2022","2022-07-05","Batalha","ADAL","F",3,822,"Nadine Pires"," JV","JUV",1.37]
["110B091","Vel","Torneio Nacional Olímpico Jovem","2022-07-09","Sobreda","FPA","M",6,527,"Miguel Marques"," ADAL","JUV",15.37]
["MARTEL4","Lan","Torneio Nacional Olímpico Jovem","2022-07-09","Sobreda","FPA","M",2,530,"Rodrigo Esteves"," ADAL","INI",47.23,45.39,47.23,"X",45.86]
["DARDO5","Lan","Torneio Nacional Olímpico Jovem","2022-07-09","Sobreda","FPA","F",4,514,"Vanessa Castravet"," ADAL","INI",27.03,24.06,24.94,27.03,25.2]
["VARA","Sal","Torneio Nacional Olímpico Jovem","2022-07-09","Sobreda","FPA","F",3,504,"Inês Figueiredo"," ADAL","INI",2.25]
["ALTURA","Sal","Torneio Nacional Olímpico Jovem","2022-07-09","Sobreda","FPA","M",3,532,"Tiago Gomes"," ADAL","JUV",1.87]
["COMPRIM","Sal","Torneio Nacional Olímpico Jovem","2022-07-09","Sobreda","FPA","F",1,509,"Marta Carriço"," ADAL","INI",5.76,5.28,5.15,5.76,5.62]
["100B084","Vel","Torneio Nacional Olímpico Jovem","2022-07-09","Sobreda","FPA","M",7,529,"Rafael Morgado"," ADAL","INI",15.45]
["100B076","Vel","Torneio Nacional Olímpico Jovem","2022-07-09","Sobreda","FPA","F",6,515,"Vera Goucha"," ADAL","JUV",16.04]
["80B076","Vel","Torneio Nacional Olímpico Jovem","2022-07-09","Sobreda","FPA","F",12,504,"Inês Figueiredo"," ADAL","INI",15.15]
["80","Vel","Torneio Nacional Olímpico Jovem","2022-07-09","Sobreda","FPA","M",11,576,"Rafael Dias"," ADAL","INI",10.08]
["COMPRIM","Sal","Torneio Nacional Olímpico Jovem","2022-07-09","Sobreda","FPA","F",4,513,"Sofia Quintino"," ADAL","JUV",5.33,5.19,5.0599999999999996,"X",5.33]
["80","Vel","Torneio Nacional Olímpico Jovem","2022-07-09","Sobreda","FPA","F",3,506,"Katerina Quinn"," ADAL","INI",10.61]
["DISCO10","Lan","Torneio Nacional Olímpico Jovem","2022-07-09","Sobreda","FPA","M",1,518,"Denis Hrabar"," ADAL","INI",44.29,39.909999999999997,44.29,41.98,43.25]
["DARDO5","Lan","Torneio Nacional Olímpico Jovem","2022-07-09","Sobreda","FPA","F",2,503,"Eva Varela"," ADAL","JUV",36.700000000000003,34.75,36.46,35.479999999999997,36.700000000000003]
["PESO3","Lan","Torneio Nacional Olímpico Jovem","2022-07-09","Sobreda","FPA","F",6,512,"Núria Carvalho"," ADAL","INI",8.6999999999999993,"X",8.3000000000000007,8.1,8.6999999999999993]
["200","Vel","Torneio Nacional Olímpico Jovem","2022-07-09","Sobreda","FPA","M",9,523,"João Martins"," ADAL","JUV",23.26]
["200","Vel","Torneio Nacional Olímpico Jovem","2022-07-09","Sobreda","FPA","F",10,515,"Vera Goucha"," ADAL","JUV",27.06]
["ALTURA","Sal","Torneio Nacional Olímpico Jovem","2022-07-09","Sobreda","FPA","F",4,505,"Joana Seixas"," ADAL","INI",1.41]
["250","Vel","Torneio Nacional Olímpico Jovem","2022-07-09","Sobreda","FPA","M",5,524,"João Mota"," ADAL","INI",31.96]
["COMPRIM","Sal","Torneio Nacional Olímpico Jovem","2022-07-09","Sobreda","FPA","M",1,522,"Gabriel Cunha"," ADAL","INI",6.53,6.39,3.7,6.53,6.27]
["250","Vel","Torneio Nacional Olímpico Jovem","2022-07-09","Sobreda","FPA","F",3,509,"Marta Carriço"," ADAL","INI",34.380000000000003]
["800","MF","Torneio Nacional Olímpico Jovem","2022-07-09","Sobreda","FPA","M",6,528,"Nuno Cordeiro"," ADAL","JUV","00:02:01.230"]
["MARTEL3","Lan","Torneio Nacional Olímpico Jovem","2022-07-09","Sobreda","FPA","F",5,499,"Camila Patraboy"," ADAL","INI",34.49,31.34,"X",34.49,"X"]
["VARA","Sal","Torneio Nacional Olímpico Jovem","2022-07-09","Sobreda","FPA","M",1,529,"Rafael Morgado"," ADAL","INI",3.45]
["PESO4","Lan","Torneio Nacional Olímpico Jovem","2022-07-09","Sobreda","FPA","M",1,518,"Denis Hrabar"," ADAL","INI",15.58,14.36,"X",15.58,15.21]
["800","MF","Torneio Nacional Olímpico Jovem","2022-07-09","Sobreda","FPA","F",7,502,"Eduarda Silva"," ADAL","JUV","00:02:28.560"]
["800","MF","Torneio Nacional Olímpico Jovem","2022-07-09","Sobreda","FPA","M",8,525,"Martim Mendes"," ADAL","INI","00:02:13.870"]
["800","MF","Torneio Nacional Olímpico Jovem","2022-07-09","Sobreda","FPA","F",7,575,"Lara Pereira"," ADAL","INI","00:02:42.460"]
["1500O","MF","Torneio Nacional Olímpico Jovem","2022-07-09","Sobreda","FPA","M",8,521,"Francisco Mota"," ADAL","INI","00:05:00.580"]
["QUADINI","Sal","Torneio Nacional Olímpico Jovem","2022-07-09","Sobreda","FPA","F",3,506,"Katerina Quinn"," ADAL","INI",13.61,13.61,13.33,13.11,13.37]
["1500O","MF","Torneio Nacional Olímpico Jovem","2022-07-09","Sobreda","FPA","F",6,498,"Caetana Neves"," ADAL","INI","00:06:00.210"]
["1500","MF","Torneio Nacional Olímpico Jovem","2022-07-09","Sobreda","FPA","M",6,517,"Cristovão Monteiro"," ADAL","INI","00:04:47.570"]
["1500","MF","Torneio Nacional Olímpico Jovem","2022-07-09","Sobreda","FPA","F",5,508,"Maria Jesus"," ADAL","INI","00:05:10.700"]
["DARDO6","Lan","Torneio Nacional Olímpico Jovem","2022-07-09","Sobreda","FPA","M",9,530,"Rodrigo Esteves"," ADAL","INI",30.57,30.57,27.12,27.67,29.27]
["DISCO07","Lan","Torneio Nacional Olímpico Jovem","2022-07-09","Sobreda","FPA","F",6,500,"Carolina D Santos"," ADAL","INI",24.42,"X","X",21.93,24.42]
["PESO5","Lan","Torneio Nacional Olímpico Jovem","2022-07-09","Sobreda","FPA","M",5,520,"Francisco Calhau"," ADAL","JUV",12.79,"X",12.55,12.34,12.79]
["250B076","Vel","Torneio Nacional Olímpico Jovem","2022-07-09","Sobreda","FPA","M",6,533,"Tomás Monteiro"," ADAL","INI",36.659999999999997]
["QUADINI","Sal","Torneio Nacional Olímpico Jovem","2022-07-09","Sobreda","FPA","M",12,519,"Diogo Ramalho"," ADAL","INI",13.67,11.77,12.85,13.3,13.6]
["250B076","Vel","Torneio Nacional Olímpico Jovem","2022-07-09","Sobreda","FPA","F",5,510,"Marta Feliciano"," ADAL","INI",40.520000000000003]
["4000MX","MX","Torneio Nacional Olímpico Jovem","2022-07-09","Sobreda","FPA","M",8,531,"Rodrigo Fidalgo"," ADAL","INI",2.0163425925925928E-2]
["4000MX","MX","Torneio Nacional Olímpico Jovem","2022-07-09","Sobreda","FPA","F",3,511,"Matilde Angélico"," ADAL","INI",1.602962962962963E-2]
["MARTEL4","Lan","Campeonatos Nacionais de Esperanças","2022-07-10","Leiria","FPA","F",11,188,"Beatriz Silva"," JV","JUN",36.67,"X","X",36.67]
["ALTURA","Sal","Campeonatos Nacionais de Esperanças","2022-07-10","Leiria","FPA","F",6,202,"Lara Duarte"," JV","JUN",1.56]
["ALTURA","Sal","Campeonatos Nacionais de Esperanças","2022-07-10","Leiria","FPA","F",8,196,"Ana Reis"," JV","JUN",1.47]
["100","Vel","Campeonatos Nacionais de Esperanças","2022-07-10","Leiria","FPA","M",4,191,"João Calhau"," JV","SUB-23",11.01]
["100","Vel","Campeonatos Nacionais de Esperanças","2022-07-10","Leiria","FPA","F",5,203,"Mariana Videira"," JV","JUN",12.57]
["400","Vel","Campeonatos Nacionais de Esperanças","2022-07-10","Leiria","FPA","F",3,195,"Mariana Vidinha"," JV","JUN",60.91]
["400","Vel","Campeonatos Nacionais de Esperanças","2022-07-10","Leiria","FPA","F",4,182,"Sofia Duarte"," JV","SUB-23",61.61]
["VARA","Sal","Campeonatos Nacionais de Esperanças","2022-07-10","Leiria","FPA","M",4,65,"Pedro Fernandes"," CAMG","SUB-23",4.55]
["1500","MF","Campeonatos Nacionais de Esperanças","2022-07-10","Leiria","FPA","M",8,184,"David Azevedo"," JV","SUB-23","00:03:57.550"]
["DISCO10","Lan","Campeonatos Nacionais de Esperanças","2022-07-10","Leiria","FPA","F",2,199,"Raquel Gomes"," JV","JUN",45.36,40.49,41.14,42.74,41.31,43.09,45.36]
["DISCO10","Lan","Campeonatos Nacionais de Esperanças","2022-07-10","Leiria","FPA","F",7,186,"Inês Carreira"," JV","SUB-23",37.74,35.770000000000003,35.39,"X",33.21,"X",37.74]
["1500","MF","Campeonatos Nacionais de Esperanças","2022-07-10","Leiria","FPA","F",10,192,"Cátia Pereira"," JV","SUB-23","00:04:46.700"]
["3000O","MF","Campeonatos Nacionais de Esperanças","2022-07-10","Leiria","FPA","M",11,190,"André Antunes"," JV","SUB-23","00:09:49.810"]
["4X100","Vel","Campeonatos Nacionais de Esperanças","2022-07-10","Leiria","FPA","M",3,10193,"JUV VIDIGALENSE"," JV","SUB-23",42.09]
["4X100","Vel","Campeonatos Nacionais de Esperanças","2022-07-10","Leiria","FPA","F",4,10189,"JUV VIDIGALENSE"," JV","SUB-23",49.61]
["PESO7","Lan","Campeonatos Nacionais de Esperanças","2022-07-10","Leiria","FPA","M",1,187,"Tomás Rodrigues"," JV","SUB-23",15.11,14.06,15.03,"X",15.11,15.02,13.79]
["10000MX","MX","Campeonatos Nacionais de Esperanças","2022-07-10","Leiria","FPA","F",1,213,"Joana Pontes"," LMA-L","SUB-23",3.4958217592592593E-2]
["MARTEL7","Lan","Campeonatos Nacionais de Esperanças","2022-07-11","Leiria","FPA","M",1,206,"Carlos Malaquias"," JV","SUB-23",53.32]
["TRIPLO","Sal","Campeonatos Nacionais de Esperanças","2022-07-11","Leiria","FPA","F",4,189,"Eduarda Ferreira"," JV","SUB-23",11.69,"X","X",11.57,11.69,"X","X"]
["TRIPLO","Sal","Campeonatos Nacionais de Esperanças","2022-07-11","Leiria","FPA","F",8,183,"Juliana Brites"," JV","SUB-23",10.9,10.67,"X","X","X","X",10.9]
["TRIPLO","Sal","Campeonatos Nacionais de Esperanças","2022-07-11","Leiria","FPA","F",9,196,"Ana Reis"," JV","JUN",10.61,10.43,10.51,10.61]
["5000","MF","Campeonatos Nacionais de Esperanças","2022-07-11","Leiria","FPA","F",5,192,"Cátia Pereira"," JV","SUB-23","17:35.15"]
["5000","MF","Campeonatos Nacionais de Esperanças","2022-07-11","Leiria","FPA","F",10,181,"Daria Melnyk"," JV","SUB-23","20:11.78"]
["ALTURA","Sal","Campeonatos Nacionais de Esperanças","2022-07-11","Leiria","FPA","M",6,193,"Simão Pereira"," JV","SUB-23",1.85]
["100B084","Vel","Campeonatos Nacionais de Esperanças","2022-07-11","Leiria","FPA","F",7,183,"Juliana Brites"," JV","SUB-23",17.96]
["VARA","Sal","Campeonatos Nacionais de Esperanças","2022-07-11","Leiria","FPA","F",3,198,"Bruna Santos"," JV","JUN",3]
["DISCO20","Lan","Campeonatos Nacionais de Esperanças","2022-07-11","Leiria","FPA","M",3,187,"Tomás Rodrigues"," JV","SUB-23",41.72,41.72,"X",39.090000000000003,"X",38.44,41.18]
["200","Vel","Campeonatos Nacionais de Esperanças","2022-07-11","Leiria","FPA","F",6,203,"Mariana Videira"," JV","JUN",26.71]
["400B091","Vel","Campeonatos Nacionais de Esperanças","2022-07-11","Leiria","FPA","M",3,201,"Paulo Soares"," JV","SUB-23",53.97]
["DARDO6","Lan","Campeonatos Nacionais de Esperanças","2022-07-11","Leiria","FPA","F",5,194,"Carolina Caseiro"," JV","JUN",36.729999999999997,36.729999999999997,"X",34.65,33.51,33.880000000000003,36.549999999999997]
["DARDO6","Lan","Campeonatos Nacionais de Esperanças","2022-07-11","Leiria","FPA","F",6,83,"Carolina Patrício"," CDBBR","SUB-23",35.880000000000003,31.64,28.85,28.74,34.18,32.4,35.880000000000003]
["800","MF","Campeonatos Nacionais de Esperanças","2022-07-11","Leiria","FPA","M",8,184,"David Azevedo"," JV","SUB-23","00:01:57.380"]
["800","MF","Campeonatos Nacionais de Esperanças","2022-07-11","Leiria","FPA","M",5,200,"Jorge Pereira"," JV","SUB-23","00:01:51.920"]
["PESO4","Lan","Campeonatos Nacionais de Esperanças","2022-07-11","Leiria","FPA","F",3,186,"Inês Carreira"," JV","SUB-23",12.68,12.21,12.38,12.61,12.68,12.58,12.65]
["PESO4","Lan","Campeonatos Nacionais de Esperanças","2022-07-11","Leiria","FPA","F",6,199,"Raquel Gomes"," JV","JUN",11.07,10.47,"X",10.71,11.07,"X",10.97]
["4X400","Vel","Campeonatos Nacionais de Esperanças","2022-07-11","Leiria","FPA","M",3,10201,"JUV VIDIGALENSE"," JV","SUB-23","00:03:32.080"]
["4X400","Vel","Campeonatos Nacionais de Esperanças","2022-07-11","Leiria","FPA","F",3,10195,"JUV VIDIGALENSE"," JV","SUB-23","00:04:01.290"]
["PESO6","Lan","Torneio Internacional de Lançamentos - Cerveira","2022-07-11","Cerveira","AAVC","M",1,28143,"David Pereira"," CAMG","JUN",13.84,12.17,12.52,"X",13.84,"X",13.04,"aqui"]
["DISCO10","Lan","Torneio Internacional de Lançamentos - Cerveira","2022-07-11","Cerveira","AAVC","F",1,28144,"Camélia Terentiy"," CAMG","JUN",33.69,31.57,"X",29.27,"X","X",33.69]
["DISCO20","Lan","Torneio Internacional de Lançamentos - Cerveira","2022-07-11","Cerveira","AAVC","M",1,8059,"Nuno Martins"," GCA","VET 50",25.93,"X",25.93,"X",24.6,25.74,21.93]
["MARTEL7","Lan","Torneio Internacional de Lançamentos - Cerveira","2022-07-11","Cerveira","AAVC","M",2,28145,"Miguel Carreira"," CAMG","SEN",69.45,68.25,66.92,69.45,"X",68.69,69.349999999999994]

{"sheet":"Desenvolvimento","index":2,"n_rows":10,"n_cols":14,"rows_kept":10,"cut":false,"hidden":false,"merged":[]}
["Prova","Setor","Competição","Data","Local","LOC","Genero","Class","Dorsal","Nome","Clube","Escalao","Marca"]
[]
[]
[]
[]
[]
[]
[]
[]
["Prova","Setor","Competição","Data","Local","LOC","Genero","Class","Dorsal","Nome","Clube","Escalao","Marca","Diferença"]

{"sheet":"AUX","index":3,"n_rows":107,"n_cols":24,"rows_kept":107,"cut":false,"hidden":true,"merged":[]}
["PROVA",null,"Setor",null,"ESCALÃO",null,"CLUBE"]
["100",null,"Lan",null,"INF",null,"AAADP"]
["1000",null,"MF",null,"INI",null,"AAC",null,null,null,null,null,"Posicao","Dorsal","Nome","Clube","Escalão","Marca"]
["10KMMX",null,"MX",null,"JUV",null,"ACB-L",null,"00:01:00.100",{"$f":"I4*86400","v":60.1},60.1,null,1,853,"Eduardo Agualusa"," CANAZ","JUN","06.32 ","6.11","6.31","6.32","X","5.62","6.15"]
["10000",null,"Vel",null,"JUN",null,"ACDRA",null,57.7,null,null,null,2,808,"Miguel Marques"," CAMG","JUV","06.16 ","6.16","6.16","5.83","-","-","6.07"]
["10000MX",null,"Comb",null,"SUB-23",null,"ADRM",null,58.4,null,null,null,3,374,"Diogo Chaves"," ACDRA","JUV","05.96 ","5.95","5.96","5.93","X","X","-"]
["1000MX",null,"Sal",null,"SEN",null,"BA",null,59.9,null,null,null,4,517,"Gabriel Borges"," ACB-L","JUN","05.67","5.43","5.67","5.26","-","-","-"]
["100B076",null,null,null,"VET 35",null,"CAMG",null,"00:01:05.100",{"$f":"I8*86400","v":65.099999999999994},65.099999999999994,null,5,850,"Diogo Reis"," NDAP","JUV","05.34","5.34","5.00","3.95","4.73","4.58","4.86"]
["100B084",null,null,null,"VET 40",null,"CAMR",null,"00:01:05.900",65.900000000000006,65.900000000000006,null,6,685,"Dinis Santos"," JV","JUV","05.16","5.09","4.82","5.16","4.69","4.72","4.62"]
["110B091",null,null,null,"VET 45",null,"CANAZ"]
["110B100",null,null,null,"VET 50",null,"CDBBR"]
["110B106",null,null,null,"VET 55",null,"CPA-S"]
["150",null,null,null,"VET 60",null,"CPRAB"]
["1500",null,null,null,"VET 65",null,"GAC-L"]
["1500O",null,null,null,"VET 70",null,"GACV"]
["200",null,null,null,"VET 75",null,"GAUB"]
["20KMMX",null,null,null,"VET 80",null,"GDAA"]
["20000MX",null,null,null,null,null,"GDP-L"]
["2000MX",null,null,null,null,null,"GRE-AA"]
["2000O",null,null,null,null,null,"GRFB"]
["2000o84",null,null,null,null,null,"JV"]
["2000o91",null,null,null,null,null,"LMA-L"]
["250",null,null,null,null,null,"NDA"]
["250B076",null,null,null,null,null,"NDAP"]
["3KMMX"]
["35KMMX"]
["300"]
["3000"]
["3000MX"]
["3000O"]
["300B076"]
["300B084"]
["400"]
["4KMMX"]
["4000MX"]
["400B076"]
["400B091"]
["4X100"]
["4X1234"]
["4x200"]
["4x300"]
["4X400"]
["4X60"]
["4X80"]
["5KMMX"]
["5000"]
["5000MX"]
["50KMMX"]
["50B"]
["60"]
["600"]
["60B076"]
["60B084"]
["60B091"]
["60B100"]
["60B106"]
["80"]
["800"]
["80B076"]
["ALTURA"]
["ARRBOLA"]
["COMPRIM"]
["DARDO4"]
["DARDO5"]
["DARDO6"]
["DARDO7"]
["DARDO8"]
["DEC-Jun"]
["DEC-JUV"]
["DEC-Sen"]
["DISCO06"]
["DISCO07"]
["DISCO10"]
["DISCO15"]
["DISCO17"]
["DISCO20"]
["HEP-Ini"]
["HEP-Jun"]
["HEP-Juv"]
["HEP-Sen"]
["MARTEL2"]
["MARTEL3"]
["MARTEL4"]
["MARTEL5"]
["MARTEL6"]
["MARTEL7"]
["MILHA"]
["OCT-Juv"]
["PEN-Inf"]
["PEN-Juv"]
["PEN-Jun"]
["PEN-Sen"]
["PESO2"]
["PESO3"]
["PESO4"]
["PESO5"]
["PESO6"]
["PESO7"]
["QUADINF"]
["QUADINI"]
["QUADR"]
["TRI-INF"]
["TRI-INI"]
["TRI-JUV"]
["TRI-OPC"]
["TRIPLO"]
["VARA"]

{"sheet":"Minimos","index":4,"n_rows":26,"n_cols":10,"rows_kept":26,"cut":false,"hidden":true,"merged":[[0,0,0,6]]}
["Lançamentos Longos Su8 e Sub20"]
["PROVA","ESCALÃO","GEN","&TUDO","ESC","ESC ACIMA","Sector",null,"ESC","ESC ACIMA"]
["MARTEL5","INI","M",{"$f":"A3&B3&C3","v":"MARTEL5INIM"},32,40,"Lan"]
["MARTEL5","JUV","M",{"$f":"A4&B4&C4","v":"MARTEL5JUVM"},32,40,"Lan"]
["DISCO15","INI","M",{"$f":"A5&B5&C5","v":"DISCO15INIM"},32,40]
["DISCO15","JUV","M",{"$f":"A6&B6&C6","v":"DISCO15JUVM"},32,40,"Lan"]
["DARDO7","INI","M",{"$f":"A7&B7&C7","v":"DARDO7INIM"},40,46,"Lan"]
["DARDO7","JUV","M",{"$f":"A8&B8&C8","v":"DARDO7JUVM"},40,46,"Lan"]
["MARTEL3","INI","F","MARTEL3INIF",38,42,"Lan"]
["MARTEL3","JUV","F",{"$f":"A10&B10&C10","v":"MARTEL3JUVF"},38,42,"Lan"]
["DISCO10","INI","F","DISCO10INIF",27,30,"Lan"]
["DISCO10","JUV","F","DISCO10JUVF",27,30,"Lan"]
["DARDO5","INI","F",{"$f":"A13&B13&C13","v":"DARDO5INIF"},28,32,"Lan"]
["DARDO5","JUV","F","DARDO5JUVF",28,32,"Lan"]
["MARTEL6","JUV","M",{"$f":"A15&B15&C15","v":"MARTEL6JUVM"},33,1000,"Lan"]
["MARTEL6","JUN","M","MARTEL6JUNM",33,1000,"Lan"]
["DISCO17","JUV","M",{"$f":"A17&B17&C17","v":"DISCO17JUVM"},34,1000,"Lan"]
["DISCO17","JUN","M","DISCO17JUNM",34,1000,"Lan"]
["DARDO8","JUV","M","DARDO8JUVM",40,1000,"Lan"]
["DARDO8","JUN","M",{"$f":"A20&B20&C20","v":"DARDO8JUNM"},40,1000,"Lan"]
["MARTEL4","JUV","F","MARTEL4JUVF",33,1000,"Lan"]
["MARTEL4","JUN","F",{"$f":"A22&B22&C22","v":"MARTEL4JUNF"},33,1000,"Lan"]
["DISCO10","JUV","F","DISCO10JUVF",30,1000,"Lan"]
["DISCO10","JUN","F",{"$f":"A24&B24&C24","v":"DISCO10JUNF"},30,1000,"Lan"]
["DARDO6","JUV","F","DARDO6JUVF",28,1000,"Lan"]
["DARDO6","JUN","F",{"$f":"A26&B26&C26","v":"DARDO6JUNF"},28,1000,"Lan"]